{"text_format":"3","workbook":"xlsx","n_sheets":2,"sheets":["Til Udvalg","PXS Kopieret"],"not_rendered":{"defined_names":3},"read":"whole","date_system":"1900"}

{"sheet":"Til Udvalg","index":0,"n_rows":1199,"n_cols":14,"rows_kept":1199}
["TYPE","Application",{"$f":"'PXS Kopieret'!A$1","v":"Vacancy"},{"$f":"'PXS Kopieret'!B$1","v":"First name"},{"$f":"'PXS Kopieret'!C$1","v":"Last name"},{"$f":"'PXS Kopieret'!D$1","v":"Main supervisor prg"},{"$f":"'PXS Kopieret'!E$1","v":"Preferred length"},{"$f":"'PXS Kopieret'!F$1","v":"Edu level prg"},{"$f":"'PXS Kopieret'!G$1","v":"Applying for"},{"$f":"'PXS Kopieret'!H$1","v":"AA1 for candidate"},{"$f":"'PXS Kopieret'!I$1","v":"AA2 for candidate"},{"$f":"'PXS Kopieret'!J$1","v":"AA for candidate"},{"$f":"'PXS Kopieret'!K$1","v":"Last workflow status"},{"$f":"'PXS Kopieret'!L$1","v":"Funding suggestion prg"}]
[{"$f":"IF(LEFT(C2,2)=\"RY\", \"Research Year Student\", IF(C2=0,\"\",\"PhD Student\"))","v":"PhD Student"},{"$f":"IF('PXS Kopieret'!N2<>\"\",HYPERLINK(\"https://ssl1.peoplexs.com/Peoplexs22/eFormportal/eForm.cfm?CandidateUpdateID=\"&'PXS Kopieret'!M2&\"&CandidateUpdateCode=\"&'PXS Kopieret'!N2&\"&Locale=en&CustomFormID=11612\",\"Docs\"),\"\")","v":""},{"$f":"'PXS Kopieret'!A2","v":"INDSÆT PXS-DATA HER"},{"$f":"'PXS Kopieret'!B2","v":0},{"$f":"'PXS Kopieret'!C2","v":0},{"$f":"'PXS Kopieret'!D2","v":0},{"$f":"IF($A2<>\"PhD Student\",'PXS Kopieret'!E2,\"\")","v":""},{"$f":"IF($A2=\"PhD Student\",'PXS Kopieret'!F2,\"\")","v":0},{"$f":"'PXS Kopieret'!G2","v":0},{"$f":"'PXS Kopieret'!H2","v":0},{"$f":"IF($A2=\"PhD Student\",'PXS Kopieret'!I2,\"\")","v":0},{"$f":"'PXS Kopieret'!J2","v":0},{"$f":"'PXS Kopieret'!K2","v":0},{"$f":"'PXS Kopieret'!L2","v":0}]
[{"$f":"IF(LEFT(C3,2)=\"RY\", \"Research Year Student\", IF(C3=0,\"\",\"PhD Student\"))","v":""},{"$f":"IF('PXS Kopieret'!N3<>\"\",HYPERLINK(\"https://ssl1.peoplexs.com/Peoplexs22/eFormportal/eForm.cfm?CandidateUpdateID=\"&'PXS Kopieret'!M3&\"&CandidateUpdateCode=\"&'PXS Kopieret'!N3&\"&Locale=en&CustomFormID=11612\",\"Docs\"),\"\")","v":""},{"$f":"'PXS Kopieret'!A3","v":0},{"$f":"'PXS Kopieret'!B3","v":0},{"$f":"'PXS Kopieret'!C3","v":0},{"$f":"'PXS Kopieret'!D3","v":0},{"$f":"IF($A3<>\"PhD Student\",'PXS Kopieret'!E3,\"\")","v":0},{"$f":"IF($A3=\"PhD Student\",'PXS Kopieret'!F3,\"\")","v":""},{"$f":"'PXS Kopieret'!G3","v":0},{"$f":"'PXS Kopieret'!H3","v":0},{"$f":"IF($A3=\"PhD Student\",'PXS Kopieret'!I3,\"\")","v":""},{"$f":"'PXS Kopieret'!J3","v":0},{"$f":"'PXS Kopieret'!K3","v":0},{"$f":"'PXS Kopieret'!L3","v":0}]
["",{"$f":"IF('PXS Kopieret'!N4<>\"\",HYPERLINK(\"https://ssl1.peoplexs.com/Peoplexs22/eFormportal/eForm.cfm?CandidateUpdateID=\"&'PXS Kopieret'!M4&\"&CandidateUpdateCode=\"&'PXS Kopieret'!N4&\"&Locale=en&CustomFormID=11612\",\"Docs\"),\"\")","v":""},{"$f":"'PXS Kopieret'!A4","v":0},{"$f":"'PXS Kopieret'!B4","v":0},{"$f":"'PXS Kopieret'!C4","v":0},{"$f":"'PXS Kopieret'!D4","v":0},{"$f":"IF($A4<>\"PhD Student\",'PXS Kopieret'!E4,\"\")","v":0},{"$f":"IF($A4=\"PhD Student\",'PXS Kopieret'!F4,\"\")","v":""},{"$f":"'PXS Kopieret'!G4","v":0},{"$f":"'PXS Kopieret'!H4","v":0},{"$f":"IF($A4=\"PhD Student\",'PXS Kopieret'!I4,\"\")","v":""},{"$f":"'PXS Kopieret'!J4","v":0},{"$f":"'PXS Kopieret'!K4","v":0},{"$f":"'PXS Kopieret'!L4","v":0}]
["",{"$f":"IF('PXS Kopieret'!N5<>\"\",HYPERLINK(\"https://ssl1.peoplexs.com/Peoplexs22/eFormportal/eForm.cfm?CandidateUpdateID=\"&'PXS Kopieret'!M5&\"&CandidateUpdateCode=\"&'PXS Kopieret'!N5&\"&Locale=en&CustomFormID=11612\",\"Docs\"),\"\")","v":""},{"$f":"'PXS Kopieret'!A5","v":0},{"$f":"'PXS Kopieret'!B5","v":0},{"$f":"'PXS Kopieret'!C5","v":0},{"$f":"'PXS Kopieret'!D5","v":0},{"$f":"IF($A5<>\"PhD Student\",'PXS Kopieret'!E5,\"\")","v":0},{"$f":"IF($A5=\"PhD Student\",'PXS Kopieret'!F5,\"\")","v":""},{"$f":"'PXS Kopieret'!G5","v":0},{"$f":"'PXS Kopieret'!H5","v":0},{"$f":"IF($A5=\"PhD Student\",'PXS Kopieret'!I5,\"\")","v":""},{"$f":"'PXS Kopieret'!J5","v":0},{"$f":"'PXS Kopieret'!K5","v":0},{"$f":"'PXS Kopieret'!L5","v":0}]
["",{"$f":"IF('PXS Kopieret'!N6<>\"\",HYPERLINK(\"https://ssl1.peoplexs.com/Peoplexs22/eFormportal/eForm.cfm?CandidateUpdateID=\"&'PXS Kopieret'!M6&\"&CandidateUpdateCode=\"&'PXS Kopieret'!N6&\"&Locale=en&CustomFormID=11612\",\"Docs\"),\"\")","v":""},{"$f":"'PXS Kopieret'!A6","v":0},{"$f":"'PXS Kopieret'!B6","v":0},{"$f":"'PXS Kopieret'!C6","v":0},{"$f":"'PXS Kopieret'!D6","v":0},{"$f":"IF($A6<>\"PhD Student\",'PXS Kopieret'!E6,\"\")","v":0},{"$f":"IF($A6=\"PhD Student\",'PXS Kopieret'!F6,\"\")","v":""},{"$f":"'PXS Kopieret'!G6","v":0},{"$f":"'PXS Kopieret'!H6","v":0},{"$f":"IF($A6=\"PhD Student\",'PXS Kopieret'!I6,\"\")","v":""},{"$f":"'PXS Kopieret'!J6","v":0},{"$f":"'PXS Kopieret'!K6","v":0},{"$f":"'PXS Kopieret'!L6","v":0}]
["",{"$f":"IF('PXS Kopieret'!N7<>\"\",HYPERLINK(\"https://ssl1.peoplexs.com/Peoplexs22/eFormportal/eForm.cfm?CandidateUpdateID=\"&'PXS Kopieret'!M7&\"&CandidateUpdateCode=\"&'PXS Kopieret'!N7&\"&Locale=en&CustomFormID=11612\",\"Docs\"),\"\")","v":""},{"$f":"'PXS Kopieret'!A7","v":0},{"$f":"'PXS Kopieret'!B7","v":0},{"$f":"'PXS Kopieret'!C7","v":0},{"$f":"'PXS Kopieret'!D7","v":0},{"$f":"IF($A7<>\"PhD Student\",'PXS Kopieret'!E7,\"\")","v":0},{"$f":"IF($A7=\"PhD Student\",'PXS Kopieret'!F7,\"\")","v":""},{"$f":"'PXS Kopieret'!G7","v":0},{"$f":"'PXS Kopieret'!H7","v":0},{"$f":"IF($A7=\"PhD Student\",'PXS Kopieret'!I7,\"\")","v":""},{"$f":"'PXS Kopieret'!J7","v":0},{"$f":"'PXS Kopieret'!K7","v":0},{"$f":"'PXS Kopieret'!L7","v":0}]
["",{"$f":"IF('PXS Kopieret'!N8<>\"\",HYPERLINK(\"https://ssl1.peoplexs.com/Peoplexs22/eFormportal/eForm.cfm?CandidateUpdateID=\"&'PXS Kopieret'!M8&\"&CandidateUpdateCode=\"&'PXS Kopieret'!N8&\"&Locale=en&CustomFormID=11612\",\"Docs\"),\"\")","v":""},{"$f":"'PXS Kopieret'!A8","v":0},{"$f":"'PXS Kopieret'!B8","v":0},{"$f":"'PXS Kopieret'!C8","v":0},{"$f":"'PXS Kopieret'!D8","v":0},{"$f":"IF($A8<>\"PhD Student\",'PXS Kopieret'!E8,\"\")","v":0},{"$f":"IF($A8=\"PhD Student\",'PXS Kopieret'!F8,\"\")","v":""},{"$f":"'PXS Kopieret'!G8","v":0},{"$f":"'PXS Kopieret'!H8","v":0},{"$f":"IF($A8=\"PhD Student\",'PXS Kopieret'!I8,\"\")","v":""},{"$f":"'PXS Kopieret'!J8","v":0},{"$f":"'PXS Kopieret'!K8","v":0},{"$f":"'PXS Kopieret'!L8","v":0}]
["",{"$f":"IF('PXS Kopieret'!N9<>\"\",HYPERLINK(\"https://ssl1.peoplexs.com/Peoplexs22/eFormportal/eForm.cfm?CandidateUpdateID=\"&'PXS Kopieret'!M9&\"&CandidateUpdateCode=\"&'PXS Kopieret'!N9&\"&Locale=en&CustomFormID=11612\",\"Docs\"),\"\")","v":""},{"$f":"'PXS Kopieret'!A9","v":0},{"$f":"'PXS Kopieret'!B9","v":0},{"$f":"'PXS Kopieret'!C9","v":0},{"$f":"'PXS Kopieret'!D9","v":0},{"$f":"IF($A9<>\"PhD Student\",'PXS Kopieret'!E9,\"\")","v":0},{"$f":"IF($A9=\"PhD Student\",'PXS Kopieret'!F9,\"\")","v":""},{"$f":"'PXS Kopieret'!G9","v":0},{"$f":"'PXS Kopieret'!H9","v":0},{"$f":"IF($A9=\"PhD Student\",'PXS Kopieret'!I9,\"\")","v":""},{"$f":"'PXS Kopieret'!J9","v":0},{"$f":"'PXS Kopieret'!K9","v":0},{"$f":"'PXS Kopieret'!L9","v":0}]
["",{"$f":"IF('PXS Kopieret'!N10<>\"\",HYPERLINK(\"https://ssl1.peoplexs.com/Peoplexs22/eFormportal/eForm.cfm?CandidateUpdateID=\"&'PXS Kopieret'!M10&\"&CandidateUpdateCode=\"&'PXS Kopieret'!N10&\"&Locale=en&CustomFormID=11612\",\"Docs\"),\"\")","v":""},{"$f":"'PXS Kopieret'!A10","v":0},{"$f":"'PXS Kopieret'!B10","v":0},{"$f":"'PXS Kopieret'!C10","v":0},{"$f":"'PXS Kopieret'!D10","v":0},{"$f":"IF($A10<>\"PhD Student\",'PXS Kopieret'!E10,\"\")","v":0},{"$f":"IF($A10=\"PhD Student\",'PXS Kopieret'!F10,\"\")","v":""},{"$f":"'PXS Kopieret'!G10","v":0},{"$f":"'PXS Kopieret'!H10","v":0},{"$f":"IF($A10=\"PhD Student\",'PXS Kopieret'!I10,\"\")","v":""},{"$f":"'PXS Kopieret'!J10","v":0},{"$f":"'PXS Kopieret'!K10","v":0},{"$f":"'PXS Kopieret'!L10","v":0}]
["",{"$f":"IF('PXS Kopieret'!N11<>\"\",HYPERLINK(\"https://ssl1.peoplexs.com/Peoplexs22/eFormportal/eForm.cfm?CandidateUpdateID=\"&'PXS Kopieret'!M11&\"&CandidateUpdateCode=\"&'PXS Kopieret'!N11&\"&Locale=en&CustomFormID=11612\",\"Docs\"),\"\")","v":""},{"$f":"'PXS Kopieret'!A11","v":0},{"$f":"'PXS Kopieret'!B11","v":0},{"$f":"'PXS Kopieret'!C11","v":0},{"$f":"'PXS Kopieret'!D11","v":0},{"$f":"IF($A11<>\"PhD Student\",'PXS Kopieret'!E11,\"\")","v":0},{"$f":"IF($A11=\"PhD Student\",'PXS Kopieret'!F11,\"\")","v":""},{"$f":"'PXS Kopieret'!G11","v":0},{"$f":"'PXS Kopieret'!H11","v":0},{"$f":"IF($A11=\"PhD Student\",'PXS Kopieret'!I11,\"\")","v":""},{"$f":"'PXS Kopieret'!J11","v":0},{"$f":"'PXS Kopieret'!K11","v":0},{"$f":"'PXS Kopieret'!L11","v":0}]
["",{"$f":"IF('PXS Kopieret'!N12<>\"\",HYPERLINK(\"https://ssl1.peoplexs.com/Peoplexs22/eFormportal/eForm.cfm?CandidateUpdateID=\"&'PXS Kopieret'!M12&\"&CandidateUpdateCode=\"&'PXS Kopieret'!N12&\"&Locale=en&CustomFormID=11612\",\"Docs\"),\"\")","v":""},{"$f":"'PXS Kopieret'!A12","v":0},{"$f":"'PXS Kopieret'!B12","v":0},{"$f":"'PXS Kopieret'!C12","v":0},{"$f":"'PXS Kopieret'!D12","v":0},{"$f":"IF($A12<>\"PhD Student\",'PXS Kopieret'!E12,\"\")","v":0},{"$f":"IF($A12=\"PhD Student\",'PXS Kopieret'!F12,\"\")","v":""},{"$f":"'PXS Kopieret'!G12","v":0},{"$f":"'PXS Kopieret'!H12","v":0},{"$f":"IF($A12=\"PhD Student\",'PXS Kopieret'!I12,\"\")","v":""},{"$f":"'PXS Kopieret'!J12","v":0},{"$f":"'PXS Kopieret'!K12","v":0},{"$f":"'PXS Kopieret'!L12","v":0}]
["",{"$f":"IF('PXS Kopieret'!N13<>\"\",HYPERLINK(\"https://ssl1.peoplexs.com/Peoplexs22/eFormportal/eForm.cfm?CandidateUpdateID=\"&'PXS Kopieret'!M13&\"&CandidateUpdateCode=\"&'PXS Kopieret'!N13&\"&Locale=en&CustomFormID=11612\",\"Docs\"),\"\")","v":""},{"$f":"'PXS Kopieret'!A13","v":0},{"$f":"'PXS Kopieret'!B13","v":0},{"$f":"'PXS Kopieret'!C13","v":0},{"$f":"'PXS Kopieret'!D13","v":0},{"$f":"IF($A13<>\"PhD Student\",'PXS Kopieret'!E13,\"\")","v":0},{"$f":"IF($A13=\"PhD Student\",'PXS Kopieret'!F13,\"\")","v":""},{"$f":"'PXS Kopieret'!G13","v":0},{"$f":"'PXS Kopieret'!H13","v":0},{"$f":"IF($A13=\"PhD Student\",'PXS Kopieret'!I13,\"\")","v":""},{"$f":"'PXS Kopieret'!J13","v":0},{"$f":"'PXS Kopieret'!K13","v":0},{"$f":"'PXS Kopieret'!L13","v":0}]
["",{"$f":"IF('PXS Kopieret'!N14<>\"\",HYPERLINK(\"https://ssl1.peoplexs.com/Peoplexs22/eFormportal/eForm.cfm?CandidateUpdateID=\"&'PXS Kopieret'!M14&\"&CandidateUpdateCode=\"&'PXS Kopieret'!N14&\"&Locale=en&CustomFormID=11612\",\"Docs\"),\"\")","v":""},{"$f":"'PXS Kopieret'!A14","v":0},{"$f":"'PXS Kopieret'!B14","v":0},{"$f":"'PXS Kopieret'!C14","v":0},{"$f":"'PXS Kopieret'!D14","v":0},{"$f":"IF($A14<>\"PhD Student\",'PXS Kopieret'!E14,\"\")","v":0},{"$f":"IF($A14=\"PhD Student\",'PXS Kopieret'!F14,\"\")","v":""},{"$f":"'PXS Kopieret'!G14","v":0},{"$f":"'PXS Kopieret'!H14","v":0},{"$f":"IF($A14=\"PhD Student\",'PXS Kopieret'!I14,\"\")","v":""},{"$f":"'PXS Kopieret'!J14","v":0},{"$f":"'PXS Kopieret'!K14","v":0},{"$f":"'PXS Kopieret'!L14","v":0}]
["",{"$f":"IF('PXS Kopieret'!N15<>\"\",HYPERLINK(\"https://ssl1.peoplexs.com/Peoplexs22/eFormportal/eForm.cfm?CandidateUpdateID=\"&'PXS Kopieret'!M15&\"&CandidateUpdateCode=\"&'PXS Kopieret'!N15&\"&Locale=en&CustomFormID=11612\",\"Docs\"),\"\")","v":""},{"$f":"'PXS Kopieret'!A15","v":0},{"$f":"'PXS Kopieret'!B15","v":0},{"$f":"'PXS Kopieret'!C15","v":0},{"$f":"'PXS Kopieret'!D15","v":0},{"$f":"IF($A15<>\"PhD Student\",'PXS Kopieret'!E15,\"\")","v":0},{"$f":"IF($A15=\"PhD Student\",'PXS Kopieret'!F15,\"\")","v":""},{"$f":"'PXS Kopieret'!G15","v":0},{"$f":"'PXS Kopieret'!H15","v":0},{"$f":"IF($A15=\"PhD Student\",'PXS Kopieret'!I15,\"\")","v":""},{"$f":"'PXS Kopieret'!J15","v":0},{"$f":"'PXS Kopieret'!K15","v":0},{"$f":"'PXS Kopieret'!L15","v":0}]
["",{"$f":"IF('PXS Kopieret'!N16<>\"\",HYPERLINK(\"https://ssl1.peoplexs.com/Peoplexs22/eFormportal/eForm.cfm?CandidateUpdateID=\"&'PXS Kopieret'!M16&\"&CandidateUpdateCode=\"&'PXS Kopieret'!N16&\"&Locale=en&CustomFormID=11612\",\"Docs\"),\"\")","v":""},{"$f":"'PXS Kopieret'!A16","v":0},{"$f":"'PXS Kopieret'!B16","v":0},{"$f":"'PXS Kopieret'!C16","v":0},{"$f":"'PXS Kopieret'!D16","v":0},{"$f":"IF($A16<>\"PhD Student\",'PXS Kopieret'!E16,\"\")","v":0},{"$f":"IF($A16=\"PhD Student\",'PXS Kopieret'!F16,\"\")","v":""},{"$f":"'PXS Kopieret'!G16","v":0},{"$f":"'PXS Kopieret'!H16","v":0},{"$f":"IF($A16=\"PhD Student\",'PXS Kopieret'!I16,\"\")","v":""},{"$f":"'PXS Kopieret'!J16","v":0},{"$f":"'PXS Kopieret'!K16","v":0},{"$f":"'PXS Kopieret'!L16","v":0}]
["",{"$f":"IF('PXS Kopieret'!N17<>\"\",HYPERLINK(\"https://ssl1.peoplexs.com/Peoplexs22/eFormportal/eForm.cfm?CandidateUpdateID=\"&'PXS Kopieret'!M17&\"&CandidateUpdateCode=\"&'PXS Kopieret'!N17&\"&Locale=en&CustomFormID=11612\",\"Docs\"),\"\")","v":""},{"$f":"'PXS Kopieret'!A17","v":0},{"$f":"'PXS Kopieret'!B17","v":0},{"$f":"'PXS Kopieret'!C17","v":0},{"$f":"'PXS Kopieret'!D17","v":0},{"$f":"IF($A17<>\"PhD Student\",'PXS Kopieret'!E17,\"\")","v":0},{"$f":"IF($A17=\"PhD Student\",'PXS Kopieret'!F17,\"\")","v":""},{"$f":"'PXS Kopieret'!G17","v":0},{"$f":"'PXS Kopieret'!H17","v":0},{"$f":"IF($A17=\"PhD Student\",'PXS Kopieret'!I17,\"\")","v":""},{"$f":"'PXS Kopieret'!J17","v":0},{"$f":"'PXS Kopieret'!K17","v":0},{"$f":"'PXS Kopieret'!L17","v":0}]
["",{"$f":"IF('PXS Kopieret'!N18<>\"\",HYPERLINK(\"https://ssl1.peoplexs.com/Peoplexs22/eFormportal/eForm.cfm?CandidateUpdateID=\"&'PXS Kopieret'!M18&\"&CandidateUpdateCode=\"&'PXS Kopieret'!N18&\"&Locale=en&CustomFormID=11612\",\"Docs\"),\"\")","v":""},{"$f":"'PXS Kopieret'!A18","v":0},{"$f":"'PXS Kopieret'!B18","v":0},{"$f":"'PXS Kopieret'!C18","v":0},{"$f":"'PXS Kopieret'!D18","v":0},{"$f":"IF($A18<>\"PhD Student\",'PXS Kopieret'!E18,\"\")","v":0},{"$f":"IF($A18=\"PhD Student\",'PXS Kopieret'!F18,\"\")","v":""},{"$f":"'PXS Kopieret'!G18","v":0},{"$f":"'PXS Kopieret'!H18","v":0},{"$f":"IF($A18=\"PhD Student\",'PXS Kopieret'!I18,\"\")","v":""},{"$f":"'PXS Kopieret'!J18","v":0},{"$f":"'PXS Kopieret'!K18","v":0},{"$f":"'PXS Kopieret'!L18","v":0}]
["",{"$f":"IF('PXS Kopieret'!N19<>\"\",HYPERLINK(\"https://ssl1.peoplexs.com/Peoplexs22/eFormportal/eForm.cfm?CandidateUpdateID=\"&'PXS Kopieret'!M19&\"&CandidateUpdateCode=\"&'PXS Kopieret'!N19&\"&Locale=en&CustomFormID=11612\",\"Docs\"),\"\")","v":""},{"$f":"'PXS Kopieret'!A19","v":0},{"$f":"'PXS Kopieret'!B19","v":0},{"$f":"'PXS Kopieret'!C19","v":0},{"$f":"'PXS Kopieret'!D19","v":0},{"$f":"IF($A19<>\"PhD Student\",'PXS Kopieret'!E19,\"\")","v":0},{"$f":"IF($A19=\"PhD Student\",'PXS Kopieret'!F19,\"\")","v":""},{"$f":"'PXS Kopieret'!G19","v":0},{"$f":"'PXS Kopieret'!H19","v":0},{"$f":"IF($A19=\"PhD Student\",'PXS Kopieret'!I19,\"\")","v":""},{"$f":"'PXS Kopieret'!J19","v":0},{"$f":"'PXS Kopieret'!K19","v":0},{"$f":"'PXS Kopieret'!L19","v":0}]
["",{"$f":"IF('PXS Kopieret'!N20<>\"\",HYPERLINK(\"https://ssl1.peoplexs.com/Peoplexs22/eFormportal/eForm.cfm?CandidateUpdateID=\"&'PXS Kopieret'!M20&\"&CandidateUpdateCode=\"&'PXS Kopieret'!N20&\"&Locale=en&CustomFormID=11612\",\"Docs\"),\"\")","v":""},{"$f":"'PXS Kopieret'!A20","v":0},{"$f":"'PXS Kopieret'!B20","v":0},{"$f":"'PXS Kopieret'!C20","v":0},{"$f":"'PXS Kopieret'!D20","v":0},{"$f":"IF($A20<>\"PhD Student\",'PXS Kopieret'!E20,\"\")","v":0},{"$f":"IF($A20=\"PhD Student\",'PXS Kopieret'!F20,\"\")","v":""},{"$f":"'PXS Kopieret'!G20","v":0},{"$f":"'PXS Kopieret'!H20","v":0},{"$f":"IF($A20=\"PhD Student\",'PXS Kopieret'!I20,\"\")","v":""},{"$f":"'PXS Kopieret'!J20","v":0},{"$f":"'PXS Kopieret'!K20","v":0},{"$f":"'PXS Kopieret'!L20","v":0}]
["",{"$f":"IF('PXS Kopieret'!N21<>\"\",HYPERLINK(\"https://ssl1.peoplexs.com/Peoplexs22/eFormportal/eForm.cfm?CandidateUpdateID=\"&'PXS Kopieret'!M21&\"&CandidateUpdateCode=\"&'PXS Kopieret'!N21&\"&Locale=en&CustomFormID=11612\",\"Docs\"),\"\")","v":""},{"$f":"'PXS Kopieret'!A21","v":0},{"$f":"'PXS Kopieret'!B21","v":0},{"$f":"'PXS Kopieret'!C21","v":0},{"$f":"'PXS Kopieret'!D21","v":0},{"$f":"IF($A21<>\"PhD Student\",'PXS Kopieret'!E21,\"\")","v":0},{"$f":"IF($A21=\"PhD Student\",'PXS Kopieret'!F21,\"\")","v":""},{"$f":"'PXS Kopieret'!G21","v":0},{"$f":"'PXS Kopieret'!H21","v":0},{"$f":"IF($A21=\"PhD Student\",'PXS Kopieret'!I21,\"\")","v":""},{"$f":"'PXS Kopieret'!J21","v":0},{"$f":"'PXS Kopieret'!K21","v":0},{"$f":"'PXS Kopieret'!L21","v":0}]
["",{"$f":"IF('PXS Kopieret'!N22<>\"\",HYPERLINK(\"https://ssl1.peoplexs.com/Peoplexs22/eFormportal/eForm.cfm?CandidateUpdateID=\"&'PXS Kopieret'!M22&\"&CandidateUpdateCode=\"&'PXS Kopieret'!N22&\"&Locale=en&CustomFormID=11612\",\"Docs\"),\"\")","v":""},{"$f":"'PXS Kopieret'!A22","v":0},{"$f":"'PXS Kopieret'!B22","v":0},{"$f":"'PXS Kopieret'!C22","v":0},{"$f":"'PXS Kopieret'!D22","v":0},{"$f":"IF($A22<>\"PhD Student\",'PXS Kopieret'!E22,\"\")","v":0},{"$f":"IF($A22=\"PhD Student\",'PXS Kopieret'!F22,\"\")","v":""},{"$f":"'PXS Kopieret'!G22","v":0},{"$f":"'PXS Kopieret'!H22","v":0},{"$f":"IF($A22=\"PhD Student\",'PXS Kopieret'!I22,\"\")","v":""},{"$f":"'PXS Kopieret'!J22","v":0},{"$f":"'PXS Kopieret'!K22","v":0},{"$f":"'PXS Kopieret'!L22","v":0}]
["",{"$f":"IF('PXS Kopieret'!N23<>\"\",HYPERLINK(\"https://ssl1.peoplexs.com/Peoplexs22/eFormportal/eForm.cfm?CandidateUpdateID=\"&'PXS Kopieret'!M23&\"&CandidateUpdateCode=\"&'PXS Kopieret'!N23&\"&Locale=en&CustomFormID=11612\",\"Docs\"),\"\")","v":""},{"$f":"'PXS Kopieret'!A23","v":0},{"$f":"'PXS Kopieret'!B23","v":0},{"$f":"'PXS Kopieret'!C23","v":0},{"$f":"'PXS Kopieret'!D23","v":0},{"$f":"IF($A23<>\"PhD Student\",'PXS Kopieret'!E23,\"\")","v":0},{"$f":"IF($A23=\"PhD Student\",'PXS Kopieret'!F23,\"\")","v":""},{"$f":"'PXS Kopieret'!G23","v":0},{"$f":"'PXS Kopieret'!H23","v":0},{"$f":"IF($A23=\"PhD Student\",'PXS Kopieret'!I23,\"\")","v":""},{"$f":"'PXS Kopieret'!J23","v":0},{"$f":"'PXS Kopieret'!K23","v":0},{"$f":"'PXS Kopieret'!L23","v":0}]
["",{"$f":"IF('PXS Kopieret'!N24<>\"\",HYPERLINK(\"https://ssl1.peoplexs.com/Peoplexs22/eFormportal/eForm.cfm?CandidateUpdateID=\"&'PXS Kopieret'!M24&\"&CandidateUpdateCode=\"&'PXS Kopieret'!N24&\"&Locale=en&CustomFormID=11612\",\"Docs\"),\"\")","v":""},{"$f":"'PXS Kopieret'!A24","v":0},{"$f":"'PXS Kopieret'!B24","v":0},{"$f":"'PXS Kopieret'!C24","v":0},{"$f":"'PXS Kopieret'!D24","v":0},{"$f":"IF($A24<>\"PhD Student\",'PXS Kopieret'!E24,\"\")","v":0},{"$f":"IF($A24=\"PhD Student\",'PXS Kopieret'!F24,\"\")","v":""},{"$f":"'PXS Kopieret'!G24","v":0},{"$f":"'PXS Kopieret'!H24","v":0},{"$f":"IF($A24=\"PhD Student\",'PXS Kopieret'!I24,\"\")","v":""},{"$f":"'PXS Kopieret'!J24","v":0},{"$f":"'PXS Kopieret'!K24","v":0},{"$f":"'PXS Kopieret'!L24","v":0}]
["",{"$f":"IF('PXS Kopieret'!N25<>\"\",HYPERLINK(\"https://ssl1.peoplexs.com/Peoplexs22/eFormportal/eForm.cfm?CandidateUpdateID=\"&'PXS Kopieret'!M25&\"&CandidateUpdateCode=\"&'PXS Kopieret'!N25&\"&Locale=en&CustomFormID=11612\",\"Docs\"),\"\")","v":""},{"$f":"'PXS Kopieret'!A25","v":0},{"$f":"'PXS Kopieret'!B25","v":0},{"$f":"'PXS Kopieret'!C25","v":0},{"$f":"'PXS Kopieret'!D25","v":0},{"$f":"IF($A25<>\"PhD Student\",'PXS Kopieret'!E25,\"\")","v":0},{"$f":"IF($A25=\"PhD Student\",'PXS Kopieret'!F25,\"\")","v":""},{"$f":"'PXS Kopieret'!G25","v":0},{"$f":"'PXS Kopieret'!H25","v":0},{"$f":"IF($A25=\"PhD Student\",'PXS Kopieret'!I25,\"\")","v":""},{"$f":"'PXS Kopieret'!J25","v":0},{"$f":"'PXS Kopieret'!K25","v":0},{"$f":"'PXS Kopieret'!L25","v":0}]
["",{"$f":"IF('PXS Kopieret'!N26<>\"\",HYPERLINK(\"https://ssl1.peoplexs.com/Peoplexs22/eFormportal/eForm.cfm?CandidateUpdateID=\"&'PXS Kopieret'!M26&\"&CandidateUpdateCode=\"&'PXS Kopieret'!N26&\"&Locale=en&CustomFormID=11612\",\"Docs\"),\"\")","v":""},{"$f":"'PXS Kopieret'!A26","v":0},{"$f":"'PXS Kopieret'!B26","v":0},{"$f":"'PXS Kopieret'!C26","v":0},{"$f":"'PXS Kopieret'!D26","v":0},{"$f":"IF($A26<>\"PhD Student\",'PXS Kopieret'!E26,\"\")","v":0},{"$f":"IF($A26=\"PhD Student\",'PXS Kopieret'!F26,\"\")","v":""},{"$f":"'PXS Kopieret'!G26","v":0},{"$f":"'PXS Kopieret'!H26","v":0},{"$f":"IF($A26=\"PhD Student\",'PXS Kopieret'!I26,\"\")","v":""},{"$f":"'PXS Kopieret'!J26","v":0},{"$f":"'PXS Kopieret'!K26","v":0},{"$f":"'PXS Kopieret'!L26","v":0}]
["",{"$f":"IF('PXS Kopieret'!N27<>\"\",HYPERLINK(\"https://ssl1.peoplexs.com/Peoplexs22/eFormportal/eForm.cfm?CandidateUpdateID=\"&'PXS Kopieret'!M27&\"&CandidateUpdateCode=\"&'PXS Kopieret'!N27&\"&Locale=en&CustomFormID=11612\",\"Docs\"),\"\")","v":""},{"$f":"'PXS Kopieret'!A27","v":0},{"$f":"'PXS Kopieret'!B27","v":0},{"$f":"'PXS Kopieret'!C27","v":0},{"$f":"'PXS Kopieret'!D27","v":0},{"$f":"IF($A27<>\"PhD Student\",'PXS Kopieret'!E27,\"\")","v":0},{"$f":"IF($A27=\"PhD Student\",'PXS Kopieret'!F27,\"\")","v":""},{"$f":"'PXS Kopieret'!G27","v":0},{"$f":"'PXS Kopieret'!H27","v":0},{"$f":"IF($A27=\"PhD Student\",'PXS Kopieret'!I27,\"\")","v":""},{"$f":"'PXS Kopieret'!J27","v":0},{"$f":"'PXS Kopieret'!K27","v":0},{"$f":"'PXS Kopieret'!L27","v":0}]
["",{"$f":"IF('PXS Kopieret'!N28<>\"\",HYPERLINK(\"https://ssl1.peoplexs.com/Peoplexs22/eFormportal/eForm.cfm?CandidateUpdateID=\"&'PXS Kopieret'!M28&\"&CandidateUpdateCode=\"&'PXS Kopieret'!N28&\"&Locale=en&CustomFormID=11612\",\"Docs\"),\"\")","v":""},{"$f":"'PXS Kopieret'!A28","v":0},{"$f":"'PXS Kopieret'!B28","v":0},{"$f":"'PXS Kopieret'!C28","v":0},{"$f":"'PXS Kopieret'!D28","v":0},{"$f":"IF($A28<>\"PhD Student\",'PXS Kopieret'!E28,\"\")","v":0},{"$f":"IF($A28=\"PhD Student\",'PXS Kopieret'!F28,\"\")","v":""},{"$f":"'PXS Kopieret'!G28","v":0},{"$f":"'PXS Kopieret'!H28","v":0},{"$f":"IF($A28=\"PhD Student\",'PXS Kopieret'!I28,\"\")","v":""},{"$f":"'PXS Kopieret'!J28","v":0},{"$f":"'PXS Kopieret'!K28","v":0},{"$f":"'PXS Kopieret'!L28","v":0}]
["",{"$f":"IF('PXS Kopieret'!N29<>\"\",HYPERLINK(\"https://ssl1.peoplexs.com/Peoplexs22/eFormportal/eForm.cfm?CandidateUpdateID=\"&'PXS Kopieret'!M29&\"&CandidateUpdateCode=\"&'PXS Kopieret'!N29&\"&Locale=en&CustomFormID=11612\",\"Docs\"),\"\")","v":""},{"$f":"'PXS Kopieret'!A29","v":0},{"$f":"'PXS Kopieret'!B29","v":0},{"$f":"'PXS Kopieret'!C29","v":0},{"$f":"'PXS Kopieret'!D29","v":0},{"$f":"IF($A29<>\"PhD Student\",'PXS Kopieret'!E29,\"\")","v":0},{"$f":"IF($A29=\"PhD Student\",'PXS Kopieret'!F29,\"\")","v":""},{"$f":"'PXS Kopieret'!G29","v":0},{"$f":"'PXS Kopieret'!H29","v":0},{"$f":"IF($A29=\"PhD Student\",'PXS Kopieret'!I29,\"\")","v":""},{"$f":"'PXS Kopieret'!J29","v":0},{"$f":"'PXS Kopieret'!K29","v":0},{"$f":"'PXS Kopieret'!L29","v":0}]
["",{"$f":"IF('PXS Kopieret'!N30<>\"\",HYPERLINK(\"https://ssl1.peoplexs.com/Peoplexs22/eFormportal/eForm.cfm?CandidateUpdateID=\"&'PXS Kopieret'!M30&\"&CandidateUpdateCode=\"&'PXS Kopieret'!N30&\"&Locale=en&CustomFormID=11612\",\"Docs\"),\"\")","v":""},{"$f":"'PXS Kopieret'!A30","v":0},{"$f":"'PXS Kopieret'!B30","v":0},{"$f":"'PXS Kopieret'!C30","v":0},{"$f":"'PXS Kopieret'!D30","v":0},{"$f":"IF($A30<>\"PhD Student\",'PXS Kopieret'!E30,\"\")","v":0},{"$f":"IF($A30=\"PhD Student\",'PXS Kopieret'!F30,\"\")","v":""},{"$f":"'PXS Kopieret'!G30","v":0},{"$f":"'PXS Kopieret'!H30","v":0},{"$f":"IF($A30=\"PhD Student\",'PXS Kopieret'!I30,\"\")","v":""},{"$f":"'PXS Kopieret'!J30","v":0},{"$f":"'PXS Kopieret'!K30","v":0},{"$f":"'PXS Kopieret'!L30","v":0}]
["",{"$f":"IF('PXS Kopieret'!N31<>\"\",HYPERLINK(\"https://ssl1.peoplexs.com/Peoplexs22/eFormportal/eForm.cfm?CandidateUpdateID=\"&'PXS Kopieret'!M31&\"&CandidateUpdateCode=\"&'PXS Kopieret'!N31&\"&Locale=en&CustomFormID=11612\",\"Docs\"),\"\")","v":""},{"$f":"'PXS Kopieret'!A31","v":0},{"$f":"'PXS Kopieret'!B31","v":0},{"$f":"'PXS Kopieret'!C31","v":0},{"$f":"'PXS Kopieret'!D31","v":0},{"$f":"IF($A31<>\"PhD Student\",'PXS Kopieret'!E31,\"\")","v":0},{"$f":"IF($A31=\"PhD Student\",'PXS Kopieret'!F31,\"\")","v":""},{"$f":"'PXS Kopieret'!G31","v":0},{"$f":"'PXS Kopieret'!H31","v":0},{"$f":"IF($A31=\"PhD Student\",'PXS Kopieret'!I31,\"\")","v":""},{"$f":"'PXS Kopieret'!J31","v":0},{"$f":"'PXS Kopieret'!K31","v":0},{"$f":"'PXS Kopieret'!L31","v":0}]
["",{"$f":"IF('PXS Kopieret'!N32<>\"\",HYPERLINK(\"https://ssl1.peoplexs.com/Peoplexs22/eFormportal/eForm.cfm?CandidateUpdateID=\"&'PXS Kopieret'!M32&\"&CandidateUpdateCode=\"&'PXS Kopieret'!N32&\"&Locale=en&CustomFormID=11612\",\"Docs\"),\"\")","v":""},{"$f":"'PXS Kopieret'!A32","v":0},{"$f":"'PXS Kopieret'!B32","v":0},{"$f":"'PXS Kopieret'!C32","v":0},{"$f":"'PXS Kopieret'!D32","v":0},{"$f":"IF($A32<>\"PhD Student\",'PXS Kopieret'!E32,\"\")","v":0},{"$f":"IF($A32=\"PhD Student\",'PXS Kopieret'!F32,\"\")","v":""},{"$f":"'PXS Kopieret'!G32","v":0},{"$f":"'PXS Kopieret'!H32","v":0},{"$f":"IF($A32=\"PhD Student\",'PXS Kopieret'!I32,\"\")","v":""},{"$f":"'PXS Kopieret'!J32","v":0},{"$f":"'PXS Kopieret'!K32","v":0},{"$f":"'PXS Kopieret'!L32","v":0}]
["",{"$f":"IF('PXS Kopieret'!N33<>\"\",HYPERLINK(\"https://ssl1.peoplexs.com/Peoplexs22/eFormportal/eForm.cfm?CandidateUpdateID=\"&'PXS Kopieret'!M33&\"&CandidateUpdateCode=\"&'PXS Kopieret'!N33&\"&Locale=en&CustomFormID=11612\",\"Docs\"),\"\")","v":""},{"$f":"'PXS Kopieret'!A33","v":0},{"$f":"'PXS Kopieret'!B33","v":0},{"$f":"'PXS Kopieret'!C33","v":0},{"$f":"'PXS Kopieret'!D33","v":0},{"$f":"IF($A33<>\"PhD Student\",'PXS Kopieret'!E33,\"\")","v":0},{"$f":"IF($A33=\"PhD Student\",'PXS Kopieret'!F33,\"\")","v":""},{"$f":"'PXS Kopieret'!G33","v":0},{"$f":"'PXS Kopieret'!H33","v":0},{"$f":"IF($A33=\"PhD Student\",'PXS Kopieret'!I33,\"\")","v":""},{"$f":"'PXS Kopieret'!J33","v":0},{"$f":"'PXS Kopieret'!K33","v":0},{"$f":"'PXS Kopieret'!L33","v":0}]
["",{"$f":"IF('PXS Kopieret'!N34<>\"\",HYPERLINK(\"https://ssl1.peoplexs.com/Peoplexs22/eFormportal/eForm.cfm?CandidateUpdateID=\"&'PXS Kopieret'!M34&\"&CandidateUpdateCode=\"&'PXS Kopieret'!N34&\"&Locale=en&CustomFormID=11612\",\"Docs\"),\"\")","v":""},{"$f":"'PXS Kopieret'!A34","v":0},{"$f":"'PXS Kopieret'!B34","v":0},{"$f":"'PXS Kopieret'!C34","v":0},{"$f":"'PXS Kopieret'!D34","v":0},{"$f":"IF($A34<>\"PhD Student\",'PXS Kopieret'!E34,\"\")","v":0},{"$f":"IF($A34=\"PhD Student\",'PXS Kopieret'!F34,\"\")","v":""},{"$f":"'PXS Kopieret'!G34","v":0},{"$f":"'PXS Kopieret'!H34","v":0},{"$f":"IF($A34=\"PhD Student\",'PXS Kopieret'!I34,\"\")","v":""},{"$f":"'PXS Kopieret'!J34","v":0},{"$f":"'PXS Kopieret'!K34","v":0},{"$f":"'PXS Kopieret'!L34","v":0}]
["",{"$f":"IF('PXS Kopieret'!N35<>\"\",HYPERLINK(\"https://ssl1.peoplexs.com/Peoplexs22/eFormportal/eForm.cfm?CandidateUpdateID=\"&'PXS Kopieret'!M35&\"&CandidateUpdateCode=\"&'PXS Kopieret'!N35&\"&Locale=en&CustomFormID=11612\",\"Docs\"),\"\")","v":""},{"$f":"'PXS Kopieret'!A35","v":0},{"$f":"'PXS Kopieret'!B35","v":0},{"$f":"'PXS Kopieret'!C35","v":0},{"$f":"'PXS Kopieret'!D35","v":0},{"$f":"IF($A35<>\"PhD Student\",'PXS Kopieret'!E35,\"\")","v":0},{"$f":"IF($A35=\"PhD Student\",'PXS Kopieret'!F35,\"\")","v":""},{"$f":"'PXS Kopieret'!G35","v":0},{"$f":"'PXS Kopieret'!H35","v":0},{"$f":"IF($A35=\"PhD Student\",'PXS Kopieret'!I35,\"\")","v":""},{"$f":"'PXS Kopieret'!J35","v":0},{"$f":"'PXS Kopieret'!K35","v":0},{"$f":"'PXS Kopieret'!L35","v":0}]
["",{"$f":"IF('PXS Kopieret'!N36<>\"\",HYPERLINK(\"https://ssl1.peoplexs.com/Peoplexs22/eFormportal/eForm.cfm?CandidateUpdateID=\"&'PXS Kopieret'!M36&\"&CandidateUpdateCode=\"&'PXS Kopieret'!N36&\"&Locale=en&CustomFormID=11612\",\"Docs\"),\"\")","v":""},{"$f":"'PXS Kopieret'!A36","v":0},{"$f":"'PXS Kopieret'!B36","v":0},{"$f":"'PXS Kopieret'!C36","v":0},{"$f":"'PXS Kopieret'!D36","v":0},{"$f":"IF($A36<>\"PhD Student\",'PXS Kopieret'!E36,\"\")","v":0},{"$f":"IF($A36=\"PhD Student\",'PXS Kopieret'!F36,\"\")","v":""},{"$f":"'PXS Kopieret'!G36","v":0},{"$f":"'PXS Kopieret'!H36","v":0},{"$f":"IF($A36=\"PhD Student\",'PXS Kopieret'!I36,\"\")","v":""},{"$f":"'PXS Kopieret'!J36","v":0},{"$f":"'PXS Kopieret'!K36","v":0},{"$f":"'PXS Kopieret'!L36","v":0}]
["",{"$f":"IF('PXS Kopieret'!N37<>\"\",HYPERLINK(\"https://ssl1.peoplexs.com/Peoplexs22/eFormportal/eForm.cfm?CandidateUpdateID=\"&'PXS Kopieret'!M37&\"&CandidateUpdateCode=\"&'PXS Kopieret'!N37&\"&Locale=en&CustomFormID=11612\",\"Docs\"),\"\")","v":""},{"$f":"'PXS Kopieret'!A37","v":0},{"$f":"'PXS Kopieret'!B37","v":0},{"$f":"'PXS Kopieret'!C37","v":0},{"$f":"'PXS Kopieret'!D37","v":0},{"$f":"IF($A37<>\"PhD Student\",'PXS Kopieret'!E37,\"\")","v":0},{"$f":"IF($A37=\"PhD Student\",'PXS Kopieret'!F37,\"\")","v":""},{"$f":"'PXS Kopieret'!G37","v":0},{"$f":"'PXS Kopieret'!H37","v":0},{"$f":"IF($A37=\"PhD Student\",'PXS Kopieret'!I37,\"\")","v":""},{"$f":"'PXS Kopieret'!J37","v":0},{"$f":"'PXS Kopieret'!K37","v":0},{"$f":"'PXS Kopieret'!L37","v":0}]
["",{"$f":"IF('PXS Kopieret'!N38<>\"\",HYPERLINK(\"https://ssl1.peoplexs.com/Peoplexs22/eFormportal/eForm.cfm?CandidateUpdateID=\"&'PXS Kopieret'!M38&\"&CandidateUpdateCode=\"&'PXS Kopieret'!N38&\"&Locale=en&CustomFormID=11612\",\"Docs\"),\"\")","v":""},{"$f":"'PXS Kopieret'!A38","v":0},{"$f":"'PXS Kopieret'!B38","v":0},{"$f":"'PXS Kopieret'!C38","v":0},{"$f":"'PXS Kopieret'!D38","v":0},{"$f":"IF($A38<>\"PhD Student\",'PXS Kopieret'!E38,\"\")","v":0},{"$f":"IF($A38=\"PhD Student\",'PXS Kopieret'!F38,\"\")","v":""},{"$f":"'PXS Kopieret'!G38","v":0},{"$f":"'PXS Kopieret'!H38","v":0},{"$f":"IF($A38=\"PhD Student\",'PXS Kopieret'!I38,\"\")","v":""},{"$f":"'PXS Kopieret'!J38","v":0},{"$f":"'PXS Kopieret'!K38","v":0},{"$f":"'PXS Kopieret'!L38","v":0}]
["",{"$f":"IF('PXS Kopieret'!N39<>\"\",HYPERLINK(\"https://ssl1.peoplexs.com/Peoplexs22/eFormportal/eForm.cfm?CandidateUpdateID=\"&'PXS Kopieret'!M39&\"&CandidateUpdateCode=\"&'PXS Kopieret'!N39&\"&Locale=en&CustomFormID=11612\",\"Docs\"),\"\")","v":""},{"$f":"'PXS Kopieret'!A39","v":0},{"$f":"'PXS Kopieret'!B39","v":0},{"$f":"'PXS Kopieret'!C39","v":0},{"$f":"'PXS Kopieret'!D39","v":0},{"$f":"IF($A39<>\"PhD Student\",'PXS Kopieret'!E39,\"\")","v":0},{"$f":"IF($A39=\"PhD Student\",'PXS Kopieret'!F39,\"\")","v":""},{"$f":"'PXS Kopieret'!G39","v":0},{"$f":"'PXS Kopieret'!H39","v":0},{"$f":"IF($A39=\"PhD Student\",'PXS Kopieret'!I39,\"\")","v":""},{"$f":"'PXS Kopieret'!J39","v":0},{"$f":"'PXS Kopieret'!K39","v":0},{"$f":"'PXS Kopieret'!L39","v":0}]
["",{"$f":"IF('PXS Kopieret'!N40<>\"\",HYPERLINK(\"https://ssl1.peoplexs.com/Peoplexs22/eFormportal/eForm.cfm?CandidateUpdateID=\"&'PXS Kopieret'!M40&\"&CandidateUpdateCode=\"&'PXS Kopieret'!N40&\"&Locale=en&CustomFormID=11612\",\"Docs\"),\"\")","v":""},{"$f":"'PXS Kopieret'!A40","v":0},{"$f":"'PXS Kopieret'!B40","v":0},{"$f":"'PXS Kopieret'!C40","v":0},{"$f":"'PXS Kopieret'!D40","v":0},{"$f":"IF($A40<>\"PhD Student\",'PXS Kopieret'!E40,\"\")","v":0},{"$f":"IF($A40=\"PhD Student\",'PXS Kopieret'!F40,\"\")","v":""},{"$f":"'PXS Kopieret'!G40","v":0},{"$f":"'PXS Kopieret'!H40","v":0},{"$f":"IF($A40=\"PhD Student\",'PXS Kopieret'!I40,\"\")","v":""},{"$f":"'PXS Kopieret'!J40","v":0},{"$f":"'PXS Kopieret'!K40","v":0},{"$f":"'PXS Kopieret'!L40","v":0}]
["",{"$f":"IF('PXS Kopieret'!N41<>\"\",HYPERLINK(\"https://ssl1.peoplexs.com/Peoplexs22/eFormportal/eForm.cfm?CandidateUpdateID=\"&'PXS Kopieret'!M41&\"&CandidateUpdateCode=\"&'PXS Kopieret'!N41&\"&Locale=en&CustomFormID=11612\",\"Docs\"),\"\")","v":""},{"$f":"'PXS Kopieret'!A41","v":0},{"$f":"'PXS Kopieret'!B41","v":0},{"$f":"'PXS Kopieret'!C41","v":0},{"$f":"'PXS Kopieret'!D41","v":0},{"$f":"IF($A41<>\"PhD Student\",'PXS Kopieret'!E41,\"\")","v":0},{"$f":"IF($A41=\"PhD Student\",'PXS Kopieret'!F41,\"\")","v":""},{"$f":"'PXS Kopieret'!G41","v":0},{"$f":"'PXS Kopieret'!H41","v":0},{"$f":"IF($A41=\"PhD Student\",'PXS Kopieret'!I41,\"\")","v":""},{"$f":"'PXS Kopieret'!J41","v":0},{"$f":"'PXS Kopieret'!K41","v":0},{"$f":"'PXS Kopieret'!L41","v":0}]
["",{"$f":"IF('PXS Kopieret'!N42<>\"\",HYPERLINK(\"https://ssl1.peoplexs.com/Peoplexs22/eFormportal/eForm.cfm?CandidateUpdateID=\"&'PXS Kopieret'!M42&\"&CandidateUpdateCode=\"&'PXS Kopieret'!N42&\"&Locale=en&CustomFormID=11612\",\"Docs\"),\"\")","v":""},{"$f":"'PXS Kopieret'!A42","v":0},{"$f":"'PXS Kopieret'!B42","v":0},{"$f":"'PXS Kopieret'!C42","v":0},{"$f":"'PXS Kopieret'!D42","v":0},{"$f":"IF($A42<>\"PhD Student\",'PXS Kopieret'!E42,\"\")","v":0},{"$f":"IF($A42=\"PhD Student\",'PXS Kopieret'!F42,\"\")","v":""},{"$f":"'PXS Kopieret'!G42","v":0},{"$f":"'PXS Kopieret'!H42","v":0},{"$f":"IF($A42=\"PhD Student\",'PXS Kopieret'!I42,\"\")","v":""},{"$f":"'PXS Kopieret'!J42","v":0},{"$f":"'PXS Kopieret'!K42","v":0},{"$f":"'PXS Kopieret'!L42","v":0}]
["",{"$f":"IF('PXS Kopieret'!N43<>\"\",HYPERLINK(\"https://ssl1.peoplexs.com/Peoplexs22/eFormportal/eForm.cfm?CandidateUpdateID=\"&'PXS Kopieret'!M43&\"&CandidateUpdateCode=\"&'PXS Kopieret'!N43&\"&Locale=en&CustomFormID=11612\",\"Docs\"),\"\")","v":""},{"$f":"'PXS Kopieret'!A43","v":0},{"$f":"'PXS Kopieret'!B43","v":0},{"$f":"'PXS Kopieret'!C43","v":0},{"$f":"'PXS Kopieret'!D43","v":0},{"$f":"IF($A43<>\"PhD Student\",'PXS Kopieret'!E43,\"\")","v":0},{"$f":"IF($A43=\"PhD Student\",'PXS Kopieret'!F43,\"\")","v":""},{"$f":"'PXS Kopieret'!G43","v":0},{"$f":"'PXS Kopieret'!H43","v":0},{"$f":"IF($A43=\"PhD Student\",'PXS Kopieret'!I43,\"\")","v":""},{"$f":"'PXS Kopieret'!J43","v":0},{"$f":"'PXS Kopieret'!K43","v":0},{"$f":"'PXS Kopieret'!L43","v":0}]
["",{"$f":"IF('PXS Kopieret'!N44<>\"\",HYPERLINK(\"https://ssl1.peoplexs.com/Peoplexs22/eFormportal/eForm.cfm?CandidateUpdateID=\"&'PXS Kopieret'!M44&\"&CandidateUpdateCode=\"&'PXS Kopieret'!N44&\"&Locale=en&CustomFormID=11612\",\"Docs\"),\"\")","v":""},{"$f":"'PXS Kopieret'!A44","v":0},{"$f":"'PXS Kopieret'!B44","v":0},{"$f":"'PXS Kopieret'!C44","v":0},{"$f":"'PXS Kopieret'!D44","v":0},{"$f":"IF($A44<>\"PhD Student\",'PXS Kopieret'!E44,\"\")","v":0},{"$f":"IF($A44=\"PhD Student\",'PXS Kopieret'!F44,\"\")","v":""},{"$f":"'PXS Kopieret'!G44","v":0},{"$f":"'PXS Kopieret'!H44","v":0},{"$f":"IF($A44=\"PhD Student\",'PXS Kopieret'!I44,\"\")","v":""},{"$f":"'PXS Kopieret'!J44","v":0},{"$f":"'PXS Kopieret'!K44","v":0},{"$f":"'PXS Kopieret'!L44","v":0}]
["",{"$f":"IF('PXS Kopieret'!N45<>\"\",HYPERLINK(\"https://ssl1.peoplexs.com/Peoplexs22/eFormportal/eForm.cfm?CandidateUpdateID=\"&'PXS Kopieret'!M45&\"&CandidateUpdateCode=\"&'PXS Kopieret'!N45&\"&Locale=en&CustomFormID=11612\",\"Docs\"),\"\")","v":""},{"$f":"'PXS Kopieret'!A45","v":0},{"$f":"'PXS Kopieret'!B45","v":0},{"$f":"'PXS Kopieret'!C45","v":0},{"$f":"'PXS Kopieret'!D45","v":0},{"$f":"IF($A45<>\"PhD Student\",'PXS Kopieret'!E45,\"\")","v":0},{"$f":"IF($A45=\"PhD Student\",'PXS Kopieret'!F45,\"\")","v":""},{"$f":"'PXS Kopieret'!G45","v":0},{"$f":"'PXS Kopieret'!H45","v":0},{"$f":"IF($A45=\"PhD Student\",'PXS Kopieret'!I45,\"\")","v":""},{"$f":"'PXS Kopieret'!J45","v":0},{"$f":"'PXS Kopieret'!K45","v":0},{"$f":"'PXS Kopieret'!L45","v":0}]
["",{"$f":"IF('PXS Kopieret'!N46<>\"\",HYPERLINK(\"https://ssl1.peoplexs.com/Peoplexs22/eFormportal/eForm.cfm?CandidateUpdateID=\"&'PXS Kopieret'!M46&\"&CandidateUpdateCode=\"&'PXS Kopieret'!N46&\"&Locale=en&CustomFormID=11612\",\"Docs\"),\"\")","v":""},{"$f":"'PXS Kopieret'!A46","v":0},{"$f":"'PXS Kopieret'!B46","v":0},{"$f":"'PXS Kopieret'!C46","v":0},{"$f":"'PXS Kopieret'!D46","v":0},{"$f":"IF($A46<>\"PhD Student\",'PXS Kopieret'!E46,\"\")","v":0},{"$f":"IF($A46=\"PhD Student\",'PXS Kopieret'!F46,\"\")","v":""},{"$f":"'PXS Kopieret'!G46","v":0},{"$f":"'PXS Kopieret'!H46","v":0},{"$f":"IF($A46=\"PhD Student\",'PXS Kopieret'!I46,\"\")","v":""},{"$f":"'PXS Kopieret'!J46","v":0},{"$f":"'PXS Kopieret'!K46","v":0},{"$f":"'PXS Kopieret'!L46","v":0}]
["",{"$f":"IF('PXS Kopieret'!N47<>\"\",HYPERLINK(\"https://ssl1.peoplexs.com/Peoplexs22/eFormportal/eForm.cfm?CandidateUpdateID=\"&'PXS Kopieret'!M47&\"&CandidateUpdateCode=\"&'PXS Kopieret'!N47&\"&Locale=en&CustomFormID=11612\",\"Docs\"),\"\")","v":""},{"$f":"'PXS Kopieret'!A47","v":0},{"$f":"'PXS Kopieret'!B47","v":0},{"$f":"'PXS Kopieret'!C47","v":0},{"$f":"'PXS Kopieret'!D47","v":0},{"$f":"IF($A47<>\"PhD Student\",'PXS Kopieret'!E47,\"\")","v":0},{"$f":"IF($A47=\"PhD Student\",'PXS Kopieret'!F47,\"\")","v":""},{"$f":"'PXS Kopieret'!G47","v":0},{"$f":"'PXS Kopieret'!H47","v":0},{"$f":"IF($A47=\"PhD Student\",'PXS Kopieret'!I47,\"\")","v":""},{"$f":"'PXS Kopieret'!J47","v":0},{"$f":"'PXS Kopieret'!K47","v":0},{"$f":"'PXS Kopieret'!L47","v":0}]
["",{"$f":"IF('PXS Kopieret'!N48<>\"\",HYPERLINK(\"https://ssl1.peoplexs.com/Peoplexs22/eFormportal/eForm.cfm?CandidateUpdateID=\"&'PXS Kopieret'!M48&\"&CandidateUpdateCode=\"&'PXS Kopieret'!N48&\"&Locale=en&CustomFormID=11612\",\"Docs\"),\"\")","v":""},{"$f":"'PXS Kopieret'!A48","v":0},{"$f":"'PXS Kopieret'!B48","v":0},{"$f":"'PXS Kopieret'!C48","v":0},{"$f":"'PXS Kopieret'!D48","v":0},{"$f":"IF($A48<>\"PhD Student\",'PXS Kopieret'!E48,\"\")","v":0},{"$f":"IF($A48=\"PhD Student\",'PXS Kopieret'!F48,\"\")","v":""},{"$f":"'PXS Kopieret'!G48","v":0},{"$f":"'PXS Kopieret'!H48","v":0},{"$f":"IF($A48=\"PhD Student\",'PXS Kopieret'!I48,\"\")","v":""},{"$f":"'PXS Kopieret'!J48","v":0},{"$f":"'PXS Kopieret'!K48","v":0},{"$f":"'PXS Kopieret'!L48","v":0}]
["",{"$f":"IF('PXS Kopieret'!N49<>\"\",HYPERLINK(\"https://ssl1.peoplexs.com/Peoplexs22/eFormportal/eForm.cfm?CandidateUpdateID=\"&'PXS Kopieret'!M49&\"&CandidateUpdateCode=\"&'PXS Kopieret'!N49&\"&Locale=en&CustomFormID=11612\",\"Docs\"),\"\")","v":""},{"$f":"'PXS Kopieret'!A49","v":0},{"$f":"'PXS Kopieret'!B49","v":0},{"$f":"'PXS Kopieret'!C49","v":0},{"$f":"'PXS Kopieret'!D49","v":0},{"$f":"IF($A49<>\"PhD Student\",'PXS Kopieret'!E49,\"\")","v":0},{"$f":"IF($A49=\"PhD Student\",'PXS Kopieret'!F49,\"\")","v":""},{"$f":"'PXS Kopieret'!G49","v":0},{"$f":"'PXS Kopieret'!H49","v":0},{"$f":"IF($A49=\"PhD Student\",'PXS Kopieret'!I49,\"\")","v":""},{"$f":"'PXS Kopieret'!J49","v":0},{"$f":"'PXS Kopieret'!K49","v":0},{"$f":"'PXS Kopieret'!L49","v":0}]
["",{"$f":"IF('PXS Kopieret'!N50<>\"\",HYPERLINK(\"https://ssl1.peoplexs.com/Peoplexs22/eFormportal/eForm.cfm?CandidateUpdateID=\"&'PXS Kopieret'!M50&\"&CandidateUpdateCode=\"&'PXS Kopieret'!N50&\"&Locale=en&CustomFormID=11612\",\"Docs\"),\"\")","v":""},{"$f":"'PXS Kopieret'!A50","v":0},{"$f":"'PXS Kopieret'!B50","v":0},{"$f":"'PXS Kopieret'!C50","v":0},{"$f":"'PXS Kopieret'!D50","v":0},{"$f":"IF($A50<>\"PhD Student\",'PXS Kopieret'!E50,\"\")","v":0},{"$f":"IF($A50=\"PhD Student\",'PXS Kopieret'!F50,\"\")","v":""},{"$f":"'PXS Kopieret'!G50","v":0},{"$f":"'PXS Kopieret'!H50","v":0},{"$f":"IF($A50=\"PhD Student\",'PXS Kopieret'!I50,\"\")","v":""},{"$f":"'PXS Kopieret'!J50","v":0},{"$f":"'PXS Kopieret'!K50","v":0},{"$f":"'PXS Kopieret'!L50","v":0}]
["",{"$f":"IF('PXS Kopieret'!N51<>\"\",HYPERLINK(\"https://ssl1.peoplexs.com/Peoplexs22/eFormportal/eForm.cfm?CandidateUpdateID=\"&'PXS Kopieret'!M51&\"&CandidateUpdateCode=\"&'PXS Kopieret'!N51&\"&Locale=en&CustomFormID=11612\",\"Docs\"),\"\")","v":""},{"$f":"'PXS Kopieret'!A51","v":0},{"$f":"'PXS Kopieret'!B51","v":0},{"$f":"'PXS Kopieret'!C51","v":0},{"$f":"'PXS Kopieret'!D51","v":0},{"$f":"IF($A51<>\"PhD Student\",'PXS Kopieret'!E51,\"\")","v":0},{"$f":"IF($A51=\"PhD Student\",'PXS Kopieret'!F51,\"\")","v":""},{"$f":"'PXS Kopieret'!G51","v":0},{"$f":"'PXS Kopieret'!H51","v":0},{"$f":"IF($A51=\"PhD Student\",'PXS Kopieret'!I51,\"\")","v":""},{"$f":"'PXS Kopieret'!J51","v":0},{"$f":"'PXS Kopieret'!K51","v":0},{"$f":"'PXS Kopieret'!L51","v":0}]
["",{"$f":"IF('PXS Kopieret'!N52<>\"\",HYPERLINK(\"https://ssl1.peoplexs.com/Peoplexs22/eFormportal/eForm.cfm?CandidateUpdateID=\"&'PXS Kopieret'!M52&\"&CandidateUpdateCode=\"&'PXS Kopieret'!N52&\"&Locale=en&CustomFormID=11612\",\"Docs\"),\"\")","v":""},{"$f":"'PXS Kopieret'!A52","v":0},{"$f":"'PXS Kopieret'!B52","v":0},{"$f":"'PXS Kopieret'!C52","v":0},{"$f":"'PXS Kopieret'!D52","v":0},{"$f":"IF($A52<>\"PhD Student\",'PXS Kopieret'!E52,\"\")","v":0},{"$f":"IF($A52=\"PhD Student\",'PXS Kopieret'!F52,\"\")","v":""},{"$f":"'PXS Kopieret'!G52","v":0},{"$f":"'PXS Kopieret'!H52","v":0},{"$f":"IF($A52=\"PhD Student\",'PXS Kopieret'!I52,\"\")","v":""},{"$f":"'PXS Kopieret'!J52","v":0},{"$f":"'PXS Kopieret'!K52","v":0},{"$f":"'PXS Kopieret'!L52","v":0}]
["",{"$f":"IF('PXS Kopieret'!N53<>\"\",HYPERLINK(\"https://ssl1.peoplexs.com/Peoplexs22/eFormportal/eForm.cfm?CandidateUpdateID=\"&'PXS Kopieret'!M53&\"&CandidateUpdateCode=\"&'PXS Kopieret'!N53&\"&Locale=en&CustomFormID=11612\",\"Docs\"),\"\")","v":""},{"$f":"'PXS Kopieret'!A53","v":0},{"$f":"'PXS Kopieret'!B53","v":0},{"$f":"'PXS Kopieret'!C53","v":0},{"$f":"'PXS Kopieret'!D53","v":0},{"$f":"IF($A53<>\"PhD Student\",'PXS Kopieret'!E53,\"\")","v":0},{"$f":"IF($A53=\"PhD Student\",'PXS Kopieret'!F53,\"\")","v":""},{"$f":"'PXS Kopieret'!G53","v":0},{"$f":"'PXS Kopieret'!H53","v":0},{"$f":"IF($A53=\"PhD Student\",'PXS Kopieret'!I53,\"\")","v":""},{"$f":"'PXS Kopieret'!J53","v":0},{"$f":"'PXS Kopieret'!K53","v":0},{"$f":"'PXS Kopieret'!L53","v":0}]
["",{"$f":"IF('PXS Kopieret'!N54<>\"\",HYPERLINK(\"https://ssl1.peoplexs.com/Peoplexs22/eFormportal/eForm.cfm?CandidateUpdateID=\"&'PXS Kopieret'!M54&\"&CandidateUpdateCode=\"&'PXS Kopieret'!N54&\"&Locale=en&CustomFormID=11612\",\"Docs\"),\"\")","v":""},{"$f":"'PXS Kopieret'!A54","v":0},{"$f":"'PXS Kopieret'!B54","v":0},{"$f":"'PXS Kopieret'!C54","v":0},{"$f":"'PXS Kopieret'!D54","v":0},{"$f":"IF($A54<>\"PhD Student\",'PXS Kopieret'!E54,\"\")","v":0},{"$f":"IF($A54=\"PhD Student\",'PXS Kopieret'!F54,\"\")","v":""},{"$f":"'PXS Kopieret'!G54","v":0},{"$f":"'PXS Kopieret'!H54","v":0},{"$f":"IF($A54=\"PhD Student\",'PXS Kopieret'!I54,\"\")","v":""},{"$f":"'PXS Kopieret'!J54","v":0},{"$f":"'PXS Kopieret'!K54","v":0},{"$f":"'PXS Kopieret'!L54","v":0}]
["",{"$f":"IF('PXS Kopieret'!N55<>\"\",HYPERLINK(\"https://ssl1.peoplexs.com/Peoplexs22/eFormportal/eForm.cfm?CandidateUpdateID=\"&'PXS Kopieret'!M55&\"&CandidateUpdateCode=\"&'PXS Kopieret'!N55&\"&Locale=en&CustomFormID=11612\",\"Docs\"),\"\")","v":""},{"$f":"'PXS Kopieret'!A55","v":0},{"$f":"'PXS Kopieret'!B55","v":0},{"$f":"'PXS Kopieret'!C55","v":0},{"$f":"'PXS Kopieret'!D55","v":0},{"$f":"IF($A55<>\"PhD Student\",'PXS Kopieret'!E55,\"\")","v":0},{"$f":"IF($A55=\"PhD Student\",'PXS Kopieret'!F55,\"\")","v":""},{"$f":"'PXS Kopieret'!G55","v":0},{"$f":"'PXS Kopieret'!H55","v":0},{"$f":"IF($A55=\"PhD Student\",'PXS Kopieret'!I55,\"\")","v":""},{"$f":"'PXS Kopieret'!J55","v":0},{"$f":"'PXS Kopieret'!K55","v":0},{"$f":"'PXS Kopieret'!L55","v":0}]
["",{"$f":"IF('PXS Kopieret'!N56<>\"\",HYPERLINK(\"https://ssl1.peoplexs.com/Peoplexs22/eFormportal/eForm.cfm?CandidateUpdateID=\"&'PXS Kopieret'!M56&\"&CandidateUpdateCode=\"&'PXS Kopieret'!N56&\"&Locale=en&CustomFormID=11612\",\"Docs\"),\"\")","v":""},{"$f":"'PXS Kopieret'!A56","v":0},{"$f":"'PXS Kopieret'!B56","v":0},{"$f":"'PXS Kopieret'!C56","v":0},{"$f":"'PXS Kopieret'!D56","v":0},{"$f":"IF($A56<>\"PhD Student\",'PXS Kopieret'!E56,\"\")","v":0},{"$f":"IF($A56=\"PhD Student\",'PXS Kopieret'!F56,\"\")","v":""},{"$f":"'PXS Kopieret'!G56","v":0},{"$f":"'PXS Kopieret'!H56","v":0},{"$f":"IF($A56=\"PhD Student\",'PXS Kopieret'!I56,\"\")","v":""},{"$f":"'PXS Kopieret'!J56","v":0},{"$f":"'PXS Kopieret'!K56","v":0},{"$f":"'PXS Kopieret'!L56","v":0}]
["",{"$f":"IF('PXS Kopieret'!N57<>\"\",HYPERLINK(\"https://ssl1.peoplexs.com/Peoplexs22/eFormportal/eForm.cfm?CandidateUpdateID=\"&'PXS Kopieret'!M57&\"&CandidateUpdateCode=\"&'PXS Kopieret'!N57&\"&Locale=en&CustomFormID=11612\",\"Docs\"),\"\")","v":""},{"$f":"'PXS Kopieret'!A57","v":0},{"$f":"'PXS Kopieret'!B57","v":0},{"$f":"'PXS Kopieret'!C57","v":0},{"$f":"'PXS Kopieret'!D57","v":0},{"$f":"IF($A57<>\"PhD Student\",'PXS Kopieret'!E57,\"\")","v":0},{"$f":"IF($A57=\"PhD Student\",'PXS Kopieret'!F57,\"\")","v":""},{"$f":"'PXS Kopieret'!G57","v":0},{"$f":"'PXS Kopieret'!H57","v":0},{"$f":"IF($A57=\"PhD Student\",'PXS Kopieret'!I57,\"\")","v":""},{"$f":"'PXS Kopieret'!J57","v":0},{"$f":"'PXS Kopieret'!K57","v":0},{"$f":"'PXS Kopieret'!L57","v":0}]
["",{"$f":"IF('PXS Kopieret'!N58<>\"\",HYPERLINK(\"https://ssl1.peoplexs.com/Peoplexs22/eFormportal/eForm.cfm?CandidateUpdateID=\"&'PXS Kopieret'!M58&\"&CandidateUpdateCode=\"&'PXS Kopieret'!N58&\"&Locale=en&CustomFormID=11612\",\"Docs\"),\"\")","v":""},{"$f":"'PXS Kopieret'!A58","v":0},{"$f":"'PXS Kopieret'!B58","v":0},{"$f":"'PXS Kopieret'!C58","v":0},{"$f":"'PXS Kopieret'!D58","v":0},{"$f":"IF($A58<>\"PhD Student\",'PXS Kopieret'!E58,\"\")","v":0},{"$f":"IF($A58=\"PhD Student\",'PXS Kopieret'!F58,\"\")","v":""},{"$f":"'PXS Kopieret'!G58","v":0},{"$f":"'PXS Kopieret'!H58","v":0},{"$f":"IF($A58=\"PhD Student\",'PXS Kopieret'!I58,\"\")","v":""},{"$f":"'PXS Kopieret'!J58","v":0},{"$f":"'PXS Kopieret'!K58","v":0},{"$f":"'PXS Kopieret'!L58","v":0}]
["",{"$f":"IF('PXS Kopieret'!N59<>\"\",HYPERLINK(\"https://ssl1.peoplexs.com/Peoplexs22/eFormportal/eForm.cfm?CandidateUpdateID=\"&'PXS Kopieret'!M59&\"&CandidateUpdateCode=\"&'PXS Kopieret'!N59&\"&Locale=en&CustomFormID=11612\",\"Docs\"),\"\")","v":""},{"$f":"'PXS Kopieret'!A59","v":0},{"$f":"'PXS Kopieret'!B59","v":0},{"$f":"'PXS Kopieret'!C59","v":0},{"$f":"'PXS Kopieret'!D59","v":0},{"$f":"IF($A59<>\"PhD Student\",'PXS Kopieret'!E59,\"\")","v":0},{"$f":"IF($A59=\"PhD Student\",'PXS Kopieret'!F59,\"\")","v":""},{"$f":"'PXS Kopieret'!G59","v":0},{"$f":"'PXS Kopieret'!H59","v":0},{"$f":"IF($A59=\"PhD Student\",'PXS Kopieret'!I59,\"\")","v":""},{"$f":"'PXS Kopieret'!J59","v":0},{"$f":"'PXS Kopieret'!K59","v":0},{"$f":"'PXS Kopieret'!L59","v":0}]
["",{"$f":"IF('PXS Kopieret'!N60<>\"\",HYPERLINK(\"https://ssl1.peoplexs.com/Peoplexs22/eFormportal/eForm.cfm?CandidateUpdateID=\"&'PXS Kopieret'!M60&\"&CandidateUpdateCode=\"&'PXS Kopieret'!N60&\"&Locale=en&CustomFormID=11612\",\"Docs\"),\"\")","v":""},{"$f":"'PXS Kopieret'!A60","v":0},{"$f":"'PXS Kopieret'!B60","v":0},{"$f":"'PXS Kopieret'!C60","v":0},{"$f":"'PXS Kopieret'!D60","v":0},{"$f":"IF($A60<>\"PhD Student\",'PXS Kopieret'!E60,\"\")","v":0},{"$f":"IF($A60=\"PhD Student\",'PXS Kopieret'!F60,\"\")","v":""},{"$f":"'PXS Kopieret'!G60","v":0},{"$f":"'PXS Kopieret'!H60","v":0},{"$f":"IF($A60=\"PhD Student\",'PXS Kopieret'!I60,\"\")","v":""},{"$f":"'PXS Kopieret'!J60","v":0},{"$f":"'PXS Kopieret'!K60","v":0},{"$f":"'PXS Kopieret'!L60","v":0}]
["",{"$f":"IF('PXS Kopieret'!N61<>\"\",HYPERLINK(\"https://ssl1.peoplexs.com/Peoplexs22/eFormportal/eForm.cfm?CandidateUpdateID=\"&'PXS Kopieret'!M61&\"&CandidateUpdateCode=\"&'PXS Kopieret'!N61&\"&Locale=en&CustomFormID=11612\",\"Docs\"),\"\")","v":""},{"$f":"'PXS Kopieret'!A61","v":0},{"$f":"'PXS Kopieret'!B61","v":0},{"$f":"'PXS Kopieret'!C61","v":0},{"$f":"'PXS Kopieret'!D61","v":0},{"$f":"IF($A61<>\"PhD Student\",'PXS Kopieret'!E61,\"\")","v":0},{"$f":"IF($A61=\"PhD Student\",'PXS Kopieret'!F61,\"\")","v":""},{"$f":"'PXS Kopieret'!G61","v":0},{"$f":"'PXS Kopieret'!H61","v":0},{"$f":"IF($A61=\"PhD Student\",'PXS Kopieret'!I61,\"\")","v":""},{"$f":"'PXS Kopieret'!J61","v":0},{"$f":"'PXS Kopieret'!K61","v":0},{"$f":"'PXS Kopieret'!L61","v":0}]
["",{"$f":"IF('PXS Kopieret'!N62<>\"\",HYPERLINK(\"https://ssl1.peoplexs.com/Peoplexs22/eFormportal/eForm.cfm?CandidateUpdateID=\"&'PXS Kopieret'!M62&\"&CandidateUpdateCode=\"&'PXS Kopieret'!N62&\"&Locale=en&CustomFormID=11612\",\"Docs\"),\"\")","v":""},{"$f":"'PXS Kopieret'!A62","v":0},{"$f":"'PXS Kopieret'!B62","v":0},{"$f":"'PXS Kopieret'!C62","v":0},{"$f":"'PXS Kopieret'!D62","v":0},{"$f":"IF($A62<>\"PhD Student\",'PXS Kopieret'!E62,\"\")","v":0},{"$f":"IF($A62=\"PhD Student\",'PXS Kopieret'!F62,\"\")","v":""},{"$f":"'PXS Kopieret'!G62","v":0},{"$f":"'PXS Kopieret'!H62","v":0},{"$f":"IF($A62=\"PhD Student\",'PXS Kopieret'!I62,\"\")","v":""},{"$f":"'PXS Kopieret'!J62","v":0},{"$f":"'PXS Kopieret'!K62","v":0},{"$f":"'PXS Kopieret'!L62","v":0}]
["",{"$f":"IF('PXS Kopieret'!N63<>\"\",HYPERLINK(\"https://ssl1.peoplexs.com/Peoplexs22/eFormportal/eForm.cfm?CandidateUpdateID=\"&'PXS Kopieret'!M63&\"&CandidateUpdateCode=\"&'PXS Kopieret'!N63&\"&Locale=en&CustomFormID=11612\",\"Docs\"),\"\")","v":""},{"$f":"'PXS Kopieret'!A63","v":0},{"$f":"'PXS Kopieret'!B63","v":0},{"$f":"'PXS Kopieret'!C63","v":0},{"$f":"'PXS Kopieret'!D63","v":0},{"$f":"IF($A63<>\"PhD Student\",'PXS Kopieret'!E63,\"\")","v":0},{"$f":"IF($A63=\"PhD Student\",'PXS Kopieret'!F63,\"\")","v":""},{"$f":"'PXS Kopieret'!G63","v":0},{"$f":"'PXS Kopieret'!H63","v":0},{"$f":"IF($A63=\"PhD Student\",'PXS Kopieret'!I63,\"\")","v":""},{"$f":"'PXS Kopieret'!J63","v":0},{"$f":"'PXS Kopieret'!K63","v":0},{"$f":"'PXS Kopieret'!L63","v":0}]
["",{"$f":"IF('PXS Kopieret'!N64<>\"\",HYPERLINK(\"https://ssl1.peoplexs.com/Peoplexs22/eFormportal/eForm.cfm?CandidateUpdateID=\"&'PXS Kopieret'!M64&\"&CandidateUpdateCode=\"&'PXS Kopieret'!N64&\"&Locale=en&CustomFormID=11612\",\"Docs\"),\"\")","v":""},{"$f":"'PXS Kopieret'!A64","v":0},{"$f":"'PXS Kopieret'!B64","v":0},{"$f":"'PXS Kopieret'!C64","v":0},{"$f":"'PXS Kopieret'!D64","v":0},{"$f":"IF($A64<>\"PhD Student\",'PXS Kopieret'!E64,\"\")","v":0},{"$f":"IF($A64=\"PhD Student\",'PXS Kopieret'!F64,\"\")","v":""},{"$f":"'PXS Kopieret'!G64","v":0},{"$f":"'PXS Kopieret'!H64","v":0},{"$f":"IF($A64=\"PhD Student\",'PXS Kopieret'!I64,\"\")","v":""},{"$f":"'PXS Kopieret'!J64","v":0},{"$f":"'PXS Kopieret'!K64","v":0},{"$f":"'PXS Kopieret'!L64","v":0}]
["",{"$f":"IF('PXS Kopieret'!N65<>\"\",HYPERLINK(\"https://ssl1.peoplexs.com/Peoplexs22/eFormportal/eForm.cfm?CandidateUpdateID=\"&'PXS Kopieret'!M65&\"&CandidateUpdateCode=\"&'PXS Kopieret'!N65&\"&Locale=en&CustomFormID=11612\",\"Docs\"),\"\")","v":""},{"$f":"'PXS Kopieret'!A65","v":0},{"$f":"'PXS Kopieret'!B65","v":0},{"$f":"'PXS Kopieret'!C65","v":0},{"$f":"'PXS Kopieret'!D65","v":0},{"$f":"IF($A65<>\"PhD Student\",'PXS Kopieret'!E65,\"\")","v":0},{"$f":"IF($A65=\"PhD Student\",'PXS Kopieret'!F65,\"\")","v":""},{"$f":"'PXS Kopieret'!G65","v":0},{"$f":"'PXS Kopieret'!H65","v":0},{"$f":"IF($A65=\"PhD Student\",'PXS Kopieret'!I65,\"\")","v":""},{"$f":"'PXS Kopieret'!J65","v":0},{"$f":"'PXS Kopieret'!K65","v":0},{"$f":"'PXS Kopieret'!L65","v":0}]
["",{"$f":"IF('PXS Kopieret'!N66<>\"\",HYPERLINK(\"https://ssl1.peoplexs.com/Peoplexs22/eFormportal/eForm.cfm?CandidateUpdateID=\"&'PXS Kopieret'!M66&\"&CandidateUpdateCode=\"&'PXS Kopieret'!N66&\"&Locale=en&CustomFormID=11612\",\"Docs\"),\"\")","v":""},{"$f":"'PXS Kopieret'!A66","v":0},{"$f":"'PXS Kopieret'!B66","v":0},{"$f":"'PXS Kopieret'!C66","v":0},{"$f":"'PXS Kopieret'!D66","v":0},{"$f":"IF($A66<>\"PhD Student\",'PXS Kopieret'!E66,\"\")","v":0},{"$f":"IF($A66=\"PhD Student\",'PXS Kopieret'!F66,\"\")","v":""},{"$f":"'PXS Kopieret'!G66","v":0},{"$f":"'PXS Kopieret'!H66","v":0},{"$f":"IF($A66=\"PhD Student\",'PXS Kopieret'!I66,\"\")","v":""},{"$f":"'PXS Kopieret'!J66","v":0},{"$f":"'PXS Kopieret'!K66","v":0},{"$f":"'PXS Kopieret'!L66","v":0}]
[{"$f":"IF(LEFT(C67,2)=\"RY\", \"Research Year Student\", IF(C67=0,\"\",\"PhD Student\"))","v":""},{"$f":"IF('PXS Kopieret'!N67<>\"\",HYPERLINK(\"https://ssl1.peoplexs.com/Peoplexs22/eFormportal/eForm.cfm?CandidateUpdateID=\"&'PXS Kopieret'!M67&\"&CandidateUpdateCode=\"&'PXS Kopieret'!N67&\"&Locale=en&CustomFormID=11612\",\"Docs\"),\"\")","v":""},{"$f":"'PXS Kopieret'!A67","v":0},{"$f":"'PXS Kopieret'!B67","v":0},{"$f":"'PXS Kopieret'!C67","v":0},{"$f":"'PXS Kopieret'!D67","v":0},{"$f":"IF($A67<>\"PhD Student\",'PXS Kopieret'!E67,\"\")","v":0},{"$f":"IF($A67=\"PhD Student\",'PXS Kopieret'!F67,\"\")","v":""},{"$f":"'PXS Kopieret'!G67","v":0},{"$f":"'PXS Kopieret'!H67","v":0},{"$f":"IF($A67=\"PhD Student\",'PXS Kopieret'!I67,\"\")","v":""},{"$f":"'PXS Kopieret'!J67","v":0},{"$f":"'PXS Kopieret'!K67","v":0},{"$f":"'PXS Kopieret'!L67","v":0}]
["",{"$f":"IF('PXS Kopieret'!N68<>\"\",HYPERLINK(\"https://ssl1.peoplexs.com/Peoplexs22/eFormportal/eForm.cfm?CandidateUpdateID=\"&'PXS Kopieret'!M68&\"&CandidateUpdateCode=\"&'PXS Kopieret'!N68&\"&Locale=en&CustomFormID=11612\",\"Docs\"),\"\")","v":""},{"$f":"'PXS Kopieret'!A68","v":0},{"$f":"'PXS Kopieret'!B68","v":0},{"$f":"'PXS Kopieret'!C68","v":0},{"$f":"'PXS Kopieret'!D68","v":0},{"$f":"IF($A68<>\"PhD Student\",'PXS Kopieret'!E68,\"\")","v":0},{"$f":"IF($A68=\"PhD Student\",'PXS Kopieret'!F68,\"\")","v":""},{"$f":"'PXS Kopieret'!G68","v":0},{"$f":"'PXS Kopieret'!H68","v":0},{"$f":"IF($A68=\"PhD Student\",'PXS Kopieret'!I68,\"\")","v":""},{"$f":"'PXS Kopieret'!J68","v":0},{"$f":"'PXS Kopieret'!K68","v":0},{"$f":"'PXS Kopieret'!L68","v":0}]
["",{"$f":"IF('PXS Kopieret'!N69<>\"\",HYPERLINK(\"https://ssl1.peoplexs.com/Peoplexs22/eFormportal/eForm.cfm?CandidateUpdateID=\"&'PXS Kopieret'!M69&\"&CandidateUpdateCode=\"&'PXS Kopieret'!N69&\"&Locale=en&CustomFormID=11612\",\"Docs\"),\"\")","v":""},{"$f":"'PXS Kopieret'!A69","v":0},{"$f":"'PXS Kopieret'!B69","v":0},{"$f":"'PXS Kopieret'!C69","v":0},{"$f":"'PXS Kopieret'!D69","v":0},{"$f":"IF($A69<>\"PhD Student\",'PXS Kopieret'!E69,\"\")","v":0},{"$f":"IF($A69=\"PhD Student\",'PXS Kopieret'!F69,\"\")","v":""},{"$f":"'PXS Kopieret'!G69","v":0},{"$f":"'PXS Kopieret'!H69","v":0},{"$f":"IF($A69=\"PhD Student\",'PXS Kopieret'!I69,\"\")","v":""},{"$f":"'PXS Kopieret'!J69","v":0},{"$f":"'PXS Kopieret'!K69","v":0},{"$f":"'PXS Kopieret'!L69","v":0}]
["",{"$f":"IF('PXS Kopieret'!N70<>\"\",HYPERLINK(\"https://ssl1.peoplexs.com/Peoplexs22/eFormportal/eForm.cfm?CandidateUpdateID=\"&'PXS Kopieret'!M70&\"&CandidateUpdateCode=\"&'PXS Kopieret'!N70&\"&Locale=en&CustomFormID=11612\",\"Docs\"),\"\")","v":""},{"$f":"'PXS Kopieret'!A70","v":0},{"$f":"'PXS Kopieret'!B70","v":0},{"$f":"'PXS Kopieret'!C70","v":0},{"$f":"'PXS Kopieret'!D70","v":0},{"$f":"IF($A70<>\"PhD Student\",'PXS Kopieret'!E70,\"\")","v":0},{"$f":"IF($A70=\"PhD Student\",'PXS Kopieret'!F70,\"\")","v":""},{"$f":"'PXS Kopieret'!G70","v":0},{"$f":"'PXS Kopieret'!H70","v":0},{"$f":"IF($A70=\"PhD Student\",'PXS Kopieret'!I70,\"\")","v":""},{"$f":"'PXS Kopieret'!J70","v":0},{"$f":"'PXS Kopieret'!K70","v":0},{"$f":"'PXS Kopieret'!L70","v":0}]
["",{"$f":"IF('PXS Kopieret'!N71<>\"\",HYPERLINK(\"https://ssl1.peoplexs.com/Peoplexs22/eFormportal/eForm.cfm?CandidateUpdateID=\"&'PXS Kopieret'!M71&\"&CandidateUpdateCode=\"&'PXS Kopieret'!N71&\"&Locale=en&CustomFormID=11612\",\"Docs\"),\"\")","v":""},{"$f":"'PXS Kopieret'!A71","v":0},{"$f":"'PXS Kopieret'!B71","v":0},{"$f":"'PXS Kopieret'!C71","v":0},{"$f":"'PXS Kopieret'!D71","v":0},{"$f":"IF($A71<>\"PhD Student\",'PXS Kopieret'!E71,\"\")","v":0},{"$f":"IF($A71=\"PhD Student\",'PXS Kopieret'!F71,\"\")","v":""},{"$f":"'PXS Kopieret'!G71","v":0},{"$f":"'PXS Kopieret'!H71","v":0},{"$f":"IF($A71=\"PhD Student\",'PXS Kopieret'!I71,\"\")","v":""},{"$f":"'PXS Kopieret'!J71","v":0},{"$f":"'PXS Kopieret'!K71","v":0},{"$f":"'PXS Kopieret'!L71","v":0}]
["",{"$f":"IF('PXS Kopieret'!N72<>\"\",HYPERLINK(\"https://ssl1.peoplexs.com/Peoplexs22/eFormportal/eForm.cfm?CandidateUpdateID=\"&'PXS Kopieret'!M72&\"&CandidateUpdateCode=\"&'PXS Kopieret'!N72&\"&Locale=en&CustomFormID=11612\",\"Docs\"),\"\")","v":""},{"$f":"'PXS Kopieret'!A72","v":0},{"$f":"'PXS Kopieret'!B72","v":0},{"$f":"'PXS Kopieret'!C72","v":0},{"$f":"'PXS Kopieret'!D72","v":0},{"$f":"IF($A72<>\"PhD Student\",'PXS Kopieret'!E72,\"\")","v":0},{"$f":"IF($A72=\"PhD Student\",'PXS Kopieret'!F72,\"\")","v":""},{"$f":"'PXS Kopieret'!G72","v":0},{"$f":"'PXS Kopieret'!H72","v":0},{"$f":"IF($A72=\"PhD Student\",'PXS Kopieret'!I72,\"\")","v":""},{"$f":"'PXS Kopieret'!J72","v":0},{"$f":"'PXS Kopieret'!K72","v":0},{"$f":"'PXS Kopieret'!L72","v":0}]
["",{"$f":"IF('PXS Kopieret'!N73<>\"\",HYPERLINK(\"https://ssl1.peoplexs.com/Peoplexs22/eFormportal/eForm.cfm?CandidateUpdateID=\"&'PXS Kopieret'!M73&\"&CandidateUpdateCode=\"&'PXS Kopieret'!N73&\"&Locale=en&CustomFormID=11612\",\"Docs\"),\"\")","v":""},{"$f":"'PXS Kopieret'!A73","v":0},{"$f":"'PXS Kopieret'!B73","v":0},{"$f":"'PXS Kopieret'!C73","v":0},{"$f":"'PXS Kopieret'!D73","v":0},{"$f":"IF($A73<>\"PhD Student\",'PXS Kopieret'!E73,\"\")","v":0},{"$f":"IF($A73=\"PhD Student\",'PXS Kopieret'!F73,\"\")","v":""},{"$f":"'PXS Kopieret'!G73","v":0},{"$f":"'PXS Kopieret'!H73","v":0},{"$f":"IF($A73=\"PhD Student\",'PXS Kopieret'!I73,\"\")","v":""},{"$f":"'PXS Kopieret'!J73","v":0},{"$f":"'PXS Kopieret'!K73","v":0},{"$f":"'PXS Kopieret'!L73","v":0}]
["",{"$f":"IF('PXS Kopieret'!N74<>\"\",HYPERLINK(\"https://ssl1.peoplexs.com/Peoplexs22/eFormportal/eForm.cfm?CandidateUpdateID=\"&'PXS Kopieret'!M74&\"&CandidateUpdateCode=\"&'PXS Kopieret'!N74&\"&Locale=en&CustomFormID=11612\",\"Docs\"),\"\")","v":""},{"$f":"'PXS Kopieret'!A74","v":0},{"$f":"'PXS Kopieret'!B74","v":0},{"$f":"'PXS Kopieret'!C74","v":0},{"$f":"'PXS Kopieret'!D74","v":0},{"$f":"IF($A74<>\"PhD Student\",'PXS Kopieret'!E74,\"\")","v":0},{"$f":"IF($A74=\"PhD Student\",'PXS Kopieret'!F74,\"\")","v":""},{"$f":"'PXS Kopieret'!G74","v":0},{"$f":"'PXS Kopieret'!H74","v":0},{"$f":"IF($A74=\"PhD Student\",'PXS Kopieret'!I74,\"\")","v":""},{"$f":"'PXS Kopieret'!J74","v":0},{"$f":"'PXS Kopieret'!K74","v":0},{"$f":"'PXS Kopieret'!L74","v":0}]
["",{"$f":"IF('PXS Kopieret'!N75<>\"\",HYPERLINK(\"https://ssl1.peoplexs.com/Peoplexs22/eFormportal/eForm.cfm?CandidateUpdateID=\"&'PXS Kopieret'!M75&\"&CandidateUpdateCode=\"&'PXS Kopieret'!N75&\"&Locale=en&CustomFormID=11612\",\"Docs\"),\"\")","v":""},{"$f":"'PXS Kopieret'!A75","v":0},{"$f":"'PXS Kopieret'!B75","v":0},{"$f":"'PXS Kopieret'!C75","v":0},{"$f":"'PXS Kopieret'!D75","v":0},{"$f":"IF($A75<>\"PhD Student\",'PXS Kopieret'!E75,\"\")","v":0},{"$f":"IF($A75=\"PhD Student\",'PXS Kopieret'!F75,\"\")","v":""},{"$f":"'PXS Kopieret'!G75","v":0},{"$f":"'PXS Kopieret'!H75","v":0},{"$f":"IF($A75=\"PhD Student\",'PXS Kopieret'!I75,\"\")","v":""},{"$f":"'PXS Kopieret'!J75","v":0},{"$f":"'PXS Kopieret'!K75","v":0},{"$f":"'PXS Kopieret'!L75","v":0}]
["",{"$f":"IF('PXS Kopieret'!N76<>\"\",HYPERLINK(\"https://ssl1.peoplexs.com/Peoplexs22/eFormportal/eForm.cfm?CandidateUpdateID=\"&'PXS Kopieret'!M76&\"&CandidateUpdateCode=\"&'PXS Kopieret'!N76&\"&Locale=en&CustomFormID=11612\",\"Docs\"),\"\")","v":""},{"$f":"'PXS Kopieret'!A76","v":0},{"$f":"'PXS Kopieret'!B76","v":0},{"$f":"'PXS Kopieret'!C76","v":0},{"$f":"'PXS Kopieret'!D76","v":0},{"$f":"IF($A76<>\"PhD Student\",'PXS Kopieret'!E76,\"\")","v":0},{"$f":"IF($A76=\"PhD Student\",'PXS Kopieret'!F76,\"\")","v":""},{"$f":"'PXS Kopieret'!G76","v":0},{"$f":"'PXS Kopieret'!H76","v":0},{"$f":"IF($A76=\"PhD Student\",'PXS Kopieret'!I76,\"\")","v":""},{"$f":"'PXS Kopieret'!J76","v":0},{"$f":"'PXS Kopieret'!K76","v":0},{"$f":"'PXS Kopieret'!L76","v":0}]
["",{"$f":"IF('PXS Kopieret'!N77<>\"\",HYPERLINK(\"https://ssl1.peoplexs.com/Peoplexs22/eFormportal/eForm.cfm?CandidateUpdateID=\"&'PXS Kopieret'!M77&\"&CandidateUpdateCode=\"&'PXS Kopieret'!N77&\"&Locale=en&CustomFormID=11612\",\"Docs\"),\"\")","v":""},{"$f":"'PXS Kopieret'!A77","v":0},{"$f":"'PXS Kopieret'!B77","v":0},{"$f":"'PXS Kopieret'!C77","v":0},{"$f":"'PXS Kopieret'!D77","v":0},{"$f":"IF($A77<>\"PhD Student\",'PXS Kopieret'!E77,\"\")","v":0},{"$f":"IF($A77=\"PhD Student\",'PXS Kopieret'!F77,\"\")","v":""},{"$f":"'PXS Kopieret'!G77","v":0},{"$f":"'PXS Kopieret'!H77","v":0},{"$f":"IF($A77=\"PhD Student\",'PXS Kopieret'!I77,\"\")","v":""},{"$f":"'PXS Kopieret'!J77","v":0},{"$f":"'PXS Kopieret'!K77","v":0},{"$f":"'PXS Kopieret'!L77","v":0}]
["",{"$f":"IF('PXS Kopieret'!N78<>\"\",HYPERLINK(\"https://ssl1.peoplexs.com/Peoplexs22/eFormportal/eForm.cfm?CandidateUpdateID=\"&'PXS Kopieret'!M78&\"&CandidateUpdateCode=\"&'PXS Kopieret'!N78&\"&Locale=en&CustomFormID=11612\",\"Docs\"),\"\")","v":""},{"$f":"'PXS Kopieret'!A78","v":0},{"$f":"'PXS Kopieret'!B78","v":0},{"$f":"'PXS Kopieret'!C78","v":0},{"$f":"'PXS Kopieret'!D78","v":0},{"$f":"IF($A78<>\"PhD Student\",'PXS Kopieret'!E78,\"\")","v":0},{"$f":"IF($A78=\"PhD Student\",'PXS Kopieret'!F78,\"\")","v":""},{"$f":"'PXS Kopieret'!G78","v":0},{"$f":"'PXS Kopieret'!H78","v":0},{"$f":"IF($A78=\"PhD Student\",'PXS Kopieret'!I78,\"\")","v":""},{"$f":"'PXS Kopieret'!J78","v":0},{"$f":"'PXS Kopieret'!K78","v":0},{"$f":"'PXS Kopieret'!L78","v":0}]
["",{"$f":"IF('PXS Kopieret'!N79<>\"\",HYPERLINK(\"https://ssl1.peoplexs.com/Peoplexs22/eFormportal/eForm.cfm?CandidateUpdateID=\"&'PXS Kopieret'!M79&\"&CandidateUpdateCode=\"&'PXS Kopieret'!N79&\"&Locale=en&CustomFormID=11612\",\"Docs\"),\"\")","v":""},{"$f":"'PXS Kopieret'!A79","v":0},{"$f":"'PXS Kopieret'!B79","v":0},{"$f":"'PXS Kopieret'!C79","v":0},{"$f":"'PXS Kopieret'!D79","v":0},{"$f":"IF($A79<>\"PhD Student\",'PXS Kopieret'!E79,\"\")","v":0},{"$f":"IF($A79=\"PhD Student\",'PXS Kopieret'!F79,\"\")","v":""},{"$f":"'PXS Kopieret'!G79","v":0},{"$f":"'PXS Kopieret'!H79","v":0},{"$f":"IF($A79=\"PhD Student\",'PXS Kopieret'!I79,\"\")","v":""},{"$f":"'PXS Kopieret'!J79","v":0},{"$f":"'PXS Kopieret'!K79","v":0},{"$f":"'PXS Kopieret'!L79","v":0}]
["",{"$f":"IF('PXS Kopieret'!N80<>\"\",HYPERLINK(\"https://ssl1.peoplexs.com/Peoplexs22/eFormportal/eForm.cfm?CandidateUpdateID=\"&'PXS Kopieret'!M80&\"&CandidateUpdateCode=\"&'PXS Kopieret'!N80&\"&Locale=en&CustomFormID=11612\",\"Docs\"),\"\")","v":""},{"$f":"'PXS Kopieret'!A80","v":0},{"$f":"'PXS Kopieret'!B80","v":0},{"$f":"'PXS Kopieret'!C80","v":0},{"$f":"'PXS Kopieret'!D80","v":0},{"$f":"IF($A80<>\"PhD Student\",'PXS Kopieret'!E80,\"\")","v":0},{"$f":"IF($A80=\"PhD Student\",'PXS Kopieret'!F80,\"\")","v":""},{"$f":"'PXS Kopieret'!G80","v":0},{"$f":"'PXS Kopieret'!H80","v":0},{"$f":"IF($A80=\"PhD Student\",'PXS Kopieret'!I80,\"\")","v":""},{"$f":"'PXS Kopieret'!J80","v":0},{"$f":"'PXS Kopieret'!K80","v":0},{"$f":"'PXS Kopieret'!L80","v":0}]
["",{"$f":"IF('PXS Kopieret'!N81<>\"\",HYPERLINK(\"https://ssl1.peoplexs.com/Peoplexs22/eFormportal/eForm.cfm?CandidateUpdateID=\"&'PXS Kopieret'!M81&\"&CandidateUpdateCode=\"&'PXS Kopieret'!N81&\"&Locale=en&CustomFormID=11612\",\"Docs\"),\"\")","v":""},{"$f":"'PXS Kopieret'!A81","v":0},{"$f":"'PXS Kopieret'!B81","v":0},{"$f":"'PXS Kopieret'!C81","v":0},{"$f":"'PXS Kopieret'!D81","v":0},{"$f":"IF($A81<>\"PhD Student\",'PXS Kopieret'!E81,\"\")","v":0},{"$f":"IF($A81=\"PhD Student\",'PXS Kopieret'!F81,\"\")","v":""},{"$f":"'PXS Kopieret'!G81","v":0},{"$f":"'PXS Kopieret'!H81","v":0},{"$f":"IF($A81=\"PhD Student\",'PXS Kopieret'!I81,\"\")","v":""},{"$f":"'PXS Kopieret'!J81","v":0},{"$f":"'PXS Kopieret'!K81","v":0},{"$f":"'PXS Kopieret'!L81","v":0}]
["",{"$f":"IF('PXS Kopieret'!N82<>\"\",HYPERLINK(\"https://ssl1.peoplexs.com/Peoplexs22/eFormportal/eForm.cfm?CandidateUpdateID=\"&'PXS Kopieret'!M82&\"&CandidateUpdateCode=\"&'PXS Kopieret'!N82&\"&Locale=en&CustomFormID=11612\",\"Docs\"),\"\")","v":""},{"$f":"'PXS Kopieret'!A82","v":0},{"$f":"'PXS Kopieret'!B82","v":0},{"$f":"'PXS Kopieret'!C82","v":0},{"$f":"'PXS Kopieret'!D82","v":0},{"$f":"IF($A82<>\"PhD Student\",'PXS Kopieret'!E82,\"\")","v":0},{"$f":"IF($A82=\"PhD Student\",'PXS Kopieret'!F82,\"\")","v":""},{"$f":"'PXS Kopieret'!G82","v":0},{"$f":"'PXS Kopieret'!H82","v":0},{"$f":"IF($A82=\"PhD Student\",'PXS Kopieret'!I82,\"\")","v":""},{"$f":"'PXS Kopieret'!J82","v":0},{"$f":"'PXS Kopieret'!K82","v":0},{"$f":"'PXS Kopieret'!L82","v":0}]
["",{"$f":"IF('PXS Kopieret'!N83<>\"\",HYPERLINK(\"https://ssl1.peoplexs.com/Peoplexs22/eFormportal/eForm.cfm?CandidateUpdateID=\"&'PXS Kopieret'!M83&\"&CandidateUpdateCode=\"&'PXS Kopieret'!N83&\"&Locale=en&CustomFormID=11612\",\"Docs\"),\"\")","v":""},{"$f":"'PXS Kopieret'!A83","v":0},{"$f":"'PXS Kopieret'!B83","v":0},{"$f":"'PXS Kopieret'!C83","v":0},{"$f":"'PXS Kopieret'!D83","v":0},{"$f":"IF($A83<>\"PhD Student\",'PXS Kopieret'!E83,\"\")","v":0},{"$f":"IF($A83=\"PhD Student\",'PXS Kopieret'!F83,\"\")","v":""},{"$f":"'PXS Kopieret'!G83","v":0},{"$f":"'PXS Kopieret'!H83","v":0},{"$f":"IF($A83=\"PhD Student\",'PXS Kopieret'!I83,\"\")","v":""},{"$f":"'PXS Kopieret'!J83","v":0},{"$f":"'PXS Kopieret'!K83","v":0},{"$f":"'PXS Kopieret'!L83","v":0}]
["",{"$f":"IF('PXS Kopieret'!N84<>\"\",HYPERLINK(\"https://ssl1.peoplexs.com/Peoplexs22/eFormportal/eForm.cfm?CandidateUpdateID=\"&'PXS Kopieret'!M84&\"&CandidateUpdateCode=\"&'PXS Kopieret'!N84&\"&Locale=en&CustomFormID=11612\",\"Docs\"),\"\")","v":""},{"$f":"'PXS Kopieret'!A84","v":0},{"$f":"'PXS Kopieret'!B84","v":0},{"$f":"'PXS Kopieret'!C84","v":0},{"$f":"'PXS Kopieret'!D84","v":0},{"$f":"IF($A84<>\"PhD Student\",'PXS Kopieret'!E84,\"\")","v":0},{"$f":"IF($A84=\"PhD Student\",'PXS Kopieret'!F84,\"\")","v":""},{"$f":"'PXS Kopieret'!G84","v":0},{"$f":"'PXS Kopieret'!H84","v":0},{"$f":"IF($A84=\"PhD Student\",'PXS Kopieret'!I84,\"\")","v":""},{"$f":"'PXS Kopieret'!J84","v":0},{"$f":"'PXS Kopieret'!K84","v":0},{"$f":"'PXS Kopieret'!L84","v":0}]
["",{"$f":"IF('PXS Kopieret'!N85<>\"\",HYPERLINK(\"https://ssl1.peoplexs.com/Peoplexs22/eFormportal/eForm.cfm?CandidateUpdateID=\"&'PXS Kopieret'!M85&\"&CandidateUpdateCode=\"&'PXS Kopieret'!N85&\"&Locale=en&CustomFormID=11612\",\"Docs\"),\"\")","v":""},{"$f":"'PXS Kopieret'!A85","v":0},{"$f":"'PXS Kopieret'!B85","v":0},{"$f":"'PXS Kopieret'!C85","v":0},{"$f":"'PXS Kopieret'!D85","v":0},{"$f":"IF($A85<>\"PhD Student\",'PXS Kopieret'!E85,\"\")","v":0},{"$f":"IF($A85=\"PhD Student\",'PXS Kopieret'!F85,\"\")","v":""},{"$f":"'PXS Kopieret'!G85","v":0},{"$f":"'PXS Kopieret'!H85","v":0},{"$f":"IF($A85=\"PhD Student\",'PXS Kopieret'!I85,\"\")","v":""},{"$f":"'PXS Kopieret'!J85","v":0},{"$f":"'PXS Kopieret'!K85","v":0},{"$f":"'PXS Kopieret'!L85","v":0}]
["",{"$f":"IF('PXS Kopieret'!N86<>\"\",HYPERLINK(\"https://ssl1.peoplexs.com/Peoplexs22/eFormportal/eForm.cfm?CandidateUpdateID=\"&'PXS Kopieret'!M86&\"&CandidateUpdateCode=\"&'PXS Kopieret'!N86&\"&Locale=en&CustomFormID=11612\",\"Docs\"),\"\")","v":""},{"$f":"'PXS Kopieret'!A86","v":0},{"$f":"'PXS Kopieret'!B86","v":0},{"$f":"'PXS Kopieret'!C86","v":0},{"$f":"'PXS Kopieret'!D86","v":0},{"$f":"IF($A86<>\"PhD Student\",'PXS Kopieret'!E86,\"\")","v":0},{"$f":"IF($A86=\"PhD Student\",'PXS Kopieret'!F86,\"\")","v":""},{"$f":"'PXS Kopieret'!G86","v":0},{"$f":"'PXS Kopieret'!H86","v":0},{"$f":"IF($A86=\"PhD Student\",'PXS Kopieret'!I86,\"\")","v":""},{"$f":"'PXS Kopieret'!J86","v":0},{"$f":"'PXS Kopieret'!K86","v":0},{"$f":"'PXS Kopieret'!L86","v":0}]
["",{"$f":"IF('PXS Kopieret'!N87<>\"\",HYPERLINK(\"https://ssl1.peoplexs.com/Peoplexs22/eFormportal/eForm.cfm?CandidateUpdateID=\"&'PXS Kopieret'!M87&\"&CandidateUpdateCode=\"&'PXS Kopieret'!N87&\"&Locale=en&CustomFormID=11612\",\"Docs\"),\"\")","v":""},{"$f":"'PXS Kopieret'!A87","v":0},{"$f":"'PXS Kopieret'!B87","v":0},{"$f":"'PXS Kopieret'!C87","v":0},{"$f":"'PXS Kopieret'!D87","v":0},{"$f":"IF($A87<>\"PhD Student\",'PXS Kopieret'!E87,\"\")","v":0},{"$f":"IF($A87=\"PhD Student\",'PXS Kopieret'!F87,\"\")","v":""},{"$f":"'PXS Kopieret'!G87","v":0},{"$f":"'PXS Kopieret'!H87","v":0},{"$f":"IF($A87=\"PhD Student\",'PXS Kopieret'!I87,\"\")","v":""},{"$f":"'PXS Kopieret'!J87","v":0},{"$f":"'PXS Kopieret'!K87","v":0},{"$f":"'PXS Kopieret'!L87","v":0}]
["",{"$f":"IF('PXS Kopieret'!N88<>\"\",HYPERLINK(\"https://ssl1.peoplexs.com/Peoplexs22/eFormportal/eForm.cfm?CandidateUpdateID=\"&'PXS Kopieret'!M88&\"&CandidateUpdateCode=\"&'PXS Kopieret'!N88&\"&Locale=en&CustomFormID=11612\",\"Docs\"),\"\")","v":""},{"$f":"'PXS Kopieret'!A88","v":0},{"$f":"'PXS Kopieret'!B88","v":0},{"$f":"'PXS Kopieret'!C88","v":0},{"$f":"'PXS Kopieret'!D88","v":0},{"$f":"IF($A88<>\"PhD Student\",'PXS Kopieret'!E88,\"\")","v":0},{"$f":"IF($A88=\"PhD Student\",'PXS Kopieret'!F88,\"\")","v":""},{"$f":"'PXS Kopieret'!G88","v":0},{"$f":"'PXS Kopieret'!H88","v":0},{"$f":"IF($A88=\"PhD Student\",'PXS Kopieret'!I88,\"\")","v":""},{"$f":"'PXS Kopieret'!J88","v":0},{"$f":"'PXS Kopieret'!K88","v":0},{"$f":"'PXS Kopieret'!L88","v":0}]
["",{"$f":"IF('PXS Kopieret'!N89<>\"\",HYPERLINK(\"https://ssl1.peoplexs.com/Peoplexs22/eFormportal/eForm.cfm?CandidateUpdateID=\"&'PXS Kopieret'!M89&\"&CandidateUpdateCode=\"&'PXS Kopieret'!N89&\"&Locale=en&CustomFormID=11612\",\"Docs\"),\"\")","v":""},{"$f":"'PXS Kopieret'!A89","v":0},{"$f":"'PXS Kopieret'!B89","v":0},{"$f":"'PXS Kopieret'!C89","v":0},{"$f":"'PXS Kopieret'!D89","v":0},{"$f":"IF($A89<>\"PhD Student\",'PXS Kopieret'!E89,\"\")","v":0},{"$f":"IF($A89=\"PhD Student\",'PXS Kopieret'!F89,\"\")","v":""},{"$f":"'PXS Kopieret'!G89","v":0},{"$f":"'PXS Kopieret'!H89","v":0},{"$f":"IF($A89=\"PhD Student\",'PXS Kopieret'!I89,\"\")","v":""},{"$f":"'PXS Kopieret'!J89","v":0},{"$f":"'PXS Kopieret'!K89","v":0},{"$f":"'PXS Kopieret'!L89","v":0}]
["",{"$f":"IF('PXS Kopieret'!N90<>\"\",HYPERLINK(\"https://ssl1.peoplexs.com/Peoplexs22/eFormportal/eForm.cfm?CandidateUpdateID=\"&'PXS Kopieret'!M90&\"&CandidateUpdateCode=\"&'PXS Kopieret'!N90&\"&Locale=en&CustomFormID=11612\",\"Docs\"),\"\")","v":""},{"$f":"'PXS Kopieret'!A90","v":0},{"$f":"'PXS Kopieret'!B90","v":0},{"$f":"'PXS Kopieret'!C90","v":0},{"$f":"'PXS Kopieret'!D90","v":0},{"$f":"IF($A90<>\"PhD Student\",'PXS Kopieret'!E90,\"\")","v":0},{"$f":"IF($A90=\"PhD Student\",'PXS Kopieret'!F90,\"\")","v":""},{"$f":"'PXS Kopieret'!G90","v":0},{"$f":"'PXS Kopieret'!H90","v":0},{"$f":"IF($A90=\"PhD Student\",'PXS Kopieret'!I90,\"\")","v":""},{"$f":"'PXS Kopieret'!J90","v":0},{"$f":"'PXS Kopieret'!K90","v":0},{"$f":"'PXS Kopieret'!L90","v":0}]
["",{"$f":"IF('PXS Kopieret'!N91<>\"\",HYPERLINK(\"https://ssl1.peoplexs.com/Peoplexs22/eFormportal/eForm.cfm?CandidateUpdateID=\"&'PXS Kopieret'!M91&\"&CandidateUpdateCode=\"&'PXS Kopieret'!N91&\"&Locale=en&CustomFormID=11612\",\"Docs\"),\"\")","v":""},{"$f":"'PXS Kopieret'!A91","v":0},{"$f":"'PXS Kopieret'!B91","v":0},{"$f":"'PXS Kopieret'!C91","v":0},{"$f":"'PXS Kopieret'!D91","v":0},{"$f":"IF($A91<>\"PhD Student\",'PXS Kopieret'!E91,\"\")","v":0},{"$f":"IF($A91=\"PhD Student\",'PXS Kopieret'!F91,\"\")","v":""},{"$f":"'PXS Kopieret'!G91","v":0},{"$f":"'PXS Kopieret'!H91","v":0},{"$f":"IF($A91=\"PhD Student\",'PXS Kopieret'!I91,\"\")","v":""},{"$f":"'PXS Kopieret'!J91","v":0},{"$f":"'PXS Kopieret'!K91","v":0},{"$f":"'PXS Kopieret'!L91","v":0}]
["",{"$f":"IF('PXS Kopieret'!N92<>\"\",HYPERLINK(\"https://ssl1.peoplexs.com/Peoplexs22/eFormportal/eForm.cfm?CandidateUpdateID=\"&'PXS Kopieret'!M92&\"&CandidateUpdateCode=\"&'PXS Kopieret'!N92&\"&Locale=en&CustomFormID=11612\",\"Docs\"),\"\")","v":""},{"$f":"'PXS Kopieret'!A92","v":0},{"$f":"'PXS Kopieret'!B92","v":0},{"$f":"'PXS Kopieret'!C92","v":0},{"$f":"'PXS Kopieret'!D92","v":0},{"$f":"IF($A92<>\"PhD Student\",'PXS Kopieret'!E92,\"\")","v":0},{"$f":"IF($A92=\"PhD Student\",'PXS Kopieret'!F92,\"\")","v":""},{"$f":"'PXS Kopieret'!G92","v":0},{"$f":"'PXS Kopieret'!H92","v":0},{"$f":"IF($A92=\"PhD Student\",'PXS Kopieret'!I92,\"\")","v":""},{"$f":"'PXS Kopieret'!J92","v":0},{"$f":"'PXS Kopieret'!K92","v":0},{"$f":"'PXS Kopieret'!L92","v":0}]
["",{"$f":"IF('PXS Kopieret'!N93<>\"\",HYPERLINK(\"https://ssl1.peoplexs.com/Peoplexs22/eFormportal/eForm.cfm?CandidateUpdateID=\"&'PXS Kopieret'!M93&\"&CandidateUpdateCode=\"&'PXS Kopieret'!N93&\"&Locale=en&CustomFormID=11612\",\"Docs\"),\"\")","v":""},{"$f":"'PXS Kopieret'!A93","v":0},{"$f":"'PXS Kopieret'!B93","v":0},{"$f":"'PXS Kopieret'!C93","v":0},{"$f":"'PXS Kopieret'!D93","v":0},{"$f":"IF($A93<>\"PhD Student\",'PXS Kopieret'!E93,\"\")","v":0},{"$f":"IF($A93=\"PhD Student\",'PXS Kopieret'!F93,\"\")","v":""},{"$f":"'PXS Kopieret'!G93","v":0},{"$f":"'PXS Kopieret'!H93","v":0},{"$f":"IF($A93=\"PhD Student\",'PXS Kopieret'!I93,\"\")","v":""},{"$f":"'PXS Kopieret'!J93","v":0},{"$f":"'PXS Kopieret'!K93","v":0},{"$f":"'PXS Kopieret'!L93","v":0}]
["",{"$f":"IF('PXS Kopieret'!N94<>\"\",HYPERLINK(\"https://ssl1.peoplexs.com/Peoplexs22/eFormportal/eForm.cfm?CandidateUpdateID=\"&'PXS Kopieret'!M94&\"&CandidateUpdateCode=\"&'PXS Kopieret'!N94&\"&Locale=en&CustomFormID=11612\",\"Docs\"),\"\")","v":""},{"$f":"'PXS Kopieret'!A94","v":0},{"$f":"'PXS Kopieret'!B94","v":0},{"$f":"'PXS Kopieret'!C94","v":0},{"$f":"'PXS Kopieret'!D94","v":0},{"$f":"IF($A94<>\"PhD Student\",'PXS Kopieret'!E94,\"\")","v":0},{"$f":"IF($A94=\"PhD Student\",'PXS Kopieret'!F94,\"\")","v":""},{"$f":"'PXS Kopieret'!G94","v":0},{"$f":"'PXS Kopieret'!H94","v":0},{"$f":"IF($A94=\"PhD Student\",'PXS Kopieret'!I94,\"\")","v":""},{"$f":"'PXS Kopieret'!J94","v":0},{"$f":"'PXS Kopieret'!K94","v":0},{"$f":"'PXS Kopieret'!L94","v":0}]
["",{"$f":"IF('PXS Kopieret'!N95<>\"\",HYPERLINK(\"https://ssl1.peoplexs.com/Peoplexs22/eFormportal/eForm.cfm?CandidateUpdateID=\"&'PXS Kopieret'!M95&\"&CandidateUpdateCode=\"&'PXS Kopieret'!N95&\"&Locale=en&CustomFormID=11612\",\"Docs\"),\"\")","v":""},{"$f":"'PXS Kopieret'!A95","v":0},{"$f":"'PXS Kopieret'!B95","v":0},{"$f":"'PXS Kopieret'!C95","v":0},{"$f":"'PXS Kopieret'!D95","v":0},{"$f":"IF($A95<>\"PhD Student\",'PXS Kopieret'!E95,\"\")","v":0},{"$f":"IF($A95=\"PhD Student\",'PXS Kopieret'!F95,\"\")","v":""},{"$f":"'PXS Kopieret'!G95","v":0},{"$f":"'PXS Kopieret'!H95","v":0},{"$f":"IF($A95=\"PhD Student\",'PXS Kopieret'!I95,\"\")","v":""},{"$f":"'PXS Kopieret'!J95","v":0},{"$f":"'PXS Kopieret'!K95","v":0},{"$f":"'PXS Kopieret'!L95","v":0}]
["",{"$f":"IF('PXS Kopieret'!N96<>\"\",HYPERLINK(\"https://ssl1.peoplexs.com/Peoplexs22/eFormportal/eForm.cfm?CandidateUpdateID=\"&'PXS Kopieret'!M96&\"&CandidateUpdateCode=\"&'PXS Kopieret'!N96&\"&Locale=en&CustomFormID=11612\",\"Docs\"),\"\")","v":""},{"$f":"'PXS Kopieret'!A96","v":0},{"$f":"'PXS Kopieret'!B96","v":0},{"$f":"'PXS Kopieret'!C96","v":0},{"$f":"'PXS Kopieret'!D96","v":0},{"$f":"IF($A96<>\"PhD Student\",'PXS Kopieret'!E96,\"\")","v":0},{"$f":"IF($A96=\"PhD Student\",'PXS Kopieret'!F96,\"\")","v":""},{"$f":"'PXS Kopieret'!G96","v":0},{"$f":"'PXS Kopieret'!H96","v":0},{"$f":"IF($A96=\"PhD Student\",'PXS Kopieret'!I96,\"\")","v":""},{"$f":"'PXS Kopieret'!J96","v":0},{"$f":"'PXS Kopieret'!K96","v":0},{"$f":"'PXS Kopieret'!L96","v":0}]
["",{"$f":"IF('PXS Kopieret'!N97<>\"\",HYPERLINK(\"https://ssl1.peoplexs.com/Peoplexs22/eFormportal/eForm.cfm?CandidateUpdateID=\"&'PXS Kopieret'!M97&\"&CandidateUpdateCode=\"&'PXS Kopieret'!N97&\"&Locale=en&CustomFormID=11612\",\"Docs\"),\"\")","v":""},{"$f":"'PXS Kopieret'!A97","v":0},{"$f":"'PXS Kopieret'!B97","v":0},{"$f":"'PXS Kopieret'!C97","v":0},{"$f":"'PXS Kopieret'!D97","v":0},{"$f":"IF($A97<>\"PhD Student\",'PXS Kopieret'!E97,\"\")","v":0},{"$f":"IF($A97=\"PhD Student\",'PXS Kopieret'!F97,\"\")","v":""},{"$f":"'PXS Kopieret'!G97","v":0},{"$f":"'PXS Kopieret'!H97","v":0},{"$f":"IF($A97=\"PhD Student\",'PXS Kopieret'!I97,\"\")","v":""},{"$f":"'PXS Kopieret'!J97","v":0},{"$f":"'PXS Kopieret'!K97","v":0},{"$f":"'PXS Kopieret'!L97","v":0}]
["",{"$f":"IF('PXS Kopieret'!N98<>\"\",HYPERLINK(\"https://ssl1.peoplexs.com/Peoplexs22/eFormportal/eForm.cfm?CandidateUpdateID=\"&'PXS Kopieret'!M98&\"&CandidateUpdateCode=\"&'PXS Kopieret'!N98&\"&Locale=en&CustomFormID=11612\",\"Docs\"),\"\")","v":""},{"$f":"'PXS Kopieret'!A98","v":0},{"$f":"'PXS Kopieret'!B98","v":0},{"$f":"'PXS Kopieret'!C98","v":0},{"$f":"'PXS Kopieret'!D98","v":0},{"$f":"IF($A98<>\"PhD Student\",'PXS Kopieret'!E98,\"\")","v":0},{"$f":"IF($A98=\"PhD Student\",'PXS Kopieret'!F98,\"\")","v":""},{"$f":"'PXS Kopieret'!G98","v":0},{"$f":"'PXS Kopieret'!H98","v":0},{"$f":"IF($A98=\"PhD Student\",'PXS Kopieret'!I98,\"\")","v":""},{"$f":"'PXS Kopieret'!J98","v":0},{"$f":"'PXS Kopieret'!K98","v":0},{"$f":"'PXS Kopieret'!L98","v":0}]
["",{"$f":"IF('PXS Kopieret'!N99<>\"\",HYPERLINK(\"https://ssl1.peoplexs.com/Peoplexs22/eFormportal/eForm.cfm?CandidateUpdateID=\"&'PXS Kopieret'!M99&\"&CandidateUpdateCode=\"&'PXS Kopieret'!N99&\"&Locale=en&CustomFormID=11612\",\"Docs\"),\"\")","v":""},{"$f":"'PXS Kopieret'!A99","v":0},{"$f":"'PXS Kopieret'!B99","v":0},{"$f":"'PXS Kopieret'!C99","v":0},{"$f":"'PXS Kopieret'!D99","v":0},{"$f":"IF($A99<>\"PhD Student\",'PXS Kopieret'!E99,\"\")","v":0},{"$f":"IF($A99=\"PhD Student\",'PXS Kopieret'!F99,\"\")","v":""},{"$f":"'PXS Kopieret'!G99","v":0},{"$f":"'PXS Kopieret'!H99","v":0},{"$f":"IF($A99=\"PhD Student\",'PXS Kopieret'!I99,\"\")","v":""},{"$f":"'PXS Kopieret'!J99","v":0},{"$f":"'PXS Kopieret'!K99","v":0},{"$f":"'PXS Kopieret'!L99","v":0}]
["",{"$f":"IF('PXS Kopieret'!N100<>\"\",HYPERLINK(\"https://ssl1.peoplexs.com/Peoplexs22/eFormportal/eForm.cfm?CandidateUpdateID=\"&'PXS Kopieret'!M100&\"&CandidateUpdateCode=\"&'PXS Kopieret'!N100&\"&Locale=en&CustomFormID=11612\",\"Docs\"),\"\")","v":""},{"$f":"'PXS Kopieret'!A100","v":0},{"$f":"'PXS Kopieret'!B100","v":0},{"$f":"'PXS Kopieret'!C100","v":0},{"$f":"'PXS Kopieret'!D100","v":0},{"$f":"IF($A100<>\"PhD Student\",'PXS Kopieret'!E100,\"\")","v":0},{"$f":"IF($A100=\"PhD Student\",'PXS Kopieret'!F100,\"\")","v":""},{"$f":"'PXS Kopieret'!G100","v":0},{"$f":"'PXS Kopieret'!H100","v":0},{"$f":"IF($A100=\"PhD Student\",'PXS Kopieret'!I100,\"\")","v":""},{"$f":"'PXS Kopieret'!J100","v":0},{"$f":"'PXS Kopieret'!K100","v":0},{"$f":"'PXS Kopieret'!L100","v":0}]
["",{"$f":"IF('PXS Kopieret'!N101<>\"\",HYPERLINK(\"https://ssl1.peoplexs.com/Peoplexs22/eFormportal/eForm.cfm?CandidateUpdateID=\"&'PXS Kopieret'!M101&\"&CandidateUpdateCode=\"&'PXS Kopieret'!N101&\"&Locale=en&CustomFormID=11612\",\"Docs\"),\"\")","v":""},{"$f":"'PXS Kopieret'!A101","v":0},{"$f":"'PXS Kopieret'!B101","v":0},{"$f":"'PXS Kopieret'!C101","v":0},{"$f":"'PXS Kopieret'!D101","v":0},{"$f":"IF($A101<>\"PhD Student\",'PXS Kopieret'!E101,\"\")","v":0},{"$f":"IF($A101=\"PhD Student\",'PXS Kopieret'!F101,\"\")","v":""},{"$f":"'PXS Kopieret'!G101","v":0},{"$f":"'PXS Kopieret'!H101","v":0},{"$f":"IF($A101=\"PhD Student\",'PXS Kopieret'!I101,\"\")","v":""},{"$f":"'PXS Kopieret'!J101","v":0},{"$f":"'PXS Kopieret'!K101","v":0},{"$f":"'PXS Kopieret'!L101","v":0}]
["",{"$f":"IF('PXS Kopieret'!N102<>\"\",HYPERLINK(\"https://ssl1.peoplexs.com/Peoplexs22/eFormportal/eForm.cfm?CandidateUpdateID=\"&'PXS Kopieret'!M102&\"&CandidateUpdateCode=\"&'PXS Kopieret'!N102&\"&Locale=en&CustomFormID=11612\",\"Docs\"),\"\")","v":""},{"$f":"'PXS Kopieret'!A102","v":0},{"$f":"'PXS Kopieret'!B102","v":0},{"$f":"'PXS Kopieret'!C102","v":0},{"$f":"'PXS Kopieret'!D102","v":0},{"$f":"IF($A102<>\"PhD Student\",'PXS Kopieret'!E102,\"\")","v":0},{"$f":"IF($A102=\"PhD Student\",'PXS Kopieret'!F102,\"\")","v":""},{"$f":"'PXS Kopieret'!G102","v":0},{"$f":"'PXS Kopieret'!H102","v":0},{"$f":"IF($A102=\"PhD Student\",'PXS Kopieret'!I102,\"\")","v":""},{"$f":"'PXS Kopieret'!J102","v":0},{"$f":"'PXS Kopieret'!K102","v":0},{"$f":"'PXS Kopieret'!L102","v":0}]
["",{"$f":"IF('PXS Kopieret'!N103<>\"\",HYPERLINK(\"https://ssl1.peoplexs.com/Peoplexs22/eFormportal/eForm.cfm?CandidateUpdateID=\"&'PXS Kopieret'!M103&\"&CandidateUpdateCode=\"&'PXS Kopieret'!N103&\"&Locale=en&CustomFormID=11612\",\"Docs\"),\"\")","v":""},{"$f":"'PXS Kopieret'!A103","v":0},{"$f":"'PXS Kopieret'!B103","v":0},{"$f":"'PXS Kopieret'!C103","v":0},{"$f":"'PXS Kopieret'!D103","v":0},{"$f":"IF($A103<>\"PhD Student\",'PXS Kopieret'!E103,\"\")","v":0},{"$f":"IF($A103=\"PhD Student\",'PXS Kopieret'!F103,\"\")","v":""},{"$f":"'PXS Kopieret'!G103","v":0},{"$f":"'PXS Kopieret'!H103","v":0},{"$f":"IF($A103=\"PhD Student\",'PXS Kopieret'!I103,\"\")","v":""},{"$f":"'PXS Kopieret'!J103","v":0},{"$f":"'PXS Kopieret'!K103","v":0},{"$f":"'PXS Kopieret'!L103","v":0}]
["",{"$f":"IF('PXS Kopieret'!N104<>\"\",HYPERLINK(\"https://ssl1.peoplexs.com/Peoplexs22/eFormportal/eForm.cfm?CandidateUpdateID=\"&'PXS Kopieret'!M104&\"&CandidateUpdateCode=\"&'PXS Kopieret'!N104&\"&Locale=en&CustomFormID=11612\",\"Docs\"),\"\")","v":""},{"$f":"'PXS Kopieret'!A104","v":0},{"$f":"'PXS Kopieret'!B104","v":0},{"$f":"'PXS Kopieret'!C104","v":0},{"$f":"'PXS Kopieret'!D104","v":0},{"$f":"IF($A104<>\"PhD Student\",'PXS Kopieret'!E104,\"\")","v":0},{"$f":"IF($A104=\"PhD Student\",'PXS Kopieret'!F104,\"\")","v":""},{"$f":"'PXS Kopieret'!G104","v":0},{"$f":"'PXS Kopieret'!H104","v":0},{"$f":"IF($A104=\"PhD Student\",'PXS Kopieret'!I104,\"\")","v":""},{"$f":"'PXS Kopieret'!J104","v":0},{"$f":"'PXS Kopieret'!K104","v":0},{"$f":"'PXS Kopieret'!L104","v":0}]
["",{"$f":"IF('PXS Kopieret'!N105<>\"\",HYPERLINK(\"https://ssl1.peoplexs.com/Peoplexs22/eFormportal/eForm.cfm?CandidateUpdateID=\"&'PXS Kopieret'!M105&\"&CandidateUpdateCode=\"&'PXS Kopieret'!N105&\"&Locale=en&CustomFormID=11612\",\"Docs\"),\"\")","v":""},{"$f":"'PXS Kopieret'!A105","v":0},{"$f":"'PXS Kopieret'!B105","v":0},{"$f":"'PXS Kopieret'!C105","v":0},{"$f":"'PXS Kopieret'!D105","v":0},{"$f":"IF($A105<>\"PhD Student\",'PXS Kopieret'!E105,\"\")","v":0},{"$f":"IF($A105=\"PhD Student\",'PXS Kopieret'!F105,\"\")","v":""},{"$f":"'PXS Kopieret'!G105","v":0},{"$f":"'PXS Kopieret'!H105","v":0},{"$f":"IF($A105=\"PhD Student\",'PXS Kopieret'!I105,\"\")","v":""},{"$f":"'PXS Kopieret'!J105","v":0},{"$f":"'PXS Kopieret'!K105","v":0},{"$f":"'PXS Kopieret'!L105","v":0}]
["",{"$f":"IF('PXS Kopieret'!N106<>\"\",HYPERLINK(\"https://ssl1.peoplexs.com/Peoplexs22/eFormportal/eForm.cfm?CandidateUpdateID=\"&'PXS Kopieret'!M106&\"&CandidateUpdateCode=\"&'PXS Kopieret'!N106&\"&Locale=en&CustomFormID=11612\",\"Docs\"),\"\")","v":""},{"$f":"'PXS Kopieret'!A106","v":0},{"$f":"'PXS Kopieret'!B106","v":0},{"$f":"'PXS Kopieret'!C106","v":0},{"$f":"'PXS Kopieret'!D106","v":0},{"$f":"IF($A106<>\"PhD Student\",'PXS Kopieret'!E106,\"\")","v":0},{"$f":"IF($A106=\"PhD Student\",'PXS Kopieret'!F106,\"\")","v":""},{"$f":"'PXS Kopieret'!G106","v":0},{"$f":"'PXS Kopieret'!H106","v":0},{"$f":"IF($A106=\"PhD Student\",'PXS Kopieret'!I106,\"\")","v":""},{"$f":"'PXS Kopieret'!J106","v":0},{"$f":"'PXS Kopieret'!K106","v":0},{"$f":"'PXS Kopieret'!L106","v":0}]
["",{"$f":"IF('PXS Kopieret'!N107<>\"\",HYPERLINK(\"https://ssl1.peoplexs.com/Peoplexs22/eFormportal/eForm.cfm?CandidateUpdateID=\"&'PXS Kopieret'!M107&\"&CandidateUpdateCode=\"&'PXS Kopieret'!N107&\"&Locale=en&CustomFormID=11612\",\"Docs\"),\"\")","v":""},{"$f":"'PXS Kopieret'!A107","v":0},{"$f":"'PXS Kopieret'!B107","v":0},{"$f":"'PXS Kopieret'!C107","v":0},{"$f":"'PXS Kopieret'!D107","v":0},{"$f":"IF($A107<>\"PhD Student\",'PXS Kopieret'!E107,\"\")","v":0},{"$f":"IF($A107=\"PhD Student\",'PXS Kopieret'!F107,\"\")","v":""},{"$f":"'PXS Kopieret'!G107","v":0},{"$f":"'PXS Kopieret'!H107","v":0},{"$f":"IF($A107=\"PhD Student\",'PXS Kopieret'!I107,\"\")","v":""},{"$f":"'PXS Kopieret'!J107","v":0},{"$f":"'PXS Kopieret'!K107","v":0},{"$f":"'PXS Kopieret'!L107","v":0}]
["",{"$f":"IF('PXS Kopieret'!N108<>\"\",HYPERLINK(\"https://ssl1.peoplexs.com/Peoplexs22/eFormportal/eForm.cfm?CandidateUpdateID=\"&'PXS Kopieret'!M108&\"&CandidateUpdateCode=\"&'PXS Kopieret'!N108&\"&Locale=en&CustomFormID=11612\",\"Docs\"),\"\")","v":""},{"$f":"'PXS Kopieret'!A108","v":0},{"$f":"'PXS Kopieret'!B108","v":0},{"$f":"'PXS Kopieret'!C108","v":0},{"$f":"'PXS Kopieret'!D108","v":0},{"$f":"IF($A108<>\"PhD Student\",'PXS Kopieret'!E108,\"\")","v":0},{"$f":"IF($A108=\"PhD Student\",'PXS Kopieret'!F108,\"\")","v":""},{"$f":"'PXS Kopieret'!G108","v":0},{"$f":"'PXS Kopieret'!H108","v":0},{"$f":"IF($A108=\"PhD Student\",'PXS Kopieret'!I108,\"\")","v":""},{"$f":"'PXS Kopieret'!J108","v":0},{"$f":"'PXS Kopieret'!K108","v":0},{"$f":"'PXS Kopieret'!L108","v":0}]
["",{"$f":"IF('PXS Kopieret'!N109<>\"\",HYPERLINK(\"https://ssl1.peoplexs.com/Peoplexs22/eFormportal/eForm.cfm?CandidateUpdateID=\"&'PXS Kopieret'!M109&\"&CandidateUpdateCode=\"&'PXS Kopieret'!N109&\"&Locale=en&CustomFormID=11612\",\"Docs\"),\"\")","v":""},{"$f":"'PXS Kopieret'!A109","v":0},{"$f":"'PXS Kopieret'!B109","v":0},{"$f":"'PXS Kopieret'!C109","v":0},{"$f":"'PXS Kopieret'!D109","v":0},{"$f":"IF($A109<>\"PhD Student\",'PXS Kopieret'!E109,\"\")","v":0},{"$f":"IF($A109=\"PhD Student\",'PXS Kopieret'!F109,\"\")","v":""},{"$f":"'PXS Kopieret'!G109","v":0},{"$f":"'PXS Kopieret'!H109","v":0},{"$f":"IF($A109=\"PhD Student\",'PXS Kopieret'!I109,\"\")","v":""},{"$f":"'PXS Kopieret'!J109","v":0},{"$f":"'PXS Kopieret'!K109","v":0},{"$f":"'PXS Kopieret'!L109","v":0}]
["",{"$f":"IF('PXS Kopieret'!N110<>\"\",HYPERLINK(\"https://ssl1.peoplexs.com/Peoplexs22/eFormportal/eForm.cfm?CandidateUpdateID=\"&'PXS Kopieret'!M110&\"&CandidateUpdateCode=\"&'PXS Kopieret'!N110&\"&Locale=en&CustomFormID=11612\",\"Docs\"),\"\")","v":""},{"$f":"'PXS Kopieret'!A110","v":0},{"$f":"'PXS Kopieret'!B110","v":0},{"$f":"'PXS Kopieret'!C110","v":0},{"$f":"'PXS Kopieret'!D110","v":0},{"$f":"IF($A110<>\"PhD Student\",'PXS Kopieret'!E110,\"\")","v":0},{"$f":"IF($A110=\"PhD Student\",'PXS Kopieret'!F110,\"\")","v":""},{"$f":"'PXS Kopieret'!G110","v":0},{"$f":"'PXS Kopieret'!H110","v":0},{"$f":"IF($A110=\"PhD Student\",'PXS Kopieret'!I110,\"\")","v":""},{"$f":"'PXS Kopieret'!J110","v":0},{"$f":"'PXS Kopieret'!K110","v":0},{"$f":"'PXS Kopieret'!L110","v":0}]
["",{"$f":"IF('PXS Kopieret'!N111<>\"\",HYPERLINK(\"https://ssl1.peoplexs.com/Peoplexs22/eFormportal/eForm.cfm?CandidateUpdateID=\"&'PXS Kopieret'!M111&\"&CandidateUpdateCode=\"&'PXS Kopieret'!N111&\"&Locale=en&CustomFormID=11612\",\"Docs\"),\"\")","v":""},{"$f":"'PXS Kopieret'!A111","v":0},{"$f":"'PXS Kopieret'!B111","v":0},{"$f":"'PXS Kopieret'!C111","v":0},{"$f":"'PXS Kopieret'!D111","v":0},{"$f":"IF($A111<>\"PhD Student\",'PXS Kopieret'!E111,\"\")","v":0},{"$f":"IF($A111=\"PhD Student\",'PXS Kopieret'!F111,\"\")","v":""},{"$f":"'PXS Kopieret'!G111","v":0},{"$f":"'PXS Kopieret'!H111","v":0},{"$f":"IF($A111=\"PhD Student\",'PXS Kopieret'!I111,\"\")","v":""},{"$f":"'PXS Kopieret'!J111","v":0},{"$f":"'PXS Kopieret'!K111","v":0},{"$f":"'PXS Kopieret'!L111","v":0}]
["",{"$f":"IF('PXS Kopieret'!N112<>\"\",HYPERLINK(\"https://ssl1.peoplexs.com/Peoplexs22/eFormportal/eForm.cfm?CandidateUpdateID=\"&'PXS Kopieret'!M112&\"&CandidateUpdateCode=\"&'PXS Kopieret'!N112&\"&Locale=en&CustomFormID=11612\",\"Docs\"),\"\")","v":""},{"$f":"'PXS Kopieret'!A112","v":0},{"$f":"'PXS Kopieret'!B112","v":0},{"$f":"'PXS Kopieret'!C112","v":0},{"$f":"'PXS Kopieret'!D112","v":0},{"$f":"IF($A112<>\"PhD Student\",'PXS Kopieret'!E112,\"\")","v":0},{"$f":"IF($A112=\"PhD Student\",'PXS Kopieret'!F112,\"\")","v":""},{"$f":"'PXS Kopieret'!G112","v":0},{"$f":"'PXS Kopieret'!H112","v":0},{"$f":"IF($A112=\"PhD Student\",'PXS Kopieret'!I112,\"\")","v":""},{"$f":"'PXS Kopieret'!J112","v":0},{"$f":"'PXS Kopieret'!K112","v":0},{"$f":"'PXS Kopieret'!L112","v":0}]
["",{"$f":"IF('PXS Kopieret'!N113<>\"\",HYPERLINK(\"https://ssl1.peoplexs.com/Peoplexs22/eFormportal/eForm.cfm?CandidateUpdateID=\"&'PXS Kopieret'!M113&\"&CandidateUpdateCode=\"&'PXS Kopieret'!N113&\"&Locale=en&CustomFormID=11612\",\"Docs\"),\"\")","v":""},{"$f":"'PXS Kopieret'!A113","v":0},{"$f":"'PXS Kopieret'!B113","v":0},{"$f":"'PXS Kopieret'!C113","v":0},{"$f":"'PXS Kopieret'!D113","v":0},{"$f":"IF($A113<>\"PhD Student\",'PXS Kopieret'!E113,\"\")","v":0},{"$f":"IF($A113=\"PhD Student\",'PXS Kopieret'!F113,\"\")","v":""},{"$f":"'PXS Kopieret'!G113","v":0},{"$f":"'PXS Kopieret'!H113","v":0},{"$f":"IF($A113=\"PhD Student\",'PXS Kopieret'!I113,\"\")","v":""},{"$f":"'PXS Kopieret'!J113","v":0},{"$f":"'PXS Kopieret'!K113","v":0},{"$f":"'PXS Kopieret'!L113","v":0}]
["",{"$f":"IF('PXS Kopieret'!N114<>\"\",HYPERLINK(\"https://ssl1.peoplexs.com/Peoplexs22/eFormportal/eForm.cfm?CandidateUpdateID=\"&'PXS Kopieret'!M114&\"&CandidateUpdateCode=\"&'PXS Kopieret'!N114&\"&Locale=en&CustomFormID=11612\",\"Docs\"),\"\")","v":""},{"$f":"'PXS Kopieret'!A114","v":0},{"$f":"'PXS Kopieret'!B114","v":0},{"$f":"'PXS Kopieret'!C114","v":0},{"$f":"'PXS Kopieret'!D114","v":0},{"$f":"IF($A114<>\"PhD Student\",'PXS Kopieret'!E114,\"\")","v":0},{"$f":"IF($A114=\"PhD Student\",'PXS Kopieret'!F114,\"\")","v":""},{"$f":"'PXS Kopieret'!G114","v":0},{"$f":"'PXS Kopieret'!H114","v":0},{"$f":"IF($A114=\"PhD Student\",'PXS Kopieret'!I114,\"\")","v":""},{"$f":"'PXS Kopieret'!J114","v":0},{"$f":"'PXS Kopieret'!K114","v":0},{"$f":"'PXS Kopieret'!L114","v":0}]
["",{"$f":"IF('PXS Kopieret'!N115<>\"\",HYPERLINK(\"https://ssl1.peoplexs.com/Peoplexs22/eFormportal/eForm.cfm?CandidateUpdateID=\"&'PXS Kopieret'!M115&\"&CandidateUpdateCode=\"&'PXS Kopieret'!N115&\"&Locale=en&CustomFormID=11612\",\"Docs\"),\"\")","v":""},{"$f":"'PXS Kopieret'!A115","v":0},{"$f":"'PXS Kopieret'!B115","v":0},{"$f":"'PXS Kopieret'!C115","v":0},{"$f":"'PXS Kopieret'!D115","v":0},{"$f":"IF($A115<>\"PhD Student\",'PXS Kopieret'!E115,\"\")","v":0},{"$f":"IF($A115=\"PhD Student\",'PXS Kopieret'!F115,\"\")","v":""},{"$f":"'PXS Kopieret'!G115","v":0},{"$f":"'PXS Kopieret'!H115","v":0},{"$f":"IF($A115=\"PhD Student\",'PXS Kopieret'!I115,\"\")","v":""},{"$f":"'PXS Kopieret'!J115","v":0},{"$f":"'PXS Kopieret'!K115","v":0},{"$f":"'PXS Kopieret'!L115","v":0}]
["",{"$f":"IF('PXS Kopieret'!N116<>\"\",HYPERLINK(\"https://ssl1.peoplexs.com/Peoplexs22/eFormportal/eForm.cfm?CandidateUpdateID=\"&'PXS Kopieret'!M116&\"&CandidateUpdateCode=\"&'PXS Kopieret'!N116&\"&Locale=en&CustomFormID=11612\",\"Docs\"),\"\")","v":""},{"$f":"'PXS Kopieret'!A116","v":0},{"$f":"'PXS Kopieret'!B116","v":0},{"$f":"'PXS Kopieret'!C116","v":0},{"$f":"'PXS Kopieret'!D116","v":0},{"$f":"IF($A116<>\"PhD Student\",'PXS Kopieret'!E116,\"\")","v":0},{"$f":"IF($A116=\"PhD Student\",'PXS Kopieret'!F116,\"\")","v":""},{"$f":"'PXS Kopieret'!G116","v":0},{"$f":"'PXS Kopieret'!H116","v":0},{"$f":"IF($A116=\"PhD Student\",'PXS Kopieret'!I116,\"\")","v":""},{"$f":"'PXS Kopieret'!J116","v":0},{"$f":"'PXS Kopieret'!K116","v":0},{"$f":"'PXS Kopieret'!L116","v":0}]
["",{"$f":"IF('PXS Kopieret'!N117<>\"\",HYPERLINK(\"https://ssl1.peoplexs.com/Peoplexs22/eFormportal/eForm.cfm?CandidateUpdateID=\"&'PXS Kopieret'!M117&\"&CandidateUpdateCode=\"&'PXS Kopieret'!N117&\"&Locale=en&CustomFormID=11612\",\"Docs\"),\"\")","v":""},{"$f":"'PXS Kopieret'!A117","v":0},{"$f":"'PXS Kopieret'!B117","v":0},{"$f":"'PXS Kopieret'!C117","v":0},{"$f":"'PXS Kopieret'!D117","v":0},{"$f":"IF($A117<>\"PhD Student\",'PXS Kopieret'!E117,\"\")","v":0},{"$f":"IF($A117=\"PhD Student\",'PXS Kopieret'!F117,\"\")","v":""},{"$f":"'PXS Kopieret'!G117","v":0},{"$f":"'PXS Kopieret'!H117","v":0},{"$f":"IF($A117=\"PhD Student\",'PXS Kopieret'!I117,\"\")","v":""},{"$f":"'PXS Kopieret'!J117","v":0},{"$f":"'PXS Kopieret'!K117","v":0},{"$f":"'PXS Kopieret'!L117","v":0}]
["",{"$f":"IF('PXS Kopieret'!N118<>\"\",HYPERLINK(\"https://ssl1.peoplexs.com/Peoplexs22/eFormportal/eForm.cfm?CandidateUpdateID=\"&'PXS Kopieret'!M118&\"&CandidateUpdateCode=\"&'PXS Kopieret'!N118&\"&Locale=en&CustomFormID=11612\",\"Docs\"),\"\")","v":""},{"$f":"'PXS Kopieret'!A118","v":0},{"$f":"'PXS Kopieret'!B118","v":0},{"$f":"'PXS Kopieret'!C118","v":0},{"$f":"'PXS Kopieret'!D118","v":0},{"$f":"IF($A118<>\"PhD Student\",'PXS Kopieret'!E118,\"\")","v":0},{"$f":"IF($A118=\"PhD Student\",'PXS Kopieret'!F118,\"\")","v":""},{"$f":"'PXS Kopieret'!G118","v":0},{"$f":"'PXS Kopieret'!H118","v":0},{"$f":"IF($A118=\"PhD Student\",'PXS Kopieret'!I118,\"\")","v":""},{"$f":"'PXS Kopieret'!J118","v":0},{"$f":"'PXS Kopieret'!K118","v":0},{"$f":"'PXS Kopieret'!L118","v":0}]
["",{"$f":"IF('PXS Kopieret'!N119<>\"\",HYPERLINK(\"https://ssl1.peoplexs.com/Peoplexs22/eFormportal/eForm.cfm?CandidateUpdateID=\"&'PXS Kopieret'!M119&\"&CandidateUpdateCode=\"&'PXS Kopieret'!N119&\"&Locale=en&CustomFormID=11612\",\"Docs\"),\"\")","v":""},{"$f":"'PXS Kopieret'!A119","v":0},{"$f":"'PXS Kopieret'!B119","v":0},{"$f":"'PXS Kopieret'!C119","v":0},{"$f":"'PXS Kopieret'!D119","v":0},{"$f":"IF($A119<>\"PhD Student\",'PXS Kopieret'!E119,\"\")","v":0},{"$f":"IF($A119=\"PhD Student\",'PXS Kopieret'!F119,\"\")","v":""},{"$f":"'PXS Kopieret'!G119","v":0},{"$f":"'PXS Kopieret'!H119","v":0},{"$f":"IF($A119=\"PhD Student\",'PXS Kopieret'!I119,\"\")","v":""},{"$f":"'PXS Kopieret'!J119","v":0},{"$f":"'PXS Kopieret'!K119","v":0},{"$f":"'PXS Kopieret'!L119","v":0}]
["",{"$f":"IF('PXS Kopieret'!N120<>\"\",HYPERLINK(\"https://ssl1.peoplexs.com/Peoplexs22/eFormportal/eForm.cfm?CandidateUpdateID=\"&'PXS Kopieret'!M120&\"&CandidateUpdateCode=\"&'PXS Kopieret'!N120&\"&Locale=en&CustomFormID=11612\",\"Docs\"),\"\")","v":""},{"$f":"'PXS Kopieret'!A120","v":0},{"$f":"'PXS Kopieret'!B120","v":0},{"$f":"'PXS Kopieret'!C120","v":0},{"$f":"'PXS Kopieret'!D120","v":0},{"$f":"IF($A120<>\"PhD Student\",'PXS Kopieret'!E120,\"\")","v":0},{"$f":"IF($A120=\"PhD Student\",'PXS Kopieret'!F120,\"\")","v":""},{"$f":"'PXS Kopieret'!G120","v":0},{"$f":"'PXS Kopieret'!H120","v":0},{"$f":"IF($A120=\"PhD Student\",'PXS Kopieret'!I120,\"\")","v":""},{"$f":"'PXS Kopieret'!J120","v":0},{"$f":"'PXS Kopieret'!K120","v":0},{"$f":"'PXS Kopieret'!L120","v":0}]
["",{"$f":"IF('PXS Kopieret'!N121<>\"\",HYPERLINK(\"https://ssl1.peoplexs.com/Peoplexs22/eFormportal/eForm.cfm?CandidateUpdateID=\"&'PXS Kopieret'!M121&\"&CandidateUpdateCode=\"&'PXS Kopieret'!N121&\"&Locale=en&CustomFormID=11612\",\"Docs\"),\"\")","v":""},{"$f":"'PXS Kopieret'!A121","v":0},{"$f":"'PXS Kopieret'!B121","v":0},{"$f":"'PXS Kopieret'!C121","v":0},{"$f":"'PXS Kopieret'!D121","v":0},{"$f":"IF($A121<>\"PhD Student\",'PXS Kopieret'!E121,\"\")","v":0},{"$f":"IF($A121=\"PhD Student\",'PXS Kopieret'!F121,\"\")","v":""},{"$f":"'PXS Kopieret'!G121","v":0},{"$f":"'PXS Kopieret'!H121","v":0},{"$f":"IF($A121=\"PhD Student\",'PXS Kopieret'!I121,\"\")","v":""},{"$f":"'PXS Kopieret'!J121","v":0},{"$f":"'PXS Kopieret'!K121","v":0},{"$f":"'PXS Kopieret'!L121","v":0}]
["",{"$f":"IF('PXS Kopieret'!N122<>\"\",HYPERLINK(\"https://ssl1.peoplexs.com/Peoplexs22/eFormportal/eForm.cfm?CandidateUpdateID=\"&'PXS Kopieret'!M122&\"&CandidateUpdateCode=\"&'PXS Kopieret'!N122&\"&Locale=en&CustomFormID=11612\",\"Docs\"),\"\")","v":""},{"$f":"'PXS Kopieret'!A122","v":0},{"$f":"'PXS Kopieret'!B122","v":0},{"$f":"'PXS Kopieret'!C122","v":0},{"$f":"'PXS Kopieret'!D122","v":0},{"$f":"IF($A122<>\"PhD Student\",'PXS Kopieret'!E122,\"\")","v":0},{"$f":"IF($A122=\"PhD Student\",'PXS Kopieret'!F122,\"\")","v":""},{"$f":"'PXS Kopieret'!G122","v":0},{"$f":"'PXS Kopieret'!H122","v":0},{"$f":"IF($A122=\"PhD Student\",'PXS Kopieret'!I122,\"\")","v":""},{"$f":"'PXS Kopieret'!J122","v":0},{"$f":"'PXS Kopieret'!K122","v":0},{"$f":"'PXS Kopieret'!L122","v":0}]
["",{"$f":"IF('PXS Kopieret'!N123<>\"\",HYPERLINK(\"https://ssl1.peoplexs.com/Peoplexs22/eFormportal/eForm.cfm?CandidateUpdateID=\"&'PXS Kopieret'!M123&\"&CandidateUpdateCode=\"&'PXS Kopieret'!N123&\"&Locale=en&CustomFormID=11612\",\"Docs\"),\"\")","v":""},{"$f":"'PXS Kopieret'!A123","v":0},{"$f":"'PXS Kopieret'!B123","v":0},{"$f":"'PXS Kopieret'!C123","v":0},{"$f":"'PXS Kopieret'!D123","v":0},{"$f":"IF($A123<>\"PhD Student\",'PXS Kopieret'!E123,\"\")","v":0},{"$f":"IF($A123=\"PhD Student\",'PXS Kopieret'!F123,\"\")","v":""},{"$f":"'PXS Kopieret'!G123","v":0},{"$f":"'PXS Kopieret'!H123","v":0},{"$f":"IF($A123=\"PhD Student\",'PXS Kopieret'!I123,\"\")","v":""},{"$f":"'PXS Kopieret'!J123","v":0},{"$f":"'PXS Kopieret'!K123","v":0},{"$f":"'PXS Kopieret'!L123","v":0}]
["",{"$f":"IF('PXS Kopieret'!N124<>\"\",HYPERLINK(\"https://ssl1.peoplexs.com/Peoplexs22/eFormportal/eForm.cfm?CandidateUpdateID=\"&'PXS Kopieret'!M124&\"&CandidateUpdateCode=\"&'PXS Kopieret'!N124&\"&Locale=en&CustomFormID=11612\",\"Docs\"),\"\")","v":""},{"$f":"'PXS Kopieret'!A124","v":0},{"$f":"'PXS Kopieret'!B124","v":0},{"$f":"'PXS Kopieret'!C124","v":0},{"$f":"'PXS Kopieret'!D124","v":0},{"$f":"IF($A124<>\"PhD Student\",'PXS Kopieret'!E124,\"\")","v":0},{"$f":"IF($A124=\"PhD Student\",'PXS Kopieret'!F124,\"\")","v":""},{"$f":"'PXS Kopieret'!G124","v":0},{"$f":"'PXS Kopieret'!H124","v":0},{"$f":"IF($A124=\"PhD Student\",'PXS Kopieret'!I124,\"\")","v":""},{"$f":"'PXS Kopieret'!J124","v":0},{"$f":"'PXS Kopieret'!K124","v":0},{"$f":"'PXS Kopieret'!L124","v":0}]
["",{"$f":"IF('PXS Kopieret'!N125<>\"\",HYPERLINK(\"https://ssl1.peoplexs.com/Peoplexs22/eFormportal/eForm.cfm?CandidateUpdateID=\"&'PXS Kopieret'!M125&\"&CandidateUpdateCode=\"&'PXS Kopieret'!N125&\"&Locale=en&CustomFormID=11612\",\"Docs\"),\"\")","v":""},{"$f":"'PXS Kopieret'!A125","v":0},{"$f":"'PXS Kopieret'!B125","v":0},{"$f":"'PXS Kopieret'!C125","v":0},{"$f":"'PXS Kopieret'!D125","v":0},{"$f":"IF($A125<>\"PhD Student\",'PXS Kopieret'!E125,\"\")","v":0},{"$f":"IF($A125=\"PhD Student\",'PXS Kopieret'!F125,\"\")","v":""},{"$f":"'PXS Kopieret'!G125","v":0},{"$f":"'PXS Kopieret'!H125","v":0},{"$f":"IF($A125=\"PhD Student\",'PXS Kopieret'!I125,\"\")","v":""},{"$f":"'PXS Kopieret'!J125","v":0},{"$f":"'PXS Kopieret'!K125","v":0},{"$f":"'PXS Kopieret'!L125","v":0}]
["",{"$f":"IF('PXS Kopieret'!N126<>\"\",HYPERLINK(\"https://ssl1.peoplexs.com/Peoplexs22/eFormportal/eForm.cfm?CandidateUpdateID=\"&'PXS Kopieret'!M126&\"&CandidateUpdateCode=\"&'PXS Kopieret'!N126&\"&Locale=en&CustomFormID=11612\",\"Docs\"),\"\")","v":""},{"$f":"'PXS Kopieret'!A126","v":0},{"$f":"'PXS Kopieret'!B126","v":0},{"$f":"'PXS Kopieret'!C126","v":0},{"$f":"'PXS Kopieret'!D126","v":0},{"$f":"IF($A126<>\"PhD Student\",'PXS Kopieret'!E126,\"\")","v":0},{"$f":"IF($A126=\"PhD Student\",'PXS Kopieret'!F126,\"\")","v":""},{"$f":"'PXS Kopieret'!G126","v":0},{"$f":"'PXS Kopieret'!H126","v":0},{"$f":"IF($A126=\"PhD Student\",'PXS Kopieret'!I126,\"\")","v":""},{"$f":"'PXS Kopieret'!J126","v":0},{"$f":"'PXS Kopieret'!K126","v":0},{"$f":"'PXS Kopieret'!L126","v":0}]
["",{"$f":"IF('PXS Kopieret'!N127<>\"\",HYPERLINK(\"https://ssl1.peoplexs.com/Peoplexs22/eFormportal/eForm.cfm?CandidateUpdateID=\"&'PXS Kopieret'!M127&\"&CandidateUpdateCode=\"&'PXS Kopieret'!N127&\"&Locale=en&CustomFormID=11612\",\"Docs\"),\"\")","v":""},{"$f":"'PXS Kopieret'!A127","v":0},{"$f":"'PXS Kopieret'!B127","v":0},{"$f":"'PXS Kopieret'!C127","v":0},{"$f":"'PXS Kopieret'!D127","v":0},{"$f":"IF($A127<>\"PhD Student\",'PXS Kopieret'!E127,\"\")","v":0},{"$f":"IF($A127=\"PhD Student\",'PXS Kopieret'!F127,\"\")","v":""},{"$f":"'PXS Kopieret'!G127","v":0},{"$f":"'PXS Kopieret'!H127","v":0},{"$f":"IF($A127=\"PhD Student\",'PXS Kopieret'!I127,\"\")","v":""},{"$f":"'PXS Kopieret'!J127","v":0},{"$f":"'PXS Kopieret'!K127","v":0},{"$f":"'PXS Kopieret'!L127","v":0}]
["",{"$f":"IF('PXS Kopieret'!N128<>\"\",HYPERLINK(\"https://ssl1.peoplexs.com/Peoplexs22/eFormportal/eForm.cfm?CandidateUpdateID=\"&'PXS Kopieret'!M128&\"&CandidateUpdateCode=\"&'PXS Kopieret'!N128&\"&Locale=en&CustomFormID=11612\",\"Docs\"),\"\")","v":""},{"$f":"'PXS Kopieret'!A128","v":0},{"$f":"'PXS Kopieret'!B128","v":0},{"$f":"'PXS Kopieret'!C128","v":0},{"$f":"'PXS Kopieret'!D128","v":0},{"$f":"IF($A128<>\"PhD Student\",'PXS Kopieret'!E128,\"\")","v":0},{"$f":"IF($A128=\"PhD Student\",'PXS Kopieret'!F128,\"\")","v":""},{"$f":"'PXS Kopieret'!G128","v":0},{"$f":"'PXS Kopieret'!H128","v":0},{"$f":"IF($A128=\"PhD Student\",'PXS Kopieret'!I128,\"\")","v":""},{"$f":"'PXS Kopieret'!J128","v":0},{"$f":"'PXS Kopieret'!K128","v":0},{"$f":"'PXS Kopieret'!L128","v":0}]
["",{"$f":"IF('PXS Kopieret'!N129<>\"\",HYPERLINK(\"https://ssl1.peoplexs.com/Peoplexs22/eFormportal/eForm.cfm?CandidateUpdateID=\"&'PXS Kopieret'!M129&\"&CandidateUpdateCode=\"&'PXS Kopieret'!N129&\"&Locale=en&CustomFormID=11612\",\"Docs\"),\"\")","v":""},{"$f":"'PXS Kopieret'!A129","v":0},{"$f":"'PXS Kopieret'!B129","v":0},{"$f":"'PXS Kopieret'!C129","v":0},{"$f":"'PXS Kopieret'!D129","v":0},{"$f":"IF($A129<>\"PhD Student\",'PXS Kopieret'!E129,\"\")","v":0},{"$f":"IF($A129=\"PhD Student\",'PXS Kopieret'!F129,\"\")","v":""},{"$f":"'PXS Kopieret'!G129","v":0},{"$f":"'PXS Kopieret'!H129","v":0},{"$f":"IF($A129=\"PhD Student\",'PXS Kopieret'!I129,\"\")","v":""},{"$f":"'PXS Kopieret'!J129","v":0},{"$f":"'PXS Kopieret'!K129","v":0},{"$f":"'PXS Kopieret'!L129","v":0}]
["",{"$f":"IF('PXS Kopieret'!N130<>\"\",HYPERLINK(\"https://ssl1.peoplexs.com/Peoplexs22/eFormportal/eForm.cfm?CandidateUpdateID=\"&'PXS Kopieret'!M130&\"&CandidateUpdateCode=\"&'PXS Kopieret'!N130&\"&Locale=en&CustomFormID=11612\",\"Docs\"),\"\")","v":""},{"$f":"'PXS Kopieret'!A130","v":0},{"$f":"'PXS Kopieret'!B130","v":0},{"$f":"'PXS Kopieret'!C130","v":0},{"$f":"'PXS Kopieret'!D130","v":0},{"$f":"IF($A130<>\"PhD Student\",'PXS Kopieret'!E130,\"\")","v":0},{"$f":"IF($A130=\"PhD Student\",'PXS Kopieret'!F130,\"\")","v":""},{"$f":"'PXS Kopieret'!G130","v":0},{"$f":"'PXS Kopieret'!H130","v":0},{"$f":"IF($A130=\"PhD Student\",'PXS Kopieret'!I130,\"\")","v":""},{"$f":"'PXS Kopieret'!J130","v":0},{"$f":"'PXS Kopieret'!K130","v":0},{"$f":"'PXS Kopieret'!L130","v":0}]
[{"$f":"IF(LEFT(C131,2)=\"RY\", \"Research Year Student\", IF(C131=0,\"\",\"PhD Student\"))","v":""},{"$f":"IF('PXS Kopieret'!N131<>\"\",HYPERLINK(\"https://ssl1.peoplexs.com/Peoplexs22/eFormportal/eForm.cfm?CandidateUpdateID=\"&'PXS Kopieret'!M131&\"&CandidateUpdateCode=\"&'PXS Kopieret'!N131&\"&Locale=en&CustomFormID=11612\",\"Docs\"),\"\")","v":""},{"$f":"'PXS Kopieret'!A131","v":0},{"$f":"'PXS Kopieret'!B131","v":0},{"$f":"'PXS Kopieret'!C131","v":0},{"$f":"'PXS Kopieret'!D131","v":0},{"$f":"IF($A131<>\"PhD Student\",'PXS Kopieret'!E131,\"\")","v":0},{"$f":"IF($A131=\"PhD Student\",'PXS Kopieret'!F131,\"\")","v":""},{"$f":"'PXS Kopieret'!G131","v":0},{"$f":"'PXS Kopieret'!H131","v":0},{"$f":"IF($A131=\"PhD Student\",'PXS Kopieret'!I131,\"\")","v":""},{"$f":"'PXS Kopieret'!J131","v":0},{"$f":"'PXS Kopieret'!K131","v":0},{"$f":"'PXS Kopieret'!L131","v":0}]
["",{"$f":"IF('PXS Kopieret'!N132<>\"\",HYPERLINK(\"https://ssl1.peoplexs.com/Peoplexs22/eFormportal/eForm.cfm?CandidateUpdateID=\"&'PXS Kopieret'!M132&\"&CandidateUpdateCode=\"&'PXS Kopieret'!N132&\"&Locale=en&CustomFormID=11612\",\"Docs\"),\"\")","v":""},{"$f":"'PXS Kopieret'!A132","v":0},{"$f":"'PXS Kopieret'!B132","v":0},{"$f":"'PXS Kopieret'!C132","v":0},{"$f":"'PXS Kopieret'!D132","v":0},{"$f":"IF($A132<>\"PhD Student\",'PXS Kopieret'!E132,\"\")","v":0},{"$f":"IF($A132=\"PhD Student\",'PXS Kopieret'!F132,\"\")","v":""},{"$f":"'PXS Kopieret'!G132","v":0},{"$f":"'PXS Kopieret'!H132","v":0},{"$f":"IF($A132=\"PhD Student\",'PXS Kopieret'!I132,\"\")","v":""},{"$f":"'PXS Kopieret'!J132","v":0},{"$f":"'PXS Kopieret'!K132","v":0},{"$f":"'PXS Kopieret'!L132","v":0}]
["",{"$f":"IF('PXS Kopieret'!N133<>\"\",HYPERLINK(\"https://ssl1.peoplexs.com/Peoplexs22/eFormportal/eForm.cfm?CandidateUpdateID=\"&'PXS Kopieret'!M133&\"&CandidateUpdateCode=\"&'PXS Kopieret'!N133&\"&Locale=en&CustomFormID=11612\",\"Docs\"),\"\")","v":""},{"$f":"'PXS Kopieret'!A133","v":0},{"$f":"'PXS Kopieret'!B133","v":0},{"$f":"'PXS Kopieret'!C133","v":0},{"$f":"'PXS Kopieret'!D133","v":0},{"$f":"IF($A133<>\"PhD Student\",'PXS Kopieret'!E133,\"\")","v":0},{"$f":"IF($A133=\"PhD Student\",'PXS Kopieret'!F133,\"\")","v":""},{"$f":"'PXS Kopieret'!G133","v":0},{"$f":"'PXS Kopieret'!H133","v":0},{"$f":"IF($A133=\"PhD Student\",'PXS Kopieret'!I133,\"\")","v":""},{"$f":"'PXS Kopieret'!J133","v":0},{"$f":"'PXS Kopieret'!K133","v":0},{"$f":"'PXS Kopieret'!L133","v":0}]
["",{"$f":"IF('PXS Kopieret'!N134<>\"\",HYPERLINK(\"https://ssl1.peoplexs.com/Peoplexs22/eFormportal/eForm.cfm?CandidateUpdateID=\"&'PXS Kopieret'!M134&\"&CandidateUpdateCode=\"&'PXS Kopieret'!N134&\"&Locale=en&CustomFormID=11612\",\"Docs\"),\"\")","v":""},{"$f":"'PXS Kopieret'!A134","v":0},{"$f":"'PXS Kopieret'!B134","v":0},{"$f":"'PXS Kopieret'!C134","v":0},{"$f":"'PXS Kopieret'!D134","v":0},{"$f":"IF($A134<>\"PhD Student\",'PXS Kopieret'!E134,\"\")","v":0},{"$f":"IF($A134=\"PhD Student\",'PXS Kopieret'!F134,\"\")","v":""},{"$f":"'PXS Kopieret'!G134","v":0},{"$f":"'PXS Kopieret'!H134","v":0},{"$f":"IF($A134=\"PhD Student\",'PXS Kopieret'!I134,\"\")","v":""},{"$f":"'PXS Kopieret'!J134","v":0},{"$f":"'PXS Kopieret'!K134","v":0},{"$f":"'PXS Kopieret'!L134","v":0}]
["",{"$f":"IF('PXS Kopieret'!N135<>\"\",HYPERLINK(\"https://ssl1.peoplexs.com/Peoplexs22/eFormportal/eForm.cfm?CandidateUpdateID=\"&'PXS Kopieret'!M135&\"&CandidateUpdateCode=\"&'PXS Kopieret'!N135&\"&Locale=en&CustomFormID=11612\",\"Docs\"),\"\")","v":""},{"$f":"'PXS Kopieret'!A135","v":0},{"$f":"'PXS Kopieret'!B135","v":0},{"$f":"'PXS Kopieret'!C135","v":0},{"$f":"'PXS Kopieret'!D135","v":0},{"$f":"IF($A135<>\"PhD Student\",'PXS Kopieret'!E135,\"\")","v":0},{"$f":"IF($A135=\"PhD Student\",'PXS Kopieret'!F135,\"\")","v":""},{"$f":"'PXS Kopieret'!G135","v":0},{"$f":"'PXS Kopieret'!H135","v":0},{"$f":"IF($A135=\"PhD Student\",'PXS Kopieret'!I135,\"\")","v":""},{"$f":"'PXS Kopieret'!J135","v":0},{"$f":"'PXS Kopieret'!K135","v":0},{"$f":"'PXS Kopieret'!L135","v":0}]
["",{"$f":"IF('PXS Kopieret'!N136<>\"\",HYPERLINK(\"https://ssl1.peoplexs.com/Peoplexs22/eFormportal/eForm.cfm?CandidateUpdateID=\"&'PXS Kopieret'!M136&\"&CandidateUpdateCode=\"&'PXS Kopieret'!N136&\"&Locale=en&CustomFormID=11612\",\"Docs\"),\"\")","v":""},{"$f":"'PXS Kopieret'!A136","v":0},{"$f":"'PXS Kopieret'!B136","v":0},{"$f":"'PXS Kopieret'!C136","v":0},{"$f":"'PXS Kopieret'!D136","v":0},{"$f":"IF($A136<>\"PhD Student\",'PXS Kopieret'!E136,\"\")","v":0},{"$f":"IF($A136=\"PhD Student\",'PXS Kopieret'!F136,\"\")","v":""},{"$f":"'PXS Kopieret'!G136","v":0},{"$f":"'PXS Kopieret'!H136","v":0},{"$f":"IF($A136=\"PhD Student\",'PXS Kopieret'!I136,\"\")","v":""},{"$f":"'PXS Kopieret'!J136","v":0},{"$f":"'PXS Kopieret'!K136","v":0},{"$f":"'PXS Kopieret'!L136","v":0}]
["",{"$f":"IF('PXS Kopieret'!N137<>\"\",HYPERLINK(\"https://ssl1.peoplexs.com/Peoplexs22/eFormportal/eForm.cfm?CandidateUpdateID=\"&'PXS Kopieret'!M137&\"&CandidateUpdateCode=\"&'PXS Kopieret'!N137&\"&Locale=en&CustomFormID=11612\",\"Docs\"),\"\")","v":""},{"$f":"'PXS Kopieret'!A137","v":0},{"$f":"'PXS Kopieret'!B137","v":0},{"$f":"'PXS Kopieret'!C137","v":0},{"$f":"'PXS Kopieret'!D137","v":0},{"$f":"IF($A137<>\"PhD Student\",'PXS Kopieret'!E137,\"\")","v":0},{"$f":"IF($A137=\"PhD Student\",'PXS Kopieret'!F137,\"\")","v":""},{"$f":"'PXS Kopieret'!G137","v":0},{"$f":"'PXS Kopieret'!H137","v":0},{"$f":"IF($A137=\"PhD Student\",'PXS Kopieret'!I137,\"\")","v":""},{"$f":"'PXS Kopieret'!J137","v":0},{"$f":"'PXS Kopieret'!K137","v":0},{"$f":"'PXS Kopieret'!L137","v":0}]
["",{"$f":"IF('PXS Kopieret'!N138<>\"\",HYPERLINK(\"https://ssl1.peoplexs.com/Peoplexs22/eFormportal/eForm.cfm?CandidateUpdateID=\"&'PXS Kopieret'!M138&\"&CandidateUpdateCode=\"&'PXS Kopieret'!N138&\"&Locale=en&CustomFormID=11612\",\"Docs\"),\"\")","v":""},{"$f":"'PXS Kopieret'!A138","v":0},{"$f":"'PXS Kopieret'!B138","v":0},{"$f":"'PXS Kopieret'!C138","v":0},{"$f":"'PXS Kopieret'!D138","v":0},{"$f":"IF($A138<>\"PhD Student\",'PXS Kopieret'!E138,\"\")","v":0},{"$f":"IF($A138=\"PhD Student\",'PXS Kopieret'!F138,\"\")","v":""},{"$f":"'PXS Kopieret'!G138","v":0},{"$f":"'PXS Kopieret'!H138","v":0},{"$f":"IF($A138=\"PhD Student\",'PXS Kopieret'!I138,\"\")","v":""},{"$f":"'PXS Kopieret'!J138","v":0},{"$f":"'PXS Kopieret'!K138","v":0},{"$f":"'PXS Kopieret'!L138","v":0}]
["",{"$f":"IF('PXS Kopieret'!N139<>\"\",HYPERLINK(\"https://ssl1.peoplexs.com/Peoplexs22/eFormportal/eForm.cfm?CandidateUpdateID=\"&'PXS Kopieret'!M139&\"&CandidateUpdateCode=\"&'PXS Kopieret'!N139&\"&Locale=en&CustomFormID=11612\",\"Docs\"),\"\")","v":""},{"$f":"'PXS Kopieret'!A139","v":0},{"$f":"'PXS Kopieret'!B139","v":0},{"$f":"'PXS Kopieret'!C139","v":0},{"$f":"'PXS Kopieret'!D139","v":0},{"$f":"IF($A139<>\"PhD Student\",'PXS Kopieret'!E139,\"\")","v":0},{"$f":"IF($A139=\"PhD Student\",'PXS Kopieret'!F139,\"\")","v":""},{"$f":"'PXS Kopieret'!G139","v":0},{"$f":"'PXS Kopieret'!H139","v":0},{"$f":"IF($A139=\"PhD Student\",'PXS Kopieret'!I139,\"\")","v":""},{"$f":"'PXS Kopieret'!J139","v":0},{"$f":"'PXS Kopieret'!K139","v":0},{"$f":"'PXS Kopieret'!L139","v":0}]
["",{"$f":"IF('PXS Kopieret'!N140<>\"\",HYPERLINK(\"https://ssl1.peoplexs.com/Peoplexs22/eFormportal/eForm.cfm?CandidateUpdateID=\"&'PXS Kopieret'!M140&\"&CandidateUpdateCode=\"&'PXS Kopieret'!N140&\"&Locale=en&CustomFormID=11612\",\"Docs\"),\"\")","v":""},{"$f":"'PXS Kopieret'!A140","v":0},{"$f":"'PXS Kopieret'!B140","v":0},{"$f":"'PXS Kopieret'!C140","v":0},{"$f":"'PXS Kopieret'!D140","v":0},{"$f":"IF($A140<>\"PhD Student\",'PXS Kopieret'!E140,\"\")","v":0},{"$f":"IF($A140=\"PhD Student\",'PXS Kopieret'!F140,\"\")","v":""},{"$f":"'PXS Kopieret'!G140","v":0},{"$f":"'PXS Kopieret'!H140","v":0},{"$f":"IF($A140=\"PhD Student\",'PXS Kopieret'!I140,\"\")","v":""},{"$f":"'PXS Kopieret'!J140","v":0},{"$f":"'PXS Kopieret'!K140","v":0},{"$f":"'PXS Kopieret'!L140","v":0}]
["",{"$f":"IF('PXS Kopieret'!N141<>\"\",HYPERLINK(\"https://ssl1.peoplexs.com/Peoplexs22/eFormportal/eForm.cfm?CandidateUpdateID=\"&'PXS Kopieret'!M141&\"&CandidateUpdateCode=\"&'PXS Kopieret'!N141&\"&Locale=en&CustomFormID=11612\",\"Docs\"),\"\")","v":""},{"$f":"'PXS Kopieret'!A141","v":0},{"$f":"'PXS Kopieret'!B141","v":0},{"$f":"'PXS Kopieret'!C141","v":0},{"$f":"'PXS Kopieret'!D141","v":0},{"$f":"IF($A141<>\"PhD Student\",'PXS Kopieret'!E141,\"\")","v":0},{"$f":"IF($A141=\"PhD Student\",'PXS Kopieret'!F141,\"\")","v":""},{"$f":"'PXS Kopieret'!G141","v":0},{"$f":"'PXS Kopieret'!H141","v":0},{"$f":"IF($A141=\"PhD Student\",'PXS Kopieret'!I141,\"\")","v":""},{"$f":"'PXS Kopieret'!J141","v":0},{"$f":"'PXS Kopieret'!K141","v":0},{"$f":"'PXS Kopieret'!L141","v":0}]
["",{"$f":"IF('PXS Kopieret'!N142<>\"\",HYPERLINK(\"https://ssl1.peoplexs.com/Peoplexs22/eFormportal/eForm.cfm?CandidateUpdateID=\"&'PXS Kopieret'!M142&\"&CandidateUpdateCode=\"&'PXS Kopieret'!N142&\"&Locale=en&CustomFormID=11612\",\"Docs\"),\"\")","v":""},{"$f":"'PXS Kopieret'!A142","v":0},{"$f":"'PXS Kopieret'!B142","v":0},{"$f":"'PXS Kopieret'!C142","v":0},{"$f":"'PXS Kopieret'!D142","v":0},{"$f":"IF($A142<>\"PhD Student\",'PXS Kopieret'!E142,\"\")","v":0},{"$f":"IF($A142=\"PhD Student\",'PXS Kopieret'!F142,\"\")","v":""},{"$f":"'PXS Kopieret'!G142","v":0},{"$f":"'PXS Kopieret'!H142","v":0},{"$f":"IF($A142=\"PhD Student\",'PXS Kopieret'!I142,\"\")","v":""},{"$f":"'PXS Kopieret'!J142","v":0},{"$f":"'PXS Kopieret'!K142","v":0},{"$f":"'PXS Kopieret'!L142","v":0}]
["",{"$f":"IF('PXS Kopieret'!N143<>\"\",HYPERLINK(\"https://ssl1.peoplexs.com/Peoplexs22/eFormportal/eForm.cfm?CandidateUpdateID=\"&'PXS Kopieret'!M143&\"&CandidateUpdateCode=\"&'PXS Kopieret'!N143&\"&Locale=en&CustomFormID=11612\",\"Docs\"),\"\")","v":""},{"$f":"'PXS Kopieret'!A143","v":0},{"$f":"'PXS Kopieret'!B143","v":0},{"$f":"'PXS Kopieret'!C143","v":0},{"$f":"'PXS Kopieret'!D143","v":0},{"$f":"IF($A143<>\"PhD Student\",'PXS Kopieret'!E143,\"\")","v":0},{"$f":"IF($A143=\"PhD Student\",'PXS Kopieret'!F143,\"\")","v":""},{"$f":"'PXS Kopieret'!G143","v":0},{"$f":"'PXS Kopieret'!H143","v":0},{"$f":"IF($A143=\"PhD Student\",'PXS Kopieret'!I143,\"\")","v":""},{"$f":"'PXS Kopieret'!J143","v":0},{"$f":"'PXS Kopieret'!K143","v":0},{"$f":"'PXS Kopieret'!L143","v":0}]
["",{"$f":"IF('PXS Kopieret'!N144<>\"\",HYPERLINK(\"https://ssl1.peoplexs.com/Peoplexs22/eFormportal/eForm.cfm?CandidateUpdateID=\"&'PXS Kopieret'!M144&\"&CandidateUpdateCode=\"&'PXS Kopieret'!N144&\"&Locale=en&CustomFormID=11612\",\"Docs\"),\"\")","v":""},{"$f":"'PXS Kopieret'!A144","v":0},{"$f":"'PXS Kopieret'!B144","v":0},{"$f":"'PXS Kopieret'!C144","v":0},{"$f":"'PXS Kopieret'!D144","v":0},{"$f":"IF($A144<>\"PhD Student\",'PXS Kopieret'!E144,\"\")","v":0},{"$f":"IF($A144=\"PhD Student\",'PXS Kopieret'!F144,\"\")","v":""},{"$f":"'PXS Kopieret'!G144","v":0},{"$f":"'PXS Kopieret'!H144","v":0},{"$f":"IF($A144=\"PhD Student\",'PXS Kopieret'!I144,\"\")","v":""},{"$f":"'PXS Kopieret'!J144","v":0},{"$f":"'PXS Kopieret'!K144","v":0},{"$f":"'PXS Kopieret'!L144","v":0}]
["",{"$f":"IF('PXS Kopieret'!N145<>\"\",HYPERLINK(\"https://ssl1.peoplexs.com/Peoplexs22/eFormportal/eForm.cfm?CandidateUpdateID=\"&'PXS Kopieret'!M145&\"&CandidateUpdateCode=\"&'PXS Kopieret'!N145&\"&Locale=en&CustomFormID=11612\",\"Docs\"),\"\")","v":""},{"$f":"'PXS Kopieret'!A145","v":0},{"$f":"'PXS Kopieret'!B145","v":0},{"$f":"'PXS Kopieret'!C145","v":0},{"$f":"'PXS Kopieret'!D145","v":0},{"$f":"IF($A145<>\"PhD Student\",'PXS Kopieret'!E145,\"\")","v":0},{"$f":"IF($A145=\"PhD Student\",'PXS Kopieret'!F145,\"\")","v":""},{"$f":"'PXS Kopieret'!G145","v":0},{"$f":"'PXS Kopieret'!H145","v":0},{"$f":"IF($A145=\"PhD Student\",'PXS Kopieret'!I145,\"\")","v":""},{"$f":"'PXS Kopieret'!J145","v":0},{"$f":"'PXS Kopieret'!K145","v":0},{"$f":"'PXS Kopieret'!L145","v":0}]
["",{"$f":"IF('PXS Kopieret'!N146<>\"\",HYPERLINK(\"https://ssl1.peoplexs.com/Peoplexs22/eFormportal/eForm.cfm?CandidateUpdateID=\"&'PXS Kopieret'!M146&\"&CandidateUpdateCode=\"&'PXS Kopieret'!N146&\"&Locale=en&CustomFormID=11612\",\"Docs\"),\"\")","v":""},{"$f":"'PXS Kopieret'!A146","v":0},{"$f":"'PXS Kopieret'!B146","v":0},{"$f":"'PXS Kopieret'!C146","v":0},{"$f":"'PXS Kopieret'!D146","v":0},{"$f":"IF($A146<>\"PhD Student\",'PXS Kopieret'!E146,\"\")","v":0},{"$f":"IF($A146=\"PhD Student\",'PXS Kopieret'!F146,\"\")","v":""},{"$f":"'PXS Kopieret'!G146","v":0},{"$f":"'PXS Kopieret'!H146","v":0},{"$f":"IF($A146=\"PhD Student\",'PXS Kopieret'!I146,\"\")","v":""},{"$f":"'PXS Kopieret'!J146","v":0},{"$f":"'PXS Kopieret'!K146","v":0},{"$f":"'PXS Kopieret'!L146","v":0}]
["",{"$f":"IF('PXS Kopieret'!N147<>\"\",HYPERLINK(\"https://ssl1.peoplexs.com/Peoplexs22/eFormportal/eForm.cfm?CandidateUpdateID=\"&'PXS Kopieret'!M147&\"&CandidateUpdateCode=\"&'PXS Kopieret'!N147&\"&Locale=en&CustomFormID=11612\",\"Docs\"),\"\")","v":""},{"$f":"'PXS Kopieret'!A147","v":0},{"$f":"'PXS Kopieret'!B147","v":0},{"$f":"'PXS Kopieret'!C147","v":0},{"$f":"'PXS Kopieret'!D147","v":0},{"$f":"IF($A147<>\"PhD Student\",'PXS Kopieret'!E147,\"\")","v":0},{"$f":"IF($A147=\"PhD Student\",'PXS Kopieret'!F147,\"\")","v":""},{"$f":"'PXS Kopieret'!G147","v":0},{"$f":"'PXS Kopieret'!H147","v":0},{"$f":"IF($A147=\"PhD Student\",'PXS Kopieret'!I147,\"\")","v":""},{"$f":"'PXS Kopieret'!J147","v":0},{"$f":"'PXS Kopieret'!K147","v":0},{"$f":"'PXS Kopieret'!L147","v":0}]
["",{"$f":"IF('PXS Kopieret'!N148<>\"\",HYPERLINK(\"https://ssl1.peoplexs.com/Peoplexs22/eFormportal/eForm.cfm?CandidateUpdateID=\"&'PXS Kopieret'!M148&\"&CandidateUpdateCode=\"&'PXS Kopieret'!N148&\"&Locale=en&CustomFormID=11612\",\"Docs\"),\"\")","v":""},{"$f":"'PXS Kopieret'!A148","v":0},{"$f":"'PXS Kopieret'!B148","v":0},{"$f":"'PXS Kopieret'!C148","v":0},{"$f":"'PXS Kopieret'!D148","v":0},{"$f":"IF($A148<>\"PhD Student\",'PXS Kopieret'!E148,\"\")","v":0},{"$f":"IF($A148=\"PhD Student\",'PXS Kopieret'!F148,\"\")","v":""},{"$f":"'PXS Kopieret'!G148","v":0},{"$f":"'PXS Kopieret'!H148","v":0},{"$f":"IF($A148=\"PhD Student\",'PXS Kopieret'!I148,\"\")","v":""},{"$f":"'PXS Kopieret'!J148","v":0},{"$f":"'PXS Kopieret'!K148","v":0},{"$f":"'PXS Kopieret'!L148","v":0}]
["",{"$f":"IF('PXS Kopieret'!N149<>\"\",HYPERLINK(\"https://ssl1.peoplexs.com/Peoplexs22/eFormportal/eForm.cfm?CandidateUpdateID=\"&'PXS Kopieret'!M149&\"&CandidateUpdateCode=\"&'PXS Kopieret'!N149&\"&Locale=en&CustomFormID=11612\",\"Docs\"),\"\")","v":""},{"$f":"'PXS Kopieret'!A149","v":0},{"$f":"'PXS Kopieret'!B149","v":0},{"$f":"'PXS Kopieret'!C149","v":0},{"$f":"'PXS Kopieret'!D149","v":0},{"$f":"IF($A149<>\"PhD Student\",'PXS Kopieret'!E149,\"\")","v":0},{"$f":"IF($A149=\"PhD Student\",'PXS Kopieret'!F149,\"\")","v":""},{"$f":"'PXS Kopieret'!G149","v":0},{"$f":"'PXS Kopieret'!H149","v":0},{"$f":"IF($A149=\"PhD Student\",'PXS Kopieret'!I149,\"\")","v":""},{"$f":"'PXS Kopieret'!J149","v":0},{"$f":"'PXS Kopieret'!K149","v":0},{"$f":"'PXS Kopieret'!L149","v":0}]
["",{"$f":"IF('PXS Kopieret'!N150<>\"\",HYPERLINK(\"https://ssl1.peoplexs.com/Peoplexs22/eFormportal/eForm.cfm?CandidateUpdateID=\"&'PXS Kopieret'!M150&\"&CandidateUpdateCode=\"&'PXS Kopieret'!N150&\"&Locale=en&CustomFormID=11612\",\"Docs\"),\"\")","v":""},{"$f":"'PXS Kopieret'!A150","v":0},{"$f":"'PXS Kopieret'!B150","v":0},{"$f":"'PXS Kopieret'!C150","v":0},{"$f":"'PXS Kopieret'!D150","v":0},{"$f":"IF($A150<>\"PhD Student\",'PXS Kopieret'!E150,\"\")","v":0},{"$f":"IF($A150=\"PhD Student\",'PXS Kopieret'!F150,\"\")","v":""},{"$f":"'PXS Kopieret'!G150","v":0},{"$f":"'PXS Kopieret'!H150","v":0},{"$f":"IF($A150=\"PhD Student\",'PXS Kopieret'!I150,\"\")","v":""},{"$f":"'PXS Kopieret'!J150","v":0},{"$f":"'PXS Kopieret'!K150","v":0},{"$f":"'PXS Kopieret'!L150","v":0}]
["",{"$f":"IF('PXS Kopieret'!N151<>\"\",HYPERLINK(\"https://ssl1.peoplexs.com/Peoplexs22/eFormportal/eForm.cfm?CandidateUpdateID=\"&'PXS Kopieret'!M151&\"&CandidateUpdateCode=\"&'PXS Kopieret'!N151&\"&Locale=en&CustomFormID=11612\",\"Docs\"),\"\")","v":""},{"$f":"'PXS Kopieret'!A151","v":0},{"$f":"'PXS Kopieret'!B151","v":0},{"$f":"'PXS Kopieret'!C151","v":0},{"$f":"'PXS Kopieret'!D151","v":0},{"$f":"IF($A151<>\"PhD Student\",'PXS Kopieret'!E151,\"\")","v":0},{"$f":"IF($A151=\"PhD Student\",'PXS Kopieret'!F151,\"\")","v":""},{"$f":"'PXS Kopieret'!G151","v":0},{"$f":"'PXS Kopieret'!H151","v":0},{"$f":"IF($A151=\"PhD Student\",'PXS Kopieret'!I151,\"\")","v":""},{"$f":"'PXS Kopieret'!J151","v":0},{"$f":"'PXS Kopieret'!K151","v":0},{"$f":"'PXS Kopieret'!L151","v":0}]
["",{"$f":"IF('PXS Kopieret'!N152<>\"\",HYPERLINK(\"https://ssl1.peoplexs.com/Peoplexs22/eFormportal/eForm.cfm?CandidateUpdateID=\"&'PXS Kopieret'!M152&\"&CandidateUpdateCode=\"&'PXS Kopieret'!N152&\"&Locale=en&CustomFormID=11612\",\"Docs\"),\"\")","v":""},{"$f":"'PXS Kopieret'!A152","v":0},{"$f":"'PXS Kopieret'!B152","v":0},{"$f":"'PXS Kopieret'!C152","v":0},{"$f":"'PXS Kopieret'!D152","v":0},{"$f":"IF($A152<>\"PhD Student\",'PXS Kopieret'!E152,\"\")","v":0},{"$f":"IF($A152=\"PhD Student\",'PXS Kopieret'!F152,\"\")","v":""},{"$f":"'PXS Kopieret'!G152","v":0},{"$f":"'PXS Kopieret'!H152","v":0},{"$f":"IF($A152=\"PhD Student\",'PXS Kopieret'!I152,\"\")","v":""},{"$f":"'PXS Kopieret'!J152","v":0},{"$f":"'PXS Kopieret'!K152","v":0},{"$f":"'PXS Kopieret'!L152","v":0}]
["",{"$f":"IF('PXS Kopieret'!N153<>\"\",HYPERLINK(\"https://ssl1.peoplexs.com/Peoplexs22/eFormportal/eForm.cfm?CandidateUpdateID=\"&'PXS Kopieret'!M153&\"&CandidateUpdateCode=\"&'PXS Kopieret'!N153&\"&Locale=en&CustomFormID=11612\",\"Docs\"),\"\")","v":""},{"$f":"'PXS Kopieret'!A153","v":0},{"$f":"'PXS Kopieret'!B153","v":0},{"$f":"'PXS Kopieret'!C153","v":0},{"$f":"'PXS Kopieret'!D153","v":0},{"$f":"IF($A153<>\"PhD Student\",'PXS Kopieret'!E153,\"\")","v":0},{"$f":"IF($A153=\"PhD Student\",'PXS Kopieret'!F153,\"\")","v":""},{"$f":"'PXS Kopieret'!G153","v":0},{"$f":"'PXS Kopieret'!H153","v":0},{"$f":"IF($A153=\"PhD Student\",'PXS Kopieret'!I153,\"\")","v":""},{"$f":"'PXS Kopieret'!J153","v":0},{"$f":"'PXS Kopieret'!K153","v":0},{"$f":"'PXS Kopieret'!L153","v":0}]
["",{"$f":"IF('PXS Kopieret'!N154<>\"\",HYPERLINK(\"https://ssl1.peoplexs.com/Peoplexs22/eFormportal/eForm.cfm?CandidateUpdateID=\"&'PXS Kopieret'!M154&\"&CandidateUpdateCode=\"&'PXS Kopieret'!N154&\"&Locale=en&CustomFormID=11612\",\"Docs\"),\"\")","v":""},{"$f":"'PXS Kopieret'!A154","v":0},{"$f":"'PXS Kopieret'!B154","v":0},{"$f":"'PXS Kopieret'!C154","v":0},{"$f":"'PXS Kopieret'!D154","v":0},{"$f":"IF($A154<>\"PhD Student\",'PXS Kopieret'!E154,\"\")","v":0},{"$f":"IF($A154=\"PhD Student\",'PXS Kopieret'!F154,\"\")","v":""},{"$f":"'PXS Kopieret'!G154","v":0},{"$f":"'PXS Kopieret'!H154","v":0},{"$f":"IF($A154=\"PhD Student\",'PXS Kopieret'!I154,\"\")","v":""},{"$f":"'PXS Kopieret'!J154","v":0},{"$f":"'PXS Kopieret'!K154","v":0},{"$f":"'PXS Kopieret'!L154","v":0}]
["",{"$f":"IF('PXS Kopieret'!N155<>\"\",HYPERLINK(\"https://ssl1.peoplexs.com/Peoplexs22/eFormportal/eForm.cfm?CandidateUpdateID=\"&'PXS Kopieret'!M155&\"&CandidateUpdateCode=\"&'PXS Kopieret'!N155&\"&Locale=en&CustomFormID=11612\",\"Docs\"),\"\")","v":""},{"$f":"'PXS Kopieret'!A155","v":0},{"$f":"'PXS Kopieret'!B155","v":0},{"$f":"'PXS Kopieret'!C155","v":0},{"$f":"'PXS Kopieret'!D155","v":0},{"$f":"IF($A155<>\"PhD Student\",'PXS Kopieret'!E155,\"\")","v":0},{"$f":"IF($A155=\"PhD Student\",'PXS Kopieret'!F155,\"\")","v":""},{"$f":"'PXS Kopieret'!G155","v":0},{"$f":"'PXS Kopieret'!H155","v":0},{"$f":"IF($A155=\"PhD Student\",'PXS Kopieret'!I155,\"\")","v":""},{"$f":"'PXS Kopieret'!J155","v":0},{"$f":"'PXS Kopieret'!K155","v":0},{"$f":"'PXS Kopieret'!L155","v":0}]
["",{"$f":"IF('PXS Kopieret'!N156<>\"\",HYPERLINK(\"https://ssl1.peoplexs.com/Peoplexs22/eFormportal/eForm.cfm?CandidateUpdateID=\"&'PXS Kopieret'!M156&\"&CandidateUpdateCode=\"&'PXS Kopieret'!N156&\"&Locale=en&CustomFormID=11612\",\"Docs\"),\"\")","v":""},{"$f":"'PXS Kopieret'!A156","v":0},{"$f":"'PXS Kopieret'!B156","v":0},{"$f":"'PXS Kopieret'!C156","v":0},{"$f":"'PXS Kopieret'!D156","v":0},{"$f":"IF($A156<>\"PhD Student\",'PXS Kopieret'!E156,\"\")","v":0},{"$f":"IF($A156=\"PhD Student\",'PXS Kopieret'!F156,\"\")","v":""},{"$f":"'PXS Kopieret'!G156","v":0},{"$f":"'PXS Kopieret'!H156","v":0},{"$f":"IF($A156=\"PhD Student\",'PXS Kopieret'!I156,\"\")","v":""},{"$f":"'PXS Kopieret'!J156","v":0},{"$f":"'PXS Kopieret'!K156","v":0},{"$f":"'PXS Kopieret'!L156","v":0}]
["",{"$f":"IF('PXS Kopieret'!N157<>\"\",HYPERLINK(\"https://ssl1.peoplexs.com/Peoplexs22/eFormportal/eForm.cfm?CandidateUpdateID=\"&'PXS Kopieret'!M157&\"&CandidateUpdateCode=\"&'PXS Kopieret'!N157&\"&Locale=en&CustomFormID=11612\",\"Docs\"),\"\")","v":""},{"$f":"'PXS Kopieret'!A157","v":0},{"$f":"'PXS Kopieret'!B157","v":0},{"$f":"'PXS Kopieret'!C157","v":0},{"$f":"'PXS Kopieret'!D157","v":0},{"$f":"IF($A157<>\"PhD Student\",'PXS Kopieret'!E157,\"\")","v":0},{"$f":"IF($A157=\"PhD Student\",'PXS Kopieret'!F157,\"\")","v":""},{"$f":"'PXS Kopieret'!G157","v":0},{"$f":"'PXS Kopieret'!H157","v":0},{"$f":"IF($A157=\"PhD Student\",'PXS Kopieret'!I157,\"\")","v":""},{"$f":"'PXS Kopieret'!J157","v":0},{"$f":"'PXS Kopieret'!K157","v":0},{"$f":"'PXS Kopieret'!L157","v":0}]
["",{"$f":"IF('PXS Kopieret'!N158<>\"\",HYPERLINK(\"https://ssl1.peoplexs.com/Peoplexs22/eFormportal/eForm.cfm?CandidateUpdateID=\"&'PXS Kopieret'!M158&\"&CandidateUpdateCode=\"&'PXS Kopieret'!N158&\"&Locale=en&CustomFormID=11612\",\"Docs\"),\"\")","v":""},{"$f":"'PXS Kopieret'!A158","v":0},{"$f":"'PXS Kopieret'!B158","v":0},{"$f":"'PXS Kopieret'!C158","v":0},{"$f":"'PXS Kopieret'!D158","v":0},{"$f":"IF($A158<>\"PhD Student\",'PXS Kopieret'!E158,\"\")","v":0},{"$f":"IF($A158=\"PhD Student\",'PXS Kopieret'!F158,\"\")","v":""},{"$f":"'PXS Kopieret'!G158","v":0},{"$f":"'PXS Kopieret'!H158","v":0},{"$f":"IF($A158=\"PhD Student\",'PXS Kopieret'!I158,\"\")","v":""},{"$f":"'PXS Kopieret'!J158","v":0},{"$f":"'PXS Kopieret'!K158","v":0},{"$f":"'PXS Kopieret'!L158","v":0}]
["",{"$f":"IF('PXS Kopieret'!N159<>\"\",HYPERLINK(\"https://ssl1.peoplexs.com/Peoplexs22/eFormportal/eForm.cfm?CandidateUpdateID=\"&'PXS Kopieret'!M159&\"&CandidateUpdateCode=\"&'PXS Kopieret'!N159&\"&Locale=en&CustomFormID=11612\",\"Docs\"),\"\")","v":""},{"$f":"'PXS Kopieret'!A159","v":0},{"$f":"'PXS Kopieret'!B159","v":0},{"$f":"'PXS Kopieret'!C159","v":0},{"$f":"'PXS Kopieret'!D159","v":0},{"$f":"IF($A159<>\"PhD Student\",'PXS Kopieret'!E159,\"\")","v":0},{"$f":"IF($A159=\"PhD Student\",'PXS Kopieret'!F159,\"\")","v":""},{"$f":"'PXS Kopieret'!G159","v":0},{"$f":"'PXS Kopieret'!H159","v":0},{"$f":"IF($A159=\"PhD Student\",'PXS Kopieret'!I159,\"\")","v":""},{"$f":"'PXS Kopieret'!J159","v":0},{"$f":"'PXS Kopieret'!K159","v":0},{"$f":"'PXS Kopieret'!L159","v":0}]
["",{"$f":"IF('PXS Kopieret'!N160<>\"\",HYPERLINK(\"https://ssl1.peoplexs.com/Peoplexs22/eFormportal/eForm.cfm?CandidateUpdateID=\"&'PXS Kopieret'!M160&\"&CandidateUpdateCode=\"&'PXS Kopieret'!N160&\"&Locale=en&CustomFormID=11612\",\"Docs\"),\"\")","v":""},{"$f":"'PXS Kopieret'!A160","v":0},{"$f":"'PXS Kopieret'!B160","v":0},{"$f":"'PXS Kopieret'!C160","v":0},{"$f":"'PXS Kopieret'!D160","v":0},{"$f":"IF($A160<>\"PhD Student\",'PXS Kopieret'!E160,\"\")","v":0},{"$f":"IF($A160=\"PhD Student\",'PXS Kopieret'!F160,\"\")","v":""},{"$f":"'PXS Kopieret'!G160","v":0},{"$f":"'PXS Kopieret'!H160","v":0},{"$f":"IF($A160=\"PhD Student\",'PXS Kopieret'!I160,\"\")","v":""},{"$f":"'PXS Kopieret'!J160","v":0},{"$f":"'PXS Kopieret'!K160","v":0},{"$f":"'PXS Kopieret'!L160","v":0}]
["",{"$f":"IF('PXS Kopieret'!N161<>\"\",HYPERLINK(\"https://ssl1.peoplexs.com/Peoplexs22/eFormportal/eForm.cfm?CandidateUpdateID=\"&'PXS Kopieret'!M161&\"&CandidateUpdateCode=\"&'PXS Kopieret'!N161&\"&Locale=en&CustomFormID=11612\",\"Docs\"),\"\")","v":""},{"$f":"'PXS Kopieret'!A161","v":0},{"$f":"'PXS Kopieret'!B161","v":0},{"$f":"'PXS Kopieret'!C161","v":0},{"$f":"'PXS Kopieret'!D161","v":0},{"$f":"IF($A161<>\"PhD Student\",'PXS Kopieret'!E161,\"\")","v":0},{"$f":"IF($A161=\"PhD Student\",'PXS Kopieret'!F161,\"\")","v":""},{"$f":"'PXS Kopieret'!G161","v":0},{"$f":"'PXS Kopieret'!H161","v":0},{"$f":"IF($A161=\"PhD Student\",'PXS Kopieret'!I161,\"\")","v":""},{"$f":"'PXS Kopieret'!J161","v":0},{"$f":"'PXS Kopieret'!K161","v":0},{"$f":"'PXS Kopieret'!L161","v":0}]
["",{"$f":"IF('PXS Kopieret'!N162<>\"\",HYPERLINK(\"https://ssl1.peoplexs.com/Peoplexs22/eFormportal/eForm.cfm?CandidateUpdateID=\"&'PXS Kopieret'!M162&\"&CandidateUpdateCode=\"&'PXS Kopieret'!N162&\"&Locale=en&CustomFormID=11612\",\"Docs\"),\"\")","v":""},{"$f":"'PXS Kopieret'!A162","v":0},{"$f":"'PXS Kopieret'!B162","v":0},{"$f":"'PXS Kopieret'!C162","v":0},{"$f":"'PXS Kopieret'!D162","v":0},{"$f":"IF($A162<>\"PhD Student\",'PXS Kopieret'!E162,\"\")","v":0},{"$f":"IF($A162=\"PhD Student\",'PXS Kopieret'!F162,\"\")","v":""},{"$f":"'PXS Kopieret'!G162","v":0},{"$f":"'PXS Kopieret'!H162","v":0},{"$f":"IF($A162=\"PhD Student\",'PXS Kopieret'!I162,\"\")","v":""},{"$f":"'PXS Kopieret'!J162","v":0},{"$f":"'PXS Kopieret'!K162","v":0},{"$f":"'PXS Kopieret'!L162","v":0}]
["",{"$f":"IF('PXS Kopieret'!N163<>\"\",HYPERLINK(\"https://ssl1.peoplexs.com/Peoplexs22/eFormportal/eForm.cfm?CandidateUpdateID=\"&'PXS Kopieret'!M163&\"&CandidateUpdateCode=\"&'PXS Kopieret'!N163&\"&Locale=en&CustomFormID=11612\",\"Docs\"),\"\")","v":""},{"$f":"'PXS Kopieret'!A163","v":0},{"$f":"'PXS Kopieret'!B163","v":0},{"$f":"'PXS Kopieret'!C163","v":0},{"$f":"'PXS Kopieret'!D163","v":0},{"$f":"IF($A163<>\"PhD Student\",'PXS Kopieret'!E163,\"\")","v":0},{"$f":"IF($A163=\"PhD Student\",'PXS Kopieret'!F163,\"\")","v":""},{"$f":"'PXS Kopieret'!G163","v":0},{"$f":"'PXS Kopieret'!H163","v":0},{"$f":"IF($A163=\"PhD Student\",'PXS Kopieret'!I163,\"\")","v":""},{"$f":"'PXS Kopieret'!J163","v":0},{"$f":"'PXS Kopieret'!K163","v":0},{"$f":"'PXS Kopieret'!L163","v":0}]
["",{"$f":"IF('PXS Kopieret'!N164<>\"\",HYPERLINK(\"https://ssl1.peoplexs.com/Peoplexs22/eFormportal/eForm.cfm?CandidateUpdateID=\"&'PXS Kopieret'!M164&\"&CandidateUpdateCode=\"&'PXS Kopieret'!N164&\"&Locale=en&CustomFormID=11612\",\"Docs\"),\"\")","v":""},{"$f":"'PXS Kopieret'!A164","v":0},{"$f":"'PXS Kopieret'!B164","v":0},{"$f":"'PXS Kopieret'!C164","v":0},{"$f":"'PXS Kopieret'!D164","v":0},{"$f":"IF($A164<>\"PhD Student\",'PXS Kopieret'!E164,\"\")","v":0},{"$f":"IF($A164=\"PhD Student\",'PXS Kopieret'!F164,\"\")","v":""},{"$f":"'PXS Kopieret'!G164","v":0},{"$f":"'PXS Kopieret'!H164","v":0},{"$f":"IF($A164=\"PhD Student\",'PXS Kopieret'!I164,\"\")","v":""},{"$f":"'PXS Kopieret'!J164","v":0},{"$f":"'PXS Kopieret'!K164","v":0},{"$f":"'PXS Kopieret'!L164","v":0}]
["",{"$f":"IF('PXS Kopieret'!N165<>\"\",HYPERLINK(\"https://ssl1.peoplexs.com/Peoplexs22/eFormportal/eForm.cfm?CandidateUpdateID=\"&'PXS Kopieret'!M165&\"&CandidateUpdateCode=\"&'PXS Kopieret'!N165&\"&Locale=en&CustomFormID=11612\",\"Docs\"),\"\")","v":""},{"$f":"'PXS Kopieret'!A165","v":0},{"$f":"'PXS Kopieret'!B165","v":0},{"$f":"'PXS Kopieret'!C165","v":0},{"$f":"'PXS Kopieret'!D165","v":0},{"$f":"IF($A165<>\"PhD Student\",'PXS Kopieret'!E165,\"\")","v":0},{"$f":"IF($A165=\"PhD Student\",'PXS Kopieret'!F165,\"\")","v":""},{"$f":"'PXS Kopieret'!G165","v":0},{"$f":"'PXS Kopieret'!H165","v":0},{"$f":"IF($A165=\"PhD Student\",'PXS Kopieret'!I165,\"\")","v":""},{"$f":"'PXS Kopieret'!J165","v":0},{"$f":"'PXS Kopieret'!K165","v":0},{"$f":"'PXS Kopieret'!L165","v":0}]
["",{"$f":"IF('PXS Kopieret'!N166<>\"\",HYPERLINK(\"https://ssl1.peoplexs.com/Peoplexs22/eFormportal/eForm.cfm?CandidateUpdateID=\"&'PXS Kopieret'!M166&\"&CandidateUpdateCode=\"&'PXS Kopieret'!N166&\"&Locale=en&CustomFormID=11612\",\"Docs\"),\"\")","v":""},{"$f":"'PXS Kopieret'!A166","v":0},{"$f":"'PXS Kopieret'!B166","v":0},{"$f":"'PXS Kopieret'!C166","v":0},{"$f":"'PXS Kopieret'!D166","v":0},{"$f":"IF($A166<>\"PhD Student\",'PXS Kopieret'!E166,\"\")","v":0},{"$f":"IF($A166=\"PhD Student\",'PXS Kopieret'!F166,\"\")","v":""},{"$f":"'PXS Kopieret'!G166","v":0},{"$f":"'PXS Kopieret'!H166","v":0},{"$f":"IF($A166=\"PhD Student\",'PXS Kopieret'!I166,\"\")","v":""},{"$f":"'PXS Kopieret'!J166","v":0},{"$f":"'PXS Kopieret'!K166","v":0},{"$f":"'PXS Kopieret'!L166","v":0}]
["",{"$f":"IF('PXS Kopieret'!N167<>\"\",HYPERLINK(\"https://ssl1.peoplexs.com/Peoplexs22/eFormportal/eForm.cfm?CandidateUpdateID=\"&'PXS Kopieret'!M167&\"&CandidateUpdateCode=\"&'PXS Kopieret'!N167&\"&Locale=en&CustomFormID=11612\",\"Docs\"),\"\")","v":""},{"$f":"'PXS Kopieret'!A167","v":0},{"$f":"'PXS Kopieret'!B167","v":0},{"$f":"'PXS Kopieret'!C167","v":0},{"$f":"'PXS Kopieret'!D167","v":0},{"$f":"IF($A167<>\"PhD Student\",'PXS Kopieret'!E167,\"\")","v":0},{"$f":"IF($A167=\"PhD Student\",'PXS Kopieret'!F167,\"\")","v":""},{"$f":"'PXS Kopieret'!G167","v":0},{"$f":"'PXS Kopieret'!H167","v":0},{"$f":"IF($A167=\"PhD Student\",'PXS Kopieret'!I167,\"\")","v":""},{"$f":"'PXS Kopieret'!J167","v":0},{"$f":"'PXS Kopieret'!K167","v":0},{"$f":"'PXS Kopieret'!L167","v":0}]
["",{"$f":"IF('PXS Kopieret'!N168<>\"\",HYPERLINK(\"https://ssl1.peoplexs.com/Peoplexs22/eFormportal/eForm.cfm?CandidateUpdateID=\"&'PXS Kopieret'!M168&\"&CandidateUpdateCode=\"&'PXS Kopieret'!N168&\"&Locale=en&CustomFormID=11612\",\"Docs\"),\"\")","v":""},{"$f":"'PXS Kopieret'!A168","v":0},{"$f":"'PXS Kopieret'!B168","v":0},{"$f":"'PXS Kopieret'!C168","v":0},{"$f":"'PXS Kopieret'!D168","v":0},{"$f":"IF($A168<>\"PhD Student\",'PXS Kopieret'!E168,\"\")","v":0},{"$f":"IF($A168=\"PhD Student\",'PXS Kopieret'!F168,\"\")","v":""},{"$f":"'PXS Kopieret'!G168","v":0},{"$f":"'PXS Kopieret'!H168","v":0},{"$f":"IF($A168=\"PhD Student\",'PXS Kopieret'!I168,\"\")","v":""},{"$f":"'PXS Kopieret'!J168","v":0},{"$f":"'PXS Kopieret'!K168","v":0},{"$f":"'PXS Kopieret'!L168","v":0}]
["",{"$f":"IF('PXS Kopieret'!N169<>\"\",HYPERLINK(\"https://ssl1.peoplexs.com/Peoplexs22/eFormportal/eForm.cfm?CandidateUpdateID=\"&'PXS Kopieret'!M169&\"&CandidateUpdateCode=\"&'PXS Kopieret'!N169&\"&Locale=en&CustomFormID=11612\",\"Docs\"),\"\")","v":""},{"$f":"'PXS Kopieret'!A169","v":0},{"$f":"'PXS Kopieret'!B169","v":0},{"$f":"'PXS Kopieret'!C169","v":0},{"$f":"'PXS Kopieret'!D169","v":0},{"$f":"IF($A169<>\"PhD Student\",'PXS Kopieret'!E169,\"\")","v":0},{"$f":"IF($A169=\"PhD Student\",'PXS Kopieret'!F169,\"\")","v":""},{"$f":"'PXS Kopieret'!G169","v":0},{"$f":"'PXS Kopieret'!H169","v":0},{"$f":"IF($A169=\"PhD Student\",'PXS Kopieret'!I169,\"\")","v":""},{"$f":"'PXS Kopieret'!J169","v":0},{"$f":"'PXS Kopieret'!K169","v":0},{"$f":"'PXS Kopieret'!L169","v":0}]
["",{"$f":"IF('PXS Kopieret'!N170<>\"\",HYPERLINK(\"https://ssl1.peoplexs.com/Peoplexs22/eFormportal/eForm.cfm?CandidateUpdateID=\"&'PXS Kopieret'!M170&\"&CandidateUpdateCode=\"&'PXS Kopieret'!N170&\"&Locale=en&CustomFormID=11612\",\"Docs\"),\"\")","v":""},{"$f":"'PXS Kopieret'!A170","v":0},{"$f":"'PXS Kopieret'!B170","v":0},{"$f":"'PXS Kopieret'!C170","v":0},{"$f":"'PXS Kopieret'!D170","v":0},{"$f":"IF($A170<>\"PhD Student\",'PXS Kopieret'!E170,\"\")","v":0},{"$f":"IF($A170=\"PhD Student\",'PXS Kopieret'!F170,\"\")","v":""},{"$f":"'PXS Kopieret'!G170","v":0},{"$f":"'PXS Kopieret'!H170","v":0},{"$f":"IF($A170=\"PhD Student\",'PXS Kopieret'!I170,\"\")","v":""},{"$f":"'PXS Kopieret'!J170","v":0},{"$f":"'PXS Kopieret'!K170","v":0},{"$f":"'PXS Kopieret'!L170","v":0}]
["",{"$f":"IF('PXS Kopieret'!N171<>\"\",HYPERLINK(\"https://ssl1.peoplexs.com/Peoplexs22/eFormportal/eForm.cfm?CandidateUpdateID=\"&'PXS Kopieret'!M171&\"&CandidateUpdateCode=\"&'PXS Kopieret'!N171&\"&Locale=en&CustomFormID=11612\",\"Docs\"),\"\")","v":""},{"$f":"'PXS Kopieret'!A171","v":0},{"$f":"'PXS Kopieret'!B171","v":0},{"$f":"'PXS Kopieret'!C171","v":0},{"$f":"'PXS Kopieret'!D171","v":0},{"$f":"IF($A171<>\"PhD Student\",'PXS Kopieret'!E171,\"\")","v":0},{"$f":"IF($A171=\"PhD Student\",'PXS Kopieret'!F171,\"\")","v":""},{"$f":"'PXS Kopieret'!G171","v":0},{"$f":"'PXS Kopieret'!H171","v":0},{"$f":"IF($A171=\"PhD Student\",'PXS Kopieret'!I171,\"\")","v":""},{"$f":"'PXS Kopieret'!J171","v":0},{"$f":"'PXS Kopieret'!K171","v":0},{"$f":"'PXS Kopieret'!L171","v":0}]
["",{"$f":"IF('PXS Kopieret'!N172<>\"\",HYPERLINK(\"https://ssl1.peoplexs.com/Peoplexs22/eFormportal/eForm.cfm?CandidateUpdateID=\"&'PXS Kopieret'!M172&\"&CandidateUpdateCode=\"&'PXS Kopieret'!N172&\"&Locale=en&CustomFormID=11612\",\"Docs\"),\"\")","v":""},{"$f":"'PXS Kopieret'!A172","v":0},{"$f":"'PXS Kopieret'!B172","v":0},{"$f":"'PXS Kopieret'!C172","v":0},{"$f":"'PXS Kopieret'!D172","v":0},{"$f":"IF($A172<>\"PhD Student\",'PXS Kopieret'!E172,\"\")","v":0},{"$f":"IF($A172=\"PhD Student\",'PXS Kopieret'!F172,\"\")","v":""},{"$f":"'PXS Kopieret'!G172","v":0},{"$f":"'PXS Kopieret'!H172","v":0},{"$f":"IF($A172=\"PhD Student\",'PXS Kopieret'!I172,\"\")","v":""},{"$f":"'PXS Kopieret'!J172","v":0},{"$f":"'PXS Kopieret'!K172","v":0},{"$f":"'PXS Kopieret'!L172","v":0}]
["",{"$f":"IF('PXS Kopieret'!N173<>\"\",HYPERLINK(\"https://ssl1.peoplexs.com/Peoplexs22/eFormportal/eForm.cfm?CandidateUpdateID=\"&'PXS Kopieret'!M173&\"&CandidateUpdateCode=\"&'PXS Kopieret'!N173&\"&Locale=en&CustomFormID=11612\",\"Docs\"),\"\")","v":""},{"$f":"'PXS Kopieret'!A173","v":0},{"$f":"'PXS Kopieret'!B173","v":0},{"$f":"'PXS Kopieret'!C173","v":0},{"$f":"'PXS Kopieret'!D173","v":0},{"$f":"IF($A173<>\"PhD Student\",'PXS Kopieret'!E173,\"\")","v":0},{"$f":"IF($A173=\"PhD Student\",'PXS Kopieret'!F173,\"\")","v":""},{"$f":"'PXS Kopieret'!G173","v":0},{"$f":"'PXS Kopieret'!H173","v":0},{"$f":"IF($A173=\"PhD Student\",'PXS Kopieret'!I173,\"\")","v":""},{"$f":"'PXS Kopieret'!J173","v":0},{"$f":"'PXS Kopieret'!K173","v":0},{"$f":"'PXS Kopieret'!L173","v":0}]
["",{"$f":"IF('PXS Kopieret'!N174<>\"\",HYPERLINK(\"https://ssl1.peoplexs.com/Peoplexs22/eFormportal/eForm.cfm?CandidateUpdateID=\"&'PXS Kopieret'!M174&\"&CandidateUpdateCode=\"&'PXS Kopieret'!N174&\"&Locale=en&CustomFormID=11612\",\"Docs\"),\"\")","v":""},{"$f":"'PXS Kopieret'!A174","v":0},{"$f":"'PXS Kopieret'!B174","v":0},{"$f":"'PXS Kopieret'!C174","v":0},{"$f":"'PXS Kopieret'!D174","v":0},{"$f":"IF($A174<>\"PhD Student\",'PXS Kopieret'!E174,\"\")","v":0},{"$f":"IF($A174=\"PhD Student\",'PXS Kopieret'!F174,\"\")","v":""},{"$f":"'PXS Kopieret'!G174","v":0},{"$f":"'PXS Kopieret'!H174","v":0},{"$f":"IF($A174=\"PhD Student\",'PXS Kopieret'!I174,\"\")","v":""},{"$f":"'PXS Kopieret'!J174","v":0},{"$f":"'PXS Kopieret'!K174","v":0},{"$f":"'PXS Kopieret'!L174","v":0}]
["",{"$f":"IF('PXS Kopieret'!N175<>\"\",HYPERLINK(\"https://ssl1.peoplexs.com/Peoplexs22/eFormportal/eForm.cfm?CandidateUpdateID=\"&'PXS Kopieret'!M175&\"&CandidateUpdateCode=\"&'PXS Kopieret'!N175&\"&Locale=en&CustomFormID=11612\",\"Docs\"),\"\")","v":""},{"$f":"'PXS Kopieret'!A175","v":0},{"$f":"'PXS Kopieret'!B175","v":0},{"$f":"'PXS Kopieret'!C175","v":0},{"$f":"'PXS Kopieret'!D175","v":0},{"$f":"IF($A175<>\"PhD Student\",'PXS Kopieret'!E175,\"\")","v":0},{"$f":"IF($A175=\"PhD Student\",'PXS Kopieret'!F175,\"\")","v":""},{"$f":"'PXS Kopieret'!G175","v":0},{"$f":"'PXS Kopieret'!H175","v":0},{"$f":"IF($A175=\"PhD Student\",'PXS Kopieret'!I175,\"\")","v":""},{"$f":"'PXS Kopieret'!J175","v":0},{"$f":"'PXS Kopieret'!K175","v":0},{"$f":"'PXS Kopieret'!L175","v":0}]
["",{"$f":"IF('PXS Kopieret'!N176<>\"\",HYPERLINK(\"https://ssl1.peoplexs.com/Peoplexs22/eFormportal/eForm.cfm?CandidateUpdateID=\"&'PXS Kopieret'!M176&\"&CandidateUpdateCode=\"&'PXS Kopieret'!N176&\"&Locale=en&CustomFormID=11612\",\"Docs\"),\"\")","v":""},{"$f":"'PXS Kopieret'!A176","v":0},{"$f":"'PXS Kopieret'!B176","v":0},{"$f":"'PXS Kopieret'!C176","v":0},{"$f":"'PXS Kopieret'!D176","v":0},{"$f":"IF($A176<>\"PhD Student\",'PXS Kopieret'!E176,\"\")","v":0},{"$f":"IF($A176=\"PhD Student\",'PXS Kopieret'!F176,\"\")","v":""},{"$f":"'PXS Kopieret'!G176","v":0},{"$f":"'PXS Kopieret'!H176","v":0},{"$f":"IF($A176=\"PhD Student\",'PXS Kopieret'!I176,\"\")","v":""},{"$f":"'PXS Kopieret'!J176","v":0},{"$f":"'PXS Kopieret'!K176","v":0},{"$f":"'PXS Kopieret'!L176","v":0}]
["",{"$f":"IF('PXS Kopieret'!N177<>\"\",HYPERLINK(\"https://ssl1.peoplexs.com/Peoplexs22/eFormportal/eForm.cfm?CandidateUpdateID=\"&'PXS Kopieret'!M177&\"&CandidateUpdateCode=\"&'PXS Kopieret'!N177&\"&Locale=en&CustomFormID=11612\",\"Docs\"),\"\")","v":""},{"$f":"'PXS Kopieret'!A177","v":0},{"$f":"'PXS Kopieret'!B177","v":0},{"$f":"'PXS Kopieret'!C177","v":0},{"$f":"'PXS Kopieret'!D177","v":0},{"$f":"IF($A177<>\"PhD Student\",'PXS Kopieret'!E177,\"\")","v":0},{"$f":"IF($A177=\"PhD Student\",'PXS Kopieret'!F177,\"\")","v":""},{"$f":"'PXS Kopieret'!G177","v":0},{"$f":"'PXS Kopieret'!H177","v":0},{"$f":"IF($A177=\"PhD Student\",'PXS Kopieret'!I177,\"\")","v":""},{"$f":"'PXS Kopieret'!J177","v":0},{"$f":"'PXS Kopieret'!K177","v":0},{"$f":"'PXS Kopieret'!L177","v":0}]
["",{"$f":"IF('PXS Kopieret'!N178<>\"\",HYPERLINK(\"https://ssl1.peoplexs.com/Peoplexs22/eFormportal/eForm.cfm?CandidateUpdateID=\"&'PXS Kopieret'!M178&\"&CandidateUpdateCode=\"&'PXS Kopieret'!N178&\"&Locale=en&CustomFormID=11612\",\"Docs\"),\"\")","v":""},{"$f":"'PXS Kopieret'!A178","v":0},{"$f":"'PXS Kopieret'!B178","v":0},{"$f":"'PXS Kopieret'!C178","v":0},{"$f":"'PXS Kopieret'!D178","v":0},{"$f":"IF($A178<>\"PhD Student\",'PXS Kopieret'!E178,\"\")","v":0},{"$f":"IF($A178=\"PhD Student\",'PXS Kopieret'!F178,\"\")","v":""},{"$f":"'PXS Kopieret'!G178","v":0},{"$f":"'PXS Kopieret'!H178","v":0},{"$f":"IF($A178=\"PhD Student\",'PXS Kopieret'!I178,\"\")","v":""},{"$f":"'PXS Kopieret'!J178","v":0},{"$f":"'PXS Kopieret'!K178","v":0},{"$f":"'PXS Kopieret'!L178","v":0}]
["",{"$f":"IF('PXS Kopieret'!N179<>\"\",HYPERLINK(\"https://ssl1.peoplexs.com/Peoplexs22/eFormportal/eForm.cfm?CandidateUpdateID=\"&'PXS Kopieret'!M179&\"&CandidateUpdateCode=\"&'PXS Kopieret'!N179&\"&Locale=en&CustomFormID=11612\",\"Docs\"),\"\")","v":""},{"$f":"'PXS Kopieret'!A179","v":0},{"$f":"'PXS Kopieret'!B179","v":0},{"$f":"'PXS Kopieret'!C179","v":0},{"$f":"'PXS Kopieret'!D179","v":0},{"$f":"IF($A179<>\"PhD Student\",'PXS Kopieret'!E179,\"\")","v":0},{"$f":"IF($A179=\"PhD Student\",'PXS Kopieret'!F179,\"\")","v":""},{"$f":"'PXS Kopieret'!G179","v":0},{"$f":"'PXS Kopieret'!H179","v":0},{"$f":"IF($A179=\"PhD Student\",'PXS Kopieret'!I179,\"\")","v":""},{"$f":"'PXS Kopieret'!J179","v":0},{"$f":"'PXS Kopieret'!K179","v":0},{"$f":"'PXS Kopieret'!L179","v":0}]
["",{"$f":"IF('PXS Kopieret'!N180<>\"\",HYPERLINK(\"https://ssl1.peoplexs.com/Peoplexs22/eFormportal/eForm.cfm?CandidateUpdateID=\"&'PXS Kopieret'!M180&\"&CandidateUpdateCode=\"&'PXS Kopieret'!N180&\"&Locale=en&CustomFormID=11612\",\"Docs\"),\"\")","v":""},{"$f":"'PXS Kopieret'!A180","v":0},{"$f":"'PXS Kopieret'!B180","v":0},{"$f":"'PXS Kopieret'!C180","v":0},{"$f":"'PXS Kopieret'!D180","v":0},{"$f":"IF($A180<>\"PhD Student\",'PXS Kopieret'!E180,\"\")","v":0},{"$f":"IF($A180=\"PhD Student\",'PXS Kopieret'!F180,\"\")","v":""},{"$f":"'PXS Kopieret'!G180","v":0},{"$f":"'PXS Kopieret'!H180","v":0},{"$f":"IF($A180=\"PhD Student\",'PXS Kopieret'!I180,\"\")","v":""},{"$f":"'PXS Kopieret'!J180","v":0},{"$f":"'PXS Kopieret'!K180","v":0},{"$f":"'PXS Kopieret'!L180","v":0}]
["",{"$f":"IF('PXS Kopieret'!N181<>\"\",HYPERLINK(\"https://ssl1.peoplexs.com/Peoplexs22/eFormportal/eForm.cfm?CandidateUpdateID=\"&'PXS Kopieret'!M181&\"&CandidateUpdateCode=\"&'PXS Kopieret'!N181&\"&Locale=en&CustomFormID=11612\",\"Docs\"),\"\")","v":""},{"$f":"'PXS Kopieret'!A181","v":0},{"$f":"'PXS Kopieret'!B181","v":0},{"$f":"'PXS Kopieret'!C181","v":0},{"$f":"'PXS Kopieret'!D181","v":0},{"$f":"IF($A181<>\"PhD Student\",'PXS Kopieret'!E181,\"\")","v":0},{"$f":"IF($A181=\"PhD Student\",'PXS Kopieret'!F181,\"\")","v":""},{"$f":"'PXS Kopieret'!G181","v":0},{"$f":"'PXS Kopieret'!H181","v":0},{"$f":"IF($A181=\"PhD Student\",'PXS Kopieret'!I181,\"\")","v":""},{"$f":"'PXS Kopieret'!J181","v":0},{"$f":"'PXS Kopieret'!K181","v":0},{"$f":"'PXS Kopieret'!L181","v":0}]
["",{"$f":"IF('PXS Kopieret'!N182<>\"\",HYPERLINK(\"https://ssl1.peoplexs.com/Peoplexs22/eFormportal/eForm.cfm?CandidateUpdateID=\"&'PXS Kopieret'!M182&\"&CandidateUpdateCode=\"&'PXS Kopieret'!N182&\"&Locale=en&CustomFormID=11612\",\"Docs\"),\"\")","v":""},{"$f":"'PXS Kopieret'!A182","v":0},{"$f":"'PXS Kopieret'!B182","v":0},{"$f":"'PXS Kopieret'!C182","v":0},{"$f":"'PXS Kopieret'!D182","v":0},{"$f":"IF($A182<>\"PhD Student\",'PXS Kopieret'!E182,\"\")","v":0},{"$f":"IF($A182=\"PhD Student\",'PXS Kopieret'!F182,\"\")","v":""},{"$f":"'PXS Kopieret'!G182","v":0},{"$f":"'PXS Kopieret'!H182","v":0},{"$f":"IF($A182=\"PhD Student\",'PXS Kopieret'!I182,\"\")","v":""},{"$f":"'PXS Kopieret'!J182","v":0},{"$f":"'PXS Kopieret'!K182","v":0},{"$f":"'PXS Kopieret'!L182","v":0}]
["",{"$f":"IF('PXS Kopieret'!N183<>\"\",HYPERLINK(\"https://ssl1.peoplexs.com/Peoplexs22/eFormportal/eForm.cfm?CandidateUpdateID=\"&'PXS Kopieret'!M183&\"&CandidateUpdateCode=\"&'PXS Kopieret'!N183&\"&Locale=en&CustomFormID=11612\",\"Docs\"),\"\")","v":""},{"$f":"'PXS Kopieret'!A183","v":0},{"$f":"'PXS Kopieret'!B183","v":0},{"$f":"'PXS Kopieret'!C183","v":0},{"$f":"'PXS Kopieret'!D183","v":0},{"$f":"IF($A183<>\"PhD Student\",'PXS Kopieret'!E183,\"\")","v":0},{"$f":"IF($A183=\"PhD Student\",'PXS Kopieret'!F183,\"\")","v":""},{"$f":"'PXS Kopieret'!G183","v":0},{"$f":"'PXS Kopieret'!H183","v":0},{"$f":"IF($A183=\"PhD Student\",'PXS Kopieret'!I183,\"\")","v":""},{"$f":"'PXS Kopieret'!J183","v":0},{"$f":"'PXS Kopieret'!K183","v":0},{"$f":"'PXS Kopieret'!L183","v":0}]
["",{"$f":"IF('PXS Kopieret'!N184<>\"\",HYPERLINK(\"https://ssl1.peoplexs.com/Peoplexs22/eFormportal/eForm.cfm?CandidateUpdateID=\"&'PXS Kopieret'!M184&\"&CandidateUpdateCode=\"&'PXS Kopieret'!N184&\"&Locale=en&CustomFormID=11612\",\"Docs\"),\"\")","v":""},{"$f":"'PXS Kopieret'!A184","v":0},{"$f":"'PXS Kopieret'!B184","v":0},{"$f":"'PXS Kopieret'!C184","v":0},{"$f":"'PXS Kopieret'!D184","v":0},{"$f":"IF($A184<>\"PhD Student\",'PXS Kopieret'!E184,\"\")","v":0},{"$f":"IF($A184=\"PhD Student\",'PXS Kopieret'!F184,\"\")","v":""},{"$f":"'PXS Kopieret'!G184","v":0},{"$f":"'PXS Kopieret'!H184","v":0},{"$f":"IF($A184=\"PhD Student\",'PXS Kopieret'!I184,\"\")","v":""},{"$f":"'PXS Kopieret'!J184","v":0},{"$f":"'PXS Kopieret'!K184","v":0},{"$f":"'PXS Kopieret'!L184","v":0}]
["",{"$f":"IF('PXS Kopieret'!N185<>\"\",HYPERLINK(\"https://ssl1.peoplexs.com/Peoplexs22/eFormportal/eForm.cfm?CandidateUpdateID=\"&'PXS Kopieret'!M185&\"&CandidateUpdateCode=\"&'PXS Kopieret'!N185&\"&Locale=en&CustomFormID=11612\",\"Docs\"),\"\")","v":""},{"$f":"'PXS Kopieret'!A185","v":0},{"$f":"'PXS Kopieret'!B185","v":0},{"$f":"'PXS Kopieret'!C185","v":0},{"$f":"'PXS Kopieret'!D185","v":0},{"$f":"IF($A185<>\"PhD Student\",'PXS Kopieret'!E185,\"\")","v":0},{"$f":"IF($A185=\"PhD Student\",'PXS Kopieret'!F185,\"\")","v":""},{"$f":"'PXS Kopieret'!G185","v":0},{"$f":"'PXS Kopieret'!H185","v":0},{"$f":"IF($A185=\"PhD Student\",'PXS Kopieret'!I185,\"\")","v":""},{"$f":"'PXS Kopieret'!J185","v":0},{"$f":"'PXS Kopieret'!K185","v":0},{"$f":"'PXS Kopieret'!L185","v":0}]
["",{"$f":"IF('PXS Kopieret'!N186<>\"\",HYPERLINK(\"https://ssl1.peoplexs.com/Peoplexs22/eFormportal/eForm.cfm?CandidateUpdateID=\"&'PXS Kopieret'!M186&\"&CandidateUpdateCode=\"&'PXS Kopieret'!N186&\"&Locale=en&CustomFormID=11612\",\"Docs\"),\"\")","v":""},{"$f":"'PXS Kopieret'!A186","v":0},{"$f":"'PXS Kopieret'!B186","v":0},{"$f":"'PXS Kopieret'!C186","v":0},{"$f":"'PXS Kopieret'!D186","v":0},{"$f":"IF($A186<>\"PhD Student\",'PXS Kopieret'!E186,\"\")","v":0},{"$f":"IF($A186=\"PhD Student\",'PXS Kopieret'!F186,\"\")","v":""},{"$f":"'PXS Kopieret'!G186","v":0},{"$f":"'PXS Kopieret'!H186","v":0},{"$f":"IF($A186=\"PhD Student\",'PXS Kopieret'!I186,\"\")","v":""},{"$f":"'PXS Kopieret'!J186","v":0},{"$f":"'PXS Kopieret'!K186","v":0},{"$f":"'PXS Kopieret'!L186","v":0}]
["",{"$f":"IF('PXS Kopieret'!N187<>\"\",HYPERLINK(\"https://ssl1.peoplexs.com/Peoplexs22/eFormportal/eForm.cfm?CandidateUpdateID=\"&'PXS Kopieret'!M187&\"&CandidateUpdateCode=\"&'PXS Kopieret'!N187&\"&Locale=en&CustomFormID=11612\",\"Docs\"),\"\")","v":""},{"$f":"'PXS Kopieret'!A187","v":0},{"$f":"'PXS Kopieret'!B187","v":0},{"$f":"'PXS Kopieret'!C187","v":0},{"$f":"'PXS Kopieret'!D187","v":0},{"$f":"IF($A187<>\"PhD Student\",'PXS Kopieret'!E187,\"\")","v":0},{"$f":"IF($A187=\"PhD Student\",'PXS Kopieret'!F187,\"\")","v":""},{"$f":"'PXS Kopieret'!G187","v":0},{"$f":"'PXS Kopieret'!H187","v":0},{"$f":"IF($A187=\"PhD Student\",'PXS Kopieret'!I187,\"\")","v":""},{"$f":"'PXS Kopieret'!J187","v":0},{"$f":"'PXS Kopieret'!K187","v":0},{"$f":"'PXS Kopieret'!L187","v":0}]
["",{"$f":"IF('PXS Kopieret'!N188<>\"\",HYPERLINK(\"https://ssl1.peoplexs.com/Peoplexs22/eFormportal/eForm.cfm?CandidateUpdateID=\"&'PXS Kopieret'!M188&\"&CandidateUpdateCode=\"&'PXS Kopieret'!N188&\"&Locale=en&CustomFormID=11612\",\"Docs\"),\"\")","v":""},{"$f":"'PXS Kopieret'!A188","v":0},{"$f":"'PXS Kopieret'!B188","v":0},{"$f":"'PXS Kopieret'!C188","v":0},{"$f":"'PXS Kopieret'!D188","v":0},{"$f":"IF($A188<>\"PhD Student\",'PXS Kopieret'!E188,\"\")","v":0},{"$f":"IF($A188=\"PhD Student\",'PXS Kopieret'!F188,\"\")","v":""},{"$f":"'PXS Kopieret'!G188","v":0},{"$f":"'PXS Kopieret'!H188","v":0},{"$f":"IF($A188=\"PhD Student\",'PXS Kopieret'!I188,\"\")","v":""},{"$f":"'PXS Kopieret'!J188","v":0},{"$f":"'PXS Kopieret'!K188","v":0},{"$f":"'PXS Kopieret'!L188","v":0}]
["",{"$f":"IF('PXS Kopieret'!N189<>\"\",HYPERLINK(\"https://ssl1.peoplexs.com/Peoplexs22/eFormportal/eForm.cfm?CandidateUpdateID=\"&'PXS Kopieret'!M189&\"&CandidateUpdateCode=\"&'PXS Kopieret'!N189&\"&Locale=en&CustomFormID=11612\",\"Docs\"),\"\")","v":""},{"$f":"'PXS Kopieret'!A189","v":0},{"$f":"'PXS Kopieret'!B189","v":0},{"$f":"'PXS Kopieret'!C189","v":0},{"$f":"'PXS Kopieret'!D189","v":0},{"$f":"IF($A189<>\"PhD Student\",'PXS Kopieret'!E189,\"\")","v":0},{"$f":"IF($A189=\"PhD Student\",'PXS Kopieret'!F189,\"\")","v":""},{"$f":"'PXS Kopieret'!G189","v":0},{"$f":"'PXS Kopieret'!H189","v":0},{"$f":"IF($A189=\"PhD Student\",'PXS Kopieret'!I189,\"\")","v":""},{"$f":"'PXS Kopieret'!J189","v":0},{"$f":"'PXS Kopieret'!K189","v":0},{"$f":"'PXS Kopieret'!L189","v":0}]
["",{"$f":"IF('PXS Kopieret'!N190<>\"\",HYPERLINK(\"https://ssl1.peoplexs.com/Peoplexs22/eFormportal/eForm.cfm?CandidateUpdateID=\"&'PXS Kopieret'!M190&\"&CandidateUpdateCode=\"&'PXS Kopieret'!N190&\"&Locale=en&CustomFormID=11612\",\"Docs\"),\"\")","v":""},{"$f":"'PXS Kopieret'!A190","v":0},{"$f":"'PXS Kopieret'!B190","v":0},{"$f":"'PXS Kopieret'!C190","v":0},{"$f":"'PXS Kopieret'!D190","v":0},{"$f":"IF($A190<>\"PhD Student\",'PXS Kopieret'!E190,\"\")","v":0},{"$f":"IF($A190=\"PhD Student\",'PXS Kopieret'!F190,\"\")","v":""},{"$f":"'PXS Kopieret'!G190","v":0},{"$f":"'PXS Kopieret'!H190","v":0},{"$f":"IF($A190=\"PhD Student\",'PXS Kopieret'!I190,\"\")","v":""},{"$f":"'PXS Kopieret'!J190","v":0},{"$f":"'PXS Kopieret'!K190","v":0},{"$f":"'PXS Kopieret'!L190","v":0}]
["",{"$f":"IF('PXS Kopieret'!N191<>\"\",HYPERLINK(\"https://ssl1.peoplexs.com/Peoplexs22/eFormportal/eForm.cfm?CandidateUpdateID=\"&'PXS Kopieret'!M191&\"&CandidateUpdateCode=\"&'PXS Kopieret'!N191&\"&Locale=en&CustomFormID=11612\",\"Docs\"),\"\")","v":""},{"$f":"'PXS Kopieret'!A191","v":0},{"$f":"'PXS Kopieret'!B191","v":0},{"$f":"'PXS Kopieret'!C191","v":0},{"$f":"'PXS Kopieret'!D191","v":0},{"$f":"IF($A191<>\"PhD Student\",'PXS Kopieret'!E191,\"\")","v":0},{"$f":"IF($A191=\"PhD Student\",'PXS Kopieret'!F191,\"\")","v":""},{"$f":"'PXS Kopieret'!G191","v":0},{"$f":"'PXS Kopieret'!H191","v":0},{"$f":"IF($A191=\"PhD Student\",'PXS Kopieret'!I191,\"\")","v":""},{"$f":"'PXS Kopieret'!J191","v":0},{"$f":"'PXS Kopieret'!K191","v":0},{"$f":"'PXS Kopieret'!L191","v":0}]
["",{"$f":"IF('PXS Kopieret'!N192<>\"\",HYPERLINK(\"https://ssl1.peoplexs.com/Peoplexs22/eFormportal/eForm.cfm?CandidateUpdateID=\"&'PXS Kopieret'!M192&\"&CandidateUpdateCode=\"&'PXS Kopieret'!N192&\"&Locale=en&CustomFormID=11612\",\"Docs\"),\"\")","v":""},{"$f":"'PXS Kopieret'!A192","v":0},{"$f":"'PXS Kopieret'!B192","v":0},{"$f":"'PXS Kopieret'!C192","v":0},{"$f":"'PXS Kopieret'!D192","v":0},{"$f":"IF($A192<>\"PhD Student\",'PXS Kopieret'!E192,\"\")","v":0},{"$f":"IF($A192=\"PhD Student\",'PXS Kopieret'!F192,\"\")","v":""},{"$f":"'PXS Kopieret'!G192","v":0},{"$f":"'PXS Kopieret'!H192","v":0},{"$f":"IF($A192=\"PhD Student\",'PXS Kopieret'!I192,\"\")","v":""},{"$f":"'PXS Kopieret'!J192","v":0},{"$f":"'PXS Kopieret'!K192","v":0},{"$f":"'PXS Kopieret'!L192","v":0}]
["",{"$f":"IF('PXS Kopieret'!N193<>\"\",HYPERLINK(\"https://ssl1.peoplexs.com/Peoplexs22/eFormportal/eForm.cfm?CandidateUpdateID=\"&'PXS Kopieret'!M193&\"&CandidateUpdateCode=\"&'PXS Kopieret'!N193&\"&Locale=en&CustomFormID=11612\",\"Docs\"),\"\")","v":""},{"$f":"'PXS Kopieret'!A193","v":0},{"$f":"'PXS Kopieret'!B193","v":0},{"$f":"'PXS Kopieret'!C193","v":0},{"$f":"'PXS Kopieret'!D193","v":0},{"$f":"IF($A193<>\"PhD Student\",'PXS Kopieret'!E193,\"\")","v":0},{"$f":"IF($A193=\"PhD Student\",'PXS Kopieret'!F193,\"\")","v":""},{"$f":"'PXS Kopieret'!G193","v":0},{"$f":"'PXS Kopieret'!H193","v":0},{"$f":"IF($A193=\"PhD Student\",'PXS Kopieret'!I193,\"\")","v":""},{"$f":"'PXS Kopieret'!J193","v":0},{"$f":"'PXS Kopieret'!K193","v":0},{"$f":"'PXS Kopieret'!L193","v":0}]
["",{"$f":"IF('PXS Kopieret'!N194<>\"\",HYPERLINK(\"https://ssl1.peoplexs.com/Peoplexs22/eFormportal/eForm.cfm?CandidateUpdateID=\"&'PXS Kopieret'!M194&\"&CandidateUpdateCode=\"&'PXS Kopieret'!N194&\"&Locale=en&CustomFormID=11612\",\"Docs\"),\"\")","v":""},{"$f":"'PXS Kopieret'!A194","v":0},{"$f":"'PXS Kopieret'!B194","v":0},{"$f":"'PXS Kopieret'!C194","v":0},{"$f":"'PXS Kopieret'!D194","v":0},{"$f":"IF($A194<>\"PhD Student\",'PXS Kopieret'!E194,\"\")","v":0},{"$f":"IF($A194=\"PhD Student\",'PXS Kopieret'!F194,\"\")","v":""},{"$f":"'PXS Kopieret'!G194","v":0},{"$f":"'PXS Kopieret'!H194","v":0},{"$f":"IF($A194=\"PhD Student\",'PXS Kopieret'!I194,\"\")","v":""},{"$f":"'PXS Kopieret'!J194","v":0},{"$f":"'PXS Kopieret'!K194","v":0},{"$f":"'PXS Kopieret'!L194","v":0}]
[{"$f":"IF(LEFT(C195,2)=\"RY\", \"Research Year Student\", IF(C195=0,\"\",\"PhD Student\"))","v":""},{"$f":"IF('PXS Kopieret'!N195<>\"\",HYPERLINK(\"https://ssl1.peoplexs.com/Peoplexs22/eFormportal/eForm.cfm?CandidateUpdateID=\"&'PXS Kopieret'!M195&\"&CandidateUpdateCode=\"&'PXS Kopieret'!N195&\"&Locale=en&CustomFormID=11612\",\"Docs\"),\"\")","v":""},{"$f":"'PXS Kopieret'!A195","v":0},{"$f":"'PXS Kopieret'!B195","v":0},{"$f":"'PXS Kopieret'!C195","v":0},{"$f":"'PXS Kopieret'!D195","v":0},{"$f":"IF($A195<>\"PhD Student\",'PXS Kopieret'!E195,\"\")","v":0},{"$f":"IF($A195=\"PhD Student\",'PXS Kopieret'!F195,\"\")","v":""},{"$f":"'PXS Kopieret'!G195","v":0},{"$f":"'PXS Kopieret'!H195","v":0},{"$f":"IF($A195=\"PhD Student\",'PXS Kopieret'!I195,\"\")","v":""},{"$f":"'PXS Kopieret'!J195","v":0},{"$f":"'PXS Kopieret'!K195","v":0},{"$f":"'PXS Kopieret'!L195","v":0}]
["",{"$f":"IF('PXS Kopieret'!N196<>\"\",HYPERLINK(\"https://ssl1.peoplexs.com/Peoplexs22/eFormportal/eForm.cfm?CandidateUpdateID=\"&'PXS Kopieret'!M196&\"&CandidateUpdateCode=\"&'PXS Kopieret'!N196&\"&Locale=en&CustomFormID=11612\",\"Docs\"),\"\")","v":""},{"$f":"'PXS Kopieret'!A196","v":0},{"$f":"'PXS Kopieret'!B196","v":0},{"$f":"'PXS Kopieret'!C196","v":0},{"$f":"'PXS Kopieret'!D196","v":0},{"$f":"IF($A196<>\"PhD Student\",'PXS Kopieret'!E196,\"\")","v":0},{"$f":"IF($A196=\"PhD Student\",'PXS Kopieret'!F196,\"\")","v":""},{"$f":"'PXS Kopieret'!G196","v":0},{"$f":"'PXS Kopieret'!H196","v":0},{"$f":"IF($A196=\"PhD Student\",'PXS Kopieret'!I196,\"\")","v":""},{"$f":"'PXS Kopieret'!J196","v":0},{"$f":"'PXS Kopieret'!K196","v":0},{"$f":"'PXS Kopieret'!L196","v":0}]
["",{"$f":"IF('PXS Kopieret'!N197<>\"\",HYPERLINK(\"https://ssl1.peoplexs.com/Peoplexs22/eFormportal/eForm.cfm?CandidateUpdateID=\"&'PXS Kopieret'!M197&\"&CandidateUpdateCode=\"&'PXS Kopieret'!N197&\"&Locale=en&CustomFormID=11612\",\"Docs\"),\"\")","v":""},{"$f":"'PXS Kopieret'!A197","v":0},{"$f":"'PXS Kopieret'!B197","v":0},{"$f":"'PXS Kopieret'!C197","v":0},{"$f":"'PXS Kopieret'!D197","v":0},{"$f":"IF($A197<>\"PhD Student\",'PXS Kopieret'!E197,\"\")","v":0},{"$f":"IF($A197=\"PhD Student\",'PXS Kopieret'!F197,\"\")","v":""},{"$f":"'PXS Kopieret'!G197","v":0},{"$f":"'PXS Kopieret'!H197","v":0},{"$f":"IF($A197=\"PhD Student\",'PXS Kopieret'!I197,\"\")","v":""},{"$f":"'PXS Kopieret'!J197","v":0},{"$f":"'PXS Kopieret'!K197","v":0},{"$f":"'PXS Kopieret'!L197","v":0}]
["",{"$f":"IF('PXS Kopieret'!N198<>\"\",HYPERLINK(\"https://ssl1.peoplexs.com/Peoplexs22/eFormportal/eForm.cfm?CandidateUpdateID=\"&'PXS Kopieret'!M198&\"&CandidateUpdateCode=\"&'PXS Kopieret'!N198&\"&Locale=en&CustomFormID=11612\",\"Docs\"),\"\")","v":""},{"$f":"'PXS Kopieret'!A198","v":0},{"$f":"'PXS Kopieret'!B198","v":0},{"$f":"'PXS Kopieret'!C198","v":0},{"$f":"'PXS Kopieret'!D198","v":0},{"$f":"IF($A198<>\"PhD Student\",'PXS Kopieret'!E198,\"\")","v":0},{"$f":"IF($A198=\"PhD Student\",'PXS Kopieret'!F198,\"\")","v":""},{"$f":"'PXS Kopieret'!G198","v":0},{"$f":"'PXS Kopieret'!H198","v":0},{"$f":"IF($A198=\"PhD Student\",'PXS Kopieret'!I198,\"\")","v":""},{"$f":"'PXS Kopieret'!J198","v":0},{"$f":"'PXS Kopieret'!K198","v":0},{"$f":"'PXS Kopieret'!L198","v":0}]
["",{"$f":"IF('PXS Kopieret'!N199<>\"\",HYPERLINK(\"https://ssl1.peoplexs.com/Peoplexs22/eFormportal/eForm.cfm?CandidateUpdateID=\"&'PXS Kopieret'!M199&\"&CandidateUpdateCode=\"&'PXS Kopieret'!N199&\"&Locale=en&CustomFormID=11612\",\"Docs\"),\"\")","v":""},{"$f":"'PXS Kopieret'!A199","v":0},{"$f":"'PXS Kopieret'!B199","v":0},{"$f":"'PXS Kopieret'!C199","v":0},{"$f":"'PXS Kopieret'!D199","v":0},{"$f":"IF($A199<>\"PhD Student\",'PXS Kopieret'!E199,\"\")","v":0},{"$f":"IF($A199=\"PhD Student\",'PXS Kopieret'!F199,\"\")","v":""},{"$f":"'PXS Kopieret'!G199","v":0},{"$f":"'PXS Kopieret'!H199","v":0},{"$f":"IF($A199=\"PhD Student\",'PXS Kopieret'!I199,\"\")","v":""},{"$f":"'PXS Kopieret'!J199","v":0},{"$f":"'PXS Kopieret'!K199","v":0},{"$f":"'PXS Kopieret'!L199","v":0}]
["",{"$f":"IF('PXS Kopieret'!N200<>\"\",HYPERLINK(\"https://ssl1.peoplexs.com/Peoplexs22/eFormportal/eForm.cfm?CandidateUpdateID=\"&'PXS Kopieret'!M200&\"&CandidateUpdateCode=\"&'PXS Kopieret'!N200&\"&Locale=en&CustomFormID=11612\",\"Docs\"),\"\")","v":""},{"$f":"'PXS Kopieret'!A200","v":0},{"$f":"'PXS Kopieret'!B200","v":0},{"$f":"'PXS Kopieret'!C200","v":0},{"$f":"'PXS Kopieret'!D200","v":0},{"$f":"IF($A200<>\"PhD Student\",'PXS Kopieret'!E200,\"\")","v":0},{"$f":"IF($A200=\"PhD Student\",'PXS Kopieret'!F200,\"\")","v":""},{"$f":"'PXS Kopieret'!G200","v":0},{"$f":"'PXS Kopieret'!H200","v":0},{"$f":"IF($A200=\"PhD Student\",'PXS Kopieret'!I200,\"\")","v":""},{"$f":"'PXS Kopieret'!J200","v":0},{"$f":"'PXS Kopieret'!K200","v":0},{"$f":"'PXS Kopieret'!L200","v":0}]
["",{"$f":"IF('PXS Kopieret'!N201<>\"\",HYPERLINK(\"https://ssl1.peoplexs.com/Peoplexs22/eFormportal/eForm.cfm?CandidateUpdateID=\"&'PXS Kopieret'!M201&\"&CandidateUpdateCode=\"&'PXS Kopieret'!N201&\"&Locale=en&CustomFormID=11612\",\"Docs\"),\"\")","v":""},{"$f":"'PXS Kopieret'!A201","v":0},{"$f":"'PXS Kopieret'!B201","v":0},{"$f":"'PXS Kopieret'!C201","v":0},{"$f":"'PXS Kopieret'!D201","v":0},{"$f":"IF($A201<>\"PhD Student\",'PXS Kopieret'!E201,\"\")","v":0},{"$f":"IF($A201=\"PhD Student\",'PXS Kopieret'!F201,\"\")","v":""},{"$f":"'PXS Kopieret'!G201","v":0},{"$f":"'PXS Kopieret'!H201","v":0},{"$f":"IF($A201=\"PhD Student\",'PXS Kopieret'!I201,\"\")","v":""},{"$f":"'PXS Kopieret'!J201","v":0},{"$f":"'PXS Kopieret'!K201","v":0},{"$f":"'PXS Kopieret'!L201","v":0}]
["",{"$f":"IF('PXS Kopieret'!N202<>\"\",HYPERLINK(\"https://ssl1.peoplexs.com/Peoplexs22/eFormportal/eForm.cfm?CandidateUpdateID=\"&'PXS Kopieret'!M202&\"&CandidateUpdateCode=\"&'PXS Kopieret'!N202&\"&Locale=en&CustomFormID=11612\",\"Docs\"),\"\")","v":""},{"$f":"'PXS Kopieret'!A202","v":0},{"$f":"'PXS Kopieret'!B202","v":0},{"$f":"'PXS Kopieret'!C202","v":0},{"$f":"'PXS Kopieret'!D202","v":0},{"$f":"IF($A202<>\"PhD Student\",'PXS Kopieret'!E202,\"\")","v":0},{"$f":"IF($A202=\"PhD Student\",'PXS Kopieret'!F202,\"\")","v":""},{"$f":"'PXS Kopieret'!G202","v":0},{"$f":"'PXS Kopieret'!H202","v":0},{"$f":"IF($A202=\"PhD Student\",'PXS Kopieret'!I202,\"\")","v":""},{"$f":"'PXS Kopieret'!J202","v":0},{"$f":"'PXS Kopieret'!K202","v":0},{"$f":"'PXS Kopieret'!L202","v":0}]
["",{"$f":"IF('PXS Kopieret'!N203<>\"\",HYPERLINK(\"https://ssl1.peoplexs.com/Peoplexs22/eFormportal/eForm.cfm?CandidateUpdateID=\"&'PXS Kopieret'!M203&\"&CandidateUpdateCode=\"&'PXS Kopieret'!N203&\"&Locale=en&CustomFormID=11612\",\"Docs\"),\"\")","v":""},{"$f":"'PXS Kopieret'!A203","v":0},{"$f":"'PXS Kopieret'!B203","v":0},{"$f":"'PXS Kopieret'!C203","v":0},{"$f":"'PXS Kopieret'!D203","v":0},{"$f":"IF($A203<>\"PhD Student\",'PXS Kopieret'!E203,\"\")","v":0},{"$f":"IF($A203=\"PhD Student\",'PXS Kopieret'!F203,\"\")","v":""},{"$f":"'PXS Kopieret'!G203","v":0},{"$f":"'PXS Kopieret'!H203","v":0},{"$f":"IF($A203=\"PhD Student\",'PXS Kopieret'!I203,\"\")","v":""},{"$f":"'PXS Kopieret'!J203","v":0},{"$f":"'PXS Kopieret'!K203","v":0},{"$f":"'PXS Kopieret'!L203","v":0}]
["",{"$f":"IF('PXS Kopieret'!N204<>\"\",HYPERLINK(\"https://ssl1.peoplexs.com/Peoplexs22/eFormportal/eForm.cfm?CandidateUpdateID=\"&'PXS Kopieret'!M204&\"&CandidateUpdateCode=\"&'PXS Kopieret'!N204&\"&Locale=en&CustomFormID=11612\",\"Docs\"),\"\")","v":""},{"$f":"'PXS Kopieret'!A204","v":0},{"$f":"'PXS Kopieret'!B204","v":0},{"$f":"'PXS Kopieret'!C204","v":0},{"$f":"'PXS Kopieret'!D204","v":0},{"$f":"IF($A204<>\"PhD Student\",'PXS Kopieret'!E204,\"\")","v":0},{"$f":"IF($A204=\"PhD Student\",'PXS Kopieret'!F204,\"\")","v":""},{"$f":"'PXS Kopieret'!G204","v":0},{"$f":"'PXS Kopieret'!H204","v":0},{"$f":"IF($A204=\"PhD Student\",'PXS Kopieret'!I204,\"\")","v":""},{"$f":"'PXS Kopieret'!J204","v":0},{"$f":"'PXS Kopieret'!K204","v":0},{"$f":"'PXS Kopieret'!L204","v":0}]
["",{"$f":"IF('PXS Kopieret'!N205<>\"\",HYPERLINK(\"https://ssl1.peoplexs.com/Peoplexs22/eFormportal/eForm.cfm?CandidateUpdateID=\"&'PXS Kopieret'!M205&\"&CandidateUpdateCode=\"&'PXS Kopieret'!N205&\"&Locale=en&CustomFormID=11612\",\"Docs\"),\"\")","v":""},{"$f":"'PXS Kopieret'!A205","v":0},{"$f":"'PXS Kopieret'!B205","v":0},{"$f":"'PXS Kopieret'!C205","v":0},{"$f":"'PXS Kopieret'!D205","v":0},{"$f":"IF($A205<>\"PhD Student\",'PXS Kopieret'!E205,\"\")","v":0},{"$f":"IF($A205=\"PhD Student\",'PXS Kopieret'!F205,\"\")","v":""},{"$f":"'PXS Kopieret'!G205","v":0},{"$f":"'PXS Kopieret'!H205","v":0},{"$f":"IF($A205=\"PhD Student\",'PXS Kopieret'!I205,\"\")","v":""},{"$f":"'PXS Kopieret'!J205","v":0},{"$f":"'PXS Kopieret'!K205","v":0},{"$f":"'PXS Kopieret'!L205","v":0}]
["",{"$f":"IF('PXS Kopieret'!N206<>\"\",HYPERLINK(\"https://ssl1.peoplexs.com/Peoplexs22/eFormportal/eForm.cfm?CandidateUpdateID=\"&'PXS Kopieret'!M206&\"&CandidateUpdateCode=\"&'PXS Kopieret'!N206&\"&Locale=en&CustomFormID=11612\",\"Docs\"),\"\")","v":""},{"$f":"'PXS Kopieret'!A206","v":0},{"$f":"'PXS Kopieret'!B206","v":0},{"$f":"'PXS Kopieret'!C206","v":0},{"$f":"'PXS Kopieret'!D206","v":0},{"$f":"IF($A206<>\"PhD Student\",'PXS Kopieret'!E206,\"\")","v":0},{"$f":"IF($A206=\"PhD Student\",'PXS Kopieret'!F206,\"\")","v":""},{"$f":"'PXS Kopieret'!G206","v":0},{"$f":"'PXS Kopieret'!H206","v":0},{"$f":"IF($A206=\"PhD Student\",'PXS Kopieret'!I206,\"\")","v":""},{"$f":"'PXS Kopieret'!J206","v":0},{"$f":"'PXS Kopieret'!K206","v":0},{"$f":"'PXS Kopieret'!L206","v":0}]
["",{"$f":"IF('PXS Kopieret'!N207<>\"\",HYPERLINK(\"https://ssl1.peoplexs.com/Peoplexs22/eFormportal/eForm.cfm?CandidateUpdateID=\"&'PXS Kopieret'!M207&\"&CandidateUpdateCode=\"&'PXS Kopieret'!N207&\"&Locale=en&CustomFormID=11612\",\"Docs\"),\"\")","v":""},{"$f":"'PXS Kopieret'!A207","v":0},{"$f":"'PXS Kopieret'!B207","v":0},{"$f":"'PXS Kopieret'!C207","v":0},{"$f":"'PXS Kopieret'!D207","v":0},{"$f":"IF($A207<>\"PhD Student\",'PXS Kopieret'!E207,\"\")","v":0},{"$f":"IF($A207=\"PhD Student\",'PXS Kopieret'!F207,\"\")","v":""},{"$f":"'PXS Kopieret'!G207","v":0},{"$f":"'PXS Kopieret'!H207","v":0},{"$f":"IF($A207=\"PhD Student\",'PXS Kopieret'!I207,\"\")","v":""},{"$f":"'PXS Kopieret'!J207","v":0},{"$f":"'PXS Kopieret'!K207","v":0},{"$f":"'PXS Kopieret'!L207","v":0}]
["",{"$f":"IF('PXS Kopieret'!N208<>\"\",HYPERLINK(\"https://ssl1.peoplexs.com/Peoplexs22/eFormportal/eForm.cfm?CandidateUpdateID=\"&'PXS Kopieret'!M208&\"&CandidateUpdateCode=\"&'PXS Kopieret'!N208&\"&Locale=en&CustomFormID=11612\",\"Docs\"),\"\")","v":""},{"$f":"'PXS Kopieret'!A208","v":0},{"$f":"'PXS Kopieret'!B208","v":0},{"$f":"'PXS Kopieret'!C208","v":0},{"$f":"'PXS Kopieret'!D208","v":0},{"$f":"IF($A208<>\"PhD Student\",'PXS Kopieret'!E208,\"\")","v":0},{"$f":"IF($A208=\"PhD Student\",'PXS Kopieret'!F208,\"\")","v":""},{"$f":"'PXS Kopieret'!G208","v":0},{"$f":"'PXS Kopieret'!H208","v":0},{"$f":"IF($A208=\"PhD Student\",'PXS Kopieret'!I208,\"\")","v":""},{"$f":"'PXS Kopieret'!J208","v":0},{"$f":"'PXS Kopieret'!K208","v":0},{"$f":"'PXS Kopieret'!L208","v":0}]
["",{"$f":"IF('PXS Kopieret'!N209<>\"\",HYPERLINK(\"https://ssl1.peoplexs.com/Peoplexs22/eFormportal/eForm.cfm?CandidateUpdateID=\"&'PXS Kopieret'!M209&\"&CandidateUpdateCode=\"&'PXS Kopieret'!N209&\"&Locale=en&CustomFormID=11612\",\"Docs\"),\"\")","v":""},{"$f":"'PXS Kopieret'!A209","v":0},{"$f":"'PXS Kopieret'!B209","v":0},{"$f":"'PXS Kopieret'!C209","v":0},{"$f":"'PXS Kopieret'!D209","v":0},{"$f":"IF($A209<>\"PhD Student\",'PXS Kopieret'!E209,\"\")","v":0},{"$f":"IF($A209=\"PhD Student\",'PXS Kopieret'!F209,\"\")","v":""},{"$f":"'PXS Kopieret'!G209","v":0},{"$f":"'PXS Kopieret'!H209","v":0},{"$f":"IF($A209=\"PhD Student\",'PXS Kopieret'!I209,\"\")","v":""},{"$f":"'PXS Kopieret'!J209","v":0},{"$f":"'PXS Kopieret'!K209","v":0},{"$f":"'PXS Kopieret'!L209","v":0}]
["",{"$f":"IF('PXS Kopieret'!N210<>\"\",HYPERLINK(\"https://ssl1.peoplexs.com/Peoplexs22/eFormportal/eForm.cfm?CandidateUpdateID=\"&'PXS Kopieret'!M210&\"&CandidateUpdateCode=\"&'PXS Kopieret'!N210&\"&Locale=en&CustomFormID=11612\",\"Docs\"),\"\")","v":""},{"$f":"'PXS Kopieret'!A210","v":0},{"$f":"'PXS Kopieret'!B210","v":0},{"$f":"'PXS Kopieret'!C210","v":0},{"$f":"'PXS Kopieret'!D210","v":0},{"$f":"IF($A210<>\"PhD Student\",'PXS Kopieret'!E210,\"\")","v":0},{"$f":"IF($A210=\"PhD Student\",'PXS Kopieret'!F210,\"\")","v":""},{"$f":"'PXS Kopieret'!G210","v":0},{"$f":"'PXS Kopieret'!H210","v":0},{"$f":"IF($A210=\"PhD Student\",'PXS Kopieret'!I210,\"\")","v":""},{"$f":"'PXS Kopieret'!J210","v":0},{"$f":"'PXS Kopieret'!K210","v":0},{"$f":"'PXS Kopieret'!L210","v":0}]
["",{"$f":"IF('PXS Kopieret'!N211<>\"\",HYPERLINK(\"https://ssl1.peoplexs.com/Peoplexs22/eFormportal/eForm.cfm?CandidateUpdateID=\"&'PXS Kopieret'!M211&\"&CandidateUpdateCode=\"&'PXS Kopieret'!N211&\"&Locale=en&CustomFormID=11612\",\"Docs\"),\"\")","v":""},{"$f":"'PXS Kopieret'!A211","v":0},{"$f":"'PXS Kopieret'!B211","v":0},{"$f":"'PXS Kopieret'!C211","v":0},{"$f":"'PXS Kopieret'!D211","v":0},{"$f":"IF($A211<>\"PhD Student\",'PXS Kopieret'!E211,\"\")","v":0},{"$f":"IF($A211=\"PhD Student\",'PXS Kopieret'!F211,\"\")","v":""},{"$f":"'PXS Kopieret'!G211","v":0},{"$f":"'PXS Kopieret'!H211","v":0},{"$f":"IF($A211=\"PhD Student\",'PXS Kopieret'!I211,\"\")","v":""},{"$f":"'PXS Kopieret'!J211","v":0},{"$f":"'PXS Kopieret'!K211","v":0},{"$f":"'PXS Kopieret'!L211","v":0}]
["",{"$f":"IF('PXS Kopieret'!N212<>\"\",HYPERLINK(\"https://ssl1.peoplexs.com/Peoplexs22/eFormportal/eForm.cfm?CandidateUpdateID=\"&'PXS Kopieret'!M212&\"&CandidateUpdateCode=\"&'PXS Kopieret'!N212&\"&Locale=en&CustomFormID=11612\",\"Docs\"),\"\")","v":""},{"$f":"'PXS Kopieret'!A212","v":0},{"$f":"'PXS Kopieret'!B212","v":0},{"$f":"'PXS Kopieret'!C212","v":0},{"$f":"'PXS Kopieret'!D212","v":0},{"$f":"IF($A212<>\"PhD Student\",'PXS Kopieret'!E212,\"\")","v":0},{"$f":"IF($A212=\"PhD Student\",'PXS Kopieret'!F212,\"\")","v":""},{"$f":"'PXS Kopieret'!G212","v":0},{"$f":"'PXS Kopieret'!H212","v":0},{"$f":"IF($A212=\"PhD Student\",'PXS Kopieret'!I212,\"\")","v":""},{"$f":"'PXS Kopieret'!J212","v":0},{"$f":"'PXS Kopieret'!K212","v":0},{"$f":"'PXS Kopieret'!L212","v":0}]
["",{"$f":"IF('PXS Kopieret'!N213<>\"\",HYPERLINK(\"https://ssl1.peoplexs.com/Peoplexs22/eFormportal/eForm.cfm?CandidateUpdateID=\"&'PXS Kopieret'!M213&\"&CandidateUpdateCode=\"&'PXS Kopieret'!N213&\"&Locale=en&CustomFormID=11612\",\"Docs\"),\"\")","v":""},{"$f":"'PXS Kopieret'!A213","v":0},{"$f":"'PXS Kopieret'!B213","v":0},{"$f":"'PXS Kopieret'!C213","v":0},{"$f":"'PXS Kopieret'!D213","v":0},{"$f":"IF($A213<>\"PhD Student\",'PXS Kopieret'!E213,\"\")","v":0},{"$f":"IF($A213=\"PhD Student\",'PXS Kopieret'!F213,\"\")","v":""},{"$f":"'PXS Kopieret'!G213","v":0},{"$f":"'PXS Kopieret'!H213","v":0},{"$f":"IF($A213=\"PhD Student\",'PXS Kopieret'!I213,\"\")","v":""},{"$f":"'PXS Kopieret'!J213","v":0},{"$f":"'PXS Kopieret'!K213","v":0},{"$f":"'PXS Kopieret'!L213","v":0}]
["",{"$f":"IF('PXS Kopieret'!N214<>\"\",HYPERLINK(\"https://ssl1.peoplexs.com/Peoplexs22/eFormportal/eForm.cfm?CandidateUpdateID=\"&'PXS Kopieret'!M214&\"&CandidateUpdateCode=\"&'PXS Kopieret'!N214&\"&Locale=en&CustomFormID=11612\",\"Docs\"),\"\")","v":""},{"$f":"'PXS Kopieret'!A214","v":0},{"$f":"'PXS Kopieret'!B214","v":0},{"$f":"'PXS Kopieret'!C214","v":0},{"$f":"'PXS Kopieret'!D214","v":0},{"$f":"IF($A214<>\"PhD Student\",'PXS Kopieret'!E214,\"\")","v":0},{"$f":"IF($A214=\"PhD Student\",'PXS Kopieret'!F214,\"\")","v":""},{"$f":"'PXS Kopieret'!G214","v":0},{"$f":"'PXS Kopieret'!H214","v":0},{"$f":"IF($A214=\"PhD Student\",'PXS Kopieret'!I214,\"\")","v":""},{"$f":"'PXS Kopieret'!J214","v":0},{"$f":"'PXS Kopieret'!K214","v":0},{"$f":"'PXS Kopieret'!L214","v":0}]
["",{"$f":"IF('PXS Kopieret'!N215<>\"\",HYPERLINK(\"https://ssl1.peoplexs.com/Peoplexs22/eFormportal/eForm.cfm?CandidateUpdateID=\"&'PXS Kopieret'!M215&\"&CandidateUpdateCode=\"&'PXS Kopieret'!N215&\"&Locale=en&CustomFormID=11612\",\"Docs\"),\"\")","v":""},{"$f":"'PXS Kopieret'!A215","v":0},{"$f":"'PXS Kopieret'!B215","v":0},{"$f":"'PXS Kopieret'!C215","v":0},{"$f":"'PXS Kopieret'!D215","v":0},{"$f":"IF($A215<>\"PhD Student\",'PXS Kopieret'!E215,\"\")","v":0},{"$f":"IF($A215=\"PhD Student\",'PXS Kopieret'!F215,\"\")","v":""},{"$f":"'PXS Kopieret'!G215","v":0},{"$f":"'PXS Kopieret'!H215","v":0},{"$f":"IF($A215=\"PhD Student\",'PXS Kopieret'!I215,\"\")","v":""},{"$f":"'PXS Kopieret'!J215","v":0},{"$f":"'PXS Kopieret'!K215","v":0},{"$f":"'PXS Kopieret'!L215","v":0}]
["",{"$f":"IF('PXS Kopieret'!N216<>\"\",HYPERLINK(\"https://ssl1.peoplexs.com/Peoplexs22/eFormportal/eForm.cfm?CandidateUpdateID=\"&'PXS Kopieret'!M216&\"&CandidateUpdateCode=\"&'PXS Kopieret'!N216&\"&Locale=en&CustomFormID=11612\",\"Docs\"),\"\")","v":""},{"$f":"'PXS Kopieret'!A216","v":0},{"$f":"'PXS Kopieret'!B216","v":0},{"$f":"'PXS Kopieret'!C216","v":0},{"$f":"'PXS Kopieret'!D216","v":0},{"$f":"IF($A216<>\"PhD Student\",'PXS Kopieret'!E216,\"\")","v":0},{"$f":"IF($A216=\"PhD Student\",'PXS Kopieret'!F216,\"\")","v":""},{"$f":"'PXS Kopieret'!G216","v":0},{"$f":"'PXS Kopieret'!H216","v":0},{"$f":"IF($A216=\"PhD Student\",'PXS Kopieret'!I216,\"\")","v":""},{"$f":"'PXS Kopieret'!J216","v":0},{"$f":"'PXS Kopieret'!K216","v":0},{"$f":"'PXS Kopieret'!L216","v":0}]
["",{"$f":"IF('PXS Kopieret'!N217<>\"\",HYPERLINK(\"https://ssl1.peoplexs.com/Peoplexs22/eFormportal/eForm.cfm?CandidateUpdateID=\"&'PXS Kopieret'!M217&\"&CandidateUpdateCode=\"&'PXS Kopieret'!N217&\"&Locale=en&CustomFormID=11612\",\"Docs\"),\"\")","v":""},{"$f":"'PXS Kopieret'!A217","v":0},{"$f":"'PXS Kopieret'!B217","v":0},{"$f":"'PXS Kopieret'!C217","v":0},{"$f":"'PXS Kopieret'!D217","v":0},{"$f":"IF($A217<>\"PhD Student\",'PXS Kopieret'!E217,\"\")","v":0},{"$f":"IF($A217=\"PhD Student\",'PXS Kopieret'!F217,\"\")","v":""},{"$f":"'PXS Kopieret'!G217","v":0},{"$f":"'PXS Kopieret'!H217","v":0},{"$f":"IF($A217=\"PhD Student\",'PXS Kopieret'!I217,\"\")","v":""},{"$f":"'PXS Kopieret'!J217","v":0},{"$f":"'PXS Kopieret'!K217","v":0},{"$f":"'PXS Kopieret'!L217","v":0}]
["",{"$f":"IF('PXS Kopieret'!N218<>\"\",HYPERLINK(\"https://ssl1.peoplexs.com/Peoplexs22/eFormportal/eForm.cfm?CandidateUpdateID=\"&'PXS Kopieret'!M218&\"&CandidateUpdateCode=\"&'PXS Kopieret'!N218&\"&Locale=en&CustomFormID=11612\",\"Docs\"),\"\")","v":""},{"$f":"'PXS Kopieret'!A218","v":0},{"$f":"'PXS Kopieret'!B218","v":0},{"$f":"'PXS Kopieret'!C218","v":0},{"$f":"'PXS Kopieret'!D218","v":0},{"$f":"IF($A218<>\"PhD Student\",'PXS Kopieret'!E218,\"\")","v":0},{"$f":"IF($A218=\"PhD Student\",'PXS Kopieret'!F218,\"\")","v":""},{"$f":"'PXS Kopieret'!G218","v":0},{"$f":"'PXS Kopieret'!H218","v":0},{"$f":"IF($A218=\"PhD Student\",'PXS Kopieret'!I218,\"\")","v":""},{"$f":"'PXS Kopieret'!J218","v":0},{"$f":"'PXS Kopieret'!K218","v":0},{"$f":"'PXS Kopieret'!L218","v":0}]
["",{"$f":"IF('PXS Kopieret'!N219<>\"\",HYPERLINK(\"https://ssl1.peoplexs.com/Peoplexs22/eFormportal/eForm.cfm?CandidateUpdateID=\"&'PXS Kopieret'!M219&\"&CandidateUpdateCode=\"&'PXS Kopieret'!N219&\"&Locale=en&CustomFormID=11612\",\"Docs\"),\"\")","v":""},{"$f":"'PXS Kopieret'!A219","v":0},{"$f":"'PXS Kopieret'!B219","v":0},{"$f":"'PXS Kopieret'!C219","v":0},{"$f":"'PXS Kopieret'!D219","v":0},{"$f":"IF($A219<>\"PhD Student\",'PXS Kopieret'!E219,\"\")","v":0},{"$f":"IF($A219=\"PhD Student\",'PXS Kopieret'!F219,\"\")","v":""},{"$f":"'PXS Kopieret'!G219","v":0},{"$f":"'PXS Kopieret'!H219","v":0},{"$f":"IF($A219=\"PhD Student\",'PXS Kopieret'!I219,\"\")","v":""},{"$f":"'PXS Kopieret'!J219","v":0},{"$f":"'PXS Kopieret'!K219","v":0},{"$f":"'PXS Kopieret'!L219","v":0}]
["",{"$f":"IF('PXS Kopieret'!N220<>\"\",HYPERLINK(\"https://ssl1.peoplexs.com/Peoplexs22/eFormportal/eForm.cfm?CandidateUpdateID=\"&'PXS Kopieret'!M220&\"&CandidateUpdateCode=\"&'PXS Kopieret'!N220&\"&Locale=en&CustomFormID=11612\",\"Docs\"),\"\")","v":""},{"$f":"'PXS Kopieret'!A220","v":0},{"$f":"'PXS Kopieret'!B220","v":0},{"$f":"'PXS Kopieret'!C220","v":0},{"$f":"'PXS Kopieret'!D220","v":0},{"$f":"IF($A220<>\"PhD Student\",'PXS Kopieret'!E220,\"\")","v":0},{"$f":"IF($A220=\"PhD Student\",'PXS Kopieret'!F220,\"\")","v":""},{"$f":"'PXS Kopieret'!G220","v":0},{"$f":"'PXS Kopieret'!H220","v":0},{"$f":"IF($A220=\"PhD Student\",'PXS Kopieret'!I220,\"\")","v":""},{"$f":"'PXS Kopieret'!J220","v":0},{"$f":"'PXS Kopieret'!K220","v":0},{"$f":"'PXS Kopieret'!L220","v":0}]
["",{"$f":"IF('PXS Kopieret'!N221<>\"\",HYPERLINK(\"https://ssl1.peoplexs.com/Peoplexs22/eFormportal/eForm.cfm?CandidateUpdateID=\"&'PXS Kopieret'!M221&\"&CandidateUpdateCode=\"&'PXS Kopieret'!N221&\"&Locale=en&CustomFormID=11612\",\"Docs\"),\"\")","v":""},{"$f":"'PXS Kopieret'!A221","v":0},{"$f":"'PXS Kopieret'!B221","v":0},{"$f":"'PXS Kopieret'!C221","v":0},{"$f":"'PXS Kopieret'!D221","v":0},{"$f":"IF($A221<>\"PhD Student\",'PXS Kopieret'!E221,\"\")","v":0},{"$f":"IF($A221=\"PhD Student\",'PXS Kopieret'!F221,\"\")","v":""},{"$f":"'PXS Kopieret'!G221","v":0},{"$f":"'PXS Kopieret'!H221","v":0},{"$f":"IF($A221=\"PhD Student\",'PXS Kopieret'!I221,\"\")","v":""},{"$f":"'PXS Kopieret'!J221","v":0},{"$f":"'PXS Kopieret'!K221","v":0},{"$f":"'PXS Kopieret'!L221","v":0}]
["",{"$f":"IF('PXS Kopieret'!N222<>\"\",HYPERLINK(\"https://ssl1.peoplexs.com/Peoplexs22/eFormportal/eForm.cfm?CandidateUpdateID=\"&'PXS Kopieret'!M222&\"&CandidateUpdateCode=\"&'PXS Kopieret'!N222&\"&Locale=en&CustomFormID=11612\",\"Docs\"),\"\")","v":""},{"$f":"'PXS Kopieret'!A222","v":0},{"$f":"'PXS Kopieret'!B222","v":0},{"$f":"'PXS Kopieret'!C222","v":0},{"$f":"'PXS Kopieret'!D222","v":0},{"$f":"IF($A222<>\"PhD Student\",'PXS Kopieret'!E222,\"\")","v":0},{"$f":"IF($A222=\"PhD Student\",'PXS Kopieret'!F222,\"\")","v":""},{"$f":"'PXS Kopieret'!G222","v":0},{"$f":"'PXS Kopieret'!H222","v":0},{"$f":"IF($A222=\"PhD Student\",'PXS Kopieret'!I222,\"\")","v":""},{"$f":"'PXS Kopieret'!J222","v":0},{"$f":"'PXS Kopieret'!K222","v":0},{"$f":"'PXS Kopieret'!L222","v":0}]
["",{"$f":"IF('PXS Kopieret'!N223<>\"\",HYPERLINK(\"https://ssl1.peoplexs.com/Peoplexs22/eFormportal/eForm.cfm?CandidateUpdateID=\"&'PXS Kopieret'!M223&\"&CandidateUpdateCode=\"&'PXS Kopieret'!N223&\"&Locale=en&CustomFormID=11612\",\"Docs\"),\"\")","v":""},{"$f":"'PXS Kopieret'!A223","v":0},{"$f":"'PXS Kopieret'!B223","v":0},{"$f":"'PXS Kopieret'!C223","v":0},{"$f":"'PXS Kopieret'!D223","v":0},{"$f":"IF($A223<>\"PhD Student\",'PXS Kopieret'!E223,\"\")","v":0},{"$f":"IF($A223=\"PhD Student\",'PXS Kopieret'!F223,\"\")","v":""},{"$f":"'PXS Kopieret'!G223","v":0},{"$f":"'PXS Kopieret'!H223","v":0},{"$f":"IF($A223=\"PhD Student\",'PXS Kopieret'!I223,\"\")","v":""},{"$f":"'PXS Kopieret'!J223","v":0},{"$f":"'PXS Kopieret'!K223","v":0},{"$f":"'PXS Kopieret'!L223","v":0}]
["",{"$f":"IF('PXS Kopieret'!N224<>\"\",HYPERLINK(\"https://ssl1.peoplexs.com/Peoplexs22/eFormportal/eForm.cfm?CandidateUpdateID=\"&'PXS Kopieret'!M224&\"&CandidateUpdateCode=\"&'PXS Kopieret'!N224&\"&Locale=en&CustomFormID=11612\",\"Docs\"),\"\")","v":""},{"$f":"'PXS Kopieret'!A224","v":0},{"$f":"'PXS Kopieret'!B224","v":0},{"$f":"'PXS Kopieret'!C224","v":0},{"$f":"'PXS Kopieret'!D224","v":0},{"$f":"IF($A224<>\"PhD Student\",'PXS Kopieret'!E224,\"\")","v":0},{"$f":"IF($A224=\"PhD Student\",'PXS Kopieret'!F224,\"\")","v":""},{"$f":"'PXS Kopieret'!G224","v":0},{"$f":"'PXS Kopieret'!H224","v":0},{"$f":"IF($A224=\"PhD Student\",'PXS Kopieret'!I224,\"\")","v":""},{"$f":"'PXS Kopieret'!J224","v":0},{"$f":"'PXS Kopieret'!K224","v":0},{"$f":"'PXS Kopieret'!L224","v":0}]
["",{"$f":"IF('PXS Kopieret'!N225<>\"\",HYPERLINK(\"https://ssl1.peoplexs.com/Peoplexs22/eFormportal/eForm.cfm?CandidateUpdateID=\"&'PXS Kopieret'!M225&\"&CandidateUpdateCode=\"&'PXS Kopieret'!N225&\"&Locale=en&CustomFormID=11612\",\"Docs\"),\"\")","v":""},{"$f":"'PXS Kopieret'!A225","v":0},{"$f":"'PXS Kopieret'!B225","v":0},{"$f":"'PXS Kopieret'!C225","v":0},{"$f":"'PXS Kopieret'!D225","v":0},{"$f":"IF($A225<>\"PhD Student\",'PXS Kopieret'!E225,\"\")","v":0},{"$f":"IF($A225=\"PhD Student\",'PXS Kopieret'!F225,\"\")","v":""},{"$f":"'PXS Kopieret'!G225","v":0},{"$f":"'PXS Kopieret'!H225","v":0},{"$f":"IF($A225=\"PhD Student\",'PXS Kopieret'!I225,\"\")","v":""},{"$f":"'PXS Kopieret'!J225","v":0},{"$f":"'PXS Kopieret'!K225","v":0},{"$f":"'PXS Kopieret'!L225","v":0}]
["",{"$f":"IF('PXS Kopieret'!N226<>\"\",HYPERLINK(\"https://ssl1.peoplexs.com/Peoplexs22/eFormportal/eForm.cfm?CandidateUpdateID=\"&'PXS Kopieret'!M226&\"&CandidateUpdateCode=\"&'PXS Kopieret'!N226&\"&Locale=en&CustomFormID=11612\",\"Docs\"),\"\")","v":""},{"$f":"'PXS Kopieret'!A226","v":0},{"$f":"'PXS Kopieret'!B226","v":0},{"$f":"'PXS Kopieret'!C226","v":0},{"$f":"'PXS Kopieret'!D226","v":0},{"$f":"IF($A226<>\"PhD Student\",'PXS Kopieret'!E226,\"\")","v":0},{"$f":"IF($A226=\"PhD Student\",'PXS Kopieret'!F226,\"\")","v":""},{"$f":"'PXS Kopieret'!G226","v":0},{"$f":"'PXS Kopieret'!H226","v":0},{"$f":"IF($A226=\"PhD Student\",'PXS Kopieret'!I226,\"\")","v":""},{"$f":"'PXS Kopieret'!J226","v":0},{"$f":"'PXS Kopieret'!K226","v":0},{"$f":"'PXS Kopieret'!L226","v":0}]
["",{"$f":"IF('PXS Kopieret'!N227<>\"\",HYPERLINK(\"https://ssl1.peoplexs.com/Peoplexs22/eFormportal/eForm.cfm?CandidateUpdateID=\"&'PXS Kopieret'!M227&\"&CandidateUpdateCode=\"&'PXS Kopieret'!N227&\"&Locale=en&CustomFormID=11612\",\"Docs\"),\"\")","v":""},{"$f":"'PXS Kopieret'!A227","v":0},{"$f":"'PXS Kopieret'!B227","v":0},{"$f":"'PXS Kopieret'!C227","v":0},{"$f":"'PXS Kopieret'!D227","v":0},{"$f":"IF($A227<>\"PhD Student\",'PXS Kopieret'!E227,\"\")","v":0},{"$f":"IF($A227=\"PhD Student\",'PXS Kopieret'!F227,\"\")","v":""},{"$f":"'PXS Kopieret'!G227","v":0},{"$f":"'PXS Kopieret'!H227","v":0},{"$f":"IF($A227=\"PhD Student\",'PXS Kopieret'!I227,\"\")","v":""},{"$f":"'PXS Kopieret'!J227","v":0},{"$f":"'PXS Kopieret'!K227","v":0},{"$f":"'PXS Kopieret'!L227","v":0}]
["",{"$f":"IF('PXS Kopieret'!N228<>\"\",HYPERLINK(\"https://ssl1.peoplexs.com/Peoplexs22/eFormportal/eForm.cfm?CandidateUpdateID=\"&'PXS Kopieret'!M228&\"&CandidateUpdateCode=\"&'PXS Kopieret'!N228&\"&Locale=en&CustomFormID=11612\",\"Docs\"),\"\")","v":""},{"$f":"'PXS Kopieret'!A228","v":0},{"$f":"'PXS Kopieret'!B228","v":0},{"$f":"'PXS Kopieret'!C228","v":0},{"$f":"'PXS Kopieret'!D228","v":0},{"$f":"IF($A228<>\"PhD Student\",'PXS Kopieret'!E228,\"\")","v":0},{"$f":"IF($A228=\"PhD Student\",'PXS Kopieret'!F228,\"\")","v":""},{"$f":"'PXS Kopieret'!G228","v":0},{"$f":"'PXS Kopieret'!H228","v":0},{"$f":"IF($A228=\"PhD Student\",'PXS Kopieret'!I228,\"\")","v":""},{"$f":"'PXS Kopieret'!J228","v":0},{"$f":"'PXS Kopieret'!K228","v":0},{"$f":"'PXS Kopieret'!L228","v":0}]
["",{"$f":"IF('PXS Kopieret'!N229<>\"\",HYPERLINK(\"https://ssl1.peoplexs.com/Peoplexs22/eFormportal/eForm.cfm?CandidateUpdateID=\"&'PXS Kopieret'!M229&\"&CandidateUpdateCode=\"&'PXS Kopieret'!N229&\"&Locale=en&CustomFormID=11612\",\"Docs\"),\"\")","v":""},{"$f":"'PXS Kopieret'!A229","v":0},{"$f":"'PXS Kopieret'!B229","v":0},{"$f":"'PXS Kopieret'!C229","v":0},{"$f":"'PXS Kopieret'!D229","v":0},{"$f":"IF($A229<>\"PhD Student\",'PXS Kopieret'!E229,\"\")","v":0},{"$f":"IF($A229=\"PhD Student\",'PXS Kopieret'!F229,\"\")","v":""},{"$f":"'PXS Kopieret'!G229","v":0},{"$f":"'PXS Kopieret'!H229","v":0},{"$f":"IF($A229=\"PhD Student\",'PXS Kopieret'!I229,\"\")","v":""},{"$f":"'PXS Kopieret'!J229","v":0},{"$f":"'PXS Kopieret'!K229","v":0},{"$f":"'PXS Kopieret'!L229","v":0}]
["",{"$f":"IF('PXS Kopieret'!N230<>\"\",HYPERLINK(\"https://ssl1.peoplexs.com/Peoplexs22/eFormportal/eForm.cfm?CandidateUpdateID=\"&'PXS Kopieret'!M230&\"&CandidateUpdateCode=\"&'PXS Kopieret'!N230&\"&Locale=en&CustomFormID=11612\",\"Docs\"),\"\")","v":""},{"$f":"'PXS Kopieret'!A230","v":0},{"$f":"'PXS Kopieret'!B230","v":0},{"$f":"'PXS Kopieret'!C230","v":0},{"$f":"'PXS Kopieret'!D230","v":0},{"$f":"IF($A230<>\"PhD Student\",'PXS Kopieret'!E230,\"\")","v":0},{"$f":"IF($A230=\"PhD Student\",'PXS Kopieret'!F230,\"\")","v":""},{"$f":"'PXS Kopieret'!G230","v":0},{"$f":"'PXS Kopieret'!H230","v":0},{"$f":"IF($A230=\"PhD Student\",'PXS Kopieret'!I230,\"\")","v":""},{"$f":"'PXS Kopieret'!J230","v":0},{"$f":"'PXS Kopieret'!K230","v":0},{"$f":"'PXS Kopieret'!L230","v":0}]
["",{"$f":"IF('PXS Kopieret'!N231<>\"\",HYPERLINK(\"https://ssl1.peoplexs.com/Peoplexs22/eFormportal/eForm.cfm?CandidateUpdateID=\"&'PXS Kopieret'!M231&\"&CandidateUpdateCode=\"&'PXS Kopieret'!N231&\"&Locale=en&CustomFormID=11612\",\"Docs\"),\"\")","v":""},{"$f":"'PXS Kopieret'!A231","v":0},{"$f":"'PXS Kopieret'!B231","v":0},{"$f":"'PXS Kopieret'!C231","v":0},{"$f":"'PXS Kopieret'!D231","v":0},{"$f":"IF($A231<>\"PhD Student\",'PXS Kopieret'!E231,\"\")","v":0},{"$f":"IF($A231=\"PhD Student\",'PXS Kopieret'!F231,\"\")","v":""},{"$f":"'PXS Kopieret'!G231","v":0},{"$f":"'PXS Kopieret'!H231","v":0},{"$f":"IF($A231=\"PhD Student\",'PXS Kopieret'!I231,\"\")","v":""},{"$f":"'PXS Kopieret'!J231","v":0},{"$f":"'PXS Kopieret'!K231","v":0},{"$f":"'PXS Kopieret'!L231","v":0}]
["",{"$f":"IF('PXS Kopieret'!N232<>\"\",HYPERLINK(\"https://ssl1.peoplexs.com/Peoplexs22/eFormportal/eForm.cfm?CandidateUpdateID=\"&'PXS Kopieret'!M232&\"&CandidateUpdateCode=\"&'PXS Kopieret'!N232&\"&Locale=en&CustomFormID=11612\",\"Docs\"),\"\")","v":""},{"$f":"'PXS Kopieret'!A232","v":0},{"$f":"'PXS Kopieret'!B232","v":0},{"$f":"'PXS Kopieret'!C232","v":0},{"$f":"'PXS Kopieret'!D232","v":0},{"$f":"IF($A232<>\"PhD Student\",'PXS Kopieret'!E232,\"\")","v":0},{"$f":"IF($A232=\"PhD Student\",'PXS Kopieret'!F232,\"\")","v":""},{"$f":"'PXS Kopieret'!G232","v":0},{"$f":"'PXS Kopieret'!H232","v":0},{"$f":"IF($A232=\"PhD Student\",'PXS Kopieret'!I232,\"\")","v":""},{"$f":"'PXS Kopieret'!J232","v":0},{"$f":"'PXS Kopieret'!K232","v":0},{"$f":"'PXS Kopieret'!L232","v":0}]
["",{"$f":"IF('PXS Kopieret'!N233<>\"\",HYPERLINK(\"https://ssl1.peoplexs.com/Peoplexs22/eFormportal/eForm.cfm?CandidateUpdateID=\"&'PXS Kopieret'!M233&\"&CandidateUpdateCode=\"&'PXS Kopieret'!N233&\"&Locale=en&CustomFormID=11612\",\"Docs\"),\"\")","v":""},{"$f":"'PXS Kopieret'!A233","v":0},{"$f":"'PXS Kopieret'!B233","v":0},{"$f":"'PXS Kopieret'!C233","v":0},{"$f":"'PXS Kopieret'!D233","v":0},{"$f":"IF($A233<>\"PhD Student\",'PXS Kopieret'!E233,\"\")","v":0},{"$f":"IF($A233=\"PhD Student\",'PXS Kopieret'!F233,\"\")","v":""},{"$f":"'PXS Kopieret'!G233","v":0},{"$f":"'PXS Kopieret'!H233","v":0},{"$f":"IF($A233=\"PhD Student\",'PXS Kopieret'!I233,\"\")","v":""},{"$f":"'PXS Kopieret'!J233","v":0},{"$f":"'PXS Kopieret'!K233","v":0},{"$f":"'PXS Kopieret'!L233","v":0}]
["",{"$f":"IF('PXS Kopieret'!N234<>\"\",HYPERLINK(\"https://ssl1.peoplexs.com/Peoplexs22/eFormportal/eForm.cfm?CandidateUpdateID=\"&'PXS Kopieret'!M234&\"&CandidateUpdateCode=\"&'PXS Kopieret'!N234&\"&Locale=en&CustomFormID=11612\",\"Docs\"),\"\")","v":""},{"$f":"'PXS Kopieret'!A234","v":0},{"$f":"'PXS Kopieret'!B234","v":0},{"$f":"'PXS Kopieret'!C234","v":0},{"$f":"'PXS Kopieret'!D234","v":0},{"$f":"IF($A234<>\"PhD Student\",'PXS Kopieret'!E234,\"\")","v":0},{"$f":"IF($A234=\"PhD Student\",'PXS Kopieret'!F234,\"\")","v":""},{"$f":"'PXS Kopieret'!G234","v":0},{"$f":"'PXS Kopieret'!H234","v":0},{"$f":"IF($A234=\"PhD Student\",'PXS Kopieret'!I234,\"\")","v":""},{"$f":"'PXS Kopieret'!J234","v":0},{"$f":"'PXS Kopieret'!K234","v":0},{"$f":"'PXS Kopieret'!L234","v":0}]
["",{"$f":"IF('PXS Kopieret'!N235<>\"\",HYPERLINK(\"https://ssl1.peoplexs.com/Peoplexs22/eFormportal/eForm.cfm?CandidateUpdateID=\"&'PXS Kopieret'!M235&\"&CandidateUpdateCode=\"&'PXS Kopieret'!N235&\"&Locale=en&CustomFormID=11612\",\"Docs\"),\"\")","v":""},{"$f":"'PXS Kopieret'!A235","v":0},{"$f":"'PXS Kopieret'!B235","v":0},{"$f":"'PXS Kopieret'!C235","v":0},{"$f":"'PXS Kopieret'!D235","v":0},{"$f":"IF($A235<>\"PhD Student\",'PXS Kopieret'!E235,\"\")","v":0},{"$f":"IF($A235=\"PhD Student\",'PXS Kopieret'!F235,\"\")","v":""},{"$f":"'PXS Kopieret'!G235","v":0},{"$f":"'PXS Kopieret'!H235","v":0},{"$f":"IF($A235=\"PhD Student\",'PXS Kopieret'!I235,\"\")","v":""},{"$f":"'PXS Kopieret'!J235","v":0},{"$f":"'PXS Kopieret'!K235","v":0},{"$f":"'PXS Kopieret'!L235","v":0}]
["",{"$f":"IF('PXS Kopieret'!N236<>\"\",HYPERLINK(\"https://ssl1.peoplexs.com/Peoplexs22/eFormportal/eForm.cfm?CandidateUpdateID=\"&'PXS Kopieret'!M236&\"&CandidateUpdateCode=\"&'PXS Kopieret'!N236&\"&Locale=en&CustomFormID=11612\",\"Docs\"),\"\")","v":""},{"$f":"'PXS Kopieret'!A236","v":0},{"$f":"'PXS Kopieret'!B236","v":0},{"$f":"'PXS Kopieret'!C236","v":0},{"$f":"'PXS Kopieret'!D236","v":0},{"$f":"IF($A236<>\"PhD Student\",'PXS Kopieret'!E236,\"\")","v":0},{"$f":"IF($A236=\"PhD Student\",'PXS Kopieret'!F236,\"\")","v":""},{"$f":"'PXS Kopieret'!G236","v":0},{"$f":"'PXS Kopieret'!H236","v":0},{"$f":"IF($A236=\"PhD Student\",'PXS Kopieret'!I236,\"\")","v":""},{"$f":"'PXS Kopieret'!J236","v":0},{"$f":"'PXS Kopieret'!K236","v":0},{"$f":"'PXS Kopieret'!L236","v":0}]
["",{"$f":"IF('PXS Kopieret'!N237<>\"\",HYPERLINK(\"https://ssl1.peoplexs.com/Peoplexs22/eFormportal/eForm.cfm?CandidateUpdateID=\"&'PXS Kopieret'!M237&\"&CandidateUpdateCode=\"&'PXS Kopieret'!N237&\"&Locale=en&CustomFormID=11612\",\"Docs\"),\"\")","v":""},{"$f":"'PXS Kopieret'!A237","v":0},{"$f":"'PXS Kopieret'!B237","v":0},{"$f":"'PXS Kopieret'!C237","v":0},{"$f":"'PXS Kopieret'!D237","v":0},{"$f":"IF($A237<>\"PhD Student\",'PXS Kopieret'!E237,\"\")","v":0},{"$f":"IF($A237=\"PhD Student\",'PXS Kopieret'!F237,\"\")","v":""},{"$f":"'PXS Kopieret'!G237","v":0},{"$f":"'PXS Kopieret'!H237","v":0},{"$f":"IF($A237=\"PhD Student\",'PXS Kopieret'!I237,\"\")","v":""},{"$f":"'PXS Kopieret'!J237","v":0},{"$f":"'PXS Kopieret'!K237","v":0},{"$f":"'PXS Kopieret'!L237","v":0}]
["",{"$f":"IF('PXS Kopieret'!N238<>\"\",HYPERLINK(\"https://ssl1.peoplexs.com/Peoplexs22/eFormportal/eForm.cfm?CandidateUpdateID=\"&'PXS Kopieret'!M238&\"&CandidateUpdateCode=\"&'PXS Kopieret'!N238&\"&Locale=en&CustomFormID=11612\",\"Docs\"),\"\")","v":""},{"$f":"'PXS Kopieret'!A238","v":0},{"$f":"'PXS Kopieret'!B238","v":0},{"$f":"'PXS Kopieret'!C238","v":0},{"$f":"'PXS Kopieret'!D238","v":0},{"$f":"IF($A238<>\"PhD Student\",'PXS Kopieret'!E238,\"\")","v":0},{"$f":"IF($A238=\"PhD Student\",'PXS Kopieret'!F238,\"\")","v":""},{"$f":"'PXS Kopieret'!G238","v":0},{"$f":"'PXS Kopieret'!H238","v":0},{"$f":"IF($A238=\"PhD Student\",'PXS Kopieret'!I238,\"\")","v":""},{"$f":"'PXS Kopieret'!J238","v":0},{"$f":"'PXS Kopieret'!K238","v":0},{"$f":"'PXS Kopieret'!L238","v":0}]
["",{"$f":"IF('PXS Kopieret'!N239<>\"\",HYPERLINK(\"https://ssl1.peoplexs.com/Peoplexs22/eFormportal/eForm.cfm?CandidateUpdateID=\"&'PXS Kopieret'!M239&\"&CandidateUpdateCode=\"&'PXS Kopieret'!N239&\"&Locale=en&CustomFormID=11612\",\"Docs\"),\"\")","v":""},{"$f":"'PXS Kopieret'!A239","v":0},{"$f":"'PXS Kopieret'!B239","v":0},{"$f":"'PXS Kopieret'!C239","v":0},{"$f":"'PXS Kopieret'!D239","v":0},{"$f":"IF($A239<>\"PhD Student\",'PXS Kopieret'!E239,\"\")","v":0},{"$f":"IF($A239=\"PhD Student\",'PXS Kopieret'!F239,\"\")","v":""},{"$f":"'PXS Kopieret'!G239","v":0},{"$f":"'PXS Kopieret'!H239","v":0},{"$f":"IF($A239=\"PhD Student\",'PXS Kopieret'!I239,\"\")","v":""},{"$f":"'PXS Kopieret'!J239","v":0},{"$f":"'PXS Kopieret'!K239","v":0},{"$f":"'PXS Kopieret'!L239","v":0}]
["",{"$f":"IF('PXS Kopieret'!N240<>\"\",HYPERLINK(\"https://ssl1.peoplexs.com/Peoplexs22/eFormportal/eForm.cfm?CandidateUpdateID=\"&'PXS Kopieret'!M240&\"&CandidateUpdateCode=\"&'PXS Kopieret'!N240&\"&Locale=en&CustomFormID=11612\",\"Docs\"),\"\")","v":""},{"$f":"'PXS Kopieret'!A240","v":0},{"$f":"'PXS Kopieret'!B240","v":0},{"$f":"'PXS Kopieret'!C240","v":0},{"$f":"'PXS Kopieret'!D240","v":0},{"$f":"IF($A240<>\"PhD Student\",'PXS Kopieret'!E240,\"\")","v":0},{"$f":"IF($A240=\"PhD Student\",'PXS Kopieret'!F240,\"\")","v":""},{"$f":"'PXS Kopieret'!G240","v":0},{"$f":"'PXS Kopieret'!H240","v":0},{"$f":"IF($A240=\"PhD Student\",'PXS Kopieret'!I240,\"\")","v":""},{"$f":"'PXS Kopieret'!J240","v":0},{"$f":"'PXS Kopieret'!K240","v":0},{"$f":"'PXS Kopieret'!L240","v":0}]
["",{"$f":"IF('PXS Kopieret'!N241<>\"\",HYPERLINK(\"https://ssl1.peoplexs.com/Peoplexs22/eFormportal/eForm.cfm?CandidateUpdateID=\"&'PXS Kopieret'!M241&\"&CandidateUpdateCode=\"&'PXS Kopieret'!N241&\"&Locale=en&CustomFormID=11612\",\"Docs\"),\"\")","v":""},{"$f":"'PXS Kopieret'!A241","v":0},{"$f":"'PXS Kopieret'!B241","v":0},{"$f":"'PXS Kopieret'!C241","v":0},{"$f":"'PXS Kopieret'!D241","v":0},{"$f":"IF($A241<>\"PhD Student\",'PXS Kopieret'!E241,\"\")","v":0},{"$f":"IF($A241=\"PhD Student\",'PXS Kopieret'!F241,\"\")","v":""},{"$f":"'PXS Kopieret'!G241","v":0},{"$f":"'PXS Kopieret'!H241","v":0},{"$f":"IF($A241=\"PhD Student\",'PXS Kopieret'!I241,\"\")","v":""},{"$f":"'PXS Kopieret'!J241","v":0},{"$f":"'PXS Kopieret'!K241","v":0},{"$f":"'PXS Kopieret'!L241","v":0}]
["",{"$f":"IF('PXS Kopieret'!N242<>\"\",HYPERLINK(\"https://ssl1.peoplexs.com/Peoplexs22/eFormportal/eForm.cfm?CandidateUpdateID=\"&'PXS Kopieret'!M242&\"&CandidateUpdateCode=\"&'PXS Kopieret'!N242&\"&Locale=en&CustomFormID=11612\",\"Docs\"),\"\")","v":""},{"$f":"'PXS Kopieret'!A242","v":0},{"$f":"'PXS Kopieret'!B242","v":0},{"$f":"'PXS Kopieret'!C242","v":0},{"$f":"'PXS Kopieret'!D242","v":0},{"$f":"IF($A242<>\"PhD Student\",'PXS Kopieret'!E242,\"\")","v":0},{"$f":"IF($A242=\"PhD Student\",'PXS Kopieret'!F242,\"\")","v":""},{"$f":"'PXS Kopieret'!G242","v":0},{"$f":"'PXS Kopieret'!H242","v":0},{"$f":"IF($A242=\"PhD Student\",'PXS Kopieret'!I242,\"\")","v":""},{"$f":"'PXS Kopieret'!J242","v":0},{"$f":"'PXS Kopieret'!K242","v":0},{"$f":"'PXS Kopieret'!L242","v":0}]
["",{"$f":"IF('PXS Kopieret'!N243<>\"\",HYPERLINK(\"https://ssl1.peoplexs.com/Peoplexs22/eFormportal/eForm.cfm?CandidateUpdateID=\"&'PXS Kopieret'!M243&\"&CandidateUpdateCode=\"&'PXS Kopieret'!N243&\"&Locale=en&CustomFormID=11612\",\"Docs\"),\"\")","v":""},{"$f":"'PXS Kopieret'!A243","v":0},{"$f":"'PXS Kopieret'!B243","v":0},{"$f":"'PXS Kopieret'!C243","v":0},{"$f":"'PXS Kopieret'!D243","v":0},{"$f":"IF($A243<>\"PhD Student\",'PXS Kopieret'!E243,\"\")","v":0},{"$f":"IF($A243=\"PhD Student\",'PXS Kopieret'!F243,\"\")","v":""},{"$f":"'PXS Kopieret'!G243","v":0},{"$f":"'PXS Kopieret'!H243","v":0},{"$f":"IF($A243=\"PhD Student\",'PXS Kopieret'!I243,\"\")","v":""},{"$f":"'PXS Kopieret'!J243","v":0},{"$f":"'PXS Kopieret'!K243","v":0},{"$f":"'PXS Kopieret'!L243","v":0}]
["",{"$f":"IF('PXS Kopieret'!N244<>\"\",HYPERLINK(\"https://ssl1.peoplexs.com/Peoplexs22/eFormportal/eForm.cfm?CandidateUpdateID=\"&'PXS Kopieret'!M244&\"&CandidateUpdateCode=\"&'PXS Kopieret'!N244&\"&Locale=en&CustomFormID=11612\",\"Docs\"),\"\")","v":""},{"$f":"'PXS Kopieret'!A244","v":0},{"$f":"'PXS Kopieret'!B244","v":0},{"$f":"'PXS Kopieret'!C244","v":0},{"$f":"'PXS Kopieret'!D244","v":0},{"$f":"IF($A244<>\"PhD Student\",'PXS Kopieret'!E244,\"\")","v":0},{"$f":"IF($A244=\"PhD Student\",'PXS Kopieret'!F244,\"\")","v":""},{"$f":"'PXS Kopieret'!G244","v":0},{"$f":"'PXS Kopieret'!H244","v":0},{"$f":"IF($A244=\"PhD Student\",'PXS Kopieret'!I244,\"\")","v":""},{"$f":"'PXS Kopieret'!J244","v":0},{"$f":"'PXS Kopieret'!K244","v":0},{"$f":"'PXS Kopieret'!L244","v":0}]
["",{"$f":"IF('PXS Kopieret'!N245<>\"\",HYPERLINK(\"https://ssl1.peoplexs.com/Peoplexs22/eFormportal/eForm.cfm?CandidateUpdateID=\"&'PXS Kopieret'!M245&\"&CandidateUpdateCode=\"&'PXS Kopieret'!N245&\"&Locale=en&CustomFormID=11612\",\"Docs\"),\"\")","v":""},{"$f":"'PXS Kopieret'!A245","v":0},{"$f":"'PXS Kopieret'!B245","v":0},{"$f":"'PXS Kopieret'!C245","v":0},{"$f":"'PXS Kopieret'!D245","v":0},{"$f":"IF($A245<>\"PhD Student\",'PXS Kopieret'!E245,\"\")","v":0},{"$f":"IF($A245=\"PhD Student\",'PXS Kopieret'!F245,\"\")","v":""},{"$f":"'PXS Kopieret'!G245","v":0},{"$f":"'PXS Kopieret'!H245","v":0},{"$f":"IF($A245=\"PhD Student\",'PXS Kopieret'!I245,\"\")","v":""},{"$f":"'PXS Kopieret'!J245","v":0},{"$f":"'PXS Kopieret'!K245","v":0},{"$f":"'PXS Kopieret'!L245","v":0}]
["",{"$f":"IF('PXS Kopieret'!N246<>\"\",HYPERLINK(\"https://ssl1.peoplexs.com/Peoplexs22/eFormportal/eForm.cfm?CandidateUpdateID=\"&'PXS Kopieret'!M246&\"&CandidateUpdateCode=\"&'PXS Kopieret'!N246&\"&Locale=en&CustomFormID=11612\",\"Docs\"),\"\")","v":""},{"$f":"'PXS Kopieret'!A246","v":0},{"$f":"'PXS Kopieret'!B246","v":0},{"$f":"'PXS Kopieret'!C246","v":0},{"$f":"'PXS Kopieret'!D246","v":0},{"$f":"IF($A246<>\"PhD Student\",'PXS Kopieret'!E246,\"\")","v":0},{"$f":"IF($A246=\"PhD Student\",'PXS Kopieret'!F246,\"\")","v":""},{"$f":"'PXS Kopieret'!G246","v":0},{"$f":"'PXS Kopieret'!H246","v":0},{"$f":"IF($A246=\"PhD Student\",'PXS Kopieret'!I246,\"\")","v":""},{"$f":"'PXS Kopieret'!J246","v":0},{"$f":"'PXS Kopieret'!K246","v":0},{"$f":"'PXS Kopieret'!L246","v":0}]
["",{"$f":"IF('PXS Kopieret'!N247<>\"\",HYPERLINK(\"https://ssl1.peoplexs.com/Peoplexs22/eFormportal/eForm.cfm?CandidateUpdateID=\"&'PXS Kopieret'!M247&\"&CandidateUpdateCode=\"&'PXS Kopieret'!N247&\"&Locale=en&CustomFormID=11612\",\"Docs\"),\"\")","v":""},{"$f":"'PXS Kopieret'!A247","v":0},{"$f":"'PXS Kopieret'!B247","v":0},{"$f":"'PXS Kopieret'!C247","v":0},{"$f":"'PXS Kopieret'!D247","v":0},{"$f":"IF($A247<>\"PhD Student\",'PXS Kopieret'!E247,\"\")","v":0},{"$f":"IF($A247=\"PhD Student\",'PXS Kopieret'!F247,\"\")","v":""},{"$f":"'PXS Kopieret'!G247","v":0},{"$f":"'PXS Kopieret'!H247","v":0},{"$f":"IF($A247=\"PhD Student\",'PXS Kopieret'!I247,\"\")","v":""},{"$f":"'PXS Kopieret'!J247","v":0},{"$f":"'PXS Kopieret'!K247","v":0},{"$f":"'PXS Kopieret'!L247","v":0}]
["",{"$f":"IF('PXS Kopieret'!N248<>\"\",HYPERLINK(\"https://ssl1.peoplexs.com/Peoplexs22/eFormportal/eForm.cfm?CandidateUpdateID=\"&'PXS Kopieret'!M248&\"&CandidateUpdateCode=\"&'PXS Kopieret'!N248&\"&Locale=en&CustomFormID=11612\",\"Docs\"),\"\")","v":""},{"$f":"'PXS Kopieret'!A248","v":0},{"$f":"'PXS Kopieret'!B248","v":0},{"$f":"'PXS Kopieret'!C248","v":0},{"$f":"'PXS Kopieret'!D248","v":0},{"$f":"IF($A248<>\"PhD Student\",'PXS Kopieret'!E248,\"\")","v":0},{"$f":"IF($A248=\"PhD Student\",'PXS Kopieret'!F248,\"\")","v":""},{"$f":"'PXS Kopieret'!G248","v":0},{"$f":"'PXS Kopieret'!H248","v":0},{"$f":"IF($A248=\"PhD Student\",'PXS Kopieret'!I248,\"\")","v":""},{"$f":"'PXS Kopieret'!J248","v":0},{"$f":"'PXS Kopieret'!K248","v":0},{"$f":"'PXS Kopieret'!L248","v":0}]
["",{"$f":"IF('PXS Kopieret'!N249<>\"\",HYPERLINK(\"https://ssl1.peoplexs.com/Peoplexs22/eFormportal/eForm.cfm?CandidateUpdateID=\"&'PXS Kopieret'!M249&\"&CandidateUpdateCode=\"&'PXS Kopieret'!N249&\"&Locale=en&CustomFormID=11612\",\"Docs\"),\"\")","v":""},{"$f":"'PXS Kopieret'!A249","v":0},{"$f":"'PXS Kopieret'!B249","v":0},{"$f":"'PXS Kopieret'!C249","v":0},{"$f":"'PXS Kopieret'!D249","v":0},{"$f":"IF($A249<>\"PhD Student\",'PXS Kopieret'!E249,\"\")","v":0},{"$f":"IF($A249=\"PhD Student\",'PXS Kopieret'!F249,\"\")","v":""},{"$f":"'PXS Kopieret'!G249","v":0},{"$f":"'PXS Kopieret'!H249","v":0},{"$f":"IF($A249=\"PhD Student\",'PXS Kopieret'!I249,\"\")","v":""},{"$f":"'PXS Kopieret'!J249","v":0},{"$f":"'PXS Kopieret'!K249","v":0},{"$f":"'PXS Kopieret'!L249","v":0}]
["",{"$f":"IF('PXS Kopieret'!N250<>\"\",HYPERLINK(\"https://ssl1.peoplexs.com/Peoplexs22/eFormportal/eForm.cfm?CandidateUpdateID=\"&'PXS Kopieret'!M250&\"&CandidateUpdateCode=\"&'PXS Kopieret'!N250&\"&Locale=en&CustomFormID=11612\",\"Docs\"),\"\")","v":""},{"$f":"'PXS Kopieret'!A250","v":0},{"$f":"'PXS Kopieret'!B250","v":0},{"$f":"'PXS Kopieret'!C250","v":0},{"$f":"'PXS Kopieret'!D250","v":0},{"$f":"IF($A250<>\"PhD Student\",'PXS Kopieret'!E250,\"\")","v":0},{"$f":"IF($A250=\"PhD Student\",'PXS Kopieret'!F250,\"\")","v":""},{"$f":"'PXS Kopieret'!G250","v":0},{"$f":"'PXS Kopieret'!H250","v":0},{"$f":"IF($A250=\"PhD Student\",'PXS Kopieret'!I250,\"\")","v":""},{"$f":"'PXS Kopieret'!J250","v":0},{"$f":"'PXS Kopieret'!K250","v":0},{"$f":"'PXS Kopieret'!L250","v":0}]
["",{"$f":"IF('PXS Kopieret'!N251<>\"\",HYPERLINK(\"https://ssl1.peoplexs.com/Peoplexs22/eFormportal/eForm.cfm?CandidateUpdateID=\"&'PXS Kopieret'!M251&\"&CandidateUpdateCode=\"&'PXS Kopieret'!N251&\"&Locale=en&CustomFormID=11612\",\"Docs\"),\"\")","v":""},{"$f":"'PXS Kopieret'!A251","v":0},{"$f":"'PXS Kopieret'!B251","v":0},{"$f":"'PXS Kopieret'!C251","v":0},{"$f":"'PXS Kopieret'!D251","v":0},{"$f":"IF($A251<>\"PhD Student\",'PXS Kopieret'!E251,\"\")","v":0},{"$f":"IF($A251=\"PhD Student\",'PXS Kopieret'!F251,\"\")","v":""},{"$f":"'PXS Kopieret'!G251","v":0},{"$f":"'PXS Kopieret'!H251","v":0},{"$f":"IF($A251=\"PhD Student\",'PXS Kopieret'!I251,\"\")","v":""},{"$f":"'PXS Kopieret'!J251","v":0},{"$f":"'PXS Kopieret'!K251","v":0},{"$f":"'PXS Kopieret'!L251","v":0}]
["",{"$f":"IF('PXS Kopieret'!N252<>\"\",HYPERLINK(\"https://ssl1.peoplexs.com/Peoplexs22/eFormportal/eForm.cfm?CandidateUpdateID=\"&'PXS Kopieret'!M252&\"&CandidateUpdateCode=\"&'PXS Kopieret'!N252&\"&Locale=en&CustomFormID=11612\",\"Docs\"),\"\")","v":""},{"$f":"'PXS Kopieret'!A252","v":0},{"$f":"'PXS Kopieret'!B252","v":0},{"$f":"'PXS Kopieret'!C252","v":0},{"$f":"'PXS Kopieret'!D252","v":0},{"$f":"IF($A252<>\"PhD Student\",'PXS Kopieret'!E252,\"\")","v":0},{"$f":"IF($A252=\"PhD Student\",'PXS Kopieret'!F252,\"\")","v":""},{"$f":"'PXS Kopieret'!G252","v":0},{"$f":"'PXS Kopieret'!H252","v":0},{"$f":"IF($A252=\"PhD Student\",'PXS Kopieret'!I252,\"\")","v":""},{"$f":"'PXS Kopieret'!J252","v":0},{"$f":"'PXS Kopieret'!K252","v":0},{"$f":"'PXS Kopieret'!L252","v":0}]
["",{"$f":"IF('PXS Kopieret'!N253<>\"\",HYPERLINK(\"https://ssl1.peoplexs.com/Peoplexs22/eFormportal/eForm.cfm?CandidateUpdateID=\"&'PXS Kopieret'!M253&\"&CandidateUpdateCode=\"&'PXS Kopieret'!N253&\"&Locale=en&CustomFormID=11612\",\"Docs\"),\"\")","v":""},{"$f":"'PXS Kopieret'!A253","v":0},{"$f":"'PXS Kopieret'!B253","v":0},{"$f":"'PXS Kopieret'!C253","v":0},{"$f":"'PXS Kopieret'!D253","v":0},{"$f":"IF($A253<>\"PhD Student\",'PXS Kopieret'!E253,\"\")","v":0},{"$f":"IF($A253=\"PhD Student\",'PXS Kopieret'!F253,\"\")","v":""},{"$f":"'PXS Kopieret'!G253","v":0},{"$f":"'PXS Kopieret'!H253","v":0},{"$f":"IF($A253=\"PhD Student\",'PXS Kopieret'!I253,\"\")","v":""},{"$f":"'PXS Kopieret'!J253","v":0},{"$f":"'PXS Kopieret'!K253","v":0},{"$f":"'PXS Kopieret'!L253","v":0}]
["",{"$f":"IF('PXS Kopieret'!N254<>\"\",HYPERLINK(\"https://ssl1.peoplexs.com/Peoplexs22/eFormportal/eForm.cfm?CandidateUpdateID=\"&'PXS Kopieret'!M254&\"&CandidateUpdateCode=\"&'PXS Kopieret'!N254&\"&Locale=en&CustomFormID=11612\",\"Docs\"),\"\")","v":""},{"$f":"'PXS Kopieret'!A254","v":0},{"$f":"'PXS Kopieret'!B254","v":0},{"$f":"'PXS Kopieret'!C254","v":0},{"$f":"'PXS Kopieret'!D254","v":0},{"$f":"IF($A254<>\"PhD Student\",'PXS Kopieret'!E254,\"\")","v":0},{"$f":"IF($A254=\"PhD Student\",'PXS Kopieret'!F254,\"\")","v":""},{"$f":"'PXS Kopieret'!G254","v":0},{"$f":"'PXS Kopieret'!H254","v":0},{"$f":"IF($A254=\"PhD Student\",'PXS Kopieret'!I254,\"\")","v":""},{"$f":"'PXS Kopieret'!J254","v":0},{"$f":"'PXS Kopieret'!K254","v":0},{"$f":"'PXS Kopieret'!L254","v":0}]
["",{"$f":"IF('PXS Kopieret'!N255<>\"\",HYPERLINK(\"https://ssl1.peoplexs.com/Peoplexs22/eFormportal/eForm.cfm?CandidateUpdateID=\"&'PXS Kopieret'!M255&\"&CandidateUpdateCode=\"&'PXS Kopieret'!N255&\"&Locale=en&CustomFormID=11612\",\"Docs\"),\"\")","v":""},{"$f":"'PXS Kopieret'!A255","v":0},{"$f":"'PXS Kopieret'!B255","v":0},{"$f":"'PXS Kopieret'!C255","v":0},{"$f":"'PXS Kopieret'!D255","v":0},{"$f":"IF($A255<>\"PhD Student\",'PXS Kopieret'!E255,\"\")","v":0},{"$f":"IF($A255=\"PhD Student\",'PXS Kopieret'!F255,\"\")","v":""},{"$f":"'PXS Kopieret'!G255","v":0},{"$f":"'PXS Kopieret'!H255","v":0},{"$f":"IF($A255=\"PhD Student\",'PXS Kopieret'!I255,\"\")","v":""},{"$f":"'PXS Kopieret'!J255","v":0},{"$f":"'PXS Kopieret'!K255","v":0},{"$f":"'PXS Kopieret'!L255","v":0}]
["",{"$f":"IF('PXS Kopieret'!N256<>\"\",HYPERLINK(\"https://ssl1.peoplexs.com/Peoplexs22/eFormportal/eForm.cfm?CandidateUpdateID=\"&'PXS Kopieret'!M256&\"&CandidateUpdateCode=\"&'PXS Kopieret'!N256&\"&Locale=en&CustomFormID=11612\",\"Docs\"),\"\")","v":""},{"$f":"'PXS Kopieret'!A256","v":0},{"$f":"'PXS Kopieret'!B256","v":0},{"$f":"'PXS Kopieret'!C256","v":0},{"$f":"'PXS Kopieret'!D256","v":0},{"$f":"IF($A256<>\"PhD Student\",'PXS Kopieret'!E256,\"\")","v":0},{"$f":"IF($A256=\"PhD Student\",'PXS Kopieret'!F256,\"\")","v":""},{"$f":"'PXS Kopieret'!G256","v":0},{"$f":"'PXS Kopieret'!H256","v":0},{"$f":"IF($A256=\"PhD Student\",'PXS Kopieret'!I256,\"\")","v":""},{"$f":"'PXS Kopieret'!J256","v":0},{"$f":"'PXS Kopieret'!K256","v":0},{"$f":"'PXS Kopieret'!L256","v":0}]
["",{"$f":"IF('PXS Kopieret'!N257<>\"\",HYPERLINK(\"https://ssl1.peoplexs.com/Peoplexs22/eFormportal/eForm.cfm?CandidateUpdateID=\"&'PXS Kopieret'!M257&\"&CandidateUpdateCode=\"&'PXS Kopieret'!N257&\"&Locale=en&CustomFormID=11612\",\"Docs\"),\"\")","v":""},{"$f":"'PXS Kopieret'!A257","v":0},{"$f":"'PXS Kopieret'!B257","v":0},{"$f":"'PXS Kopieret'!C257","v":0},{"$f":"'PXS Kopieret'!D257","v":0},{"$f":"IF($A257<>\"PhD Student\",'PXS Kopieret'!E257,\"\")","v":0},{"$f":"IF($A257=\"PhD Student\",'PXS Kopieret'!F257,\"\")","v":""},{"$f":"'PXS Kopieret'!G257","v":0},{"$f":"'PXS Kopieret'!H257","v":0},{"$f":"IF($A257=\"PhD Student\",'PXS Kopieret'!I257,\"\")","v":""},{"$f":"'PXS Kopieret'!J257","v":0},{"$f":"'PXS Kopieret'!K257","v":0},{"$f":"'PXS Kopieret'!L257","v":0}]
["",{"$f":"IF('PXS Kopieret'!N258<>\"\",HYPERLINK(\"https://ssl1.peoplexs.com/Peoplexs22/eFormportal/eForm.cfm?CandidateUpdateID=\"&'PXS Kopieret'!M258&\"&CandidateUpdateCode=\"&'PXS Kopieret'!N258&\"&Locale=en&CustomFormID=11612\",\"Docs\"),\"\")","v":""},{"$f":"'PXS Kopieret'!A258","v":0},{"$f":"'PXS Kopieret'!B258","v":0},{"$f":"'PXS Kopieret'!C258","v":0},{"$f":"'PXS Kopieret'!D258","v":0},{"$f":"IF($A258<>\"PhD Student\",'PXS Kopieret'!E258,\"\")","v":0},{"$f":"IF($A258=\"PhD Student\",'PXS Kopieret'!F258,\"\")","v":""},{"$f":"'PXS Kopieret'!G258","v":0},{"$f":"'PXS Kopieret'!H258","v":0},{"$f":"IF($A258=\"PhD Student\",'PXS Kopieret'!I258,\"\")","v":""},{"$f":"'PXS Kopieret'!J258","v":0},{"$f":"'PXS Kopieret'!K258","v":0},{"$f":"'PXS Kopieret'!L258","v":0}]
[{"$f":"IF(LEFT(C259,2)=\"RY\", \"Research Year Student\", IF(C259=0,\"\",\"PhD Student\"))","v":""},{"$f":"IF('PXS Kopieret'!N259<>\"\",HYPERLINK(\"https://ssl1.peoplexs.com/Peoplexs22/eFormportal/eForm.cfm?CandidateUpdateID=\"&'PXS Kopieret'!M259&\"&CandidateUpdateCode=\"&'PXS Kopieret'!N259&\"&Locale=en&CustomFormID=11612\",\"Docs\"),\"\")","v":""},{"$f":"'PXS Kopieret'!A259","v":0},{"$f":"'PXS Kopieret'!B259","v":0},{"$f":"'PXS Kopieret'!C259","v":0},{"$f":"'PXS Kopieret'!D259","v":0},{"$f":"IF($A259<>\"PhD Student\",'PXS Kopieret'!E259,\"\")","v":0},{"$f":"IF($A259=\"PhD Student\",'PXS Kopieret'!F259,\"\")","v":""},{"$f":"'PXS Kopieret'!G259","v":0},{"$f":"'PXS Kopieret'!H259","v":0},{"$f":"IF($A259=\"PhD Student\",'PXS Kopieret'!I259,\"\")","v":""},{"$f":"'PXS Kopieret'!J259","v":0},{"$f":"'PXS Kopieret'!K259","v":0},{"$f":"'PXS Kopieret'!L259","v":0}]
["",{"$f":"IF('PXS Kopieret'!N260<>\"\",HYPERLINK(\"https://ssl1.peoplexs.com/Peoplexs22/eFormportal/eForm.cfm?CandidateUpdateID=\"&'PXS Kopieret'!M260&\"&CandidateUpdateCode=\"&'PXS Kopieret'!N260&\"&Locale=en&CustomFormID=11612\",\"Docs\"),\"\")","v":""},{"$f":"'PXS Kopieret'!A260","v":0},{"$f":"'PXS Kopieret'!B260","v":0},{"$f":"'PXS Kopieret'!C260","v":0},{"$f":"'PXS Kopieret'!D260","v":0},{"$f":"IF($A260<>\"PhD Student\",'PXS Kopieret'!E260,\"\")","v":0},{"$f":"IF($A260=\"PhD Student\",'PXS Kopieret'!F260,\"\")","v":""},{"$f":"'PXS Kopieret'!G260","v":0},{"$f":"'PXS Kopieret'!H260","v":0},{"$f":"IF($A260=\"PhD Student\",'PXS Kopieret'!I260,\"\")","v":""},{"$f":"'PXS Kopieret'!J260","v":0},{"$f":"'PXS Kopieret'!K260","v":0},{"$f":"'PXS Kopieret'!L260","v":0}]
["",{"$f":"IF('PXS Kopieret'!N261<>\"\",HYPERLINK(\"https://ssl1.peoplexs.com/Peoplexs22/eFormportal/eForm.cfm?CandidateUpdateID=\"&'PXS Kopieret'!M261&\"&CandidateUpdateCode=\"&'PXS Kopieret'!N261&\"&Locale=en&CustomFormID=11612\",\"Docs\"),\"\")","v":""},{"$f":"'PXS Kopieret'!A261","v":0},{"$f":"'PXS Kopieret'!B261","v":0},{"$f":"'PXS Kopieret'!C261","v":0},{"$f":"'PXS Kopieret'!D261","v":0},{"$f":"IF($A261<>\"PhD Student\",'PXS Kopieret'!E261,\"\")","v":0},{"$f":"IF($A261=\"PhD Student\",'PXS Kopieret'!F261,\"\")","v":""},{"$f":"'PXS Kopieret'!G261","v":0},{"$f":"'PXS Kopieret'!H261","v":0},{"$f":"IF($A261=\"PhD Student\",'PXS Kopieret'!I261,\"\")","v":""},{"$f":"'PXS Kopieret'!J261","v":0},{"$f":"'PXS Kopieret'!K261","v":0},{"$f":"'PXS Kopieret'!L261","v":0}]
["",{"$f":"IF('PXS Kopieret'!N262<>\"\",HYPERLINK(\"https://ssl1.peoplexs.com/Peoplexs22/eFormportal/eForm.cfm?CandidateUpdateID=\"&'PXS Kopieret'!M262&\"&CandidateUpdateCode=\"&'PXS Kopieret'!N262&\"&Locale=en&CustomFormID=11612\",\"Docs\"),\"\")","v":""},{"$f":"'PXS Kopieret'!A262","v":0},{"$f":"'PXS Kopieret'!B262","v":0},{"$f":"'PXS Kopieret'!C262","v":0},{"$f":"'PXS Kopieret'!D262","v":0},{"$f":"IF($A262<>\"PhD Student\",'PXS Kopieret'!E262,\"\")","v":0},{"$f":"IF($A262=\"PhD Student\",'PXS Kopieret'!F262,\"\")","v":""},{"$f":"'PXS Kopieret'!G262","v":0},{"$f":"'PXS Kopieret'!H262","v":0},{"$f":"IF($A262=\"PhD Student\",'PXS Kopieret'!I262,\"\")","v":""},{"$f":"'PXS Kopieret'!J262","v":0},{"$f":"'PXS Kopieret'!K262","v":0},{"$f":"'PXS Kopieret'!L262","v":0}]
["",{"$f":"IF('PXS Kopieret'!N263<>\"\",HYPERLINK(\"https://ssl1.peoplexs.com/Peoplexs22/eFormportal/eForm.cfm?CandidateUpdateID=\"&'PXS Kopieret'!M263&\"&CandidateUpdateCode=\"&'PXS Kopieret'!N263&\"&Locale=en&CustomFormID=11612\",\"Docs\"),\"\")","v":""},{"$f":"'PXS Kopieret'!A263","v":0},{"$f":"'PXS Kopieret'!B263","v":0},{"$f":"'PXS Kopieret'!C263","v":0},{"$f":"'PXS Kopieret'!D263","v":0},{"$f":"IF($A263<>\"PhD Student\",'PXS Kopieret'!E263,\"\")","v":0},{"$f":"IF($A263=\"PhD Student\",'PXS Kopieret'!F263,\"\")","v":""},{"$f":"'PXS Kopieret'!G263","v":0},{"$f":"'PXS Kopieret'!H263","v":0},{"$f":"IF($A263=\"PhD Student\",'PXS Kopieret'!I263,\"\")","v":""},{"$f":"'PXS Kopieret'!J263","v":0},{"$f":"'PXS Kopieret'!K263","v":0},{"$f":"'PXS Kopieret'!L263","v":0}]
["",{"$f":"IF('PXS Kopieret'!N264<>\"\",HYPERLINK(\"https://ssl1.peoplexs.com/Peoplexs22/eFormportal/eForm.cfm?CandidateUpdateID=\"&'PXS Kopieret'!M264&\"&CandidateUpdateCode=\"&'PXS Kopieret'!N264&\"&Locale=en&CustomFormID=11612\",\"Docs\"),\"\")","v":""},{"$f":"'PXS Kopieret'!A264","v":0},{"$f":"'PXS Kopieret'!B264","v":0},{"$f":"'PXS Kopieret'!C264","v":0},{"$f":"'PXS Kopieret'!D264","v":0},{"$f":"IF($A264<>\"PhD Student\",'PXS Kopieret'!E264,\"\")","v":0},{"$f":"IF($A264=\"PhD Student\",'PXS Kopieret'!F264,\"\")","v":""},{"$f":"'PXS Kopieret'!G264","v":0},{"$f":"'PXS Kopieret'!H264","v":0},{"$f":"IF($A264=\"PhD Student\",'PXS Kopieret'!I264,\"\")","v":""},{"$f":"'PXS Kopieret'!J264","v":0},{"$f":"'PXS Kopieret'!K264","v":0},{"$f":"'PXS Kopieret'!L264","v":0}]
["",{"$f":"IF('PXS Kopieret'!N265<>\"\",HYPERLINK(\"https://ssl1.peoplexs.com/Peoplexs22/eFormportal/eForm.cfm?CandidateUpdateID=\"&'PXS Kopieret'!M265&\"&CandidateUpdateCode=\"&'PXS Kopieret'!N265&\"&Locale=en&CustomFormID=11612\",\"Docs\"),\"\")","v":""},{"$f":"'PXS Kopieret'!A265","v":0},{"$f":"'PXS Kopieret'!B265","v":0},{"$f":"'PXS Kopieret'!C265","v":0},{"$f":"'PXS Kopieret'!D265","v":0},{"$f":"IF($A265<>\"PhD Student\",'PXS Kopieret'!E265,\"\")","v":0},{"$f":"IF($A265=\"PhD Student\",'PXS Kopieret'!F265,\"\")","v":""},{"$f":"'PXS Kopieret'!G265","v":0},{"$f":"'PXS Kopieret'!H265","v":0},{"$f":"IF($A265=\"PhD Student\",'PXS Kopieret'!I265,\"\")","v":""},{"$f":"'PXS Kopieret'!J265","v":0},{"$f":"'PXS Kopieret'!K265","v":0},{"$f":"'PXS Kopieret'!L265","v":0}]
["",{"$f":"IF('PXS Kopieret'!N266<>\"\",HYPERLINK(\"https://ssl1.peoplexs.com/Peoplexs22/eFormportal/eForm.cfm?CandidateUpdateID=\"&'PXS Kopieret'!M266&\"&CandidateUpdateCode=\"&'PXS Kopieret'!N266&\"&Locale=en&CustomFormID=11612\",\"Docs\"),\"\")","v":""},{"$f":"'PXS Kopieret'!A266","v":0},{"$f":"'PXS Kopieret'!B266","v":0},{"$f":"'PXS Kopieret'!C266","v":0},{"$f":"'PXS Kopieret'!D266","v":0},{"$f":"IF($A266<>\"PhD Student\",'PXS Kopieret'!E266,\"\")","v":0},{"$f":"IF($A266=\"PhD Student\",'PXS Kopieret'!F266,\"\")","v":""},{"$f":"'PXS Kopieret'!G266","v":0},{"$f":"'PXS Kopieret'!H266","v":0},{"$f":"IF($A266=\"PhD Student\",'PXS Kopieret'!I266,\"\")","v":""},{"$f":"'PXS Kopieret'!J266","v":0},{"$f":"'PXS Kopieret'!K266","v":0},{"$f":"'PXS Kopieret'!L266","v":0}]
["",{"$f":"IF('PXS Kopieret'!N267<>\"\",HYPERLINK(\"https://ssl1.peoplexs.com/Peoplexs22/eFormportal/eForm.cfm?CandidateUpdateID=\"&'PXS Kopieret'!M267&\"&CandidateUpdateCode=\"&'PXS Kopieret'!N267&\"&Locale=en&CustomFormID=11612\",\"Docs\"),\"\")","v":""},{"$f":"'PXS Kopieret'!A267","v":0},{"$f":"'PXS Kopieret'!B267","v":0},{"$f":"'PXS Kopieret'!C267","v":0},{"$f":"'PXS Kopieret'!D267","v":0},{"$f":"IF($A267<>\"PhD Student\",'PXS Kopieret'!E267,\"\")","v":0},{"$f":"IF($A267=\"PhD Student\",'PXS Kopieret'!F267,\"\")","v":""},{"$f":"'PXS Kopieret'!G267","v":0},{"$f":"'PXS Kopieret'!H267","v":0},{"$f":"IF($A267=\"PhD Student\",'PXS Kopieret'!I267,\"\")","v":""},{"$f":"'PXS Kopieret'!J267","v":0},{"$f":"'PXS Kopieret'!K267","v":0},{"$f":"'PXS Kopieret'!L267","v":0}]
["",{"$f":"IF('PXS Kopieret'!N268<>\"\",HYPERLINK(\"https://ssl1.peoplexs.com/Peoplexs22/eFormportal/eForm.cfm?CandidateUpdateID=\"&'PXS Kopieret'!M268&\"&CandidateUpdateCode=\"&'PXS Kopieret'!N268&\"&Locale=en&CustomFormID=11612\",\"Docs\"),\"\")","v":""},{"$f":"'PXS Kopieret'!A268","v":0},{"$f":"'PXS Kopieret'!B268","v":0},{"$f":"'PXS Kopieret'!C268","v":0},{"$f":"'PXS Kopieret'!D268","v":0},{"$f":"IF($A268<>\"PhD Student\",'PXS Kopieret'!E268,\"\")","v":0},{"$f":"IF($A268=\"PhD Student\",'PXS Kopieret'!F268,\"\")","v":""},{"$f":"'PXS Kopieret'!G268","v":0},{"$f":"'PXS Kopieret'!H268","v":0},{"$f":"IF($A268=\"PhD Student\",'PXS Kopieret'!I268,\"\")","v":""},{"$f":"'PXS Kopieret'!J268","v":0},{"$f":"'PXS Kopieret'!K268","v":0},{"$f":"'PXS Kopieret'!L268","v":0}]
["",{"$f":"IF('PXS Kopieret'!N269<>\"\",HYPERLINK(\"https://ssl1.peoplexs.com/Peoplexs22/eFormportal/eForm.cfm?CandidateUpdateID=\"&'PXS Kopieret'!M269&\"&CandidateUpdateCode=\"&'PXS Kopieret'!N269&\"&Locale=en&CustomFormID=11612\",\"Docs\"),\"\")","v":""},{"$f":"'PXS Kopieret'!A269","v":0},{"$f":"'PXS Kopieret'!B269","v":0},{"$f":"'PXS Kopieret'!C269","v":0},{"$f":"'PXS Kopieret'!D269","v":0},{"$f":"IF($A269<>\"PhD Student\",'PXS Kopieret'!E269,\"\")","v":0},{"$f":"IF($A269=\"PhD Student\",'PXS Kopieret'!F269,\"\")","v":""},{"$f":"'PXS Kopieret'!G269","v":0},{"$f":"'PXS Kopieret'!H269","v":0},{"$f":"IF($A269=\"PhD Student\",'PXS Kopieret'!I269,\"\")","v":""},{"$f":"'PXS Kopieret'!J269","v":0},{"$f":"'PXS Kopieret'!K269","v":0},{"$f":"'PXS Kopieret'!L269","v":0}]
["",{"$f":"IF('PXS Kopieret'!N270<>\"\",HYPERLINK(\"https://ssl1.peoplexs.com/Peoplexs22/eFormportal/eForm.cfm?CandidateUpdateID=\"&'PXS Kopieret'!M270&\"&CandidateUpdateCode=\"&'PXS Kopieret'!N270&\"&Locale=en&CustomFormID=11612\",\"Docs\"),\"\")","v":""},{"$f":"'PXS Kopieret'!A270","v":0},{"$f":"'PXS Kopieret'!B270","v":0},{"$f":"'PXS Kopieret'!C270","v":0},{"$f":"'PXS Kopieret'!D270","v":0},{"$f":"IF($A270<>\"PhD Student\",'PXS Kopieret'!E270,\"\")","v":0},{"$f":"IF($A270=\"PhD Student\",'PXS Kopieret'!F270,\"\")","v":""},{"$f":"'PXS Kopieret'!G270","v":0},{"$f":"'PXS Kopieret'!H270","v":0},{"$f":"IF($A270=\"PhD Student\",'PXS Kopieret'!I270,\"\")","v":""},{"$f":"'PXS Kopieret'!J270","v":0},{"$f":"'PXS Kopieret'!K270","v":0},{"$f":"'PXS Kopieret'!L270","v":0}]
["",{"$f":"IF('PXS Kopieret'!N271<>\"\",HYPERLINK(\"https://ssl1.peoplexs.com/Peoplexs22/eFormportal/eForm.cfm?CandidateUpdateID=\"&'PXS Kopieret'!M271&\"&CandidateUpdateCode=\"&'PXS Kopieret'!N271&\"&Locale=en&CustomFormID=11612\",\"Docs\"),\"\")","v":""},{"$f":"'PXS Kopieret'!A271","v":0},{"$f":"'PXS Kopieret'!B271","v":0},{"$f":"'PXS Kopieret'!C271","v":0},{"$f":"'PXS Kopieret'!D271","v":0},{"$f":"IF($A271<>\"PhD Student\",'PXS Kopieret'!E271,\"\")","v":0},{"$f":"IF($A271=\"PhD Student\",'PXS Kopieret'!F271,\"\")","v":""},{"$f":"'PXS Kopieret'!G271","v":0},{"$f":"'PXS Kopieret'!H271","v":0},{"$f":"IF($A271=\"PhD Student\",'PXS Kopieret'!I271,\"\")","v":""},{"$f":"'PXS Kopieret'!J271","v":0},{"$f":"'PXS Kopieret'!K271","v":0},{"$f":"'PXS Kopieret'!L271","v":0}]
["",{"$f":"IF('PXS Kopieret'!N272<>\"\",HYPERLINK(\"https://ssl1.peoplexs.com/Peoplexs22/eFormportal/eForm.cfm?CandidateUpdateID=\"&'PXS Kopieret'!M272&\"&CandidateUpdateCode=\"&'PXS Kopieret'!N272&\"&Locale=en&CustomFormID=11612\",\"Docs\"),\"\")","v":""},{"$f":"'PXS Kopieret'!A272","v":0},{"$f":"'PXS Kopieret'!B272","v":0},{"$f":"'PXS Kopieret'!C272","v":0},{"$f":"'PXS Kopieret'!D272","v":0},{"$f":"IF($A272<>\"PhD Student\",'PXS Kopieret'!E272,\"\")","v":0},{"$f":"IF($A272=\"PhD Student\",'PXS Kopieret'!F272,\"\")","v":""},{"$f":"'PXS Kopieret'!G272","v":0},{"$f":"'PXS Kopieret'!H272","v":0},{"$f":"IF($A272=\"PhD Student\",'PXS Kopieret'!I272,\"\")","v":""},{"$f":"'PXS Kopieret'!J272","v":0},{"$f":"'PXS Kopieret'!K272","v":0},{"$f":"'PXS Kopieret'!L272","v":0}]
["",{"$f":"IF('PXS Kopieret'!N273<>\"\",HYPERLINK(\"https://ssl1.peoplexs.com/Peoplexs22/eFormportal/eForm.cfm?CandidateUpdateID=\"&'PXS Kopieret'!M273&\"&CandidateUpdateCode=\"&'PXS Kopieret'!N273&\"&Locale=en&CustomFormID=11612\",\"Docs\"),\"\")","v":""},{"$f":"'PXS Kopieret'!A273","v":0},{"$f":"'PXS Kopieret'!B273","v":0},{"$f":"'PXS Kopieret'!C273","v":0},{"$f":"'PXS Kopieret'!D273","v":0},{"$f":"IF($A273<>\"PhD Student\",'PXS Kopieret'!E273,\"\")","v":0},{"$f":"IF($A273=\"PhD Student\",'PXS Kopieret'!F273,\"\")","v":""},{"$f":"'PXS Kopieret'!G273","v":0},{"$f":"'PXS Kopieret'!H273","v":0},{"$f":"IF($A273=\"PhD Student\",'PXS Kopieret'!I273,\"\")","v":""},{"$f":"'PXS Kopieret'!J273","v":0},{"$f":"'PXS Kopieret'!K273","v":0},{"$f":"'PXS Kopieret'!L273","v":0}]
["",{"$f":"IF('PXS Kopieret'!N274<>\"\",HYPERLINK(\"https://ssl1.peoplexs.com/Peoplexs22/eFormportal/eForm.cfm?CandidateUpdateID=\"&'PXS Kopieret'!M274&\"&CandidateUpdateCode=\"&'PXS Kopieret'!N274&\"&Locale=en&CustomFormID=11612\",\"Docs\"),\"\")","v":""},{"$f":"'PXS Kopieret'!A274","v":0},{"$f":"'PXS Kopieret'!B274","v":0},{"$f":"'PXS Kopieret'!C274","v":0},{"$f":"'PXS Kopieret'!D274","v":0},{"$f":"IF($A274<>\"PhD Student\",'PXS Kopieret'!E274,\"\")","v":0},{"$f":"IF($A274=\"PhD Student\",'PXS Kopieret'!F274,\"\")","v":""},{"$f":"'PXS Kopieret'!G274","v":0},{"$f":"'PXS Kopieret'!H274","v":0},{"$f":"IF($A274=\"PhD Student\",'PXS Kopieret'!I274,\"\")","v":""},{"$f":"'PXS Kopieret'!J274","v":0},{"$f":"'PXS Kopieret'!K274","v":0},{"$f":"'PXS Kopieret'!L274","v":0}]
["",{"$f":"IF('PXS Kopieret'!N275<>\"\",HYPERLINK(\"https://ssl1.peoplexs.com/Peoplexs22/eFormportal/eForm.cfm?CandidateUpdateID=\"&'PXS Kopieret'!M275&\"&CandidateUpdateCode=\"&'PXS Kopieret'!N275&\"&Locale=en&CustomFormID=11612\",\"Docs\"),\"\")","v":""},{"$f":"'PXS Kopieret'!A275","v":0},{"$f":"'PXS Kopieret'!B275","v":0},{"$f":"'PXS Kopieret'!C275","v":0},{"$f":"'PXS Kopieret'!D275","v":0},{"$f":"IF($A275<>\"PhD Student\",'PXS Kopieret'!E275,\"\")","v":0},{"$f":"IF($A275=\"PhD Student\",'PXS Kopieret'!F275,\"\")","v":""},{"$f":"'PXS Kopieret'!G275","v":0},{"$f":"'PXS Kopieret'!H275","v":0},{"$f":"IF($A275=\"PhD Student\",'PXS Kopieret'!I275,\"\")","v":""},{"$f":"'PXS Kopieret'!J275","v":0},{"$f":"'PXS Kopieret'!K275","v":0},{"$f":"'PXS Kopieret'!L275","v":0}]
["",{"$f":"IF('PXS Kopieret'!N276<>\"\",HYPERLINK(\"https://ssl1.peoplexs.com/Peoplexs22/eFormportal/eForm.cfm?CandidateUpdateID=\"&'PXS Kopieret'!M276&\"&CandidateUpdateCode=\"&'PXS Kopieret'!N276&\"&Locale=en&CustomFormID=11612\",\"Docs\"),\"\")","v":""},{"$f":"'PXS Kopieret'!A276","v":0},{"$f":"'PXS Kopieret'!B276","v":0},{"$f":"'PXS Kopieret'!C276","v":0},{"$f":"'PXS Kopieret'!D276","v":0},{"$f":"IF($A276<>\"PhD Student\",'PXS Kopieret'!E276,\"\")","v":0},{"$f":"IF($A276=\"PhD Student\",'PXS Kopieret'!F276,\"\")","v":""},{"$f":"'PXS Kopieret'!G276","v":0},{"$f":"'PXS Kopieret'!H276","v":0},{"$f":"IF($A276=\"PhD Student\",'PXS Kopieret'!I276,\"\")","v":""},{"$f":"'PXS Kopieret'!J276","v":0},{"$f":"'PXS Kopieret'!K276","v":0},{"$f":"'PXS Kopieret'!L276","v":0}]
["",{"$f":"IF('PXS Kopieret'!N277<>\"\",HYPERLINK(\"https://ssl1.peoplexs.com/Peoplexs22/eFormportal/eForm.cfm?CandidateUpdateID=\"&'PXS Kopieret'!M277&\"&CandidateUpdateCode=\"&'PXS Kopieret'!N277&\"&Locale=en&CustomFormID=11612\",\"Docs\"),\"\")","v":""},{"$f":"'PXS Kopieret'!A277","v":0},{"$f":"'PXS Kopieret'!B277","v":0},{"$f":"'PXS Kopieret'!C277","v":0},{"$f":"'PXS Kopieret'!D277","v":0},{"$f":"IF($A277<>\"PhD Student\",'PXS Kopieret'!E277,\"\")","v":0},{"$f":"IF($A277=\"PhD Student\",'PXS Kopieret'!F277,\"\")","v":""},{"$f":"'PXS Kopieret'!G277","v":0},{"$f":"'PXS Kopieret'!H277","v":0},{"$f":"IF($A277=\"PhD Student\",'PXS Kopieret'!I277,\"\")","v":""},{"$f":"'PXS Kopieret'!J277","v":0},{"$f":"'PXS Kopieret'!K277","v":0},{"$f":"'PXS Kopieret'!L277","v":0}]
["",{"$f":"IF('PXS Kopieret'!N278<>\"\",HYPERLINK(\"https://ssl1.peoplexs.com/Peoplexs22/eFormportal/eForm.cfm?CandidateUpdateID=\"&'PXS Kopieret'!M278&\"&CandidateUpdateCode=\"&'PXS Kopieret'!N278&\"&Locale=en&CustomFormID=11612\",\"Docs\"),\"\")","v":""},{"$f":"'PXS Kopieret'!A278","v":0},{"$f":"'PXS Kopieret'!B278","v":0},{"$f":"'PXS Kopieret'!C278","v":0},{"$f":"'PXS Kopieret'!D278","v":0},{"$f":"IF($A278<>\"PhD Student\",'PXS Kopieret'!E278,\"\")","v":0},{"$f":"IF($A278=\"PhD Student\",'PXS Kopieret'!F278,\"\")","v":""},{"$f":"'PXS Kopieret'!G278","v":0},{"$f":"'PXS Kopieret'!H278","v":0},{"$f":"IF($A278=\"PhD Student\",'PXS Kopieret'!I278,\"\")","v":""},{"$f":"'PXS Kopieret'!J278","v":0},{"$f":"'PXS Kopieret'!K278","v":0},{"$f":"'PXS Kopieret'!L278","v":0}]
["",{"$f":"IF('PXS Kopieret'!N279<>\"\",HYPERLINK(\"https://ssl1.peoplexs.com/Peoplexs22/eFormportal/eForm.cfm?CandidateUpdateID=\"&'PXS Kopieret'!M279&\"&CandidateUpdateCode=\"&'PXS Kopieret'!N279&\"&Locale=en&CustomFormID=11612\",\"Docs\"),\"\")","v":""},{"$f":"'PXS Kopieret'!A279","v":0},{"$f":"'PXS Kopieret'!B279","v":0},{"$f":"'PXS Kopieret'!C279","v":0},{"$f":"'PXS Kopieret'!D279","v":0},{"$f":"IF($A279<>\"PhD Student\",'PXS Kopieret'!E279,\"\")","v":0},{"$f":"IF($A279=\"PhD Student\",'PXS Kopieret'!F279,\"\")","v":""},{"$f":"'PXS Kopieret'!G279","v":0},{"$f":"'PXS Kopieret'!H279","v":0},{"$f":"IF($A279=\"PhD Student\",'PXS Kopieret'!I279,\"\")","v":""},{"$f":"'PXS Kopieret'!J279","v":0},{"$f":"'PXS Kopieret'!K279","v":0},{"$f":"'PXS Kopieret'!L279","v":0}]
["",{"$f":"IF('PXS Kopieret'!N280<>\"\",HYPERLINK(\"https://ssl1.peoplexs.com/Peoplexs22/eFormportal/eForm.cfm?CandidateUpdateID=\"&'PXS Kopieret'!M280&\"&CandidateUpdateCode=\"&'PXS Kopieret'!N280&\"&Locale=en&CustomFormID=11612\",\"Docs\"),\"\")","v":""},{"$f":"'PXS Kopieret'!A280","v":0},{"$f":"'PXS Kopieret'!B280","v":0},{"$f":"'PXS Kopieret'!C280","v":0},{"$f":"'PXS Kopieret'!D280","v":0},{"$f":"IF($A280<>\"PhD Student\",'PXS Kopieret'!E280,\"\")","v":0},{"$f":"IF($A280=\"PhD Student\",'PXS Kopieret'!F280,\"\")","v":""},{"$f":"'PXS Kopieret'!G280","v":0},{"$f":"'PXS Kopieret'!H280","v":0},{"$f":"IF($A280=\"PhD Student\",'PXS Kopieret'!I280,\"\")","v":""},{"$f":"'PXS Kopieret'!J280","v":0},{"$f":"'PXS Kopieret'!K280","v":0},{"$f":"'PXS Kopieret'!L280","v":0}]
["",{"$f":"IF('PXS Kopieret'!N281<>\"\",HYPERLINK(\"https://ssl1.peoplexs.com/Peoplexs22/eFormportal/eForm.cfm?CandidateUpdateID=\"&'PXS Kopieret'!M281&\"&CandidateUpdateCode=\"&'PXS Kopieret'!N281&\"&Locale=en&CustomFormID=11612\",\"Docs\"),\"\")","v":""},{"$f":"'PXS Kopieret'!A281","v":0},{"$f":"'PXS Kopieret'!B281","v":0},{"$f":"'PXS Kopieret'!C281","v":0},{"$f":"'PXS Kopieret'!D281","v":0},{"$f":"IF($A281<>\"PhD Student\",'PXS Kopieret'!E281,\"\")","v":0},{"$f":"IF($A281=\"PhD Student\",'PXS Kopieret'!F281,\"\")","v":""},{"$f":"'PXS Kopieret'!G281","v":0},{"$f":"'PXS Kopieret'!H281","v":0},{"$f":"IF($A281=\"PhD Student\",'PXS Kopieret'!I281,\"\")","v":""},{"$f":"'PXS Kopieret'!J281","v":0},{"$f":"'PXS Kopieret'!K281","v":0},{"$f":"'PXS Kopieret'!L281","v":0}]
["",{"$f":"IF('PXS Kopieret'!N282<>\"\",HYPERLINK(\"https://ssl1.peoplexs.com/Peoplexs22/eFormportal/eForm.cfm?CandidateUpdateID=\"&'PXS Kopieret'!M282&\"&CandidateUpdateCode=\"&'PXS Kopieret'!N282&\"&Locale=en&CustomFormID=11612\",\"Docs\"),\"\")","v":""},{"$f":"'PXS Kopieret'!A282","v":0},{"$f":"'PXS Kopieret'!B282","v":0},{"$f":"'PXS Kopieret'!C282","v":0},{"$f":"'PXS Kopieret'!D282","v":0},{"$f":"IF($A282<>\"PhD Student\",'PXS Kopieret'!E282,\"\")","v":0},{"$f":"IF($A282=\"PhD Student\",'PXS Kopieret'!F282,\"\")","v":""},{"$f":"'PXS Kopieret'!G282","v":0},{"$f":"'PXS Kopieret'!H282","v":0},{"$f":"IF($A282=\"PhD Student\",'PXS Kopieret'!I282,\"\")","v":""},{"$f":"'PXS Kopieret'!J282","v":0},{"$f":"'PXS Kopieret'!K282","v":0},{"$f":"'PXS Kopieret'!L282","v":0}]
["",{"$f":"IF('PXS Kopieret'!N283<>\"\",HYPERLINK(\"https://ssl1.peoplexs.com/Peoplexs22/eFormportal/eForm.cfm?CandidateUpdateID=\"&'PXS Kopieret'!M283&\"&CandidateUpdateCode=\"&'PXS Kopieret'!N283&\"&Locale=en&CustomFormID=11612\",\"Docs\"),\"\")","v":""},{"$f":"'PXS Kopieret'!A283","v":0},{"$f":"'PXS Kopieret'!B283","v":0},{"$f":"'PXS Kopieret'!C283","v":0},{"$f":"'PXS Kopieret'!D283","v":0},{"$f":"IF($A283<>\"PhD Student\",'PXS Kopieret'!E283,\"\")","v":0},{"$f":"IF($A283=\"PhD Student\",'PXS Kopieret'!F283,\"\")","v":""},{"$f":"'PXS Kopieret'!G283","v":0},{"$f":"'PXS Kopieret'!H283","v":0},{"$f":"IF($A283=\"PhD Student\",'PXS Kopieret'!I283,\"\")","v":""},{"$f":"'PXS Kopieret'!J283","v":0},{"$f":"'PXS Kopieret'!K283","v":0},{"$f":"'PXS Kopieret'!L283","v":0}]
["",{"$f":"IF('PXS Kopieret'!N284<>\"\",HYPERLINK(\"https://ssl1.peoplexs.com/Peoplexs22/eFormportal/eForm.cfm?CandidateUpdateID=\"&'PXS Kopieret'!M284&\"&CandidateUpdateCode=\"&'PXS Kopieret'!N284&\"&Locale=en&CustomFormID=11612\",\"Docs\"),\"\")","v":""},{"$f":"'PXS Kopieret'!A284","v":0},{"$f":"'PXS Kopieret'!B284","v":0},{"$f":"'PXS Kopieret'!C284","v":0},{"$f":"'PXS Kopieret'!D284","v":0},{"$f":"IF($A284<>\"PhD Student\",'PXS Kopieret'!E284,\"\")","v":0},{"$f":"IF($A284=\"PhD Student\",'PXS Kopieret'!F284,\"\")","v":""},{"$f":"'PXS Kopieret'!G284","v":0},{"$f":"'PXS Kopieret'!H284","v":0},{"$f":"IF($A284=\"PhD Student\",'PXS Kopieret'!I284,\"\")","v":""},{"$f":"'PXS Kopieret'!J284","v":0},{"$f":"'PXS Kopieret'!K284","v":0},{"$f":"'PXS Kopieret'!L284","v":0}]
["",{"$f":"IF('PXS Kopieret'!N285<>\"\",HYPERLINK(\"https://ssl1.peoplexs.com/Peoplexs22/eFormportal/eForm.cfm?CandidateUpdateID=\"&'PXS Kopieret'!M285&\"&CandidateUpdateCode=\"&'PXS Kopieret'!N285&\"&Locale=en&CustomFormID=11612\",\"Docs\"),\"\")","v":""},{"$f":"'PXS Kopieret'!A285","v":0},{"$f":"'PXS Kopieret'!B285","v":0},{"$f":"'PXS Kopieret'!C285","v":0},{"$f":"'PXS Kopieret'!D285","v":0},{"$f":"IF($A285<>\"PhD Student\",'PXS Kopieret'!E285,\"\")","v":0},{"$f":"IF($A285=\"PhD Student\",'PXS Kopieret'!F285,\"\")","v":""},{"$f":"'PXS Kopieret'!G285","v":0},{"$f":"'PXS Kopieret'!H285","v":0},{"$f":"IF($A285=\"PhD Student\",'PXS Kopieret'!I285,\"\")","v":""},{"$f":"'PXS Kopieret'!J285","v":0},{"$f":"'PXS Kopieret'!K285","v":0},{"$f":"'PXS Kopieret'!L285","v":0}]
["",{"$f":"IF('PXS Kopieret'!N286<>\"\",HYPERLINK(\"https://ssl1.peoplexs.com/Peoplexs22/eFormportal/eForm.cfm?CandidateUpdateID=\"&'PXS Kopieret'!M286&\"&CandidateUpdateCode=\"&'PXS Kopieret'!N286&\"&Locale=en&CustomFormID=11612\",\"Docs\"),\"\")","v":""},{"$f":"'PXS Kopieret'!A286","v":0},{"$f":"'PXS Kopieret'!B286","v":0},{"$f":"'PXS Kopieret'!C286","v":0},{"$f":"'PXS Kopieret'!D286","v":0},{"$f":"IF($A286<>\"PhD Student\",'PXS Kopieret'!E286,\"\")","v":0},{"$f":"IF($A286=\"PhD Student\",'PXS Kopieret'!F286,\"\")","v":""},{"$f":"'PXS Kopieret'!G286","v":0},{"$f":"'PXS Kopieret'!H286","v":0},{"$f":"IF($A286=\"PhD Student\",'PXS Kopieret'!I286,\"\")","v":""},{"$f":"'PXS Kopieret'!J286","v":0},{"$f":"'PXS Kopieret'!K286","v":0},{"$f":"'PXS Kopieret'!L286","v":0}]
["",{"$f":"IF('PXS Kopieret'!N287<>\"\",HYPERLINK(\"https://ssl1.peoplexs.com/Peoplexs22/eFormportal/eForm.cfm?CandidateUpdateID=\"&'PXS Kopieret'!M287&\"&CandidateUpdateCode=\"&'PXS Kopieret'!N287&\"&Locale=en&CustomFormID=11612\",\"Docs\"),\"\")","v":""},{"$f":"'PXS Kopieret'!A287","v":0},{"$f":"'PXS Kopieret'!B287","v":0},{"$f":"'PXS Kopieret'!C287","v":0},{"$f":"'PXS Kopieret'!D287","v":0},{"$f":"IF($A287<>\"PhD Student\",'PXS Kopieret'!E287,\"\")","v":0},{"$f":"IF($A287=\"PhD Student\",'PXS Kopieret'!F287,\"\")","v":""},{"$f":"'PXS Kopieret'!G287","v":0},{"$f":"'PXS Kopieret'!H287","v":0},{"$f":"IF($A287=\"PhD Student\",'PXS Kopieret'!I287,\"\")","v":""},{"$f":"'PXS Kopieret'!J287","v":0},{"$f":"'PXS Kopieret'!K287","v":0},{"$f":"'PXS Kopieret'!L287","v":0}]
["",{"$f":"IF('PXS Kopieret'!N288<>\"\",HYPERLINK(\"https://ssl1.peoplexs.com/Peoplexs22/eFormportal/eForm.cfm?CandidateUpdateID=\"&'PXS Kopieret'!M288&\"&CandidateUpdateCode=\"&'PXS Kopieret'!N288&\"&Locale=en&CustomFormID=11612\",\"Docs\"),\"\")","v":""},{"$f":"'PXS Kopieret'!A288","v":0},{"$f":"'PXS Kopieret'!B288","v":0},{"$f":"'PXS Kopieret'!C288","v":0},{"$f":"'PXS Kopieret'!D288","v":0},{"$f":"IF($A288<>\"PhD Student\",'PXS Kopieret'!E288,\"\")","v":0},{"$f":"IF($A288=\"PhD Student\",'PXS Kopieret'!F288,\"\")","v":""},{"$f":"'PXS Kopieret'!G288","v":0},{"$f":"'PXS Kopieret'!H288","v":0},{"$f":"IF($A288=\"PhD Student\",'PXS Kopieret'!I288,\"\")","v":""},{"$f":"'PXS Kopieret'!J288","v":0},{"$f":"'PXS Kopieret'!K288","v":0},{"$f":"'PXS Kopieret'!L288","v":0}]
["",{"$f":"IF('PXS Kopieret'!N289<>\"\",HYPERLINK(\"https://ssl1.peoplexs.com/Peoplexs22/eFormportal/eForm.cfm?CandidateUpdateID=\"&'PXS Kopieret'!M289&\"&CandidateUpdateCode=\"&'PXS Kopieret'!N289&\"&Locale=en&CustomFormID=11612\",\"Docs\"),\"\")","v":""},{"$f":"'PXS Kopieret'!A289","v":0},{"$f":"'PXS Kopieret'!B289","v":0},{"$f":"'PXS Kopieret'!C289","v":0},{"$f":"'PXS Kopieret'!D289","v":0},{"$f":"IF($A289<>\"PhD Student\",'PXS Kopieret'!E289,\"\")","v":0},{"$f":"IF($A289=\"PhD Student\",'PXS Kopieret'!F289,\"\")","v":""},{"$f":"'PXS Kopieret'!G289","v":0},{"$f":"'PXS Kopieret'!H289","v":0},{"$f":"IF($A289=\"PhD Student\",'PXS Kopieret'!I289,\"\")","v":""},{"$f":"'PXS Kopieret'!J289","v":0},{"$f":"'PXS Kopieret'!K289","v":0},{"$f":"'PXS Kopieret'!L289","v":0}]
["",{"$f":"IF('PXS Kopieret'!N290<>\"\",HYPERLINK(\"https://ssl1.peoplexs.com/Peoplexs22/eFormportal/eForm.cfm?CandidateUpdateID=\"&'PXS Kopieret'!M290&\"&CandidateUpdateCode=\"&'PXS Kopieret'!N290&\"&Locale=en&CustomFormID=11612\",\"Docs\"),\"\")","v":""},{"$f":"'PXS Kopieret'!A290","v":0},{"$f":"'PXS Kopieret'!B290","v":0},{"$f":"'PXS Kopieret'!C290","v":0},{"$f":"'PXS Kopieret'!D290","v":0},{"$f":"IF($A290<>\"PhD Student\",'PXS Kopieret'!E290,\"\")","v":0},{"$f":"IF($A290=\"PhD Student\",'PXS Kopieret'!F290,\"\")","v":""},{"$f":"'PXS Kopieret'!G290","v":0},{"$f":"'PXS Kopieret'!H290","v":0},{"$f":"IF($A290=\"PhD Student\",'PXS Kopieret'!I290,\"\")","v":""},{"$f":"'PXS Kopieret'!J290","v":0},{"$f":"'PXS Kopieret'!K290","v":0},{"$f":"'PXS Kopieret'!L290","v":0}]
["",{"$f":"IF('PXS Kopieret'!N291<>\"\",HYPERLINK(\"https://ssl1.peoplexs.com/Peoplexs22/eFormportal/eForm.cfm?CandidateUpdateID=\"&'PXS Kopieret'!M291&\"&CandidateUpdateCode=\"&'PXS Kopieret'!N291&\"&Locale=en&CustomFormID=11612\",\"Docs\"),\"\")","v":""},{"$f":"'PXS Kopieret'!A291","v":0},{"$f":"'PXS Kopieret'!B291","v":0},{"$f":"'PXS Kopieret'!C291","v":0},{"$f":"'PXS Kopieret'!D291","v":0},{"$f":"IF($A291<>\"PhD Student\",'PXS Kopieret'!E291,\"\")","v":0},{"$f":"IF($A291=\"PhD Student\",'PXS Kopieret'!F291,\"\")","v":""},{"$f":"'PXS Kopieret'!G291","v":0},{"$f":"'PXS Kopieret'!H291","v":0},{"$f":"IF($A291=\"PhD Student\",'PXS Kopieret'!I291,\"\")","v":""},{"$f":"'PXS Kopieret'!J291","v":0},{"$f":"'PXS Kopieret'!K291","v":0},{"$f":"'PXS Kopieret'!L291","v":0}]
["",{"$f":"IF('PXS Kopieret'!N292<>\"\",HYPERLINK(\"https://ssl1.peoplexs.com/Peoplexs22/eFormportal/eForm.cfm?CandidateUpdateID=\"&'PXS Kopieret'!M292&\"&CandidateUpdateCode=\"&'PXS Kopieret'!N292&\"&Locale=en&CustomFormID=11612\",\"Docs\"),\"\")","v":""},{"$f":"'PXS Kopieret'!A292","v":0},{"$f":"'PXS Kopieret'!B292","v":0},{"$f":"'PXS Kopieret'!C292","v":0},{"$f":"'PXS Kopieret'!D292","v":0},{"$f":"IF($A292<>\"PhD Student\",'PXS Kopieret'!E292,\"\")","v":0},{"$f":"IF($A292=\"PhD Student\",'PXS Kopieret'!F292,\"\")","v":""},{"$f":"'PXS Kopieret'!G292","v":0},{"$f":"'PXS Kopieret'!H292","v":0},{"$f":"IF($A292=\"PhD Student\",'PXS Kopieret'!I292,\"\")","v":""},{"$f":"'PXS Kopieret'!J292","v":0},{"$f":"'PXS Kopieret'!K292","v":0},{"$f":"'PXS Kopieret'!L292","v":0}]
["",{"$f":"IF('PXS Kopieret'!N293<>\"\",HYPERLINK(\"https://ssl1.peoplexs.com/Peoplexs22/eFormportal/eForm.cfm?CandidateUpdateID=\"&'PXS Kopieret'!M293&\"&CandidateUpdateCode=\"&'PXS Kopieret'!N293&\"&Locale=en&CustomFormID=11612\",\"Docs\"),\"\")","v":""},{"$f":"'PXS Kopieret'!A293","v":0},{"$f":"'PXS Kopieret'!B293","v":0},{"$f":"'PXS Kopieret'!C293","v":0},{"$f":"'PXS Kopieret'!D293","v":0},{"$f":"IF($A293<>\"PhD Student\",'PXS Kopieret'!E293,\"\")","v":0},{"$f":"IF($A293=\"PhD Student\",'PXS Kopieret'!F293,\"\")","v":""},{"$f":"'PXS Kopieret'!G293","v":0},{"$f":"'PXS Kopieret'!H293","v":0},{"$f":"IF($A293=\"PhD Student\",'PXS Kopieret'!I293,\"\")","v":""},{"$f":"'PXS Kopieret'!J293","v":0},{"$f":"'PXS Kopieret'!K293","v":0},{"$f":"'PXS Kopieret'!L293","v":0}]
["",{"$f":"IF('PXS Kopieret'!N294<>\"\",HYPERLINK(\"https://ssl1.peoplexs.com/Peoplexs22/eFormportal/eForm.cfm?CandidateUpdateID=\"&'PXS Kopieret'!M294&\"&CandidateUpdateCode=\"&'PXS Kopieret'!N294&\"&Locale=en&CustomFormID=11612\",\"Docs\"),\"\")","v":""},{"$f":"'PXS Kopieret'!A294","v":0},{"$f":"'PXS Kopieret'!B294","v":0},{"$f":"'PXS Kopieret'!C294","v":0},{"$f":"'PXS Kopieret'!D294","v":0},{"$f":"IF($A294<>\"PhD Student\",'PXS Kopieret'!E294,\"\")","v":0},{"$f":"IF($A294=\"PhD Student\",'PXS Kopieret'!F294,\"\")","v":""},{"$f":"'PXS Kopieret'!G294","v":0},{"$f":"'PXS Kopieret'!H294","v":0},{"$f":"IF($A294=\"PhD Student\",'PXS Kopieret'!I294,\"\")","v":""},{"$f":"'PXS Kopieret'!J294","v":0},{"$f":"'PXS Kopieret'!K294","v":0},{"$f":"'PXS Kopieret'!L294","v":0}]
["",{"$f":"IF('PXS Kopieret'!N295<>\"\",HYPERLINK(\"https://ssl1.peoplexs.com/Peoplexs22/eFormportal/eForm.cfm?CandidateUpdateID=\"&'PXS Kopieret'!M295&\"&CandidateUpdateCode=\"&'PXS Kopieret'!N295&\"&Locale=en&CustomFormID=11612\",\"Docs\"),\"\")","v":""},{"$f":"'PXS Kopieret'!A295","v":0},{"$f":"'PXS Kopieret'!B295","v":0},{"$f":"'PXS Kopieret'!C295","v":0},{"$f":"'PXS Kopieret'!D295","v":0},{"$f":"IF($A295<>\"PhD Student\",'PXS Kopieret'!E295,\"\")","v":0},{"$f":"IF($A295=\"PhD Student\",'PXS Kopieret'!F295,\"\")","v":""},{"$f":"'PXS Kopieret'!G295","v":0},{"$f":"'PXS Kopieret'!H295","v":0},{"$f":"IF($A295=\"PhD Student\",'PXS Kopieret'!I295,\"\")","v":""},{"$f":"'PXS Kopieret'!J295","v":0},{"$f":"'PXS Kopieret'!K295","v":0},{"$f":"'PXS Kopieret'!L295","v":0}]
["",{"$f":"IF('PXS Kopieret'!N296<>\"\",HYPERLINK(\"https://ssl1.peoplexs.com/Peoplexs22/eFormportal/eForm.cfm?CandidateUpdateID=\"&'PXS Kopieret'!M296&\"&CandidateUpdateCode=\"&'PXS Kopieret'!N296&\"&Locale=en&CustomFormID=11612\",\"Docs\"),\"\")","v":""},{"$f":"'PXS Kopieret'!A296","v":0},{"$f":"'PXS Kopieret'!B296","v":0},{"$f":"'PXS Kopieret'!C296","v":0},{"$f":"'PXS Kopieret'!D296","v":0},{"$f":"IF($A296<>\"PhD Student\",'PXS Kopieret'!E296,\"\")","v":0},{"$f":"IF($A296=\"PhD Student\",'PXS Kopieret'!F296,\"\")","v":""},{"$f":"'PXS Kopieret'!G296","v":0},{"$f":"'PXS Kopieret'!H296","v":0},{"$f":"IF($A296=\"PhD Student\",'PXS Kopieret'!I296,\"\")","v":""},{"$f":"'PXS Kopieret'!J296","v":0},{"$f":"'PXS Kopieret'!K296","v":0},{"$f":"'PXS Kopieret'!L296","v":0}]
["",{"$f":"IF('PXS Kopieret'!N297<>\"\",HYPERLINK(\"https://ssl1.peoplexs.com/Peoplexs22/eFormportal/eForm.cfm?CandidateUpdateID=\"&'PXS Kopieret'!M297&\"&CandidateUpdateCode=\"&'PXS Kopieret'!N297&\"&Locale=en&CustomFormID=11612\",\"Docs\"),\"\")","v":""},{"$f":"'PXS Kopieret'!A297","v":0},{"$f":"'PXS Kopieret'!B297","v":0},{"$f":"'PXS Kopieret'!C297","v":0},{"$f":"'PXS Kopieret'!D297","v":0},{"$f":"IF($A297<>\"PhD Student\",'PXS Kopieret'!E297,\"\")","v":0},{"$f":"IF($A297=\"PhD Student\",'PXS Kopieret'!F297,\"\")","v":""},{"$f":"'PXS Kopieret'!G297","v":0},{"$f":"'PXS Kopieret'!H297","v":0},{"$f":"IF($A297=\"PhD Student\",'PXS Kopieret'!I297,\"\")","v":""},{"$f":"'PXS Kopieret'!J297","v":0},{"$f":"'PXS Kopieret'!K297","v":0},{"$f":"'PXS Kopieret'!L297","v":0}]
["",{"$f":"IF('PXS Kopieret'!N298<>\"\",HYPERLINK(\"https://ssl1.peoplexs.com/Peoplexs22/eFormportal/eForm.cfm?CandidateUpdateID=\"&'PXS Kopieret'!M298&\"&CandidateUpdateCode=\"&'PXS Kopieret'!N298&\"&Locale=en&CustomFormID=11612\",\"Docs\"),\"\")","v":""},{"$f":"'PXS Kopieret'!A298","v":0},{"$f":"'PXS Kopieret'!B298","v":0},{"$f":"'PXS Kopieret'!C298","v":0},{"$f":"'PXS Kopieret'!D298","v":0},{"$f":"IF($A298<>\"PhD Student\",'PXS Kopieret'!E298,\"\")","v":0},{"$f":"IF($A298=\"PhD Student\",'PXS Kopieret'!F298,\"\")","v":""},{"$f":"'PXS Kopieret'!G298","v":0},{"$f":"'PXS Kopieret'!H298","v":0},{"$f":"IF($A298=\"PhD Student\",'PXS Kopieret'!I298,\"\")","v":""},{"$f":"'PXS Kopieret'!J298","v":0},{"$f":"'PXS Kopieret'!K298","v":0},{"$f":"'PXS Kopieret'!L298","v":0}]
["",{"$f":"IF('PXS Kopieret'!N299<>\"\",HYPERLINK(\"https://ssl1.peoplexs.com/Peoplexs22/eFormportal/eForm.cfm?CandidateUpdateID=\"&'PXS Kopieret'!M299&\"&CandidateUpdateCode=\"&'PXS Kopieret'!N299&\"&Locale=en&CustomFormID=11612\",\"Docs\"),\"\")","v":""},{"$f":"'PXS Kopieret'!A299","v":0},{"$f":"'PXS Kopieret'!B299","v":0},{"$f":"'PXS Kopieret'!C299","v":0},{"$f":"'PXS Kopieret'!D299","v":0},{"$f":"IF($A299<>\"PhD Student\",'PXS Kopieret'!E299,\"\")","v":0},{"$f":"IF($A299=\"PhD Student\",'PXS Kopieret'!F299,\"\")","v":""},{"$f":"'PXS Kopieret'!G299","v":0},{"$f":"'PXS Kopieret'!H299","v":0},{"$f":"IF($A299=\"PhD Student\",'PXS Kopieret'!I299,\"\")","v":""},{"$f":"'PXS Kopieret'!J299","v":0},{"$f":"'PXS Kopieret'!K299","v":0},{"$f":"'PXS Kopieret'!L299","v":0}]
["",{"$f":"IF('PXS Kopieret'!N300<>\"\",HYPERLINK(\"https://ssl1.peoplexs.com/Peoplexs22/eFormportal/eForm.cfm?CandidateUpdateID=\"&'PXS Kopieret'!M300&\"&CandidateUpdateCode=\"&'PXS Kopieret'!N300&\"&Locale=en&CustomFormID=11612\",\"Docs\"),\"\")","v":""},{"$f":"'PXS Kopieret'!A300","v":0},{"$f":"'PXS Kopieret'!B300","v":0},{"$f":"'PXS Kopieret'!C300","v":0},{"$f":"'PXS Kopieret'!D300","v":0},{"$f":"IF($A300<>\"PhD Student\",'PXS Kopieret'!E300,\"\")","v":0},{"$f":"IF($A300=\"PhD Student\",'PXS Kopieret'!F300,\"\")","v":""},{"$f":"'PXS Kopieret'!G300","v":0},{"$f":"'PXS Kopieret'!H300","v":0},{"$f":"IF($A300=\"PhD Student\",'PXS Kopieret'!I300,\"\")","v":""},{"$f":"'PXS Kopieret'!J300","v":0},{"$f":"'PXS Kopieret'!K300","v":0},{"$f":"'PXS Kopieret'!L300","v":0}]
["",{"$f":"IF('PXS Kopieret'!N301<>\"\",HYPERLINK(\"https://ssl1.peoplexs.com/Peoplexs22/eFormportal/eForm.cfm?CandidateUpdateID=\"&'PXS Kopieret'!M301&\"&CandidateUpdateCode=\"&'PXS Kopieret'!N301&\"&Locale=en&CustomFormID=11612\",\"Docs\"),\"\")","v":""},{"$f":"'PXS Kopieret'!A301","v":0},{"$f":"'PXS Kopieret'!B301","v":0},{"$f":"'PXS Kopieret'!C301","v":0},{"$f":"'PXS Kopieret'!D301","v":0},{"$f":"IF($A301<>\"PhD Student\",'PXS Kopieret'!E301,\"\")","v":0},{"$f":"IF($A301=\"PhD Student\",'PXS Kopieret'!F301,\"\")","v":""},{"$f":"'PXS Kopieret'!G301","v":0},{"$f":"'PXS Kopieret'!H301","v":0},{"$f":"IF($A301=\"PhD Student\",'PXS Kopieret'!I301,\"\")","v":""},{"$f":"'PXS Kopieret'!J301","v":0},{"$f":"'PXS Kopieret'!K301","v":0},{"$f":"'PXS Kopieret'!L301","v":0}]
["",{"$f":"IF('PXS Kopieret'!N302<>\"\",HYPERLINK(\"https://ssl1.peoplexs.com/Peoplexs22/eFormportal/eForm.cfm?CandidateUpdateID=\"&'PXS Kopieret'!M302&\"&CandidateUpdateCode=\"&'PXS Kopieret'!N302&\"&Locale=en&CustomFormID=11612\",\"Docs\"),\"\")","v":""},{"$f":"'PXS Kopieret'!A302","v":0},{"$f":"'PXS Kopieret'!B302","v":0},{"$f":"'PXS Kopieret'!C302","v":0},{"$f":"'PXS Kopieret'!D302","v":0},{"$f":"IF($A302<>\"PhD Student\",'PXS Kopieret'!E302,\"\")","v":0},{"$f":"IF($A302=\"PhD Student\",'PXS Kopieret'!F302,\"\")","v":""},{"$f":"'PXS Kopieret'!G302","v":0},{"$f":"'PXS Kopieret'!H302","v":0},{"$f":"IF($A302=\"PhD Student\",'PXS Kopieret'!I302,\"\")","v":""},{"$f":"'PXS Kopieret'!J302","v":0},{"$f":"'PXS Kopieret'!K302","v":0},{"$f":"'PXS Kopieret'!L302","v":0}]
["",{"$f":"IF('PXS Kopieret'!N303<>\"\",HYPERLINK(\"https://ssl1.peoplexs.com/Peoplexs22/eFormportal/eForm.cfm?CandidateUpdateID=\"&'PXS Kopieret'!M303&\"&CandidateUpdateCode=\"&'PXS Kopieret'!N303&\"&Locale=en&CustomFormID=11612\",\"Docs\"),\"\")","v":""},{"$f":"'PXS Kopieret'!A303","v":0},{"$f":"'PXS Kopieret'!B303","v":0},{"$f":"'PXS Kopieret'!C303","v":0},{"$f":"'PXS Kopieret'!D303","v":0},{"$f":"IF($A303<>\"PhD Student\",'PXS Kopieret'!E303,\"\")","v":0},{"$f":"IF($A303=\"PhD Student\",'PXS Kopieret'!F303,\"\")","v":""},{"$f":"'PXS Kopieret'!G303","v":0},{"$f":"'PXS Kopieret'!H303","v":0},{"$f":"IF($A303=\"PhD Student\",'PXS Kopieret'!I303,\"\")","v":""},{"$f":"'PXS Kopieret'!J303","v":0},{"$f":"'PXS Kopieret'!K303","v":0},{"$f":"'PXS Kopieret'!L303","v":0}]
["",{"$f":"IF('PXS Kopieret'!N304<>\"\",HYPERLINK(\"https://ssl1.peoplexs.com/Peoplexs22/eFormportal/eForm.cfm?CandidateUpdateID=\"&'PXS Kopieret'!M304&\"&CandidateUpdateCode=\"&'PXS Kopieret'!N304&\"&Locale=en&CustomFormID=11612\",\"Docs\"),\"\")","v":""},{"$f":"'PXS Kopieret'!A304","v":0},{"$f":"'PXS Kopieret'!B304","v":0},{"$f":"'PXS Kopieret'!C304","v":0},{"$f":"'PXS Kopieret'!D304","v":0},{"$f":"IF($A304<>\"PhD Student\",'PXS Kopieret'!E304,\"\")","v":0},{"$f":"IF($A304=\"PhD Student\",'PXS Kopieret'!F304,\"\")","v":""},{"$f":"'PXS Kopieret'!G304","v":0},{"$f":"'PXS Kopieret'!H304","v":0},{"$f":"IF($A304=\"PhD Student\",'PXS Kopieret'!I304,\"\")","v":""},{"$f":"'PXS Kopieret'!J304","v":0},{"$f":"'PXS Kopieret'!K304","v":0},{"$f":"'PXS Kopieret'!L304","v":0}]
["",{"$f":"IF('PXS Kopieret'!N305<>\"\",HYPERLINK(\"https://ssl1.peoplexs.com/Peoplexs22/eFormportal/eForm.cfm?CandidateUpdateID=\"&'PXS Kopieret'!M305&\"&CandidateUpdateCode=\"&'PXS Kopieret'!N305&\"&Locale=en&CustomFormID=11612\",\"Docs\"),\"\")","v":""},{"$f":"'PXS Kopieret'!A305","v":0},{"$f":"'PXS Kopieret'!B305","v":0},{"$f":"'PXS Kopieret'!C305","v":0},{"$f":"'PXS Kopieret'!D305","v":0},{"$f":"IF($A305<>\"PhD Student\",'PXS Kopieret'!E305,\"\")","v":0},{"$f":"IF($A305=\"PhD Student\",'PXS Kopieret'!F305,\"\")","v":""},{"$f":"'PXS Kopieret'!G305","v":0},{"$f":"'PXS Kopieret'!H305","v":0},{"$f":"IF($A305=\"PhD Student\",'PXS Kopieret'!I305,\"\")","v":""},{"$f":"'PXS Kopieret'!J305","v":0},{"$f":"'PXS Kopieret'!K305","v":0},{"$f":"'PXS Kopieret'!L305","v":0}]
["",{"$f":"IF('PXS Kopieret'!N306<>\"\",HYPERLINK(\"https://ssl1.peoplexs.com/Peoplexs22/eFormportal/eForm.cfm?CandidateUpdateID=\"&'PXS Kopieret'!M306&\"&CandidateUpdateCode=\"&'PXS Kopieret'!N306&\"&Locale=en&CustomFormID=11612\",\"Docs\"),\"\")","v":""},{"$f":"'PXS Kopieret'!A306","v":0},{"$f":"'PXS Kopieret'!B306","v":0},{"$f":"'PXS Kopieret'!C306","v":0},{"$f":"'PXS Kopieret'!D306","v":0},{"$f":"IF($A306<>\"PhD Student\",'PXS Kopieret'!E306,\"\")","v":0},{"$f":"IF($A306=\"PhD Student\",'PXS Kopieret'!F306,\"\")","v":""},{"$f":"'PXS Kopieret'!G306","v":0},{"$f":"'PXS Kopieret'!H306","v":0},{"$f":"IF($A306=\"PhD Student\",'PXS Kopieret'!I306,\"\")","v":""},{"$f":"'PXS Kopieret'!J306","v":0},{"$f":"'PXS Kopieret'!K306","v":0},{"$f":"'PXS Kopieret'!L306","v":0}]
["",{"$f":"IF('PXS Kopieret'!N307<>\"\",HYPERLINK(\"https://ssl1.peoplexs.com/Peoplexs22/eFormportal/eForm.cfm?CandidateUpdateID=\"&'PXS Kopieret'!M307&\"&CandidateUpdateCode=\"&'PXS Kopieret'!N307&\"&Locale=en&CustomFormID=11612\",\"Docs\"),\"\")","v":""},{"$f":"'PXS Kopieret'!A307","v":0},{"$f":"'PXS Kopieret'!B307","v":0},{"$f":"'PXS Kopieret'!C307","v":0},{"$f":"'PXS Kopieret'!D307","v":0},{"$f":"IF($A307<>\"PhD Student\",'PXS Kopieret'!E307,\"\")","v":0},{"$f":"IF($A307=\"PhD Student\",'PXS Kopieret'!F307,\"\")","v":""},{"$f":"'PXS Kopieret'!G307","v":0},{"$f":"'PXS Kopieret'!H307","v":0},{"$f":"IF($A307=\"PhD Student\",'PXS Kopieret'!I307,\"\")","v":""},{"$f":"'PXS Kopieret'!J307","v":0},{"$f":"'PXS Kopieret'!K307","v":0},{"$f":"'PXS Kopieret'!L307","v":0}]
["",{"$f":"IF('PXS Kopieret'!N308<>\"\",HYPERLINK(\"https://ssl1.peoplexs.com/Peoplexs22/eFormportal/eForm.cfm?CandidateUpdateID=\"&'PXS Kopieret'!M308&\"&CandidateUpdateCode=\"&'PXS Kopieret'!N308&\"&Locale=en&CustomFormID=11612\",\"Docs\"),\"\")","v":""},{"$f":"'PXS Kopieret'!A308","v":0},{"$f":"'PXS Kopieret'!B308","v":0},{"$f":"'PXS Kopieret'!C308","v":0},{"$f":"'PXS Kopieret'!D308","v":0},{"$f":"IF($A308<>\"PhD Student\",'PXS Kopieret'!E308,\"\")","v":0},{"$f":"IF($A308=\"PhD Student\",'PXS Kopieret'!F308,\"\")","v":""},{"$f":"'PXS Kopieret'!G308","v":0},{"$f":"'PXS Kopieret'!H308","v":0},{"$f":"IF($A308=\"PhD Student\",'PXS Kopieret'!I308,\"\")","v":""},{"$f":"'PXS Kopieret'!J308","v":0},{"$f":"'PXS Kopieret'!K308","v":0},{"$f":"'PXS Kopieret'!L308","v":0}]
["",{"$f":"IF('PXS Kopieret'!N309<>\"\",HYPERLINK(\"https://ssl1.peoplexs.com/Peoplexs22/eFormportal/eForm.cfm?CandidateUpdateID=\"&'PXS Kopieret'!M309&\"&CandidateUpdateCode=\"&'PXS Kopieret'!N309&\"&Locale=en&CustomFormID=11612\",\"Docs\"),\"\")","v":""},{"$f":"'PXS Kopieret'!A309","v":0},{"$f":"'PXS Kopieret'!B309","v":0},{"$f":"'PXS Kopieret'!C309","v":0},{"$f":"'PXS Kopieret'!D309","v":0},{"$f":"IF($A309<>\"PhD Student\",'PXS Kopieret'!E309,\"\")","v":0},{"$f":"IF($A309=\"PhD Student\",'PXS Kopieret'!F309,\"\")","v":""},{"$f":"'PXS Kopieret'!G309","v":0},{"$f":"'PXS Kopieret'!H309","v":0},{"$f":"IF($A309=\"PhD Student\",'PXS Kopieret'!I309,\"\")","v":""},{"$f":"'PXS Kopieret'!J309","v":0},{"$f":"'PXS Kopieret'!K309","v":0},{"$f":"'PXS Kopieret'!L309","v":0}]
["",{"$f":"IF('PXS Kopieret'!N310<>\"\",HYPERLINK(\"https://ssl1.peoplexs.com/Peoplexs22/eFormportal/eForm.cfm?CandidateUpdateID=\"&'PXS Kopieret'!M310&\"&CandidateUpdateCode=\"&'PXS Kopieret'!N310&\"&Locale=en&CustomFormID=11612\",\"Docs\"),\"\")","v":""},{"$f":"'PXS Kopieret'!A310","v":0},{"$f":"'PXS Kopieret'!B310","v":0},{"$f":"'PXS Kopieret'!C310","v":0},{"$f":"'PXS Kopieret'!D310","v":0},{"$f":"IF($A310<>\"PhD Student\",'PXS Kopieret'!E310,\"\")","v":0},{"$f":"IF($A310=\"PhD Student\",'PXS Kopieret'!F310,\"\")","v":""},{"$f":"'PXS Kopieret'!G310","v":0},{"$f":"'PXS Kopieret'!H310","v":0},{"$f":"IF($A310=\"PhD Student\",'PXS Kopieret'!I310,\"\")","v":""},{"$f":"'PXS Kopieret'!J310","v":0},{"$f":"'PXS Kopieret'!K310","v":0},{"$f":"'PXS Kopieret'!L310","v":0}]
["",{"$f":"IF('PXS Kopieret'!N311<>\"\",HYPERLINK(\"https://ssl1.peoplexs.com/Peoplexs22/eFormportal/eForm.cfm?CandidateUpdateID=\"&'PXS Kopieret'!M311&\"&CandidateUpdateCode=\"&'PXS Kopieret'!N311&\"&Locale=en&CustomFormID=11612\",\"Docs\"),\"\")","v":""},{"$f":"'PXS Kopieret'!A311","v":0},{"$f":"'PXS Kopieret'!B311","v":0},{"$f":"'PXS Kopieret'!C311","v":0},{"$f":"'PXS Kopieret'!D311","v":0},{"$f":"IF($A311<>\"PhD Student\",'PXS Kopieret'!E311,\"\")","v":0},{"$f":"IF($A311=\"PhD Student\",'PXS Kopieret'!F311,\"\")","v":""},{"$f":"'PXS Kopieret'!G311","v":0},{"$f":"'PXS Kopieret'!H311","v":0},{"$f":"IF($A311=\"PhD Student\",'PXS Kopieret'!I311,\"\")","v":""},{"$f":"'PXS Kopieret'!J311","v":0},{"$f":"'PXS Kopieret'!K311","v":0},{"$f":"'PXS Kopieret'!L311","v":0}]
["",{"$f":"IF('PXS Kopieret'!N312<>\"\",HYPERLINK(\"https://ssl1.peoplexs.com/Peoplexs22/eFormportal/eForm.cfm?CandidateUpdateID=\"&'PXS Kopieret'!M312&\"&CandidateUpdateCode=\"&'PXS Kopieret'!N312&\"&Locale=en&CustomFormID=11612\",\"Docs\"),\"\")","v":""},{"$f":"'PXS Kopieret'!A312","v":0},{"$f":"'PXS Kopieret'!B312","v":0},{"$f":"'PXS Kopieret'!C312","v":0},{"$f":"'PXS Kopieret'!D312","v":0},{"$f":"IF($A312<>\"PhD Student\",'PXS Kopieret'!E312,\"\")","v":0},{"$f":"IF($A312=\"PhD Student\",'PXS Kopieret'!F312,\"\")","v":""},{"$f":"'PXS Kopieret'!G312","v":0},{"$f":"'PXS Kopieret'!H312","v":0},{"$f":"IF($A312=\"PhD Student\",'PXS Kopieret'!I312,\"\")","v":""},{"$f":"'PXS Kopieret'!J312","v":0},{"$f":"'PXS Kopieret'!K312","v":0},{"$f":"'PXS Kopieret'!L312","v":0}]
["",{"$f":"IF('PXS Kopieret'!N313<>\"\",HYPERLINK(\"https://ssl1.peoplexs.com/Peoplexs22/eFormportal/eForm.cfm?CandidateUpdateID=\"&'PXS Kopieret'!M313&\"&CandidateUpdateCode=\"&'PXS Kopieret'!N313&\"&Locale=en&CustomFormID=11612\",\"Docs\"),\"\")","v":""},{"$f":"'PXS Kopieret'!A313","v":0},{"$f":"'PXS Kopieret'!B313","v":0},{"$f":"'PXS Kopieret'!C313","v":0},{"$f":"'PXS Kopieret'!D313","v":0},{"$f":"IF($A313<>\"PhD Student\",'PXS Kopieret'!E313,\"\")","v":0},{"$f":"IF($A313=\"PhD Student\",'PXS Kopieret'!F313,\"\")","v":""},{"$f":"'PXS Kopieret'!G313","v":0},{"$f":"'PXS Kopieret'!H313","v":0},{"$f":"IF($A313=\"PhD Student\",'PXS Kopieret'!I313,\"\")","v":""},{"$f":"'PXS Kopieret'!J313","v":0},{"$f":"'PXS Kopieret'!K313","v":0},{"$f":"'PXS Kopieret'!L313","v":0}]
["",{"$f":"IF('PXS Kopieret'!N314<>\"\",HYPERLINK(\"https://ssl1.peoplexs.com/Peoplexs22/eFormportal/eForm.cfm?CandidateUpdateID=\"&'PXS Kopieret'!M314&\"&CandidateUpdateCode=\"&'PXS Kopieret'!N314&\"&Locale=en&CustomFormID=11612\",\"Docs\"),\"\")","v":""},{"$f":"'PXS Kopieret'!A314","v":0},{"$f":"'PXS Kopieret'!B314","v":0},{"$f":"'PXS Kopieret'!C314","v":0},{"$f":"'PXS Kopieret'!D314","v":0},{"$f":"IF($A314<>\"PhD Student\",'PXS Kopieret'!E314,\"\")","v":0},{"$f":"IF($A314=\"PhD Student\",'PXS Kopieret'!F314,\"\")","v":""},{"$f":"'PXS Kopieret'!G314","v":0},{"$f":"'PXS Kopieret'!H314","v":0},{"$f":"IF($A314=\"PhD Student\",'PXS Kopieret'!I314,\"\")","v":""},{"$f":"'PXS Kopieret'!J314","v":0},{"$f":"'PXS Kopieret'!K314","v":0},{"$f":"'PXS Kopieret'!L314","v":0}]
["",{"$f":"IF('PXS Kopieret'!N315<>\"\",HYPERLINK(\"https://ssl1.peoplexs.com/Peoplexs22/eFormportal/eForm.cfm?CandidateUpdateID=\"&'PXS Kopieret'!M315&\"&CandidateUpdateCode=\"&'PXS Kopieret'!N315&\"&Locale=en&CustomFormID=11612\",\"Docs\"),\"\")","v":""},{"$f":"'PXS Kopieret'!A315","v":0},{"$f":"'PXS Kopieret'!B315","v":0},{"$f":"'PXS Kopieret'!C315","v":0},{"$f":"'PXS Kopieret'!D315","v":0},{"$f":"IF($A315<>\"PhD Student\",'PXS Kopieret'!E315,\"\")","v":0},{"$f":"IF($A315=\"PhD Student\",'PXS Kopieret'!F315,\"\")","v":""},{"$f":"'PXS Kopieret'!G315","v":0},{"$f":"'PXS Kopieret'!H315","v":0},{"$f":"IF($A315=\"PhD Student\",'PXS Kopieret'!I315,\"\")","v":""},{"$f":"'PXS Kopieret'!J315","v":0},{"$f":"'PXS Kopieret'!K315","v":0},{"$f":"'PXS Kopieret'!L315","v":0}]
["",{"$f":"IF('PXS Kopieret'!N316<>\"\",HYPERLINK(\"https://ssl1.peoplexs.com/Peoplexs22/eFormportal/eForm.cfm?CandidateUpdateID=\"&'PXS Kopieret'!M316&\"&CandidateUpdateCode=\"&'PXS Kopieret'!N316&\"&Locale=en&CustomFormID=11612\",\"Docs\"),\"\")","v":""},{"$f":"'PXS Kopieret'!A316","v":0},{"$f":"'PXS Kopieret'!B316","v":0},{"$f":"'PXS Kopieret'!C316","v":0},{"$f":"'PXS Kopieret'!D316","v":0},{"$f":"IF($A316<>\"PhD Student\",'PXS Kopieret'!E316,\"\")","v":0},{"$f":"IF($A316=\"PhD Student\",'PXS Kopieret'!F316,\"\")","v":""},{"$f":"'PXS Kopieret'!G316","v":0},{"$f":"'PXS Kopieret'!H316","v":0},{"$f":"IF($A316=\"PhD Student\",'PXS Kopieret'!I316,\"\")","v":""},{"$f":"'PXS Kopieret'!J316","v":0},{"$f":"'PXS Kopieret'!K316","v":0},{"$f":"'PXS Kopieret'!L316","v":0}]
["",{"$f":"IF('PXS Kopieret'!N317<>\"\",HYPERLINK(\"https://ssl1.peoplexs.com/Peoplexs22/eFormportal/eForm.cfm?CandidateUpdateID=\"&'PXS Kopieret'!M317&\"&CandidateUpdateCode=\"&'PXS Kopieret'!N317&\"&Locale=en&CustomFormID=11612\",\"Docs\"),\"\")","v":""},{"$f":"'PXS Kopieret'!A317","v":0},{"$f":"'PXS Kopieret'!B317","v":0},{"$f":"'PXS Kopieret'!C317","v":0},{"$f":"'PXS Kopieret'!D317","v":0},{"$f":"IF($A317<>\"PhD Student\",'PXS Kopieret'!E317,\"\")","v":0},{"$f":"IF($A317=\"PhD Student\",'PXS Kopieret'!F317,\"\")","v":""},{"$f":"'PXS Kopieret'!G317","v":0},{"$f":"'PXS Kopieret'!H317","v":0},{"$f":"IF($A317=\"PhD Student\",'PXS Kopieret'!I317,\"\")","v":""},{"$f":"'PXS Kopieret'!J317","v":0},{"$f":"'PXS Kopieret'!K317","v":0},{"$f":"'PXS Kopieret'!L317","v":0}]
["",{"$f":"IF('PXS Kopieret'!N318<>\"\",HYPERLINK(\"https://ssl1.peoplexs.com/Peoplexs22/eFormportal/eForm.cfm?CandidateUpdateID=\"&'PXS Kopieret'!M318&\"&CandidateUpdateCode=\"&'PXS Kopieret'!N318&\"&Locale=en&CustomFormID=11612\",\"Docs\"),\"\")","v":""},{"$f":"'PXS Kopieret'!A318","v":0},{"$f":"'PXS Kopieret'!B318","v":0},{"$f":"'PXS Kopieret'!C318","v":0},{"$f":"'PXS Kopieret'!D318","v":0},{"$f":"IF($A318<>\"PhD Student\",'PXS Kopieret'!E318,\"\")","v":0},{"$f":"IF($A318=\"PhD Student\",'PXS Kopieret'!F318,\"\")","v":""},{"$f":"'PXS Kopieret'!G318","v":0},{"$f":"'PXS Kopieret'!H318","v":0},{"$f":"IF($A318=\"PhD Student\",'PXS Kopieret'!I318,\"\")","v":""},{"$f":"'PXS Kopieret'!J318","v":0},{"$f":"'PXS Kopieret'!K318","v":0},{"$f":"'PXS Kopieret'!L318","v":0}]
["",{"$f":"IF('PXS Kopieret'!N319<>\"\",HYPERLINK(\"https://ssl1.peoplexs.com/Peoplexs22/eFormportal/eForm.cfm?CandidateUpdateID=\"&'PXS Kopieret'!M319&\"&CandidateUpdateCode=\"&'PXS Kopieret'!N319&\"&Locale=en&CustomFormID=11612\",\"Docs\"),\"\")","v":""},{"$f":"'PXS Kopieret'!A319","v":0},{"$f":"'PXS Kopieret'!B319","v":0},{"$f":"'PXS Kopieret'!C319","v":0},{"$f":"'PXS Kopieret'!D319","v":0},{"$f":"IF($A319<>\"PhD Student\",'PXS Kopieret'!E319,\"\")","v":0},{"$f":"IF($A319=\"PhD Student\",'PXS Kopieret'!F319,\"\")","v":""},{"$f":"'PXS Kopieret'!G319","v":0},{"$f":"'PXS Kopieret'!H319","v":0},{"$f":"IF($A319=\"PhD Student\",'PXS Kopieret'!I319,\"\")","v":""},{"$f":"'PXS Kopieret'!J319","v":0},{"$f":"'PXS Kopieret'!K319","v":0},{"$f":"'PXS Kopieret'!L319","v":0}]
["",{"$f":"IF('PXS Kopieret'!N320<>\"\",HYPERLINK(\"https://ssl1.peoplexs.com/Peoplexs22/eFormportal/eForm.cfm?CandidateUpdateID=\"&'PXS Kopieret'!M320&\"&CandidateUpdateCode=\"&'PXS Kopieret'!N320&\"&Locale=en&CustomFormID=11612\",\"Docs\"),\"\")","v":""},{"$f":"'PXS Kopieret'!A320","v":0},{"$f":"'PXS Kopieret'!B320","v":0},{"$f":"'PXS Kopieret'!C320","v":0},{"$f":"'PXS Kopieret'!D320","v":0},{"$f":"IF($A320<>\"PhD Student\",'PXS Kopieret'!E320,\"\")","v":0},{"$f":"IF($A320=\"PhD Student\",'PXS Kopieret'!F320,\"\")","v":""},{"$f":"'PXS Kopieret'!G320","v":0},{"$f":"'PXS Kopieret'!H320","v":0},{"$f":"IF($A320=\"PhD Student\",'PXS Kopieret'!I320,\"\")","v":""},{"$f":"'PXS Kopieret'!J320","v":0},{"$f":"'PXS Kopieret'!K320","v":0},{"$f":"'PXS Kopieret'!L320","v":0}]
["",{"$f":"IF('PXS Kopieret'!N321<>\"\",HYPERLINK(\"https://ssl1.peoplexs.com/Peoplexs22/eFormportal/eForm.cfm?CandidateUpdateID=\"&'PXS Kopieret'!M321&\"&CandidateUpdateCode=\"&'PXS Kopieret'!N321&\"&Locale=en&CustomFormID=11612\",\"Docs\"),\"\")","v":""},{"$f":"'PXS Kopieret'!A321","v":0},{"$f":"'PXS Kopieret'!B321","v":0},{"$f":"'PXS Kopieret'!C321","v":0},{"$f":"'PXS Kopieret'!D321","v":0},{"$f":"IF($A321<>\"PhD Student\",'PXS Kopieret'!E321,\"\")","v":0},{"$f":"IF($A321=\"PhD Student\",'PXS Kopieret'!F321,\"\")","v":""},{"$f":"'PXS Kopieret'!G321","v":0},{"$f":"'PXS Kopieret'!H321","v":0},{"$f":"IF($A321=\"PhD Student\",'PXS Kopieret'!I321,\"\")","v":""},{"$f":"'PXS Kopieret'!J321","v":0},{"$f":"'PXS Kopieret'!K321","v":0},{"$f":"'PXS Kopieret'!L321","v":0}]
["",{"$f":"IF('PXS Kopieret'!N322<>\"\",HYPERLINK(\"https://ssl1.peoplexs.com/Peoplexs22/eFormportal/eForm.cfm?CandidateUpdateID=\"&'PXS Kopieret'!M322&\"&CandidateUpdateCode=\"&'PXS Kopieret'!N322&\"&Locale=en&CustomFormID=11612\",\"Docs\"),\"\")","v":""},{"$f":"'PXS Kopieret'!A322","v":0},{"$f":"'PXS Kopieret'!B322","v":0},{"$f":"'PXS Kopieret'!C322","v":0},{"$f":"'PXS Kopieret'!D322","v":0},{"$f":"IF($A322<>\"PhD Student\",'PXS Kopieret'!E322,\"\")","v":0},{"$f":"IF($A322=\"PhD Student\",'PXS Kopieret'!F322,\"\")","v":""},{"$f":"'PXS Kopieret'!G322","v":0},{"$f":"'PXS Kopieret'!H322","v":0},{"$f":"IF($A322=\"PhD Student\",'PXS Kopieret'!I322,\"\")","v":""},{"$f":"'PXS Kopieret'!J322","v":0},{"$f":"'PXS Kopieret'!K322","v":0},{"$f":"'PXS Kopieret'!L322","v":0}]
[{"$f":"IF(LEFT(C323,2)=\"RY\", \"Research Year Student\", IF(C323=0,\"\",\"PhD Student\"))","v":""},{"$f":"IF('PXS Kopieret'!N323<>\"\",HYPERLINK(\"https://ssl1.peoplexs.com/Peoplexs22/eFormportal/eForm.cfm?CandidateUpdateID=\"&'PXS Kopieret'!M323&\"&CandidateUpdateCode=\"&'PXS Kopieret'!N323&\"&Locale=en&CustomFormID=11612\",\"Docs\"),\"\")","v":""},{"$f":"'PXS Kopieret'!A323","v":0},{"$f":"'PXS Kopieret'!B323","v":0},{"$f":"'PXS Kopieret'!C323","v":0},{"$f":"'PXS Kopieret'!D323","v":0},{"$f":"IF($A323<>\"PhD Student\",'PXS Kopieret'!E323,\"\")","v":0},{"$f":"IF($A323=\"PhD Student\",'PXS Kopieret'!F323,\"\")","v":""},{"$f":"'PXS Kopieret'!G323","v":0},{"$f":"'PXS Kopieret'!H323","v":0},{"$f":"IF($A323=\"PhD Student\",'PXS Kopieret'!I323,\"\")","v":""},{"$f":"'PXS Kopieret'!J323","v":0},{"$f":"'PXS Kopieret'!K323","v":0},{"$f":"'PXS Kopieret'!L323","v":0}]
["",{"$f":"IF('PXS Kopieret'!N324<>\"\",HYPERLINK(\"https://ssl1.peoplexs.com/Peoplexs22/eFormportal/eForm.cfm?CandidateUpdateID=\"&'PXS Kopieret'!M324&\"&CandidateUpdateCode=\"&'PXS Kopieret'!N324&\"&Locale=en&CustomFormID=11612\",\"Docs\"),\"\")","v":""},{"$f":"'PXS Kopieret'!A324","v":0},{"$f":"'PXS Kopieret'!B324","v":0},{"$f":"'PXS Kopieret'!C324","v":0},{"$f":"'PXS Kopieret'!D324","v":0},{"$f":"IF($A324<>\"PhD Student\",'PXS Kopieret'!E324,\"\")","v":0},{"$f":"IF($A324=\"PhD Student\",'PXS Kopieret'!F324,\"\")","v":""},{"$f":"'PXS Kopieret'!G324","v":0},{"$f":"'PXS Kopieret'!H324","v":0},{"$f":"IF($A324=\"PhD Student\",'PXS Kopieret'!I324,\"\")","v":""},{"$f":"'PXS Kopieret'!J324","v":0},{"$f":"'PXS Kopieret'!K324","v":0},{"$f":"'PXS Kopieret'!L324","v":0}]
["",{"$f":"IF('PXS Kopieret'!N325<>\"\",HYPERLINK(\"https://ssl1.peoplexs.com/Peoplexs22/eFormportal/eForm.cfm?CandidateUpdateID=\"&'PXS Kopieret'!M325&\"&CandidateUpdateCode=\"&'PXS Kopieret'!N325&\"&Locale=en&CustomFormID=11612\",\"Docs\"),\"\")","v":""},{"$f":"'PXS Kopieret'!A325","v":0},{"$f":"'PXS Kopieret'!B325","v":0},{"$f":"'PXS Kopieret'!C325","v":0},{"$f":"'PXS Kopieret'!D325","v":0},{"$f":"IF($A325<>\"PhD Student\",'PXS Kopieret'!E325,\"\")","v":0},{"$f":"IF($A325=\"PhD Student\",'PXS Kopieret'!F325,\"\")","v":""},{"$f":"'PXS Kopieret'!G325","v":0},{"$f":"'PXS Kopieret'!H325","v":0},{"$f":"IF($A325=\"PhD Student\",'PXS Kopieret'!I325,\"\")","v":""},{"$f":"'PXS Kopieret'!J325","v":0},{"$f":"'PXS Kopieret'!K325","v":0},{"$f":"'PXS Kopieret'!L325","v":0}]
["",{"$f":"IF('PXS Kopieret'!N326<>\"\",HYPERLINK(\"https://ssl1.peoplexs.com/Peoplexs22/eFormportal/eForm.cfm?CandidateUpdateID=\"&'PXS Kopieret'!M326&\"&CandidateUpdateCode=\"&'PXS Kopieret'!N326&\"&Locale=en&CustomFormID=11612\",\"Docs\"),\"\")","v":""},{"$f":"'PXS Kopieret'!A326","v":0},{"$f":"'PXS Kopieret'!B326","v":0},{"$f":"'PXS Kopieret'!C326","v":0},{"$f":"'PXS Kopieret'!D326","v":0},{"$f":"IF($A326<>\"PhD Student\",'PXS Kopieret'!E326,\"\")","v":0},{"$f":"IF($A326=\"PhD Student\",'PXS Kopieret'!F326,\"\")","v":""},{"$f":"'PXS Kopieret'!G326","v":0},{"$f":"'PXS Kopieret'!H326","v":0},{"$f":"IF($A326=\"PhD Student\",'PXS Kopieret'!I326,\"\")","v":""},{"$f":"'PXS Kopieret'!J326","v":0},{"$f":"'PXS Kopieret'!K326","v":0},{"$f":"'PXS Kopieret'!L326","v":0}]
["",{"$f":"IF('PXS Kopieret'!N327<>\"\",HYPERLINK(\"https://ssl1.peoplexs.com/Peoplexs22/eFormportal/eForm.cfm?CandidateUpdateID=\"&'PXS Kopieret'!M327&\"&CandidateUpdateCode=\"&'PXS Kopieret'!N327&\"&Locale=en&CustomFormID=11612\",\"Docs\"),\"\")","v":""},{"$f":"'PXS Kopieret'!A327","v":0},{"$f":"'PXS Kopieret'!B327","v":0},{"$f":"'PXS Kopieret'!C327","v":0},{"$f":"'PXS Kopieret'!D327","v":0},{"$f":"IF($A327<>\"PhD Student\",'PXS Kopieret'!E327,\"\")","v":0},{"$f":"IF($A327=\"PhD Student\",'PXS Kopieret'!F327,\"\")","v":""},{"$f":"'PXS Kopieret'!G327","v":0},{"$f":"'PXS Kopieret'!H327","v":0},{"$f":"IF($A327=\"PhD Student\",'PXS Kopieret'!I327,\"\")","v":""},{"$f":"'PXS Kopieret'!J327","v":0},{"$f":"'PXS Kopieret'!K327","v":0},{"$f":"'PXS Kopieret'!L327","v":0}]
["",{"$f":"IF('PXS Kopieret'!N328<>\"\",HYPERLINK(\"https://ssl1.peoplexs.com/Peoplexs22/eFormportal/eForm.cfm?CandidateUpdateID=\"&'PXS Kopieret'!M328&\"&CandidateUpdateCode=\"&'PXS Kopieret'!N328&\"&Locale=en&CustomFormID=11612\",\"Docs\"),\"\")","v":""},{"$f":"'PXS Kopieret'!A328","v":0},{"$f":"'PXS Kopieret'!B328","v":0},{"$f":"'PXS Kopieret'!C328","v":0},{"$f":"'PXS Kopieret'!D328","v":0},{"$f":"IF($A328<>\"PhD Student\",'PXS Kopieret'!E328,\"\")","v":0},{"$f":"IF($A328=\"PhD Student\",'PXS Kopieret'!F328,\"\")","v":""},{"$f":"'PXS Kopieret'!G328","v":0},{"$f":"'PXS Kopieret'!H328","v":0},{"$f":"IF($A328=\"PhD Student\",'PXS Kopieret'!I328,\"\")","v":""},{"$f":"'PXS Kopieret'!J328","v":0},{"$f":"'PXS Kopieret'!K328","v":0},{"$f":"'PXS Kopieret'!L328","v":0}]
["",{"$f":"IF('PXS Kopieret'!N329<>\"\",HYPERLINK(\"https://ssl1.peoplexs.com/Peoplexs22/eFormportal/eForm.cfm?CandidateUpdateID=\"&'PXS Kopieret'!M329&\"&CandidateUpdateCode=\"&'PXS Kopieret'!N329&\"&Locale=en&CustomFormID=11612\",\"Docs\"),\"\")","v":""},{"$f":"'PXS Kopieret'!A329","v":0},{"$f":"'PXS Kopieret'!B329","v":0},{"$f":"'PXS Kopieret'!C329","v":0},{"$f":"'PXS Kopieret'!D329","v":0},{"$f":"IF($A329<>\"PhD Student\",'PXS Kopieret'!E329,\"\")","v":0},{"$f":"IF($A329=\"PhD Student\",'PXS Kopieret'!F329,\"\")","v":""},{"$f":"'PXS Kopieret'!G329","v":0},{"$f":"'PXS Kopieret'!H329","v":0},{"$f":"IF($A329=\"PhD Student\",'PXS Kopieret'!I329,\"\")","v":""},{"$f":"'PXS Kopieret'!J329","v":0},{"$f":"'PXS Kopieret'!K329","v":0},{"$f":"'PXS Kopieret'!L329","v":0}]
["",{"$f":"IF('PXS Kopieret'!N330<>\"\",HYPERLINK(\"https://ssl1.peoplexs.com/Peoplexs22/eFormportal/eForm.cfm?CandidateUpdateID=\"&'PXS Kopieret'!M330&\"&CandidateUpdateCode=\"&'PXS Kopieret'!N330&\"&Locale=en&CustomFormID=11612\",\"Docs\"),\"\")","v":""},{"$f":"'PXS Kopieret'!A330","v":0},{"$f":"'PXS Kopieret'!B330","v":0},{"$f":"'PXS Kopieret'!C330","v":0},{"$f":"'PXS Kopieret'!D330","v":0},{"$f":"IF($A330<>\"PhD Student\",'PXS Kopieret'!E330,\"\")","v":0},{"$f":"IF($A330=\"PhD Student\",'PXS Kopieret'!F330,\"\")","v":""},{"$f":"'PXS Kopieret'!G330","v":0},{"$f":"'PXS Kopieret'!H330","v":0},{"$f":"IF($A330=\"PhD Student\",'PXS Kopieret'!I330,\"\")","v":""},{"$f":"'PXS Kopieret'!J330","v":0},{"$f":"'PXS Kopieret'!K330","v":0},{"$f":"'PXS Kopieret'!L330","v":0}]
["",{"$f":"IF('PXS Kopieret'!N331<>\"\",HYPERLINK(\"https://ssl1.peoplexs.com/Peoplexs22/eFormportal/eForm.cfm?CandidateUpdateID=\"&'PXS Kopieret'!M331&\"&CandidateUpdateCode=\"&'PXS Kopieret'!N331&\"&Locale=en&CustomFormID=11612\",\"Docs\"),\"\")","v":""},{"$f":"'PXS Kopieret'!A331","v":0},{"$f":"'PXS Kopieret'!B331","v":0},{"$f":"'PXS Kopieret'!C331","v":0},{"$f":"'PXS Kopieret'!D331","v":0},{"$f":"IF($A331<>\"PhD Student\",'PXS Kopieret'!E331,\"\")","v":0},{"$f":"IF($A331=\"PhD Student\",'PXS Kopieret'!F331,\"\")","v":""},{"$f":"'PXS Kopieret'!G331","v":0},{"$f":"'PXS Kopieret'!H331","v":0},{"$f":"IF($A331=\"PhD Student\",'PXS Kopieret'!I331,\"\")","v":""},{"$f":"'PXS Kopieret'!J331","v":0},{"$f":"'PXS Kopieret'!K331","v":0},{"$f":"'PXS Kopieret'!L331","v":0}]
["",{"$f":"IF('PXS Kopieret'!N332<>\"\",HYPERLINK(\"https://ssl1.peoplexs.com/Peoplexs22/eFormportal/eForm.cfm?CandidateUpdateID=\"&'PXS Kopieret'!M332&\"&CandidateUpdateCode=\"&'PXS Kopieret'!N332&\"&Locale=en&CustomFormID=11612\",\"Docs\"),\"\")","v":""},{"$f":"'PXS Kopieret'!A332","v":0},{"$f":"'PXS Kopieret'!B332","v":0},{"$f":"'PXS Kopieret'!C332","v":0},{"$f":"'PXS Kopieret'!D332","v":0},{"$f":"IF($A332<>\"PhD Student\",'PXS Kopieret'!E332,\"\")","v":0},{"$f":"IF($A332=\"PhD Student\",'PXS Kopieret'!F332,\"\")","v":""},{"$f":"'PXS Kopieret'!G332","v":0},{"$f":"'PXS Kopieret'!H332","v":0},{"$f":"IF($A332=\"PhD Student\",'PXS Kopieret'!I332,\"\")","v":""},{"$f":"'PXS Kopieret'!J332","v":0},{"$f":"'PXS Kopieret'!K332","v":0},{"$f":"'PXS Kopieret'!L332","v":0}]
["",{"$f":"IF('PXS Kopieret'!N333<>\"\",HYPERLINK(\"https://ssl1.peoplexs.com/Peoplexs22/eFormportal/eForm.cfm?CandidateUpdateID=\"&'PXS Kopieret'!M333&\"&CandidateUpdateCode=\"&'PXS Kopieret'!N333&\"&Locale=en&CustomFormID=11612\",\"Docs\"),\"\")","v":""},{"$f":"'PXS Kopieret'!A333","v":0},{"$f":"'PXS Kopieret'!B333","v":0},{"$f":"'PXS Kopieret'!C333","v":0},{"$f":"'PXS Kopieret'!D333","v":0},{"$f":"IF($A333<>\"PhD Student\",'PXS Kopieret'!E333,\"\")","v":0},{"$f":"IF($A333=\"PhD Student\",'PXS Kopieret'!F333,\"\")","v":""},{"$f":"'PXS Kopieret'!G333","v":0},{"$f":"'PXS Kopieret'!H333","v":0},{"$f":"IF($A333=\"PhD Student\",'PXS Kopieret'!I333,\"\")","v":""},{"$f":"'PXS Kopieret'!J333","v":0},{"$f":"'PXS Kopieret'!K333","v":0},{"$f":"'PXS Kopieret'!L333","v":0}]
["",{"$f":"IF('PXS Kopieret'!N334<>\"\",HYPERLINK(\"https://ssl1.peoplexs.com/Peoplexs22/eFormportal/eForm.cfm?CandidateUpdateID=\"&'PXS Kopieret'!M334&\"&CandidateUpdateCode=\"&'PXS Kopieret'!N334&\"&Locale=en&CustomFormID=11612\",\"Docs\"),\"\")","v":""},{"$f":"'PXS Kopieret'!A334","v":0},{"$f":"'PXS Kopieret'!B334","v":0},{"$f":"'PXS Kopieret'!C334","v":0},{"$f":"'PXS Kopieret'!D334","v":0},{"$f":"IF($A334<>\"PhD Student\",'PXS Kopieret'!E334,\"\")","v":0},{"$f":"IF($A334=\"PhD Student\",'PXS Kopieret'!F334,\"\")","v":""},{"$f":"'PXS Kopieret'!G334","v":0},{"$f":"'PXS Kopieret'!H334","v":0},{"$f":"IF($A334=\"PhD Student\",'PXS Kopieret'!I334,\"\")","v":""},{"$f":"'PXS Kopieret'!J334","v":0},{"$f":"'PXS Kopieret'!K334","v":0},{"$f":"'PXS Kopieret'!L334","v":0}]
["",{"$f":"IF('PXS Kopieret'!N335<>\"\",HYPERLINK(\"https://ssl1.peoplexs.com/Peoplexs22/eFormportal/eForm.cfm?CandidateUpdateID=\"&'PXS Kopieret'!M335&\"&CandidateUpdateCode=\"&'PXS Kopieret'!N335&\"&Locale=en&CustomFormID=11612\",\"Docs\"),\"\")","v":""},{"$f":"'PXS Kopieret'!A335","v":0},{"$f":"'PXS Kopieret'!B335","v":0},{"$f":"'PXS Kopieret'!C335","v":0},{"$f":"'PXS Kopieret'!D335","v":0},{"$f":"IF($A335<>\"PhD Student\",'PXS Kopieret'!E335,\"\")","v":0},{"$f":"IF($A335=\"PhD Student\",'PXS Kopieret'!F335,\"\")","v":""},{"$f":"'PXS Kopieret'!G335","v":0},{"$f":"'PXS Kopieret'!H335","v":0},{"$f":"IF($A335=\"PhD Student\",'PXS Kopieret'!I335,\"\")","v":""},{"$f":"'PXS Kopieret'!J335","v":0},{"$f":"'PXS Kopieret'!K335","v":0},{"$f":"'PXS Kopieret'!L335","v":0}]
["",{"$f":"IF('PXS Kopieret'!N336<>\"\",HYPERLINK(\"https://ssl1.peoplexs.com/Peoplexs22/eFormportal/eForm.cfm?CandidateUpdateID=\"&'PXS Kopieret'!M336&\"&CandidateUpdateCode=\"&'PXS Kopieret'!N336&\"&Locale=en&CustomFormID=11612\",\"Docs\"),\"\")","v":""},{"$f":"'PXS Kopieret'!A336","v":0},{"$f":"'PXS Kopieret'!B336","v":0},{"$f":"'PXS Kopieret'!C336","v":0},{"$f":"'PXS Kopieret'!D336","v":0},{"$f":"IF($A336<>\"PhD Student\",'PXS Kopieret'!E336,\"\")","v":0},{"$f":"IF($A336=\"PhD Student\",'PXS Kopieret'!F336,\"\")","v":""},{"$f":"'PXS Kopieret'!G336","v":0},{"$f":"'PXS Kopieret'!H336","v":0},{"$f":"IF($A336=\"PhD Student\",'PXS Kopieret'!I336,\"\")","v":""},{"$f":"'PXS Kopieret'!J336","v":0},{"$f":"'PXS Kopieret'!K336","v":0},{"$f":"'PXS Kopieret'!L336","v":0}]
["",{"$f":"IF('PXS Kopieret'!N337<>\"\",HYPERLINK(\"https://ssl1.peoplexs.com/Peoplexs22/eFormportal/eForm.cfm?CandidateUpdateID=\"&'PXS Kopieret'!M337&\"&CandidateUpdateCode=\"&'PXS Kopieret'!N337&\"&Locale=en&CustomFormID=11612\",\"Docs\"),\"\")","v":""},{"$f":"'PXS Kopieret'!A337","v":0},{"$f":"'PXS Kopieret'!B337","v":0},{"$f":"'PXS Kopieret'!C337","v":0},{"$f":"'PXS Kopieret'!D337","v":0},{"$f":"IF($A337<>\"PhD Student\",'PXS Kopieret'!E337,\"\")","v":0},{"$f":"IF($A337=\"PhD Student\",'PXS Kopieret'!F337,\"\")","v":""},{"$f":"'PXS Kopieret'!G337","v":0},{"$f":"'PXS Kopieret'!H337","v":0},{"$f":"IF($A337=\"PhD Student\",'PXS Kopieret'!I337,\"\")","v":""},{"$f":"'PXS Kopieret'!J337","v":0},{"$f":"'PXS Kopieret'!K337","v":0},{"$f":"'PXS Kopieret'!L337","v":0}]
["",{"$f":"IF('PXS Kopieret'!N338<>\"\",HYPERLINK(\"https://ssl1.peoplexs.com/Peoplexs22/eFormportal/eForm.cfm?CandidateUpdateID=\"&'PXS Kopieret'!M338&\"&CandidateUpdateCode=\"&'PXS Kopieret'!N338&\"&Locale=en&CustomFormID=11612\",\"Docs\"),\"\")","v":""},{"$f":"'PXS Kopieret'!A338","v":0},{"$f":"'PXS Kopieret'!B338","v":0},{"$f":"'PXS Kopieret'!C338","v":0},{"$f":"'PXS Kopieret'!D338","v":0},{"$f":"IF($A338<>\"PhD Student\",'PXS Kopieret'!E338,\"\")","v":0},{"$f":"IF($A338=\"PhD Student\",'PXS Kopieret'!F338,\"\")","v":""},{"$f":"'PXS Kopieret'!G338","v":0},{"$f":"'PXS Kopieret'!H338","v":0},{"$f":"IF($A338=\"PhD Student\",'PXS Kopieret'!I338,\"\")","v":""},{"$f":"'PXS Kopieret'!J338","v":0},{"$f":"'PXS Kopieret'!K338","v":0},{"$f":"'PXS Kopieret'!L338","v":0}]
["",{"$f":"IF('PXS Kopieret'!N339<>\"\",HYPERLINK(\"https://ssl1.peoplexs.com/Peoplexs22/eFormportal/eForm.cfm?CandidateUpdateID=\"&'PXS Kopieret'!M339&\"&CandidateUpdateCode=\"&'PXS Kopieret'!N339&\"&Locale=en&CustomFormID=11612\",\"Docs\"),\"\")","v":""},{"$f":"'PXS Kopieret'!A339","v":0},{"$f":"'PXS Kopieret'!B339","v":0},{"$f":"'PXS Kopieret'!C339","v":0},{"$f":"'PXS Kopieret'!D339","v":0},{"$f":"IF($A339<>\"PhD Student\",'PXS Kopieret'!E339,\"\")","v":0},{"$f":"IF($A339=\"PhD Student\",'PXS Kopieret'!F339,\"\")","v":""},{"$f":"'PXS Kopieret'!G339","v":0},{"$f":"'PXS Kopieret'!H339","v":0},{"$f":"IF($A339=\"PhD Student\",'PXS Kopieret'!I339,\"\")","v":""},{"$f":"'PXS Kopieret'!J339","v":0},{"$f":"'PXS Kopieret'!K339","v":0},{"$f":"'PXS Kopieret'!L339","v":0}]
["",{"$f":"IF('PXS Kopieret'!N340<>\"\",HYPERLINK(\"https://ssl1.peoplexs.com/Peoplexs22/eFormportal/eForm.cfm?CandidateUpdateID=\"&'PXS Kopieret'!M340&\"&CandidateUpdateCode=\"&'PXS Kopieret'!N340&\"&Locale=en&CustomFormID=11612\",\"Docs\"),\"\")","v":""},{"$f":"'PXS Kopieret'!A340","v":0},{"$f":"'PXS Kopieret'!B340","v":0},{"$f":"'PXS Kopieret'!C340","v":0},{"$f":"'PXS Kopieret'!D340","v":0},{"$f":"IF($A340<>\"PhD Student\",'PXS Kopieret'!E340,\"\")","v":0},{"$f":"IF($A340=\"PhD Student\",'PXS Kopieret'!F340,\"\")","v":""},{"$f":"'PXS Kopieret'!G340","v":0},{"$f":"'PXS Kopieret'!H340","v":0},{"$f":"IF($A340=\"PhD Student\",'PXS Kopieret'!I340,\"\")","v":""},{"$f":"'PXS Kopieret'!J340","v":0},{"$f":"'PXS Kopieret'!K340","v":0},{"$f":"'PXS Kopieret'!L340","v":0}]
["",{"$f":"IF('PXS Kopieret'!N341<>\"\",HYPERLINK(\"https://ssl1.peoplexs.com/Peoplexs22/eFormportal/eForm.cfm?CandidateUpdateID=\"&'PXS Kopieret'!M341&\"&CandidateUpdateCode=\"&'PXS Kopieret'!N341&\"&Locale=en&CustomFormID=11612\",\"Docs\"),\"\")","v":""},{"$f":"'PXS Kopieret'!A341","v":0},{"$f":"'PXS Kopieret'!B341","v":0},{"$f":"'PXS Kopieret'!C341","v":0},{"$f":"'PXS Kopieret'!D341","v":0},{"$f":"IF($A341<>\"PhD Student\",'PXS Kopieret'!E341,\"\")","v":0},{"$f":"IF($A341=\"PhD Student\",'PXS Kopieret'!F341,\"\")","v":""},{"$f":"'PXS Kopieret'!G341","v":0},{"$f":"'PXS Kopieret'!H341","v":0},{"$f":"IF($A341=\"PhD Student\",'PXS Kopieret'!I341,\"\")","v":""},{"$f":"'PXS Kopieret'!J341","v":0},{"$f":"'PXS Kopieret'!K341","v":0},{"$f":"'PXS Kopieret'!L341","v":0}]
["",{"$f":"IF('PXS Kopieret'!N342<>\"\",HYPERLINK(\"https://ssl1.peoplexs.com/Peoplexs22/eFormportal/eForm.cfm?CandidateUpdateID=\"&'PXS Kopieret'!M342&\"&CandidateUpdateCode=\"&'PXS Kopieret'!N342&\"&Locale=en&CustomFormID=11612\",\"Docs\"),\"\")","v":""},{"$f":"'PXS Kopieret'!A342","v":0},{"$f":"'PXS Kopieret'!B342","v":0},{"$f":"'PXS Kopieret'!C342","v":0},{"$f":"'PXS Kopieret'!D342","v":0},{"$f":"IF($A342<>\"PhD Student\",'PXS Kopieret'!E342,\"\")","v":0},{"$f":"IF($A342=\"PhD Student\",'PXS Kopieret'!F342,\"\")","v":""},{"$f":"'PXS Kopieret'!G342","v":0},{"$f":"'PXS Kopieret'!H342","v":0},{"$f":"IF($A342=\"PhD Student\",'PXS Kopieret'!I342,\"\")","v":""},{"$f":"'PXS Kopieret'!J342","v":0},{"$f":"'PXS Kopieret'!K342","v":0},{"$f":"'PXS Kopieret'!L342","v":0}]
["",{"$f":"IF('PXS Kopieret'!N343<>\"\",HYPERLINK(\"https://ssl1.peoplexs.com/Peoplexs22/eFormportal/eForm.cfm?CandidateUpdateID=\"&'PXS Kopieret'!M343&\"&CandidateUpdateCode=\"&'PXS Kopieret'!N343&\"&Locale=en&CustomFormID=11612\",\"Docs\"),\"\")","v":""},{"$f":"'PXS Kopieret'!A343","v":0},{"$f":"'PXS Kopieret'!B343","v":0},{"$f":"'PXS Kopieret'!C343","v":0},{"$f":"'PXS Kopieret'!D343","v":0},{"$f":"IF($A343<>\"PhD Student\",'PXS Kopieret'!E343,\"\")","v":0},{"$f":"IF($A343=\"PhD Student\",'PXS Kopieret'!F343,\"\")","v":""},{"$f":"'PXS Kopieret'!G343","v":0},{"$f":"'PXS Kopieret'!H343","v":0},{"$f":"IF($A343=\"PhD Student\",'PXS Kopieret'!I343,\"\")","v":""},{"$f":"'PXS Kopieret'!J343","v":0},{"$f":"'PXS Kopieret'!K343","v":0},{"$f":"'PXS Kopieret'!L343","v":0}]
["",{"$f":"IF('PXS Kopieret'!N344<>\"\",HYPERLINK(\"https://ssl1.peoplexs.com/Peoplexs22/eFormportal/eForm.cfm?CandidateUpdateID=\"&'PXS Kopieret'!M344&\"&CandidateUpdateCode=\"&'PXS Kopieret'!N344&\"&Locale=en&CustomFormID=11612\",\"Docs\"),\"\")","v":""},{"$f":"'PXS Kopieret'!A344","v":0},{"$f":"'PXS Kopieret'!B344","v":0},{"$f":"'PXS Kopieret'!C344","v":0},{"$f":"'PXS Kopieret'!D344","v":0},{"$f":"IF($A344<>\"PhD Student\",'PXS Kopieret'!E344,\"\")","v":0},{"$f":"IF($A344=\"PhD Student\",'PXS Kopieret'!F344,\"\")","v":""},{"$f":"'PXS Kopieret'!G344","v":0},{"$f":"'PXS Kopieret'!H344","v":0},{"$f":"IF($A344=\"PhD Student\",'PXS Kopieret'!I344,\"\")","v":""},{"$f":"'PXS Kopieret'!J344","v":0},{"$f":"'PXS Kopieret'!K344","v":0},{"$f":"'PXS Kopieret'!L344","v":0}]
["",{"$f":"IF('PXS Kopieret'!N345<>\"\",HYPERLINK(\"https://ssl1.peoplexs.com/Peoplexs22/eFormportal/eForm.cfm?CandidateUpdateID=\"&'PXS Kopieret'!M345&\"&CandidateUpdateCode=\"&'PXS Kopieret'!N345&\"&Locale=en&CustomFormID=11612\",\"Docs\"),\"\")","v":""},{"$f":"'PXS Kopieret'!A345","v":0},{"$f":"'PXS Kopieret'!B345","v":0},{"$f":"'PXS Kopieret'!C345","v":0},{"$f":"'PXS Kopieret'!D345","v":0},{"$f":"IF($A345<>\"PhD Student\",'PXS Kopieret'!E345,\"\")","v":0},{"$f":"IF($A345=\"PhD Student\",'PXS Kopieret'!F345,\"\")","v":""},{"$f":"'PXS Kopieret'!G345","v":0},{"$f":"'PXS Kopieret'!H345","v":0},{"$f":"IF($A345=\"PhD Student\",'PXS Kopieret'!I345,\"\")","v":""},{"$f":"'PXS Kopieret'!J345","v":0},{"$f":"'PXS Kopieret'!K345","v":0},{"$f":"'PXS Kopieret'!L345","v":0}]
["",{"$f":"IF('PXS Kopieret'!N346<>\"\",HYPERLINK(\"https://ssl1.peoplexs.com/Peoplexs22/eFormportal/eForm.cfm?CandidateUpdateID=\"&'PXS Kopieret'!M346&\"&CandidateUpdateCode=\"&'PXS Kopieret'!N346&\"&Locale=en&CustomFormID=11612\",\"Docs\"),\"\")","v":""},{"$f":"'PXS Kopieret'!A346","v":0},{"$f":"'PXS Kopieret'!B346","v":0},{"$f":"'PXS Kopieret'!C346","v":0},{"$f":"'PXS Kopieret'!D346","v":0},{"$f":"IF($A346<>\"PhD Student\",'PXS Kopieret'!E346,\"\")","v":0},{"$f":"IF($A346=\"PhD Student\",'PXS Kopieret'!F346,\"\")","v":""},{"$f":"'PXS Kopieret'!G346","v":0},{"$f":"'PXS Kopieret'!H346","v":0},{"$f":"IF($A346=\"PhD Student\",'PXS Kopieret'!I346,\"\")","v":""},{"$f":"'PXS Kopieret'!J346","v":0},{"$f":"'PXS Kopieret'!K346","v":0},{"$f":"'PXS Kopieret'!L346","v":0}]
["",{"$f":"IF('PXS Kopieret'!N347<>\"\",HYPERLINK(\"https://ssl1.peoplexs.com/Peoplexs22/eFormportal/eForm.cfm?CandidateUpdateID=\"&'PXS Kopieret'!M347&\"&CandidateUpdateCode=\"&'PXS Kopieret'!N347&\"&Locale=en&CustomFormID=11612\",\"Docs\"),\"\")","v":""},{"$f":"'PXS Kopieret'!A347","v":0},{"$f":"'PXS Kopieret'!B347","v":0},{"$f":"'PXS Kopieret'!C347","v":0},{"$f":"'PXS Kopieret'!D347","v":0},{"$f":"IF($A347<>\"PhD Student\",'PXS Kopieret'!E347,\"\")","v":0},{"$f":"IF($A347=\"PhD Student\",'PXS Kopieret'!F347,\"\")","v":""},{"$f":"'PXS Kopieret'!G347","v":0},{"$f":"'PXS Kopieret'!H347","v":0},{"$f":"IF($A347=\"PhD Student\",'PXS Kopieret'!I347,\"\")","v":""},{"$f":"'PXS Kopieret'!J347","v":0},{"$f":"'PXS Kopieret'!K347","v":0},{"$f":"'PXS Kopieret'!L347","v":0}]
["",{"$f":"IF('PXS Kopieret'!N348<>\"\",HYPERLINK(\"https://ssl1.peoplexs.com/Peoplexs22/eFormportal/eForm.cfm?CandidateUpdateID=\"&'PXS Kopieret'!M348&\"&CandidateUpdateCode=\"&'PXS Kopieret'!N348&\"&Locale=en&CustomFormID=11612\",\"Docs\"),\"\")","v":""},{"$f":"'PXS Kopieret'!A348","v":0},{"$f":"'PXS Kopieret'!B348","v":0},{"$f":"'PXS Kopieret'!C348","v":0},{"$f":"'PXS Kopieret'!D348","v":0},{"$f":"IF($A348<>\"PhD Student\",'PXS Kopieret'!E348,\"\")","v":0},{"$f":"IF($A348=\"PhD Student\",'PXS Kopieret'!F348,\"\")","v":""},{"$f":"'PXS Kopieret'!G348","v":0},{"$f":"'PXS Kopieret'!H348","v":0},{"$f":"IF($A348=\"PhD Student\",'PXS Kopieret'!I348,\"\")","v":""},{"$f":"'PXS Kopieret'!J348","v":0},{"$f":"'PXS Kopieret'!K348","v":0},{"$f":"'PXS Kopieret'!L348","v":0}]
["",{"$f":"IF('PXS Kopieret'!N349<>\"\",HYPERLINK(\"https://ssl1.peoplexs.com/Peoplexs22/eFormportal/eForm.cfm?CandidateUpdateID=\"&'PXS Kopieret'!M349&\"&CandidateUpdateCode=\"&'PXS Kopieret'!N349&\"&Locale=en&CustomFormID=11612\",\"Docs\"),\"\")","v":""},{"$f":"'PXS Kopieret'!A349","v":0},{"$f":"'PXS Kopieret'!B349","v":0},{"$f":"'PXS Kopieret'!C349","v":0},{"$f":"'PXS Kopieret'!D349","v":0},{"$f":"IF($A349<>\"PhD Student\",'PXS Kopieret'!E349,\"\")","v":0},{"$f":"IF($A349=\"PhD Student\",'PXS Kopieret'!F349,\"\")","v":""},{"$f":"'PXS Kopieret'!G349","v":0},{"$f":"'PXS Kopieret'!H349","v":0},{"$f":"IF($A349=\"PhD Student\",'PXS Kopieret'!I349,\"\")","v":""},{"$f":"'PXS Kopieret'!J349","v":0},{"$f":"'PXS Kopieret'!K349","v":0},{"$f":"'PXS Kopieret'!L349","v":0}]
["",{"$f":"IF('PXS Kopieret'!N350<>\"\",HYPERLINK(\"https://ssl1.peoplexs.com/Peoplexs22/eFormportal/eForm.cfm?CandidateUpdateID=\"&'PXS Kopieret'!M350&\"&CandidateUpdateCode=\"&'PXS Kopieret'!N350&\"&Locale=en&CustomFormID=11612\",\"Docs\"),\"\")","v":""},{"$f":"'PXS Kopieret'!A350","v":0},{"$f":"'PXS Kopieret'!B350","v":0},{"$f":"'PXS Kopieret'!C350","v":0},{"$f":"'PXS Kopieret'!D350","v":0},{"$f":"IF($A350<>\"PhD Student\",'PXS Kopieret'!E350,\"\")","v":0},{"$f":"IF($A350=\"PhD Student\",'PXS Kopieret'!F350,\"\")","v":""},{"$f":"'PXS Kopieret'!G350","v":0},{"$f":"'PXS Kopieret'!H350","v":0},{"$f":"IF($A350=\"PhD Student\",'PXS Kopieret'!I350,\"\")","v":""},{"$f":"'PXS Kopieret'!J350","v":0},{"$f":"'PXS Kopieret'!K350","v":0},{"$f":"'PXS Kopieret'!L350","v":0}]
["",{"$f":"IF('PXS Kopieret'!N351<>\"\",HYPERLINK(\"https://ssl1.peoplexs.com/Peoplexs22/eFormportal/eForm.cfm?CandidateUpdateID=\"&'PXS Kopieret'!M351&\"&CandidateUpdateCode=\"&'PXS Kopieret'!N351&\"&Locale=en&CustomFormID=11612\",\"Docs\"),\"\")","v":""},{"$f":"'PXS Kopieret'!A351","v":0},{"$f":"'PXS Kopieret'!B351","v":0},{"$f":"'PXS Kopieret'!C351","v":0},{"$f":"'PXS Kopieret'!D351","v":0},{"$f":"IF($A351<>\"PhD Student\",'PXS Kopieret'!E351,\"\")","v":0},{"$f":"IF($A351=\"PhD Student\",'PXS Kopieret'!F351,\"\")","v":""},{"$f":"'PXS Kopieret'!G351","v":0},{"$f":"'PXS Kopieret'!H351","v":0},{"$f":"IF($A351=\"PhD Student\",'PXS Kopieret'!I351,\"\")","v":""},{"$f":"'PXS Kopieret'!J351","v":0},{"$f":"'PXS Kopieret'!K351","v":0},{"$f":"'PXS Kopieret'!L351","v":0}]
["",{"$f":"IF('PXS Kopieret'!N352<>\"\",HYPERLINK(\"https://ssl1.peoplexs.com/Peoplexs22/eFormportal/eForm.cfm?CandidateUpdateID=\"&'PXS Kopieret'!M352&\"&CandidateUpdateCode=\"&'PXS Kopieret'!N352&\"&Locale=en&CustomFormID=11612\",\"Docs\"),\"\")","v":""},{"$f":"'PXS Kopieret'!A352","v":0},{"$f":"'PXS Kopieret'!B352","v":0},{"$f":"'PXS Kopieret'!C352","v":0},{"$f":"'PXS Kopieret'!D352","v":0},{"$f":"IF($A352<>\"PhD Student\",'PXS Kopieret'!E352,\"\")","v":0},{"$f":"IF($A352=\"PhD Student\",'PXS Kopieret'!F352,\"\")","v":""},{"$f":"'PXS Kopieret'!G352","v":0},{"$f":"'PXS Kopieret'!H352","v":0},{"$f":"IF($A352=\"PhD Student\",'PXS Kopieret'!I352,\"\")","v":""},{"$f":"'PXS Kopieret'!J352","v":0},{"$f":"'PXS Kopieret'!K352","v":0},{"$f":"'PXS Kopieret'!L352","v":0}]
["",{"$f":"IF('PXS Kopieret'!N353<>\"\",HYPERLINK(\"https://ssl1.peoplexs.com/Peoplexs22/eFormportal/eForm.cfm?CandidateUpdateID=\"&'PXS Kopieret'!M353&\"&CandidateUpdateCode=\"&'PXS Kopieret'!N353&\"&Locale=en&CustomFormID=11612\",\"Docs\"),\"\")","v":""},{"$f":"'PXS Kopieret'!A353","v":0},{"$f":"'PXS Kopieret'!B353","v":0},{"$f":"'PXS Kopieret'!C353","v":0},{"$f":"'PXS Kopieret'!D353","v":0},{"$f":"IF($A353<>\"PhD Student\",'PXS Kopieret'!E353,\"\")","v":0},{"$f":"IF($A353=\"PhD Student\",'PXS Kopieret'!F353,\"\")","v":""},{"$f":"'PXS Kopieret'!G353","v":0},{"$f":"'PXS Kopieret'!H353","v":0},{"$f":"IF($A353=\"PhD Student\",'PXS Kopieret'!I353,\"\")","v":""},{"$f":"'PXS Kopieret'!J353","v":0},{"$f":"'PXS Kopieret'!K353","v":0},{"$f":"'PXS Kopieret'!L353","v":0}]
["",{"$f":"IF('PXS Kopieret'!N354<>\"\",HYPERLINK(\"https://ssl1.peoplexs.com/Peoplexs22/eFormportal/eForm.cfm?CandidateUpdateID=\"&'PXS Kopieret'!M354&\"&CandidateUpdateCode=\"&'PXS Kopieret'!N354&\"&Locale=en&CustomFormID=11612\",\"Docs\"),\"\")","v":""},{"$f":"'PXS Kopieret'!A354","v":0},{"$f":"'PXS Kopieret'!B354","v":0},{"$f":"'PXS Kopieret'!C354","v":0},{"$f":"'PXS Kopieret'!D354","v":0},{"$f":"IF($A354<>\"PhD Student\",'PXS Kopieret'!E354,\"\")","v":0},{"$f":"IF($A354=\"PhD Student\",'PXS Kopieret'!F354,\"\")","v":""},{"$f":"'PXS Kopieret'!G354","v":0},{"$f":"'PXS Kopieret'!H354","v":0},{"$f":"IF($A354=\"PhD Student\",'PXS Kopieret'!I354,\"\")","v":""},{"$f":"'PXS Kopieret'!J354","v":0},{"$f":"'PXS Kopieret'!K354","v":0},{"$f":"'PXS Kopieret'!L354","v":0}]
["",{"$f":"IF('PXS Kopieret'!N355<>\"\",HYPERLINK(\"https://ssl1.peoplexs.com/Peoplexs22/eFormportal/eForm.cfm?CandidateUpdateID=\"&'PXS Kopieret'!M355&\"&CandidateUpdateCode=\"&'PXS Kopieret'!N355&\"&Locale=en&CustomFormID=11612\",\"Docs\"),\"\")","v":""},{"$f":"'PXS Kopieret'!A355","v":0},{"$f":"'PXS Kopieret'!B355","v":0},{"$f":"'PXS Kopieret'!C355","v":0},{"$f":"'PXS Kopieret'!D355","v":0},{"$f":"IF($A355<>\"PhD Student\",'PXS Kopieret'!E355,\"\")","v":0},{"$f":"IF($A355=\"PhD Student\",'PXS Kopieret'!F355,\"\")","v":""},{"$f":"'PXS Kopieret'!G355","v":0},{"$f":"'PXS Kopieret'!H355","v":0},{"$f":"IF($A355=\"PhD Student\",'PXS Kopieret'!I355,\"\")","v":""},{"$f":"'PXS Kopieret'!J355","v":0},{"$f":"'PXS Kopieret'!K355","v":0},{"$f":"'PXS Kopieret'!L355","v":0}]
["",{"$f":"IF('PXS Kopieret'!N356<>\"\",HYPERLINK(\"https://ssl1.peoplexs.com/Peoplexs22/eFormportal/eForm.cfm?CandidateUpdateID=\"&'PXS Kopieret'!M356&\"&CandidateUpdateCode=\"&'PXS Kopieret'!N356&\"&Locale=en&CustomFormID=11612\",\"Docs\"),\"\")","v":""},{"$f":"'PXS Kopieret'!A356","v":0},{"$f":"'PXS Kopieret'!B356","v":0},{"$f":"'PXS Kopieret'!C356","v":0},{"$f":"'PXS Kopieret'!D356","v":0},{"$f":"IF($A356<>\"PhD Student\",'PXS Kopieret'!E356,\"\")","v":0},{"$f":"IF($A356=\"PhD Student\",'PXS Kopieret'!F356,\"\")","v":""},{"$f":"'PXS Kopieret'!G356","v":0},{"$f":"'PXS Kopieret'!H356","v":0},{"$f":"IF($A356=\"PhD Student\",'PXS Kopieret'!I356,\"\")","v":""},{"$f":"'PXS Kopieret'!J356","v":0},{"$f":"'PXS Kopieret'!K356","v":0},{"$f":"'PXS Kopieret'!L356","v":0}]
["",{"$f":"IF('PXS Kopieret'!N357<>\"\",HYPERLINK(\"https://ssl1.peoplexs.com/Peoplexs22/eFormportal/eForm.cfm?CandidateUpdateID=\"&'PXS Kopieret'!M357&\"&CandidateUpdateCode=\"&'PXS Kopieret'!N357&\"&Locale=en&CustomFormID=11612\",\"Docs\"),\"\")","v":""},{"$f":"'PXS Kopieret'!A357","v":0},{"$f":"'PXS Kopieret'!B357","v":0},{"$f":"'PXS Kopieret'!C357","v":0},{"$f":"'PXS Kopieret'!D357","v":0},{"$f":"IF($A357<>\"PhD Student\",'PXS Kopieret'!E357,\"\")","v":0},{"$f":"IF($A357=\"PhD Student\",'PXS Kopieret'!F357,\"\")","v":""},{"$f":"'PXS Kopieret'!G357","v":0},{"$f":"'PXS Kopieret'!H357","v":0},{"$f":"IF($A357=\"PhD Student\",'PXS Kopieret'!I357,\"\")","v":""},{"$f":"'PXS Kopieret'!J357","v":0},{"$f":"'PXS Kopieret'!K357","v":0},{"$f":"'PXS Kopieret'!L357","v":0}]
["",{"$f":"IF('PXS Kopieret'!N358<>\"\",HYPERLINK(\"https://ssl1.peoplexs.com/Peoplexs22/eFormportal/eForm.cfm?CandidateUpdateID=\"&'PXS Kopieret'!M358&\"&CandidateUpdateCode=\"&'PXS Kopieret'!N358&\"&Locale=en&CustomFormID=11612\",\"Docs\"),\"\")","v":""},{"$f":"'PXS Kopieret'!A358","v":0},{"$f":"'PXS Kopieret'!B358","v":0},{"$f":"'PXS Kopieret'!C358","v":0},{"$f":"'PXS Kopieret'!D358","v":0},{"$f":"IF($A358<>\"PhD Student\",'PXS Kopieret'!E358,\"\")","v":0},{"$f":"IF($A358=\"PhD Student\",'PXS Kopieret'!F358,\"\")","v":""},{"$f":"'PXS Kopieret'!G358","v":0},{"$f":"'PXS Kopieret'!H358","v":0},{"$f":"IF($A358=\"PhD Student\",'PXS Kopieret'!I358,\"\")","v":""},{"$f":"'PXS Kopieret'!J358","v":0},{"$f":"'PXS Kopieret'!K358","v":0},{"$f":"'PXS Kopieret'!L358","v":0}]
["",{"$f":"IF('PXS Kopieret'!N359<>\"\",HYPERLINK(\"https://ssl1.peoplexs.com/Peoplexs22/eFormportal/eForm.cfm?CandidateUpdateID=\"&'PXS Kopieret'!M359&\"&CandidateUpdateCode=\"&'PXS Kopieret'!N359&\"&Locale=en&CustomFormID=11612\",\"Docs\"),\"\")","v":""},{"$f":"'PXS Kopieret'!A359","v":0},{"$f":"'PXS Kopieret'!B359","v":0},{"$f":"'PXS Kopieret'!C359","v":0},{"$f":"'PXS Kopieret'!D359","v":0},{"$f":"IF($A359<>\"PhD Student\",'PXS Kopieret'!E359,\"\")","v":0},{"$f":"IF($A359=\"PhD Student\",'PXS Kopieret'!F359,\"\")","v":""},{"$f":"'PXS Kopieret'!G359","v":0},{"$f":"'PXS Kopieret'!H359","v":0},{"$f":"IF($A359=\"PhD Student\",'PXS Kopieret'!I359,\"\")","v":""},{"$f":"'PXS Kopieret'!J359","v":0},{"$f":"'PXS Kopieret'!K359","v":0},{"$f":"'PXS Kopieret'!L359","v":0}]
["",{"$f":"IF('PXS Kopieret'!N360<>\"\",HYPERLINK(\"https://ssl1.peoplexs.com/Peoplexs22/eFormportal/eForm.cfm?CandidateUpdateID=\"&'PXS Kopieret'!M360&\"&CandidateUpdateCode=\"&'PXS Kopieret'!N360&\"&Locale=en&CustomFormID=11612\",\"Docs\"),\"\")","v":""},{"$f":"'PXS Kopieret'!A360","v":0},{"$f":"'PXS Kopieret'!B360","v":0},{"$f":"'PXS Kopieret'!C360","v":0},{"$f":"'PXS Kopieret'!D360","v":0},{"$f":"IF($A360<>\"PhD Student\",'PXS Kopieret'!E360,\"\")","v":0},{"$f":"IF($A360=\"PhD Student\",'PXS Kopieret'!F360,\"\")","v":""},{"$f":"'PXS Kopieret'!G360","v":0},{"$f":"'PXS Kopieret'!H360","v":0},{"$f":"IF($A360=\"PhD Student\",'PXS Kopieret'!I360,\"\")","v":""},{"$f":"'PXS Kopieret'!J360","v":0},{"$f":"'PXS Kopieret'!K360","v":0},{"$f":"'PXS Kopieret'!L360","v":0}]
["",{"$f":"IF('PXS Kopieret'!N361<>\"\",HYPERLINK(\"https://ssl1.peoplexs.com/Peoplexs22/eFormportal/eForm.cfm?CandidateUpdateID=\"&'PXS Kopieret'!M361&\"&CandidateUpdateCode=\"&'PXS Kopieret'!N361&\"&Locale=en&CustomFormID=11612\",\"Docs\"),\"\")","v":""},{"$f":"'PXS Kopieret'!A361","v":0},{"$f":"'PXS Kopieret'!B361","v":0},{"$f":"'PXS Kopieret'!C361","v":0},{"$f":"'PXS Kopieret'!D361","v":0},{"$f":"IF($A361<>\"PhD Student\",'PXS Kopieret'!E361,\"\")","v":0},{"$f":"IF($A361=\"PhD Student\",'PXS Kopieret'!F361,\"\")","v":""},{"$f":"'PXS Kopieret'!G361","v":0},{"$f":"'PXS Kopieret'!H361","v":0},{"$f":"IF($A361=\"PhD Student\",'PXS Kopieret'!I361,\"\")","v":""},{"$f":"'PXS Kopieret'!J361","v":0},{"$f":"'PXS Kopieret'!K361","v":0},{"$f":"'PXS Kopieret'!L361","v":0}]
["",{"$f":"IF('PXS Kopieret'!N362<>\"\",HYPERLINK(\"https://ssl1.peoplexs.com/Peoplexs22/eFormportal/eForm.cfm?CandidateUpdateID=\"&'PXS Kopieret'!M362&\"&CandidateUpdateCode=\"&'PXS Kopieret'!N362&\"&Locale=en&CustomFormID=11612\",\"Docs\"),\"\")","v":""},{"$f":"'PXS Kopieret'!A362","v":0},{"$f":"'PXS Kopieret'!B362","v":0},{"$f":"'PXS Kopieret'!C362","v":0},{"$f":"'PXS Kopieret'!D362","v":0},{"$f":"IF($A362<>\"PhD Student\",'PXS Kopieret'!E362,\"\")","v":0},{"$f":"IF($A362=\"PhD Student\",'PXS Kopieret'!F362,\"\")","v":""},{"$f":"'PXS Kopieret'!G362","v":0},{"$f":"'PXS Kopieret'!H362","v":0},{"$f":"IF($A362=\"PhD Student\",'PXS Kopieret'!I362,\"\")","v":""},{"$f":"'PXS Kopieret'!J362","v":0},{"$f":"'PXS Kopieret'!K362","v":0},{"$f":"'PXS Kopieret'!L362","v":0}]
["",{"$f":"IF('PXS Kopieret'!N363<>\"\",HYPERLINK(\"https://ssl1.peoplexs.com/Peoplexs22/eFormportal/eForm.cfm?CandidateUpdateID=\"&'PXS Kopieret'!M363&\"&CandidateUpdateCode=\"&'PXS Kopieret'!N363&\"&Locale=en&CustomFormID=11612\",\"Docs\"),\"\")","v":""},{"$f":"'PXS Kopieret'!A363","v":0},{"$f":"'PXS Kopieret'!B363","v":0},{"$f":"'PXS Kopieret'!C363","v":0},{"$f":"'PXS Kopieret'!D363","v":0},{"$f":"IF($A363<>\"PhD Student\",'PXS Kopieret'!E363,\"\")","v":0},{"$f":"IF($A363=\"PhD Student\",'PXS Kopieret'!F363,\"\")","v":""},{"$f":"'PXS Kopieret'!G363","v":0},{"$f":"'PXS Kopieret'!H363","v":0},{"$f":"IF($A363=\"PhD Student\",'PXS Kopieret'!I363,\"\")","v":""},{"$f":"'PXS Kopieret'!J363","v":0},{"$f":"'PXS Kopieret'!K363","v":0},{"$f":"'PXS Kopieret'!L363","v":0}]
["",{"$f":"IF('PXS Kopieret'!N364<>\"\",HYPERLINK(\"https://ssl1.peoplexs.com/Peoplexs22/eFormportal/eForm.cfm?CandidateUpdateID=\"&'PXS Kopieret'!M364&\"&CandidateUpdateCode=\"&'PXS Kopieret'!N364&\"&Locale=en&CustomFormID=11612\",\"Docs\"),\"\")","v":""},{"$f":"'PXS Kopieret'!A364","v":0},{"$f":"'PXS Kopieret'!B364","v":0},{"$f":"'PXS Kopieret'!C364","v":0},{"$f":"'PXS Kopieret'!D364","v":0},{"$f":"IF($A364<>\"PhD Student\",'PXS Kopieret'!E364,\"\")","v":0},{"$f":"IF($A364=\"PhD Student\",'PXS Kopieret'!F364,\"\")","v":""},{"$f":"'PXS Kopieret'!G364","v":0},{"$f":"'PXS Kopieret'!H364","v":0},{"$f":"IF($A364=\"PhD Student\",'PXS Kopieret'!I364,\"\")","v":""},{"$f":"'PXS Kopieret'!J364","v":0},{"$f":"'PXS Kopieret'!K364","v":0},{"$f":"'PXS Kopieret'!L364","v":0}]
["",{"$f":"IF('PXS Kopieret'!N365<>\"\",HYPERLINK(\"https://ssl1.peoplexs.com/Peoplexs22/eFormportal/eForm.cfm?CandidateUpdateID=\"&'PXS Kopieret'!M365&\"&CandidateUpdateCode=\"&'PXS Kopieret'!N365&\"&Locale=en&CustomFormID=11612\",\"Docs\"),\"\")","v":""},{"$f":"'PXS Kopieret'!A365","v":0},{"$f":"'PXS Kopieret'!B365","v":0},{"$f":"'PXS Kopieret'!C365","v":0},{"$f":"'PXS Kopieret'!D365","v":0},{"$f":"IF($A365<>\"PhD Student\",'PXS Kopieret'!E365,\"\")","v":0},{"$f":"IF($A365=\"PhD Student\",'PXS Kopieret'!F365,\"\")","v":""},{"$f":"'PXS Kopieret'!G365","v":0},{"$f":"'PXS Kopieret'!H365","v":0},{"$f":"IF($A365=\"PhD Student\",'PXS Kopieret'!I365,\"\")","v":""},{"$f":"'PXS Kopieret'!J365","v":0},{"$f":"'PXS Kopieret'!K365","v":0},{"$f":"'PXS Kopieret'!L365","v":0}]
["",{"$f":"IF('PXS Kopieret'!N366<>\"\",HYPERLINK(\"https://ssl1.peoplexs.com/Peoplexs22/eFormportal/eForm.cfm?CandidateUpdateID=\"&'PXS Kopieret'!M366&\"&CandidateUpdateCode=\"&'PXS Kopieret'!N366&\"&Locale=en&CustomFormID=11612\",\"Docs\"),\"\")","v":""},{"$f":"'PXS Kopieret'!A366","v":0},{"$f":"'PXS Kopieret'!B366","v":0},{"$f":"'PXS Kopieret'!C366","v":0},{"$f":"'PXS Kopieret'!D366","v":0},{"$f":"IF($A366<>\"PhD Student\",'PXS Kopieret'!E366,\"\")","v":0},{"$f":"IF($A366=\"PhD Student\",'PXS Kopieret'!F366,\"\")","v":""},{"$f":"'PXS Kopieret'!G366","v":0},{"$f":"'PXS Kopieret'!H366","v":0},{"$f":"IF($A366=\"PhD Student\",'PXS Kopieret'!I366,\"\")","v":""},{"$f":"'PXS Kopieret'!J366","v":0},{"$f":"'PXS Kopieret'!K366","v":0},{"$f":"'PXS Kopieret'!L366","v":0}]
["",{"$f":"IF('PXS Kopieret'!N367<>\"\",HYPERLINK(\"https://ssl1.peoplexs.com/Peoplexs22/eFormportal/eForm.cfm?CandidateUpdateID=\"&'PXS Kopieret'!M367&\"&CandidateUpdateCode=\"&'PXS Kopieret'!N367&\"&Locale=en&CustomFormID=11612\",\"Docs\"),\"\")","v":""},{"$f":"'PXS Kopieret'!A367","v":0},{"$f":"'PXS Kopieret'!B367","v":0},{"$f":"'PXS Kopieret'!C367","v":0},{"$f":"'PXS Kopieret'!D367","v":0},{"$f":"IF($A367<>\"PhD Student\",'PXS Kopieret'!E367,\"\")","v":0},{"$f":"IF($A367=\"PhD Student\",'PXS Kopieret'!F367,\"\")","v":""},{"$f":"'PXS Kopieret'!G367","v":0},{"$f":"'PXS Kopieret'!H367","v":0},{"$f":"IF($A367=\"PhD Student\",'PXS Kopieret'!I367,\"\")","v":""},{"$f":"'PXS Kopieret'!J367","v":0},{"$f":"'PXS Kopieret'!K367","v":0},{"$f":"'PXS Kopieret'!L367","v":0}]
["",{"$f":"IF('PXS Kopieret'!N368<>\"\",HYPERLINK(\"https://ssl1.peoplexs.com/Peoplexs22/eFormportal/eForm.cfm?CandidateUpdateID=\"&'PXS Kopieret'!M368&\"&CandidateUpdateCode=\"&'PXS Kopieret'!N368&\"&Locale=en&CustomFormID=11612\",\"Docs\"),\"\")","v":""},{"$f":"'PXS Kopieret'!A368","v":0},{"$f":"'PXS Kopieret'!B368","v":0},{"$f":"'PXS Kopieret'!C368","v":0},{"$f":"'PXS Kopieret'!D368","v":0},{"$f":"IF($A368<>\"PhD Student\",'PXS Kopieret'!E368,\"\")","v":0},{"$f":"IF($A368=\"PhD Student\",'PXS Kopieret'!F368,\"\")","v":""},{"$f":"'PXS Kopieret'!G368","v":0},{"$f":"'PXS Kopieret'!H368","v":0},{"$f":"IF($A368=\"PhD Student\",'PXS Kopieret'!I368,\"\")","v":""},{"$f":"'PXS Kopieret'!J368","v":0},{"$f":"'PXS Kopieret'!K368","v":0},{"$f":"'PXS Kopieret'!L368","v":0}]
["",{"$f":"IF('PXS Kopieret'!N369<>\"\",HYPERLINK(\"https://ssl1.peoplexs.com/Peoplexs22/eFormportal/eForm.cfm?CandidateUpdateID=\"&'PXS Kopieret'!M369&\"&CandidateUpdateCode=\"&'PXS Kopieret'!N369&\"&Locale=en&CustomFormID=11612\",\"Docs\"),\"\")","v":""},{"$f":"'PXS Kopieret'!A369","v":0},{"$f":"'PXS Kopieret'!B369","v":0},{"$f":"'PXS Kopieret'!C369","v":0},{"$f":"'PXS Kopieret'!D369","v":0},{"$f":"IF($A369<>\"PhD Student\",'PXS Kopieret'!E369,\"\")","v":0},{"$f":"IF($A369=\"PhD Student\",'PXS Kopieret'!F369,\"\")","v":""},{"$f":"'PXS Kopieret'!G369","v":0},{"$f":"'PXS Kopieret'!H369","v":0},{"$f":"IF($A369=\"PhD Student\",'PXS Kopieret'!I369,\"\")","v":""},{"$f":"'PXS Kopieret'!J369","v":0},{"$f":"'PXS Kopieret'!K369","v":0},{"$f":"'PXS Kopieret'!L369","v":0}]
["",{"$f":"IF('PXS Kopieret'!N370<>\"\",HYPERLINK(\"https://ssl1.peoplexs.com/Peoplexs22/eFormportal/eForm.cfm?CandidateUpdateID=\"&'PXS Kopieret'!M370&\"&CandidateUpdateCode=\"&'PXS Kopieret'!N370&\"&Locale=en&CustomFormID=11612\",\"Docs\"),\"\")","v":""},{"$f":"'PXS Kopieret'!A370","v":0},{"$f":"'PXS Kopieret'!B370","v":0},{"$f":"'PXS Kopieret'!C370","v":0},{"$f":"'PXS Kopieret'!D370","v":0},{"$f":"IF($A370<>\"PhD Student\",'PXS Kopieret'!E370,\"\")","v":0},{"$f":"IF($A370=\"PhD Student\",'PXS Kopieret'!F370,\"\")","v":""},{"$f":"'PXS Kopieret'!G370","v":0},{"$f":"'PXS Kopieret'!H370","v":0},{"$f":"IF($A370=\"PhD Student\",'PXS Kopieret'!I370,\"\")","v":""},{"$f":"'PXS Kopieret'!J370","v":0},{"$f":"'PXS Kopieret'!K370","v":0},{"$f":"'PXS Kopieret'!L370","v":0}]
["",{"$f":"IF('PXS Kopieret'!N371<>\"\",HYPERLINK(\"https://ssl1.peoplexs.com/Peoplexs22/eFormportal/eForm.cfm?CandidateUpdateID=\"&'PXS Kopieret'!M371&\"&CandidateUpdateCode=\"&'PXS Kopieret'!N371&\"&Locale=en&CustomFormID=11612\",\"Docs\"),\"\")","v":""},{"$f":"'PXS Kopieret'!A371","v":0},{"$f":"'PXS Kopieret'!B371","v":0},{"$f":"'PXS Kopieret'!C371","v":0},{"$f":"'PXS Kopieret'!D371","v":0},{"$f":"IF($A371<>\"PhD Student\",'PXS Kopieret'!E371,\"\")","v":0},{"$f":"IF($A371=\"PhD Student\",'PXS Kopieret'!F371,\"\")","v":""},{"$f":"'PXS Kopieret'!G371","v":0},{"$f":"'PXS Kopieret'!H371","v":0},{"$f":"IF($A371=\"PhD Student\",'PXS Kopieret'!I371,\"\")","v":""},{"$f":"'PXS Kopieret'!J371","v":0},{"$f":"'PXS Kopieret'!K371","v":0},{"$f":"'PXS Kopieret'!L371","v":0}]
["",{"$f":"IF('PXS Kopieret'!N372<>\"\",HYPERLINK(\"https://ssl1.peoplexs.com/Peoplexs22/eFormportal/eForm.cfm?CandidateUpdateID=\"&'PXS Kopieret'!M372&\"&CandidateUpdateCode=\"&'PXS Kopieret'!N372&\"&Locale=en&CustomFormID=11612\",\"Docs\"),\"\")","v":""},{"$f":"'PXS Kopieret'!A372","v":0},{"$f":"'PXS Kopieret'!B372","v":0},{"$f":"'PXS Kopieret'!C372","v":0},{"$f":"'PXS Kopieret'!D372","v":0},{"$f":"IF($A372<>\"PhD Student\",'PXS Kopieret'!E372,\"\")","v":0},{"$f":"IF($A372=\"PhD Student\",'PXS Kopieret'!F372,\"\")","v":""},{"$f":"'PXS Kopieret'!G372","v":0},{"$f":"'PXS Kopieret'!H372","v":0},{"$f":"IF($A372=\"PhD Student\",'PXS Kopieret'!I372,\"\")","v":""},{"$f":"'PXS Kopieret'!J372","v":0},{"$f":"'PXS Kopieret'!K372","v":0},{"$f":"'PXS Kopieret'!L372","v":0}]
["",{"$f":"IF('PXS Kopieret'!N373<>\"\",HYPERLINK(\"https://ssl1.peoplexs.com/Peoplexs22/eFormportal/eForm.cfm?CandidateUpdateID=\"&'PXS Kopieret'!M373&\"&CandidateUpdateCode=\"&'PXS Kopieret'!N373&\"&Locale=en&CustomFormID=11612\",\"Docs\"),\"\")","v":""},{"$f":"'PXS Kopieret'!A373","v":0},{"$f":"'PXS Kopieret'!B373","v":0},{"$f":"'PXS Kopieret'!C373","v":0},{"$f":"'PXS Kopieret'!D373","v":0},{"$f":"IF($A373<>\"PhD Student\",'PXS Kopieret'!E373,\"\")","v":0},{"$f":"IF($A373=\"PhD Student\",'PXS Kopieret'!F373,\"\")","v":""},{"$f":"'PXS Kopieret'!G373","v":0},{"$f":"'PXS Kopieret'!H373","v":0},{"$f":"IF($A373=\"PhD Student\",'PXS Kopieret'!I373,\"\")","v":""},{"$f":"'PXS Kopieret'!J373","v":0},{"$f":"'PXS Kopieret'!K373","v":0},{"$f":"'PXS Kopieret'!L373","v":0}]
["",{"$f":"IF('PXS Kopieret'!N374<>\"\",HYPERLINK(\"https://ssl1.peoplexs.com/Peoplexs22/eFormportal/eForm.cfm?CandidateUpdateID=\"&'PXS Kopieret'!M374&\"&CandidateUpdateCode=\"&'PXS Kopieret'!N374&\"&Locale=en&CustomFormID=11612\",\"Docs\"),\"\")","v":""},{"$f":"'PXS Kopieret'!A374","v":0},{"$f":"'PXS Kopieret'!B374","v":0},{"$f":"'PXS Kopieret'!C374","v":0},{"$f":"'PXS Kopieret'!D374","v":0},{"$f":"IF($A374<>\"PhD Student\",'PXS Kopieret'!E374,\"\")","v":0},{"$f":"IF($A374=\"PhD Student\",'PXS Kopieret'!F374,\"\")","v":""},{"$f":"'PXS Kopieret'!G374","v":0},{"$f":"'PXS Kopieret'!H374","v":0},{"$f":"IF($A374=\"PhD Student\",'PXS Kopieret'!I374,\"\")","v":""},{"$f":"'PXS Kopieret'!J374","v":0},{"$f":"'PXS Kopieret'!K374","v":0},{"$f":"'PXS Kopieret'!L374","v":0}]
["",{"$f":"IF('PXS Kopieret'!N375<>\"\",HYPERLINK(\"https://ssl1.peoplexs.com/Peoplexs22/eFormportal/eForm.cfm?CandidateUpdateID=\"&'PXS Kopieret'!M375&\"&CandidateUpdateCode=\"&'PXS Kopieret'!N375&\"&Locale=en&CustomFormID=11612\",\"Docs\"),\"\")","v":""},{"$f":"'PXS Kopieret'!A375","v":0},{"$f":"'PXS Kopieret'!B375","v":0},{"$f":"'PXS Kopieret'!C375","v":0},{"$f":"'PXS Kopieret'!D375","v":0},{"$f":"IF($A375<>\"PhD Student\",'PXS Kopieret'!E375,\"\")","v":0},{"$f":"IF($A375=\"PhD Student\",'PXS Kopieret'!F375,\"\")","v":""},{"$f":"'PXS Kopieret'!G375","v":0},{"$f":"'PXS Kopieret'!H375","v":0},{"$f":"IF($A375=\"PhD Student\",'PXS Kopieret'!I375,\"\")","v":""},{"$f":"'PXS Kopieret'!J375","v":0},{"$f":"'PXS Kopieret'!K375","v":0},{"$f":"'PXS Kopieret'!L375","v":0}]
["",{"$f":"IF('PXS Kopieret'!N376<>\"\",HYPERLINK(\"https://ssl1.peoplexs.com/Peoplexs22/eFormportal/eForm.cfm?CandidateUpdateID=\"&'PXS Kopieret'!M376&\"&CandidateUpdateCode=\"&'PXS Kopieret'!N376&\"&Locale=en&CustomFormID=11612\",\"Docs\"),\"\")","v":""},{"$f":"'PXS Kopieret'!A376","v":0},{"$f":"'PXS Kopieret'!B376","v":0},{"$f":"'PXS Kopieret'!C376","v":0},{"$f":"'PXS Kopieret'!D376","v":0},{"$f":"IF($A376<>\"PhD Student\",'PXS Kopieret'!E376,\"\")","v":0},{"$f":"IF($A376=\"PhD Student\",'PXS Kopieret'!F376,\"\")","v":""},{"$f":"'PXS Kopieret'!G376","v":0},{"$f":"'PXS Kopieret'!H376","v":0},{"$f":"IF($A376=\"PhD Student\",'PXS Kopieret'!I376,\"\")","v":""},{"$f":"'PXS Kopieret'!J376","v":0},{"$f":"'PXS Kopieret'!K376","v":0},{"$f":"'PXS Kopieret'!L376","v":0}]
["",{"$f":"IF('PXS Kopieret'!N377<>\"\",HYPERLINK(\"https://ssl1.peoplexs.com/Peoplexs22/eFormportal/eForm.cfm?CandidateUpdateID=\"&'PXS Kopieret'!M377&\"&CandidateUpdateCode=\"&'PXS Kopieret'!N377&\"&Locale=en&CustomFormID=11612\",\"Docs\"),\"\")","v":""},{"$f":"'PXS Kopieret'!A377","v":0},{"$f":"'PXS Kopieret'!B377","v":0},{"$f":"'PXS Kopieret'!C377","v":0},{"$f":"'PXS Kopieret'!D377","v":0},{"$f":"IF($A377<>\"PhD Student\",'PXS Kopieret'!E377,\"\")","v":0},{"$f":"IF($A377=\"PhD Student\",'PXS Kopieret'!F377,\"\")","v":""},{"$f":"'PXS Kopieret'!G377","v":0},{"$f":"'PXS Kopieret'!H377","v":0},{"$f":"IF($A377=\"PhD Student\",'PXS Kopieret'!I377,\"\")","v":""},{"$f":"'PXS Kopieret'!J377","v":0},{"$f":"'PXS Kopieret'!K377","v":0},{"$f":"'PXS Kopieret'!L377","v":0}]
["",{"$f":"IF('PXS Kopieret'!N378<>\"\",HYPERLINK(\"https://ssl1.peoplexs.com/Peoplexs22/eFormportal/eForm.cfm?CandidateUpdateID=\"&'PXS Kopieret'!M378&\"&CandidateUpdateCode=\"&'PXS Kopieret'!N378&\"&Locale=en&CustomFormID=11612\",\"Docs\"),\"\")","v":""},{"$f":"'PXS Kopieret'!A378","v":0},{"$f":"'PXS Kopieret'!B378","v":0},{"$f":"'PXS Kopieret'!C378","v":0},{"$f":"'PXS Kopieret'!D378","v":0},{"$f":"IF($A378<>\"PhD Student\",'PXS Kopieret'!E378,\"\")","v":0},{"$f":"IF($A378=\"PhD Student\",'PXS Kopieret'!F378,\"\")","v":""},{"$f":"'PXS Kopieret'!G378","v":0},{"$f":"'PXS Kopieret'!H378","v":0},{"$f":"IF($A378=\"PhD Student\",'PXS Kopieret'!I378,\"\")","v":""},{"$f":"'PXS Kopieret'!J378","v":0},{"$f":"'PXS Kopieret'!K378","v":0},{"$f":"'PXS Kopieret'!L378","v":0}]
["",{"$f":"IF('PXS Kopieret'!N379<>\"\",HYPERLINK(\"https://ssl1.peoplexs.com/Peoplexs22/eFormportal/eForm.cfm?CandidateUpdateID=\"&'PXS Kopieret'!M379&\"&CandidateUpdateCode=\"&'PXS Kopieret'!N379&\"&Locale=en&CustomFormID=11612\",\"Docs\"),\"\")","v":""},{"$f":"'PXS Kopieret'!A379","v":0},{"$f":"'PXS Kopieret'!B379","v":0},{"$f":"'PXS Kopieret'!C379","v":0},{"$f":"'PXS Kopieret'!D379","v":0},{"$f":"IF($A379<>\"PhD Student\",'PXS Kopieret'!E379,\"\")","v":0},{"$f":"IF($A379=\"PhD Student\",'PXS Kopieret'!F379,\"\")","v":""},{"$f":"'PXS Kopieret'!G379","v":0},{"$f":"'PXS Kopieret'!H379","v":0},{"$f":"IF($A379=\"PhD Student\",'PXS Kopieret'!I379,\"\")","v":""},{"$f":"'PXS Kopieret'!J379","v":0},{"$f":"'PXS Kopieret'!K379","v":0},{"$f":"'PXS Kopieret'!L379","v":0}]
["",{"$f":"IF('PXS Kopieret'!N380<>\"\",HYPERLINK(\"https://ssl1.peoplexs.com/Peoplexs22/eFormportal/eForm.cfm?CandidateUpdateID=\"&'PXS Kopieret'!M380&\"&CandidateUpdateCode=\"&'PXS Kopieret'!N380&\"&Locale=en&CustomFormID=11612\",\"Docs\"),\"\")","v":""},{"$f":"'PXS Kopieret'!A380","v":0},{"$f":"'PXS Kopieret'!B380","v":0},{"$f":"'PXS Kopieret'!C380","v":0},{"$f":"'PXS Kopieret'!D380","v":0},{"$f":"IF($A380<>\"PhD Student\",'PXS Kopieret'!E380,\"\")","v":0},{"$f":"IF($A380=\"PhD Student\",'PXS Kopieret'!F380,\"\")","v":""},{"$f":"'PXS Kopieret'!G380","v":0},{"$f":"'PXS Kopieret'!H380","v":0},{"$f":"IF($A380=\"PhD Student\",'PXS Kopieret'!I380,\"\")","v":""},{"$f":"'PXS Kopieret'!J380","v":0},{"$f":"'PXS Kopieret'!K380","v":0},{"$f":"'PXS Kopieret'!L380","v":0}]
["",{"$f":"IF('PXS Kopieret'!N381<>\"\",HYPERLINK(\"https://ssl1.peoplexs.com/Peoplexs22/eFormportal/eForm.cfm?CandidateUpdateID=\"&'PXS Kopieret'!M381&\"&CandidateUpdateCode=\"&'PXS Kopieret'!N381&\"&Locale=en&CustomFormID=11612\",\"Docs\"),\"\")","v":""},{"$f":"'PXS Kopieret'!A381","v":0},{"$f":"'PXS Kopieret'!B381","v":0},{"$f":"'PXS Kopieret'!C381","v":0},{"$f":"'PXS Kopieret'!D381","v":0},{"$f":"IF($A381<>\"PhD Student\",'PXS Kopieret'!E381,\"\")","v":0},{"$f":"IF($A381=\"PhD Student\",'PXS Kopieret'!F381,\"\")","v":""},{"$f":"'PXS Kopieret'!G381","v":0},{"$f":"'PXS Kopieret'!H381","v":0},{"$f":"IF($A381=\"PhD Student\",'PXS Kopieret'!I381,\"\")","v":""},{"$f":"'PXS Kopieret'!J381","v":0},{"$f":"'PXS Kopieret'!K381","v":0},{"$f":"'PXS Kopieret'!L381","v":0}]
["",{"$f":"IF('PXS Kopieret'!N382<>\"\",HYPERLINK(\"https://ssl1.peoplexs.com/Peoplexs22/eFormportal/eForm.cfm?CandidateUpdateID=\"&'PXS Kopieret'!M382&\"&CandidateUpdateCode=\"&'PXS Kopieret'!N382&\"&Locale=en&CustomFormID=11612\",\"Docs\"),\"\")","v":""},{"$f":"'PXS Kopieret'!A382","v":0},{"$f":"'PXS Kopieret'!B382","v":0},{"$f":"'PXS Kopieret'!C382","v":0},{"$f":"'PXS Kopieret'!D382","v":0},{"$f":"IF($A382<>\"PhD Student\",'PXS Kopieret'!E382,\"\")","v":0},{"$f":"IF($A382=\"PhD Student\",'PXS Kopieret'!F382,\"\")","v":""},{"$f":"'PXS Kopieret'!G382","v":0},{"$f":"'PXS Kopieret'!H382","v":0},{"$f":"IF($A382=\"PhD Student\",'PXS Kopieret'!I382,\"\")","v":""},{"$f":"'PXS Kopieret'!J382","v":0},{"$f":"'PXS Kopieret'!K382","v":0},{"$f":"'PXS Kopieret'!L382","v":0}]
["",{"$f":"IF('PXS Kopieret'!N383<>\"\",HYPERLINK(\"https://ssl1.peoplexs.com/Peoplexs22/eFormportal/eForm.cfm?CandidateUpdateID=\"&'PXS Kopieret'!M383&\"&CandidateUpdateCode=\"&'PXS Kopieret'!N383&\"&Locale=en&CustomFormID=11612\",\"Docs\"),\"\")","v":""},{"$f":"'PXS Kopieret'!A383","v":0},{"$f":"'PXS Kopieret'!B383","v":0},{"$f":"'PXS Kopieret'!C383","v":0},{"$f":"'PXS Kopieret'!D383","v":0},{"$f":"IF($A383<>\"PhD Student\",'PXS Kopieret'!E383,\"\")","v":0},{"$f":"IF($A383=\"PhD Student\",'PXS Kopieret'!F383,\"\")","v":""},{"$f":"'PXS Kopieret'!G383","v":0},{"$f":"'PXS Kopieret'!H383","v":0},{"$f":"IF($A383=\"PhD Student\",'PXS Kopieret'!I383,\"\")","v":""},{"$f":"'PXS Kopieret'!J383","v":0},{"$f":"'PXS Kopieret'!K383","v":0},{"$f":"'PXS Kopieret'!L383","v":0}]
["",{"$f":"IF('PXS Kopieret'!N384<>\"\",HYPERLINK(\"https://ssl1.peoplexs.com/Peoplexs22/eFormportal/eForm.cfm?CandidateUpdateID=\"&'PXS Kopieret'!M384&\"&CandidateUpdateCode=\"&'PXS Kopieret'!N384&\"&Locale=en&CustomFormID=11612\",\"Docs\"),\"\")","v":""},{"$f":"'PXS Kopieret'!A384","v":0},{"$f":"'PXS Kopieret'!B384","v":0},{"$f":"'PXS Kopieret'!C384","v":0},{"$f":"'PXS Kopieret'!D384","v":0},{"$f":"IF($A384<>\"PhD Student\",'PXS Kopieret'!E384,\"\")","v":0},{"$f":"IF($A384=\"PhD Student\",'PXS Kopieret'!F384,\"\")","v":""},{"$f":"'PXS Kopieret'!G384","v":0},{"$f":"'PXS Kopieret'!H384","v":0},{"$f":"IF($A384=\"PhD Student\",'PXS Kopieret'!I384,\"\")","v":""},{"$f":"'PXS Kopieret'!J384","v":0},{"$f":"'PXS Kopieret'!K384","v":0},{"$f":"'PXS Kopieret'!L384","v":0}]
["",{"$f":"IF('PXS Kopieret'!N385<>\"\",HYPERLINK(\"https://ssl1.peoplexs.com/Peoplexs22/eFormportal/eForm.cfm?CandidateUpdateID=\"&'PXS Kopieret'!M385&\"&CandidateUpdateCode=\"&'PXS Kopieret'!N385&\"&Locale=en&CustomFormID=11612\",\"Docs\"),\"\")","v":""},{"$f":"'PXS Kopieret'!A385","v":0},{"$f":"'PXS Kopieret'!B385","v":0},{"$f":"'PXS Kopieret'!C385","v":0},{"$f":"'PXS Kopieret'!D385","v":0},{"$f":"IF($A385<>\"PhD Student\",'PXS Kopieret'!E385,\"\")","v":0},{"$f":"IF($A385=\"PhD Student\",'PXS Kopieret'!F385,\"\")","v":""},{"$f":"'PXS Kopieret'!G385","v":0},{"$f":"'PXS Kopieret'!H385","v":0},{"$f":"IF($A385=\"PhD Student\",'PXS Kopieret'!I385,\"\")","v":""},{"$f":"'PXS Kopieret'!J385","v":0},{"$f":"'PXS Kopieret'!K385","v":0},{"$f":"'PXS Kopieret'!L385","v":0}]
["",{"$f":"IF('PXS Kopieret'!N386<>\"\",HYPERLINK(\"https://ssl1.peoplexs.com/Peoplexs22/eFormportal/eForm.cfm?CandidateUpdateID=\"&'PXS Kopieret'!M386&\"&CandidateUpdateCode=\"&'PXS Kopieret'!N386&\"&Locale=en&CustomFormID=11612\",\"Docs\"),\"\")","v":""},{"$f":"'PXS Kopieret'!A386","v":0},{"$f":"'PXS Kopieret'!B386","v":0},{"$f":"'PXS Kopieret'!C386","v":0},{"$f":"'PXS Kopieret'!D386","v":0},{"$f":"IF($A386<>\"PhD Student\",'PXS Kopieret'!E386,\"\")","v":0},{"$f":"IF($A386=\"PhD Student\",'PXS Kopieret'!F386,\"\")","v":""},{"$f":"'PXS Kopieret'!G386","v":0},{"$f":"'PXS Kopieret'!H386","v":0},{"$f":"IF($A386=\"PhD Student\",'PXS Kopieret'!I386,\"\")","v":""},{"$f":"'PXS Kopieret'!J386","v":0},{"$f":"'PXS Kopieret'!K386","v":0},{"$f":"'PXS Kopieret'!L386","v":0}]
[{"$f":"IF(LEFT(C387,2)=\"RY\", \"Research Year Student\", IF(C387=0,\"\",\"PhD Student\"))","v":""},{"$f":"IF('PXS Kopieret'!N387<>\"\",HYPERLINK(\"https://ssl1.peoplexs.com/Peoplexs22/eFormportal/eForm.cfm?CandidateUpdateID=\"&'PXS Kopieret'!M387&\"&CandidateUpdateCode=\"&'PXS Kopieret'!N387&\"&Locale=en&CustomFormID=11612\",\"Docs\"),\"\")","v":""},{"$f":"'PXS Kopieret'!A387","v":0},{"$f":"'PXS Kopieret'!B387","v":0},{"$f":"'PXS Kopieret'!C387","v":0},{"$f":"'PXS Kopieret'!D387","v":0},{"$f":"IF($A387<>\"PhD Student\",'PXS Kopieret'!E387,\"\")","v":0},{"$f":"IF($A387=\"PhD Student\",'PXS Kopieret'!F387,\"\")","v":""},{"$f":"'PXS Kopieret'!G387","v":0},{"$f":"'PXS Kopieret'!H387","v":0},{"$f":"IF($A387=\"PhD Student\",'PXS Kopieret'!I387,\"\")","v":""},{"$f":"'PXS Kopieret'!J387","v":0},{"$f":"'PXS Kopieret'!K387","v":0},{"$f":"'PXS Kopieret'!L387","v":0}]
["",{"$f":"IF('PXS Kopieret'!N388<>\"\",HYPERLINK(\"https://ssl1.peoplexs.com/Peoplexs22/eFormportal/eForm.cfm?CandidateUpdateID=\"&'PXS Kopieret'!M388&\"&CandidateUpdateCode=\"&'PXS Kopieret'!N388&\"&Locale=en&CustomFormID=11612\",\"Docs\"),\"\")","v":""},{"$f":"'PXS Kopieret'!A388","v":0},{"$f":"'PXS Kopieret'!B388","v":0},{"$f":"'PXS Kopieret'!C388","v":0},{"$f":"'PXS Kopieret'!D388","v":0},{"$f":"IF($A388<>\"PhD Student\",'PXS Kopieret'!E388,\"\")","v":0},{"$f":"IF($A388=\"PhD Student\",'PXS Kopieret'!F388,\"\")","v":""},{"$f":"'PXS Kopieret'!G388","v":0},{"$f":"'PXS Kopieret'!H388","v":0},{"$f":"IF($A388=\"PhD Student\",'PXS Kopieret'!I388,\"\")","v":""},{"$f":"'PXS Kopieret'!J388","v":0},{"$f":"'PXS Kopieret'!K388","v":0},{"$f":"'PXS Kopieret'!L388","v":0}]
["",{"$f":"IF('PXS Kopieret'!N389<>\"\",HYPERLINK(\"https://ssl1.peoplexs.com/Peoplexs22/eFormportal/eForm.cfm?CandidateUpdateID=\"&'PXS Kopieret'!M389&\"&CandidateUpdateCode=\"&'PXS Kopieret'!N389&\"&Locale=en&CustomFormID=11612\",\"Docs\"),\"\")","v":""},{"$f":"'PXS Kopieret'!A389","v":0},{"$f":"'PXS Kopieret'!B389","v":0},{"$f":"'PXS Kopieret'!C389","v":0},{"$f":"'PXS Kopieret'!D389","v":0},{"$f":"IF($A389<>\"PhD Student\",'PXS Kopieret'!E389,\"\")","v":0},{"$f":"IF($A389=\"PhD Student\",'PXS Kopieret'!F389,\"\")","v":""},{"$f":"'PXS Kopieret'!G389","v":0},{"$f":"'PXS Kopieret'!H389","v":0},{"$f":"IF($A389=\"PhD Student\",'PXS Kopieret'!I389,\"\")","v":""},{"$f":"'PXS Kopieret'!J389","v":0},{"$f":"'PXS Kopieret'!K389","v":0},{"$f":"'PXS Kopieret'!L389","v":0}]
["",{"$f":"IF('PXS Kopieret'!N390<>\"\",HYPERLINK(\"https://ssl1.peoplexs.com/Peoplexs22/eFormportal/eForm.cfm?CandidateUpdateID=\"&'PXS Kopieret'!M390&\"&CandidateUpdateCode=\"&'PXS Kopieret'!N390&\"&Locale=en&CustomFormID=11612\",\"Docs\"),\"\")","v":""},{"$f":"'PXS Kopieret'!A390","v":0},{"$f":"'PXS Kopieret'!B390","v":0},{"$f":"'PXS Kopieret'!C390","v":0},{"$f":"'PXS Kopieret'!D390","v":0},{"$f":"IF($A390<>\"PhD Student\",'PXS Kopieret'!E390,\"\")","v":0},{"$f":"IF($A390=\"PhD Student\",'PXS Kopieret'!F390,\"\")","v":""},{"$f":"'PXS Kopieret'!G390","v":0},{"$f":"'PXS Kopieret'!H390","v":0},{"$f":"IF($A390=\"PhD Student\",'PXS Kopieret'!I390,\"\")","v":""},{"$f":"'PXS Kopieret'!J390","v":0},{"$f":"'PXS Kopieret'!K390","v":0},{"$f":"'PXS Kopieret'!L390","v":0}]
["",{"$f":"IF('PXS Kopieret'!N391<>\"\",HYPERLINK(\"https://ssl1.peoplexs.com/Peoplexs22/eFormportal/eForm.cfm?CandidateUpdateID=\"&'PXS Kopieret'!M391&\"&CandidateUpdateCode=\"&'PXS Kopieret'!N391&\"&Locale=en&CustomFormID=11612\",\"Docs\"),\"\")","v":""},{"$f":"'PXS Kopieret'!A391","v":0},{"$f":"'PXS Kopieret'!B391","v":0},{"$f":"'PXS Kopieret'!C391","v":0},{"$f":"'PXS Kopieret'!D391","v":0},{"$f":"IF($A391<>\"PhD Student\",'PXS Kopieret'!E391,\"\")","v":0},{"$f":"IF($A391=\"PhD Student\",'PXS Kopieret'!F391,\"\")","v":""},{"$f":"'PXS Kopieret'!G391","v":0},{"$f":"'PXS Kopieret'!H391","v":0},{"$f":"IF($A391=\"PhD Student\",'PXS Kopieret'!I391,\"\")","v":""},{"$f":"'PXS Kopieret'!J391","v":0},{"$f":"'PXS Kopieret'!K391","v":0},{"$f":"'PXS Kopieret'!L391","v":0}]
["",{"$f":"IF('PXS Kopieret'!N392<>\"\",HYPERLINK(\"https://ssl1.peoplexs.com/Peoplexs22/eFormportal/eForm.cfm?CandidateUpdateID=\"&'PXS Kopieret'!M392&\"&CandidateUpdateCode=\"&'PXS Kopieret'!N392&\"&Locale=en&CustomFormID=11612\",\"Docs\"),\"\")","v":""},{"$f":"'PXS Kopieret'!A392","v":0},{"$f":"'PXS Kopieret'!B392","v":0},{"$f":"'PXS Kopieret'!C392","v":0},{"$f":"'PXS Kopieret'!D392","v":0},{"$f":"IF($A392<>\"PhD Student\",'PXS Kopieret'!E392,\"\")","v":0},{"$f":"IF($A392=\"PhD Student\",'PXS Kopieret'!F392,\"\")","v":""},{"$f":"'PXS Kopieret'!G392","v":0},{"$f":"'PXS Kopieret'!H392","v":0},{"$f":"IF($A392=\"PhD Student\",'PXS Kopieret'!I392,\"\")","v":""},{"$f":"'PXS Kopieret'!J392","v":0},{"$f":"'PXS Kopieret'!K392","v":0},{"$f":"'PXS Kopieret'!L392","v":0}]
["",{"$f":"IF('PXS Kopieret'!N393<>\"\",HYPERLINK(\"https://ssl1.peoplexs.com/Peoplexs22/eFormportal/eForm.cfm?CandidateUpdateID=\"&'PXS Kopieret'!M393&\"&CandidateUpdateCode=\"&'PXS Kopieret'!N393&\"&Locale=en&CustomFormID=11612\",\"Docs\"),\"\")","v":""},{"$f":"'PXS Kopieret'!A393","v":0},{"$f":"'PXS Kopieret'!B393","v":0},{"$f":"'PXS Kopieret'!C393","v":0},{"$f":"'PXS Kopieret'!D393","v":0},{"$f":"IF($A393<>\"PhD Student\",'PXS Kopieret'!E393,\"\")","v":0},{"$f":"IF($A393=\"PhD Student\",'PXS Kopieret'!F393,\"\")","v":""},{"$f":"'PXS Kopieret'!G393","v":0},{"$f":"'PXS Kopieret'!H393","v":0},{"$f":"IF($A393=\"PhD Student\",'PXS Kopieret'!I393,\"\")","v":""},{"$f":"'PXS Kopieret'!J393","v":0},{"$f":"'PXS Kopieret'!K393","v":0},{"$f":"'PXS Kopieret'!L393","v":0}]
["",{"$f":"IF('PXS Kopieret'!N394<>\"\",HYPERLINK(\"https://ssl1.peoplexs.com/Peoplexs22/eFormportal/eForm.cfm?CandidateUpdateID=\"&'PXS Kopieret'!M394&\"&CandidateUpdateCode=\"&'PXS Kopieret'!N394&\"&Locale=en&CustomFormID=11612\",\"Docs\"),\"\")","v":""},{"$f":"'PXS Kopieret'!A394","v":0},{"$f":"'PXS Kopieret'!B394","v":0},{"$f":"'PXS Kopieret'!C394","v":0},{"$f":"'PXS Kopieret'!D394","v":0},{"$f":"IF($A394<>\"PhD Student\",'PXS Kopieret'!E394,\"\")","v":0},{"$f":"IF($A394=\"PhD Student\",'PXS Kopieret'!F394,\"\")","v":""},{"$f":"'PXS Kopieret'!G394","v":0},{"$f":"'PXS Kopieret'!H394","v":0},{"$f":"IF($A394=\"PhD Student\",'PXS Kopieret'!I394,\"\")","v":""},{"$f":"'PXS Kopieret'!J394","v":0},{"$f":"'PXS Kopieret'!K394","v":0},{"$f":"'PXS Kopieret'!L394","v":0}]
["",{"$f":"IF('PXS Kopieret'!N395<>\"\",HYPERLINK(\"https://ssl1.peoplexs.com/Peoplexs22/eFormportal/eForm.cfm?CandidateUpdateID=\"&'PXS Kopieret'!M395&\"&CandidateUpdateCode=\"&'PXS Kopieret'!N395&\"&Locale=en&CustomFormID=11612\",\"Docs\"),\"\")","v":""},{"$f":"'PXS Kopieret'!A395","v":0},{"$f":"'PXS Kopieret'!B395","v":0},{"$f":"'PXS Kopieret'!C395","v":0},{"$f":"'PXS Kopieret'!D395","v":0},{"$f":"IF($A395<>\"PhD Student\",'PXS Kopieret'!E395,\"\")","v":0},{"$f":"IF($A395=\"PhD Student\",'PXS Kopieret'!F395,\"\")","v":""},{"$f":"'PXS Kopieret'!G395","v":0},{"$f":"'PXS Kopieret'!H395","v":0},{"$f":"IF($A395=\"PhD Student\",'PXS Kopieret'!I395,\"\")","v":""},{"$f":"'PXS Kopieret'!J395","v":0},{"$f":"'PXS Kopieret'!K395","v":0},{"$f":"'PXS Kopieret'!L395","v":0}]
["",{"$f":"IF('PXS Kopieret'!N396<>\"\",HYPERLINK(\"https://ssl1.peoplexs.com/Peoplexs22/eFormportal/eForm.cfm?CandidateUpdateID=\"&'PXS Kopieret'!M396&\"&CandidateUpdateCode=\"&'PXS Kopieret'!N396&\"&Locale=en&CustomFormID=11612\",\"Docs\"),\"\")","v":""},{"$f":"'PXS Kopieret'!A396","v":0},{"$f":"'PXS Kopieret'!B396","v":0},{"$f":"'PXS Kopieret'!C396","v":0},{"$f":"'PXS Kopieret'!D396","v":0},{"$f":"IF($A396<>\"PhD Student\",'PXS Kopieret'!E396,\"\")","v":0},{"$f":"IF($A396=\"PhD Student\",'PXS Kopieret'!F396,\"\")","v":""},{"$f":"'PXS Kopieret'!G396","v":0},{"$f":"'PXS Kopieret'!H396","v":0},{"$f":"IF($A396=\"PhD Student\",'PXS Kopieret'!I396,\"\")","v":""},{"$f":"'PXS Kopieret'!J396","v":0},{"$f":"'PXS Kopieret'!K396","v":0},{"$f":"'PXS Kopieret'!L396","v":0}]
["",{"$f":"IF('PXS Kopieret'!N397<>\"\",HYPERLINK(\"https://ssl1.peoplexs.com/Peoplexs22/eFormportal/eForm.cfm?CandidateUpdateID=\"&'PXS Kopieret'!M397&\"&CandidateUpdateCode=\"&'PXS Kopieret'!N397&\"&Locale=en&CustomFormID=11612\",\"Docs\"),\"\")","v":""},{"$f":"'PXS Kopieret'!A397","v":0},{"$f":"'PXS Kopieret'!B397","v":0},{"$f":"'PXS Kopieret'!C397","v":0},{"$f":"'PXS Kopieret'!D397","v":0},{"$f":"IF($A397<>\"PhD Student\",'PXS Kopieret'!E397,\"\")","v":0},{"$f":"IF($A397=\"PhD Student\",'PXS Kopieret'!F397,\"\")","v":""},{"$f":"'PXS Kopieret'!G397","v":0},{"$f":"'PXS Kopieret'!H397","v":0},{"$f":"IF($A397=\"PhD Student\",'PXS Kopieret'!I397,\"\")","v":""},{"$f":"'PXS Kopieret'!J397","v":0},{"$f":"'PXS Kopieret'!K397","v":0},{"$f":"'PXS Kopieret'!L397","v":0}]
["",{"$f":"IF('PXS Kopieret'!N398<>\"\",HYPERLINK(\"https://ssl1.peoplexs.com/Peoplexs22/eFormportal/eForm.cfm?CandidateUpdateID=\"&'PXS Kopieret'!M398&\"&CandidateUpdateCode=\"&'PXS Kopieret'!N398&\"&Locale=en&CustomFormID=11612\",\"Docs\"),\"\")","v":""},{"$f":"'PXS Kopieret'!A398","v":0},{"$f":"'PXS Kopieret'!B398","v":0},{"$f":"'PXS Kopieret'!C398","v":0},{"$f":"'PXS Kopieret'!D398","v":0},{"$f":"IF($A398<>\"PhD Student\",'PXS Kopieret'!E398,\"\")","v":0},{"$f":"IF($A398=\"PhD Student\",'PXS Kopieret'!F398,\"\")","v":""},{"$f":"'PXS Kopieret'!G398","v":0},{"$f":"'PXS Kopieret'!H398","v":0},{"$f":"IF($A398=\"PhD Student\",'PXS Kopieret'!I398,\"\")","v":""},{"$f":"'PXS Kopieret'!J398","v":0},{"$f":"'PXS Kopieret'!K398","v":0},{"$f":"'PXS Kopieret'!L398","v":0}]
["",{"$f":"IF('PXS Kopieret'!N399<>\"\",HYPERLINK(\"https://ssl1.peoplexs.com/Peoplexs22/eFormportal/eForm.cfm?CandidateUpdateID=\"&'PXS Kopieret'!M399&\"&CandidateUpdateCode=\"&'PXS Kopieret'!N399&\"&Locale=en&CustomFormID=11612\",\"Docs\"),\"\")","v":""},{"$f":"'PXS Kopieret'!A399","v":0},{"$f":"'PXS Kopieret'!B399","v":0},{"$f":"'PXS Kopieret'!C399","v":0},{"$f":"'PXS Kopieret'!D399","v":0},{"$f":"IF($A399<>\"PhD Student\",'PXS Kopieret'!E399,\"\")","v":0},{"$f":"IF($A399=\"PhD Student\",'PXS Kopieret'!F399,\"\")","v":""},{"$f":"'PXS Kopieret'!G399","v":0},{"$f":"'PXS Kopieret'!H399","v":0},{"$f":"IF($A399=\"PhD Student\",'PXS Kopieret'!I399,\"\")","v":""},{"$f":"'PXS Kopieret'!J399","v":0},{"$f":"'PXS Kopieret'!K399","v":0},{"$f":"'PXS Kopieret'!L399","v":0}]
["",{"$f":"IF('PXS Kopieret'!N400<>\"\",HYPERLINK(\"https://ssl1.peoplexs.com/Peoplexs22/eFormportal/eForm.cfm?CandidateUpdateID=\"&'PXS Kopieret'!M400&\"&CandidateUpdateCode=\"&'PXS Kopieret'!N400&\"&Locale=en&CustomFormID=11612\",\"Docs\"),\"\")","v":""},{"$f":"'PXS Kopieret'!A400","v":0},{"$f":"'PXS Kopieret'!B400","v":0},{"$f":"'PXS Kopieret'!C400","v":0},{"$f":"'PXS Kopieret'!D400","v":0},{"$f":"IF($A400<>\"PhD Student\",'PXS Kopieret'!E400,\"\")","v":0},{"$f":"IF($A400=\"PhD Student\",'PXS Kopieret'!F400,\"\")","v":""},{"$f":"'PXS Kopieret'!G400","v":0},{"$f":"'PXS Kopieret'!H400","v":0},{"$f":"IF($A400=\"PhD Student\",'PXS Kopieret'!I400,\"\")","v":""},{"$f":"'PXS Kopieret'!J400","v":0},{"$f":"'PXS Kopieret'!K400","v":0},{"$f":"'PXS Kopieret'!L400","v":0}]
["",{"$f":"IF('PXS Kopieret'!N401<>\"\",HYPERLINK(\"https://ssl1.peoplexs.com/Peoplexs22/eFormportal/eForm.cfm?CandidateUpdateID=\"&'PXS Kopieret'!M401&\"&CandidateUpdateCode=\"&'PXS Kopieret'!N401&\"&Locale=en&CustomFormID=11612\",\"Docs\"),\"\")","v":""},{"$f":"'PXS Kopieret'!A401","v":0},{"$f":"'PXS Kopieret'!B401","v":0},{"$f":"'PXS Kopieret'!C401","v":0},{"$f":"'PXS Kopieret'!D401","v":0},{"$f":"IF($A401<>\"PhD Student\",'PXS Kopieret'!E401,\"\")","v":0},{"$f":"IF($A401=\"PhD Student\",'PXS Kopieret'!F401,\"\")","v":""},{"$f":"'PXS Kopieret'!G401","v":0},{"$f":"'PXS Kopieret'!H401","v":0},{"$f":"IF($A401=\"PhD Student\",'PXS Kopieret'!I401,\"\")","v":""},{"$f":"'PXS Kopieret'!J401","v":0},{"$f":"'PXS Kopieret'!K401","v":0},{"$f":"'PXS Kopieret'!L401","v":0}]
["",{"$f":"IF('PXS Kopieret'!N402<>\"\",HYPERLINK(\"https://ssl1.peoplexs.com/Peoplexs22/eFormportal/eForm.cfm?CandidateUpdateID=\"&'PXS Kopieret'!M402&\"&CandidateUpdateCode=\"&'PXS Kopieret'!N402&\"&Locale=en&CustomFormID=11612\",\"Docs\"),\"\")","v":""},{"$f":"'PXS Kopieret'!A402","v":0},{"$f":"'PXS Kopieret'!B402","v":0},{"$f":"'PXS Kopieret'!C402","v":0},{"$f":"'PXS Kopieret'!D402","v":0},{"$f":"IF($A402<>\"PhD Student\",'PXS Kopieret'!E402,\"\")","v":0},{"$f":"IF($A402=\"PhD Student\",'PXS Kopieret'!F402,\"\")","v":""},{"$f":"'PXS Kopieret'!G402","v":0},{"$f":"'PXS Kopieret'!H402","v":0},{"$f":"IF($A402=\"PhD Student\",'PXS Kopieret'!I402,\"\")","v":""},{"$f":"'PXS Kopieret'!J402","v":0},{"$f":"'PXS Kopieret'!K402","v":0},{"$f":"'PXS Kopieret'!L402","v":0}]
["",{"$f":"IF('PXS Kopieret'!N403<>\"\",HYPERLINK(\"https://ssl1.peoplexs.com/Peoplexs22/eFormportal/eForm.cfm?CandidateUpdateID=\"&'PXS Kopieret'!M403&\"&CandidateUpdateCode=\"&'PXS Kopieret'!N403&\"&Locale=en&CustomFormID=11612\",\"Docs\"),\"\")","v":""},{"$f":"'PXS Kopieret'!A403","v":0},{"$f":"'PXS Kopieret'!B403","v":0},{"$f":"'PXS Kopieret'!C403","v":0},{"$f":"'PXS Kopieret'!D403","v":0},{"$f":"IF($A403<>\"PhD Student\",'PXS Kopieret'!E403,\"\")","v":0},{"$f":"IF($A403=\"PhD Student\",'PXS Kopieret'!F403,\"\")","v":""},{"$f":"'PXS Kopieret'!G403","v":0},{"$f":"'PXS Kopieret'!H403","v":0},{"$f":"IF($A403=\"PhD Student\",'PXS Kopieret'!I403,\"\")","v":""},{"$f":"'PXS Kopieret'!J403","v":0},{"$f":"'PXS Kopieret'!K403","v":0},{"$f":"'PXS Kopieret'!L403","v":0}]
["",{"$f":"IF('PXS Kopieret'!N404<>\"\",HYPERLINK(\"https://ssl1.peoplexs.com/Peoplexs22/eFormportal/eForm.cfm?CandidateUpdateID=\"&'PXS Kopieret'!M404&\"&CandidateUpdateCode=\"&'PXS Kopieret'!N404&\"&Locale=en&CustomFormID=11612\",\"Docs\"),\"\")","v":""},{"$f":"'PXS Kopieret'!A404","v":0},{"$f":"'PXS Kopieret'!B404","v":0},{"$f":"'PXS Kopieret'!C404","v":0},{"$f":"'PXS Kopieret'!D404","v":0},{"$f":"IF($A404<>\"PhD Student\",'PXS Kopieret'!E404,\"\")","v":0},{"$f":"IF($A404=\"PhD Student\",'PXS Kopieret'!F404,\"\")","v":""},{"$f":"'PXS Kopieret'!G404","v":0},{"$f":"'PXS Kopieret'!H404","v":0},{"$f":"IF($A404=\"PhD Student\",'PXS Kopieret'!I404,\"\")","v":""},{"$f":"'PXS Kopieret'!J404","v":0},{"$f":"'PXS Kopieret'!K404","v":0},{"$f":"'PXS Kopieret'!L404","v":0}]
["",{"$f":"IF('PXS Kopieret'!N405<>\"\",HYPERLINK(\"https://ssl1.peoplexs.com/Peoplexs22/eFormportal/eForm.cfm?CandidateUpdateID=\"&'PXS Kopieret'!M405&\"&CandidateUpdateCode=\"&'PXS Kopieret'!N405&\"&Locale=en&CustomFormID=11612\",\"Docs\"),\"\")","v":""},{"$f":"'PXS Kopieret'!A405","v":0},{"$f":"'PXS Kopieret'!B405","v":0},{"$f":"'PXS Kopieret'!C405","v":0},{"$f":"'PXS Kopieret'!D405","v":0},{"$f":"IF($A405<>\"PhD Student\",'PXS Kopieret'!E405,\"\")","v":0},{"$f":"IF($A405=\"PhD Student\",'PXS Kopieret'!F405,\"\")","v":""},{"$f":"'PXS Kopieret'!G405","v":0},{"$f":"'PXS Kopieret'!H405","v":0},{"$f":"IF($A405=\"PhD Student\",'PXS Kopieret'!I405,\"\")","v":""},{"$f":"'PXS Kopieret'!J405","v":0},{"$f":"'PXS Kopieret'!K405","v":0},{"$f":"'PXS Kopieret'!L405","v":0}]
["",{"$f":"IF('PXS Kopieret'!N406<>\"\",HYPERLINK(\"https://ssl1.peoplexs.com/Peoplexs22/eFormportal/eForm.cfm?CandidateUpdateID=\"&'PXS Kopieret'!M406&\"&CandidateUpdateCode=\"&'PXS Kopieret'!N406&\"&Locale=en&CustomFormID=11612\",\"Docs\"),\"\")","v":""},{"$f":"'PXS Kopieret'!A406","v":0},{"$f":"'PXS Kopieret'!B406","v":0},{"$f":"'PXS Kopieret'!C406","v":0},{"$f":"'PXS Kopieret'!D406","v":0},{"$f":"IF($A406<>\"PhD Student\",'PXS Kopieret'!E406,\"\")","v":0},{"$f":"IF($A406=\"PhD Student\",'PXS Kopieret'!F406,\"\")","v":""},{"$f":"'PXS Kopieret'!G406","v":0},{"$f":"'PXS Kopieret'!H406","v":0},{"$f":"IF($A406=\"PhD Student\",'PXS Kopieret'!I406,\"\")","v":""},{"$f":"'PXS Kopieret'!J406","v":0},{"$f":"'PXS Kopieret'!K406","v":0},{"$f":"'PXS Kopieret'!L406","v":0}]
["",{"$f":"IF('PXS Kopieret'!N407<>\"\",HYPERLINK(\"https://ssl1.peoplexs.com/Peoplexs22/eFormportal/eForm.cfm?CandidateUpdateID=\"&'PXS Kopieret'!M407&\"&CandidateUpdateCode=\"&'PXS Kopieret'!N407&\"&Locale=en&CustomFormID=11612\",\"Docs\"),\"\")","v":""},{"$f":"'PXS Kopieret'!A407","v":0},{"$f":"'PXS Kopieret'!B407","v":0},{"$f":"'PXS Kopieret'!C407","v":0},{"$f":"'PXS Kopieret'!D407","v":0},{"$f":"IF($A407<>\"PhD Student\",'PXS Kopieret'!E407,\"\")","v":0},{"$f":"IF($A407=\"PhD Student\",'PXS Kopieret'!F407,\"\")","v":""},{"$f":"'PXS Kopieret'!G407","v":0},{"$f":"'PXS Kopieret'!H407","v":0},{"$f":"IF($A407=\"PhD Student\",'PXS Kopieret'!I407,\"\")","v":""},{"$f":"'PXS Kopieret'!J407","v":0},{"$f":"'PXS Kopieret'!K407","v":0},{"$f":"'PXS Kopieret'!L407","v":0}]
["",{"$f":"IF('PXS Kopieret'!N408<>\"\",HYPERLINK(\"https://ssl1.peoplexs.com/Peoplexs22/eFormportal/eForm.cfm?CandidateUpdateID=\"&'PXS Kopieret'!M408&\"&CandidateUpdateCode=\"&'PXS Kopieret'!N408&\"&Locale=en&CustomFormID=11612\",\"Docs\"),\"\")","v":""},{"$f":"'PXS Kopieret'!A408","v":0},{"$f":"'PXS Kopieret'!B408","v":0},{"$f":"'PXS Kopieret'!C408","v":0},{"$f":"'PXS Kopieret'!D408","v":0},{"$f":"IF($A408<>\"PhD Student\",'PXS Kopieret'!E408,\"\")","v":0},{"$f":"IF($A408=\"PhD Student\",'PXS Kopieret'!F408,\"\")","v":""},{"$f":"'PXS Kopieret'!G408","v":0},{"$f":"'PXS Kopieret'!H408","v":0},{"$f":"IF($A408=\"PhD Student\",'PXS Kopieret'!I408,\"\")","v":""},{"$f":"'PXS Kopieret'!J408","v":0},{"$f":"'PXS Kopieret'!K408","v":0},{"$f":"'PXS Kopieret'!L408","v":0}]
["",{"$f":"IF('PXS Kopieret'!N409<>\"\",HYPERLINK(\"https://ssl1.peoplexs.com/Peoplexs22/eFormportal/eForm.cfm?CandidateUpdateID=\"&'PXS Kopieret'!M409&\"&CandidateUpdateCode=\"&'PXS Kopieret'!N409&\"&Locale=en&CustomFormID=11612\",\"Docs\"),\"\")","v":""},{"$f":"'PXS Kopieret'!A409","v":0},{"$f":"'PXS Kopieret'!B409","v":0},{"$f":"'PXS Kopieret'!C409","v":0},{"$f":"'PXS Kopieret'!D409","v":0},{"$f":"IF($A409<>\"PhD Student\",'PXS Kopieret'!E409,\"\")","v":0},{"$f":"IF($A409=\"PhD Student\",'PXS Kopieret'!F409,\"\")","v":""},{"$f":"'PXS Kopieret'!G409","v":0},{"$f":"'PXS Kopieret'!H409","v":0},{"$f":"IF($A409=\"PhD Student\",'PXS Kopieret'!I409,\"\")","v":""},{"$f":"'PXS Kopieret'!J409","v":0},{"$f":"'PXS Kopieret'!K409","v":0},{"$f":"'PXS Kopieret'!L409","v":0}]
["",{"$f":"IF('PXS Kopieret'!N410<>\"\",HYPERLINK(\"https://ssl1.peoplexs.com/Peoplexs22/eFormportal/eForm.cfm?CandidateUpdateID=\"&'PXS Kopieret'!M410&\"&CandidateUpdateCode=\"&'PXS Kopieret'!N410&\"&Locale=en&CustomFormID=11612\",\"Docs\"),\"\")","v":""},{"$f":"'PXS Kopieret'!A410","v":0},{"$f":"'PXS Kopieret'!B410","v":0},{"$f":"'PXS Kopieret'!C410","v":0},{"$f":"'PXS Kopieret'!D410","v":0},{"$f":"IF($A410<>\"PhD Student\",'PXS Kopieret'!E410,\"\")","v":0},{"$f":"IF($A410=\"PhD Student\",'PXS Kopieret'!F410,\"\")","v":""},{"$f":"'PXS Kopieret'!G410","v":0},{"$f":"'PXS Kopieret'!H410","v":0},{"$f":"IF($A410=\"PhD Student\",'PXS Kopieret'!I410,\"\")","v":""},{"$f":"'PXS Kopieret'!J410","v":0},{"$f":"'PXS Kopieret'!K410","v":0},{"$f":"'PXS Kopieret'!L410","v":0}]
["",{"$f":"IF('PXS Kopieret'!N411<>\"\",HYPERLINK(\"https://ssl1.peoplexs.com/Peoplexs22/eFormportal/eForm.cfm?CandidateUpdateID=\"&'PXS Kopieret'!M411&\"&CandidateUpdateCode=\"&'PXS Kopieret'!N411&\"&Locale=en&CustomFormID=11612\",\"Docs\"),\"\")","v":""},{"$f":"'PXS Kopieret'!A411","v":0},{"$f":"'PXS Kopieret'!B411","v":0},{"$f":"'PXS Kopieret'!C411","v":0},{"$f":"'PXS Kopieret'!D411","v":0},{"$f":"IF($A411<>\"PhD Student\",'PXS Kopieret'!E411,\"\")","v":0},{"$f":"IF($A411=\"PhD Student\",'PXS Kopieret'!F411,\"\")","v":""},{"$f":"'PXS Kopieret'!G411","v":0},{"$f":"'PXS Kopieret'!H411","v":0},{"$f":"IF($A411=\"PhD Student\",'PXS Kopieret'!I411,\"\")","v":""},{"$f":"'PXS Kopieret'!J411","v":0},{"$f":"'PXS Kopieret'!K411","v":0},{"$f":"'PXS Kopieret'!L411","v":0}]
["",{"$f":"IF('PXS Kopieret'!N412<>\"\",HYPERLINK(\"https://ssl1.peoplexs.com/Peoplexs22/eFormportal/eForm.cfm?CandidateUpdateID=\"&'PXS Kopieret'!M412&\"&CandidateUpdateCode=\"&'PXS Kopieret'!N412&\"&Locale=en&CustomFormID=11612\",\"Docs\"),\"\")","v":""},{"$f":"'PXS Kopieret'!A412","v":0},{"$f":"'PXS Kopieret'!B412","v":0},{"$f":"'PXS Kopieret'!C412","v":0},{"$f":"'PXS Kopieret'!D412","v":0},{"$f":"IF($A412<>\"PhD Student\",'PXS Kopieret'!E412,\"\")","v":0},{"$f":"IF($A412=\"PhD Student\",'PXS Kopieret'!F412,\"\")","v":""},{"$f":"'PXS Kopieret'!G412","v":0},{"$f":"'PXS Kopieret'!H412","v":0},{"$f":"IF($A412=\"PhD Student\",'PXS Kopieret'!I412,\"\")","v":""},{"$f":"'PXS Kopieret'!J412","v":0},{"$f":"'PXS Kopieret'!K412","v":0},{"$f":"'PXS Kopieret'!L412","v":0}]
["",{"$f":"IF('PXS Kopieret'!N413<>\"\",HYPERLINK(\"https://ssl1.peoplexs.com/Peoplexs22/eFormportal/eForm.cfm?CandidateUpdateID=\"&'PXS Kopieret'!M413&\"&CandidateUpdateCode=\"&'PXS Kopieret'!N413&\"&Locale=en&CustomFormID=11612\",\"Docs\"),\"\")","v":""},{"$f":"'PXS Kopieret'!A413","v":0},{"$f":"'PXS Kopieret'!B413","v":0},{"$f":"'PXS Kopieret'!C413","v":0},{"$f":"'PXS Kopieret'!D413","v":0},{"$f":"IF($A413<>\"PhD Student\",'PXS Kopieret'!E413,\"\")","v":0},{"$f":"IF($A413=\"PhD Student\",'PXS Kopieret'!F413,\"\")","v":""},{"$f":"'PXS Kopieret'!G413","v":0},{"$f":"'PXS Kopieret'!H413","v":0},{"$f":"IF($A413=\"PhD Student\",'PXS Kopieret'!I413,\"\")","v":""},{"$f":"'PXS Kopieret'!J413","v":0},{"$f":"'PXS Kopieret'!K413","v":0},{"$f":"'PXS Kopieret'!L413","v":0}]
["",{"$f":"IF('PXS Kopieret'!N414<>\"\",HYPERLINK(\"https://ssl1.peoplexs.com/Peoplexs22/eFormportal/eForm.cfm?CandidateUpdateID=\"&'PXS Kopieret'!M414&\"&CandidateUpdateCode=\"&'PXS Kopieret'!N414&\"&Locale=en&CustomFormID=11612\",\"Docs\"),\"\")","v":""},{"$f":"'PXS Kopieret'!A414","v":0},{"$f":"'PXS Kopieret'!B414","v":0},{"$f":"'PXS Kopieret'!C414","v":0},{"$f":"'PXS Kopieret'!D414","v":0},{"$f":"IF($A414<>\"PhD Student\",'PXS Kopieret'!E414,\"\")","v":0},{"$f":"IF($A414=\"PhD Student\",'PXS Kopieret'!F414,\"\")","v":""},{"$f":"'PXS Kopieret'!G414","v":0},{"$f":"'PXS Kopieret'!H414","v":0},{"$f":"IF($A414=\"PhD Student\",'PXS Kopieret'!I414,\"\")","v":""},{"$f":"'PXS Kopieret'!J414","v":0},{"$f":"'PXS Kopieret'!K414","v":0},{"$f":"'PXS Kopieret'!L414","v":0}]
["",{"$f":"IF('PXS Kopieret'!N415<>\"\",HYPERLINK(\"https://ssl1.peoplexs.com/Peoplexs22/eFormportal/eForm.cfm?CandidateUpdateID=\"&'PXS Kopieret'!M415&\"&CandidateUpdateCode=\"&'PXS Kopieret'!N415&\"&Locale=en&CustomFormID=11612\",\"Docs\"),\"\")","v":""},{"$f":"'PXS Kopieret'!A415","v":0},{"$f":"'PXS Kopieret'!B415","v":0},{"$f":"'PXS Kopieret'!C415","v":0},{"$f":"'PXS Kopieret'!D415","v":0},{"$f":"IF($A415<>\"PhD Student\",'PXS Kopieret'!E415,\"\")","v":0},{"$f":"IF($A415=\"PhD Student\",'PXS Kopieret'!F415,\"\")","v":""},{"$f":"'PXS Kopieret'!G415","v":0},{"$f":"'PXS Kopieret'!H415","v":0},{"$f":"IF($A415=\"PhD Student\",'PXS Kopieret'!I415,\"\")","v":""},{"$f":"'PXS Kopieret'!J415","v":0},{"$f":"'PXS Kopieret'!K415","v":0},{"$f":"'PXS Kopieret'!L415","v":0}]
["",{"$f":"IF('PXS Kopieret'!N416<>\"\",HYPERLINK(\"https://ssl1.peoplexs.com/Peoplexs22/eFormportal/eForm.cfm?CandidateUpdateID=\"&'PXS Kopieret'!M416&\"&CandidateUpdateCode=\"&'PXS Kopieret'!N416&\"&Locale=en&CustomFormID=11612\",\"Docs\"),\"\")","v":""},{"$f":"'PXS Kopieret'!A416","v":0},{"$f":"'PXS Kopieret'!B416","v":0},{"$f":"'PXS Kopieret'!C416","v":0},{"$f":"'PXS Kopieret'!D416","v":0},{"$f":"IF($A416<>\"PhD Student\",'PXS Kopieret'!E416,\"\")","v":0},{"$f":"IF($A416=\"PhD Student\",'PXS Kopieret'!F416,\"\")","v":""},{"$f":"'PXS Kopieret'!G416","v":0},{"$f":"'PXS Kopieret'!H416","v":0},{"$f":"IF($A416=\"PhD Student\",'PXS Kopieret'!I416,\"\")","v":""},{"$f":"'PXS Kopieret'!J416","v":0},{"$f":"'PXS Kopieret'!K416","v":0},{"$f":"'PXS Kopieret'!L416","v":0}]
["",{"$f":"IF('PXS Kopieret'!N417<>\"\",HYPERLINK(\"https://ssl1.peoplexs.com/Peoplexs22/eFormportal/eForm.cfm?CandidateUpdateID=\"&'PXS Kopieret'!M417&\"&CandidateUpdateCode=\"&'PXS Kopieret'!N417&\"&Locale=en&CustomFormID=11612\",\"Docs\"),\"\")","v":""},{"$f":"'PXS Kopieret'!A417","v":0},{"$f":"'PXS Kopieret'!B417","v":0},{"$f":"'PXS Kopieret'!C417","v":0},{"$f":"'PXS Kopieret'!D417","v":0},{"$f":"IF($A417<>\"PhD Student\",'PXS Kopieret'!E417,\"\")","v":0},{"$f":"IF($A417=\"PhD Student\",'PXS Kopieret'!F417,\"\")","v":""},{"$f":"'PXS Kopieret'!G417","v":0},{"$f":"'PXS Kopieret'!H417","v":0},{"$f":"IF($A417=\"PhD Student\",'PXS Kopieret'!I417,\"\")","v":""},{"$f":"'PXS Kopieret'!J417","v":0},{"$f":"'PXS Kopieret'!K417","v":0},{"$f":"'PXS Kopieret'!L417","v":0}]
["",{"$f":"IF('PXS Kopieret'!N418<>\"\",HYPERLINK(\"https://ssl1.peoplexs.com/Peoplexs22/eFormportal/eForm.cfm?CandidateUpdateID=\"&'PXS Kopieret'!M418&\"&CandidateUpdateCode=\"&'PXS Kopieret'!N418&\"&Locale=en&CustomFormID=11612\",\"Docs\"),\"\")","v":""},{"$f":"'PXS Kopieret'!A418","v":0},{"$f":"'PXS Kopieret'!B418","v":0},{"$f":"'PXS Kopieret'!C418","v":0},{"$f":"'PXS Kopieret'!D418","v":0},{"$f":"IF($A418<>\"PhD Student\",'PXS Kopieret'!E418,\"\")","v":0},{"$f":"IF($A418=\"PhD Student\",'PXS Kopieret'!F418,\"\")","v":""},{"$f":"'PXS Kopieret'!G418","v":0},{"$f":"'PXS Kopieret'!H418","v":0},{"$f":"IF($A418=\"PhD Student\",'PXS Kopieret'!I418,\"\")","v":""},{"$f":"'PXS Kopieret'!J418","v":0},{"$f":"'PXS Kopieret'!K418","v":0},{"$f":"'PXS Kopieret'!L418","v":0}]
["",{"$f":"IF('PXS Kopieret'!N419<>\"\",HYPERLINK(\"https://ssl1.peoplexs.com/Peoplexs22/eFormportal/eForm.cfm?CandidateUpdateID=\"&'PXS Kopieret'!M419&\"&CandidateUpdateCode=\"&'PXS Kopieret'!N419&\"&Locale=en&CustomFormID=11612\",\"Docs\"),\"\")","v":""},{"$f":"'PXS Kopieret'!A419","v":0},{"$f":"'PXS Kopieret'!B419","v":0},{"$f":"'PXS Kopieret'!C419","v":0},{"$f":"'PXS Kopieret'!D419","v":0},{"$f":"IF($A419<>\"PhD Student\",'PXS Kopieret'!E419,\"\")","v":0},{"$f":"IF($A419=\"PhD Student\",'PXS Kopieret'!F419,\"\")","v":""},{"$f":"'PXS Kopieret'!G419","v":0},{"$f":"'PXS Kopieret'!H419","v":0},{"$f":"IF($A419=\"PhD Student\",'PXS Kopieret'!I419,\"\")","v":""},{"$f":"'PXS Kopieret'!J419","v":0},{"$f":"'PXS Kopieret'!K419","v":0},{"$f":"'PXS Kopieret'!L419","v":0}]
["",{"$f":"IF('PXS Kopieret'!N420<>\"\",HYPERLINK(\"https://ssl1.peoplexs.com/Peoplexs22/eFormportal/eForm.cfm?CandidateUpdateID=\"&'PXS Kopieret'!M420&\"&CandidateUpdateCode=\"&'PXS Kopieret'!N420&\"&Locale=en&CustomFormID=11612\",\"Docs\"),\"\")","v":""},{"$f":"'PXS Kopieret'!A420","v":0},{"$f":"'PXS Kopieret'!B420","v":0},{"$f":"'PXS Kopieret'!C420","v":0},{"$f":"'PXS Kopieret'!D420","v":0},{"$f":"IF($A420<>\"PhD Student\",'PXS Kopieret'!E420,\"\")","v":0},{"$f":"IF($A420=\"PhD Student\",'PXS Kopieret'!F420,\"\")","v":""},{"$f":"'PXS Kopieret'!G420","v":0},{"$f":"'PXS Kopieret'!H420","v":0},{"$f":"IF($A420=\"PhD Student\",'PXS Kopieret'!I420,\"\")","v":""},{"$f":"'PXS Kopieret'!J420","v":0},{"$f":"'PXS Kopieret'!K420","v":0},{"$f":"'PXS Kopieret'!L420","v":0}]
["",{"$f":"IF('PXS Kopieret'!N421<>\"\",HYPERLINK(\"https://ssl1.peoplexs.com/Peoplexs22/eFormportal/eForm.cfm?CandidateUpdateID=\"&'PXS Kopieret'!M421&\"&CandidateUpdateCode=\"&'PXS Kopieret'!N421&\"&Locale=en&CustomFormID=11612\",\"Docs\"),\"\")","v":""},{"$f":"'PXS Kopieret'!A421","v":0},{"$f":"'PXS Kopieret'!B421","v":0},{"$f":"'PXS Kopieret'!C421","v":0},{"$f":"'PXS Kopieret'!D421","v":0},{"$f":"IF($A421<>\"PhD Student\",'PXS Kopieret'!E421,\"\")","v":0},{"$f":"IF($A421=\"PhD Student\",'PXS Kopieret'!F421,\"\")","v":""},{"$f":"'PXS Kopieret'!G421","v":0},{"$f":"'PXS Kopieret'!H421","v":0},{"$f":"IF($A421=\"PhD Student\",'PXS Kopieret'!I421,\"\")","v":""},{"$f":"'PXS Kopieret'!J421","v":0},{"$f":"'PXS Kopieret'!K421","v":0},{"$f":"'PXS Kopieret'!L421","v":0}]
["",{"$f":"IF('PXS Kopieret'!N422<>\"\",HYPERLINK(\"https://ssl1.peoplexs.com/Peoplexs22/eFormportal/eForm.cfm?CandidateUpdateID=\"&'PXS Kopieret'!M422&\"&CandidateUpdateCode=\"&'PXS Kopieret'!N422&\"&Locale=en&CustomFormID=11612\",\"Docs\"),\"\")","v":""},{"$f":"'PXS Kopieret'!A422","v":0},{"$f":"'PXS Kopieret'!B422","v":0},{"$f":"'PXS Kopieret'!C422","v":0},{"$f":"'PXS Kopieret'!D422","v":0},{"$f":"IF($A422<>\"PhD Student\",'PXS Kopieret'!E422,\"\")","v":0},{"$f":"IF($A422=\"PhD Student\",'PXS Kopieret'!F422,\"\")","v":""},{"$f":"'PXS Kopieret'!G422","v":0},{"$f":"'PXS Kopieret'!H422","v":0},{"$f":"IF($A422=\"PhD Student\",'PXS Kopieret'!I422,\"\")","v":""},{"$f":"'PXS Kopieret'!J422","v":0},{"$f":"'PXS Kopieret'!K422","v":0},{"$f":"'PXS Kopieret'!L422","v":0}]
["",{"$f":"IF('PXS Kopieret'!N423<>\"\",HYPERLINK(\"https://ssl1.peoplexs.com/Peoplexs22/eFormportal/eForm.cfm?CandidateUpdateID=\"&'PXS Kopieret'!M423&\"&CandidateUpdateCode=\"&'PXS Kopieret'!N423&\"&Locale=en&CustomFormID=11612\",\"Docs\"),\"\")","v":""},{"$f":"'PXS Kopieret'!A423","v":0},{"$f":"'PXS Kopieret'!B423","v":0},{"$f":"'PXS Kopieret'!C423","v":0},{"$f":"'PXS Kopieret'!D423","v":0},{"$f":"IF($A423<>\"PhD Student\",'PXS Kopieret'!E423,\"\")","v":0},{"$f":"IF($A423=\"PhD Student\",'PXS Kopieret'!F423,\"\")","v":""},{"$f":"'PXS Kopieret'!G423","v":0},{"$f":"'PXS Kopieret'!H423","v":0},{"$f":"IF($A423=\"PhD Student\",'PXS Kopieret'!I423,\"\")","v":""},{"$f":"'PXS Kopieret'!J423","v":0},{"$f":"'PXS Kopieret'!K423","v":0},{"$f":"'PXS Kopieret'!L423","v":0}]
["",{"$f":"IF('PXS Kopieret'!N424<>\"\",HYPERLINK(\"https://ssl1.peoplexs.com/Peoplexs22/eFormportal/eForm.cfm?CandidateUpdateID=\"&'PXS Kopieret'!M424&\"&CandidateUpdateCode=\"&'PXS Kopieret'!N424&\"&Locale=en&CustomFormID=11612\",\"Docs\"),\"\")","v":""},{"$f":"'PXS Kopieret'!A424","v":0},{"$f":"'PXS Kopieret'!B424","v":0},{"$f":"'PXS Kopieret'!C424","v":0},{"$f":"'PXS Kopieret'!D424","v":0},{"$f":"IF($A424<>\"PhD Student\",'PXS Kopieret'!E424,\"\")","v":0},{"$f":"IF($A424=\"PhD Student\",'PXS Kopieret'!F424,\"\")","v":""},{"$f":"'PXS Kopieret'!G424","v":0},{"$f":"'PXS Kopieret'!H424","v":0},{"$f":"IF($A424=\"PhD Student\",'PXS Kopieret'!I424,\"\")","v":""},{"$f":"'PXS Kopieret'!J424","v":0},{"$f":"'PXS Kopieret'!K424","v":0},{"$f":"'PXS Kopieret'!L424","v":0}]
["",{"$f":"IF('PXS Kopieret'!N425<>\"\",HYPERLINK(\"https://ssl1.peoplexs.com/Peoplexs22/eFormportal/eForm.cfm?CandidateUpdateID=\"&'PXS Kopieret'!M425&\"&CandidateUpdateCode=\"&'PXS Kopieret'!N425&\"&Locale=en&CustomFormID=11612\",\"Docs\"),\"\")","v":""},{"$f":"'PXS Kopieret'!A425","v":0},{"$f":"'PXS Kopieret'!B425","v":0},{"$f":"'PXS Kopieret'!C425","v":0},{"$f":"'PXS Kopieret'!D425","v":0},{"$f":"IF($A425<>\"PhD Student\",'PXS Kopieret'!E425,\"\")","v":0},{"$f":"IF($A425=\"PhD Student\",'PXS Kopieret'!F425,\"\")","v":""},{"$f":"'PXS Kopieret'!G425","v":0},{"$f":"'PXS Kopieret'!H425","v":0},{"$f":"IF($A425=\"PhD Student\",'PXS Kopieret'!I425,\"\")","v":""},{"$f":"'PXS Kopieret'!J425","v":0},{"$f":"'PXS Kopieret'!K425","v":0},{"$f":"'PXS Kopieret'!L425","v":0}]
["",{"$f":"IF('PXS Kopieret'!N426<>\"\",HYPERLINK(\"https://ssl1.peoplexs.com/Peoplexs22/eFormportal/eForm.cfm?CandidateUpdateID=\"&'PXS Kopieret'!M426&\"&CandidateUpdateCode=\"&'PXS Kopieret'!N426&\"&Locale=en&CustomFormID=11612\",\"Docs\"),\"\")","v":""},{"$f":"'PXS Kopieret'!A426","v":0},{"$f":"'PXS Kopieret'!B426","v":0},{"$f":"'PXS Kopieret'!C426","v":0},{"$f":"'PXS Kopieret'!D426","v":0},{"$f":"IF($A426<>\"PhD Student\",'PXS Kopieret'!E426,\"\")","v":0},{"$f":"IF($A426=\"PhD Student\",'PXS Kopieret'!F426,\"\")","v":""},{"$f":"'PXS Kopieret'!G426","v":0},{"$f":"'PXS Kopieret'!H426","v":0},{"$f":"IF($A426=\"PhD Student\",'PXS Kopieret'!I426,\"\")","v":""},{"$f":"'PXS Kopieret'!J426","v":0},{"$f":"'PXS Kopieret'!K426","v":0},{"$f":"'PXS Kopieret'!L426","v":0}]
["",{"$f":"IF('PXS Kopieret'!N427<>\"\",HYPERLINK(\"https://ssl1.peoplexs.com/Peoplexs22/eFormportal/eForm.cfm?CandidateUpdateID=\"&'PXS Kopieret'!M427&\"&CandidateUpdateCode=\"&'PXS Kopieret'!N427&\"&Locale=en&CustomFormID=11612\",\"Docs\"),\"\")","v":""},{"$f":"'PXS Kopieret'!A427","v":0},{"$f":"'PXS Kopieret'!B427","v":0},{"$f":"'PXS Kopieret'!C427","v":0},{"$f":"'PXS Kopieret'!D427","v":0},{"$f":"IF($A427<>\"PhD Student\",'PXS Kopieret'!E427,\"\")","v":0},{"$f":"IF($A427=\"PhD Student\",'PXS Kopieret'!F427,\"\")","v":""},{"$f":"'PXS Kopieret'!G427","v":0},{"$f":"'PXS Kopieret'!H427","v":0},{"$f":"IF($A427=\"PhD Student\",'PXS Kopieret'!I427,\"\")","v":""},{"$f":"'PXS Kopieret'!J427","v":0},{"$f":"'PXS Kopieret'!K427","v":0},{"$f":"'PXS Kopieret'!L427","v":0}]
["",{"$f":"IF('PXS Kopieret'!N428<>\"\",HYPERLINK(\"https://ssl1.peoplexs.com/Peoplexs22/eFormportal/eForm.cfm?CandidateUpdateID=\"&'PXS Kopieret'!M428&\"&CandidateUpdateCode=\"&'PXS Kopieret'!N428&\"&Locale=en&CustomFormID=11612\",\"Docs\"),\"\")","v":""},{"$f":"'PXS Kopieret'!A428","v":0},{"$f":"'PXS Kopieret'!B428","v":0},{"$f":"'PXS Kopieret'!C428","v":0},{"$f":"'PXS Kopieret'!D428","v":0},{"$f":"IF($A428<>\"PhD Student\",'PXS Kopieret'!E428,\"\")","v":0},{"$f":"IF($A428=\"PhD Student\",'PXS Kopieret'!F428,\"\")","v":""},{"$f":"'PXS Kopieret'!G428","v":0},{"$f":"'PXS Kopieret'!H428","v":0},{"$f":"IF($A428=\"PhD Student\",'PXS Kopieret'!I428,\"\")","v":""},{"$f":"'PXS Kopieret'!J428","v":0},{"$f":"'PXS Kopieret'!K428","v":0},{"$f":"'PXS Kopieret'!L428","v":0}]
["",{"$f":"IF('PXS Kopieret'!N429<>\"\",HYPERLINK(\"https://ssl1.peoplexs.com/Peoplexs22/eFormportal/eForm.cfm?CandidateUpdateID=\"&'PXS Kopieret'!M429&\"&CandidateUpdateCode=\"&'PXS Kopieret'!N429&\"&Locale=en&CustomFormID=11612\",\"Docs\"),\"\")","v":""},{"$f":"'PXS Kopieret'!A429","v":0},{"$f":"'PXS Kopieret'!B429","v":0},{"$f":"'PXS Kopieret'!C429","v":0},{"$f":"'PXS Kopieret'!D429","v":0},{"$f":"IF($A429<>\"PhD Student\",'PXS Kopieret'!E429,\"\")","v":0},{"$f":"IF($A429=\"PhD Student\",'PXS Kopieret'!F429,\"\")","v":""},{"$f":"'PXS Kopieret'!G429","v":0},{"$f":"'PXS Kopieret'!H429","v":0},{"$f":"IF($A429=\"PhD Student\",'PXS Kopieret'!I429,\"\")","v":""},{"$f":"'PXS Kopieret'!J429","v":0},{"$f":"'PXS Kopieret'!K429","v":0},{"$f":"'PXS Kopieret'!L429","v":0}]
["",{"$f":"IF('PXS Kopieret'!N430<>\"\",HYPERLINK(\"https://ssl1.peoplexs.com/Peoplexs22/eFormportal/eForm.cfm?CandidateUpdateID=\"&'PXS Kopieret'!M430&\"&CandidateUpdateCode=\"&'PXS Kopieret'!N430&\"&Locale=en&CustomFormID=11612\",\"Docs\"),\"\")","v":""},{"$f":"'PXS Kopieret'!A430","v":0},{"$f":"'PXS Kopieret'!B430","v":0},{"$f":"'PXS Kopieret'!C430","v":0},{"$f":"'PXS Kopieret'!D430","v":0},{"$f":"IF($A430<>\"PhD Student\",'PXS Kopieret'!E430,\"\")","v":0},{"$f":"IF($A430=\"PhD Student\",'PXS Kopieret'!F430,\"\")","v":""},{"$f":"'PXS Kopieret'!G430","v":0},{"$f":"'PXS Kopieret'!H430","v":0},{"$f":"IF($A430=\"PhD Student\",'PXS Kopieret'!I430,\"\")","v":""},{"$f":"'PXS Kopieret'!J430","v":0},{"$f":"'PXS Kopieret'!K430","v":0},{"$f":"'PXS Kopieret'!L430","v":0}]
["",{"$f":"IF('PXS Kopieret'!N431<>\"\",HYPERLINK(\"https://ssl1.peoplexs.com/Peoplexs22/eFormportal/eForm.cfm?CandidateUpdateID=\"&'PXS Kopieret'!M431&\"&CandidateUpdateCode=\"&'PXS Kopieret'!N431&\"&Locale=en&CustomFormID=11612\",\"Docs\"),\"\")","v":""},{"$f":"'PXS Kopieret'!A431","v":0},{"$f":"'PXS Kopieret'!B431","v":0},{"$f":"'PXS Kopieret'!C431","v":0},{"$f":"'PXS Kopieret'!D431","v":0},{"$f":"IF($A431<>\"PhD Student\",'PXS Kopieret'!E431,\"\")","v":0},{"$f":"IF($A431=\"PhD Student\",'PXS Kopieret'!F431,\"\")","v":""},{"$f":"'PXS Kopieret'!G431","v":0},{"$f":"'PXS Kopieret'!H431","v":0},{"$f":"IF($A431=\"PhD Student\",'PXS Kopieret'!I431,\"\")","v":""},{"$f":"'PXS Kopieret'!J431","v":0},{"$f":"'PXS Kopieret'!K431","v":0},{"$f":"'PXS Kopieret'!L431","v":0}]
["",{"$f":"IF('PXS Kopieret'!N432<>\"\",HYPERLINK(\"https://ssl1.peoplexs.com/Peoplexs22/eFormportal/eForm.cfm?CandidateUpdateID=\"&'PXS Kopieret'!M432&\"&CandidateUpdateCode=\"&'PXS Kopieret'!N432&\"&Locale=en&CustomFormID=11612\",\"Docs\"),\"\")","v":""},{"$f":"'PXS Kopieret'!A432","v":0},{"$f":"'PXS Kopieret'!B432","v":0},{"$f":"'PXS Kopieret'!C432","v":0},{"$f":"'PXS Kopieret'!D432","v":0},{"$f":"IF($A432<>\"PhD Student\",'PXS Kopieret'!E432,\"\")","v":0},{"$f":"IF($A432=\"PhD Student\",'PXS Kopieret'!F432,\"\")","v":""},{"$f":"'PXS Kopieret'!G432","v":0},{"$f":"'PXS Kopieret'!H432","v":0},{"$f":"IF($A432=\"PhD Student\",'PXS Kopieret'!I432,\"\")","v":""},{"$f":"'PXS Kopieret'!J432","v":0},{"$f":"'PXS Kopieret'!K432","v":0},{"$f":"'PXS Kopieret'!L432","v":0}]
["",{"$f":"IF('PXS Kopieret'!N433<>\"\",HYPERLINK(\"https://ssl1.peoplexs.com/Peoplexs22/eFormportal/eForm.cfm?CandidateUpdateID=\"&'PXS Kopieret'!M433&\"&CandidateUpdateCode=\"&'PXS Kopieret'!N433&\"&Locale=en&CustomFormID=11612\",\"Docs\"),\"\")","v":""},{"$f":"'PXS Kopieret'!A433","v":0},{"$f":"'PXS Kopieret'!B433","v":0},{"$f":"'PXS Kopieret'!C433","v":0},{"$f":"'PXS Kopieret'!D433","v":0},{"$f":"IF($A433<>\"PhD Student\",'PXS Kopieret'!E433,\"\")","v":0},{"$f":"IF($A433=\"PhD Student\",'PXS Kopieret'!F433,\"\")","v":""},{"$f":"'PXS Kopieret'!G433","v":0},{"$f":"'PXS Kopieret'!H433","v":0},{"$f":"IF($A433=\"PhD Student\",'PXS Kopieret'!I433,\"\")","v":""},{"$f":"'PXS Kopieret'!J433","v":0},{"$f":"'PXS Kopieret'!K433","v":0},{"$f":"'PXS Kopieret'!L433","v":0}]
["",{"$f":"IF('PXS Kopieret'!N434<>\"\",HYPERLINK(\"https://ssl1.peoplexs.com/Peoplexs22/eFormportal/eForm.cfm?CandidateUpdateID=\"&'PXS Kopieret'!M434&\"&CandidateUpdateCode=\"&'PXS Kopieret'!N434&\"&Locale=en&CustomFormID=11612\",\"Docs\"),\"\")","v":""},{"$f":"'PXS Kopieret'!A434","v":0},{"$f":"'PXS Kopieret'!B434","v":0},{"$f":"'PXS Kopieret'!C434","v":0},{"$f":"'PXS Kopieret'!D434","v":0},{"$f":"IF($A434<>\"PhD Student\",'PXS Kopieret'!E434,\"\")","v":0},{"$f":"IF($A434=\"PhD Student\",'PXS Kopieret'!F434,\"\")","v":""},{"$f":"'PXS Kopieret'!G434","v":0},{"$f":"'PXS Kopieret'!H434","v":0},{"$f":"IF($A434=\"PhD Student\",'PXS Kopieret'!I434,\"\")","v":""},{"$f":"'PXS Kopieret'!J434","v":0},{"$f":"'PXS Kopieret'!K434","v":0},{"$f":"'PXS Kopieret'!L434","v":0}]
["",{"$f":"IF('PXS Kopieret'!N435<>\"\",HYPERLINK(\"https://ssl1.peoplexs.com/Peoplexs22/eFormportal/eForm.cfm?CandidateUpdateID=\"&'PXS Kopieret'!M435&\"&CandidateUpdateCode=\"&'PXS Kopieret'!N435&\"&Locale=en&CustomFormID=11612\",\"Docs\"),\"\")","v":""},{"$f":"'PXS Kopieret'!A435","v":0},{"$f":"'PXS Kopieret'!B435","v":0},{"$f":"'PXS Kopieret'!C435","v":0},{"$f":"'PXS Kopieret'!D435","v":0},{"$f":"IF($A435<>\"PhD Student\",'PXS Kopieret'!E435,\"\")","v":0},{"$f":"IF($A435=\"PhD Student\",'PXS Kopieret'!F435,\"\")","v":""},{"$f":"'PXS Kopieret'!G435","v":0},{"$f":"'PXS Kopieret'!H435","v":0},{"$f":"IF($A435=\"PhD Student\",'PXS Kopieret'!I435,\"\")","v":""},{"$f":"'PXS Kopieret'!J435","v":0},{"$f":"'PXS Kopieret'!K435","v":0},{"$f":"'PXS Kopieret'!L435","v":0}]
["",{"$f":"IF('PXS Kopieret'!N436<>\"\",HYPERLINK(\"https://ssl1.peoplexs.com/Peoplexs22/eFormportal/eForm.cfm?CandidateUpdateID=\"&'PXS Kopieret'!M436&\"&CandidateUpdateCode=\"&'PXS Kopieret'!N436&\"&Locale=en&CustomFormID=11612\",\"Docs\"),\"\")","v":""},{"$f":"'PXS Kopieret'!A436","v":0},{"$f":"'PXS Kopieret'!B436","v":0},{"$f":"'PXS Kopieret'!C436","v":0},{"$f":"'PXS Kopieret'!D436","v":0},{"$f":"IF($A436<>\"PhD Student\",'PXS Kopieret'!E436,\"\")","v":0},{"$f":"IF($A436=\"PhD Student\",'PXS Kopieret'!F436,\"\")","v":""},{"$f":"'PXS Kopieret'!G436","v":0},{"$f":"'PXS Kopieret'!H436","v":0},{"$f":"IF($A436=\"PhD Student\",'PXS Kopieret'!I436,\"\")","v":""},{"$f":"'PXS Kopieret'!J436","v":0},{"$f":"'PXS Kopieret'!K436","v":0},{"$f":"'PXS Kopieret'!L436","v":0}]
["",{"$f":"IF('PXS Kopieret'!N437<>\"\",HYPERLINK(\"https://ssl1.peoplexs.com/Peoplexs22/eFormportal/eForm.cfm?CandidateUpdateID=\"&'PXS Kopieret'!M437&\"&CandidateUpdateCode=\"&'PXS Kopieret'!N437&\"&Locale=en&CustomFormID=11612\",\"Docs\"),\"\")","v":""},{"$f":"'PXS Kopieret'!A437","v":0},{"$f":"'PXS Kopieret'!B437","v":0},{"$f":"'PXS Kopieret'!C437","v":0},{"$f":"'PXS Kopieret'!D437","v":0},{"$f":"IF($A437<>\"PhD Student\",'PXS Kopieret'!E437,\"\")","v":0},{"$f":"IF($A437=\"PhD Student\",'PXS Kopieret'!F437,\"\")","v":""},{"$f":"'PXS Kopieret'!G437","v":0},{"$f":"'PXS Kopieret'!H437","v":0},{"$f":"IF($A437=\"PhD Student\",'PXS Kopieret'!I437,\"\")","v":""},{"$f":"'PXS Kopieret'!J437","v":0},{"$f":"'PXS Kopieret'!K437","v":0},{"$f":"'PXS Kopieret'!L437","v":0}]
["",{"$f":"IF('PXS Kopieret'!N438<>\"\",HYPERLINK(\"https://ssl1.peoplexs.com/Peoplexs22/eFormportal/eForm.cfm?CandidateUpdateID=\"&'PXS Kopieret'!M438&\"&CandidateUpdateCode=\"&'PXS Kopieret'!N438&\"&Locale=en&CustomFormID=11612\",\"Docs\"),\"\")","v":""},{"$f":"'PXS Kopieret'!A438","v":0},{"$f":"'PXS Kopieret'!B438","v":0},{"$f":"'PXS Kopieret'!C438","v":0},{"$f":"'PXS Kopieret'!D438","v":0},{"$f":"IF($A438<>\"PhD Student\",'PXS Kopieret'!E438,\"\")","v":0},{"$f":"IF($A438=\"PhD Student\",'PXS Kopieret'!F438,\"\")","v":""},{"$f":"'PXS Kopieret'!G438","v":0},{"$f":"'PXS Kopieret'!H438","v":0},{"$f":"IF($A438=\"PhD Student\",'PXS Kopieret'!I438,\"\")","v":""},{"$f":"'PXS Kopieret'!J438","v":0},{"$f":"'PXS Kopieret'!K438","v":0},{"$f":"'PXS Kopieret'!L438","v":0}]
["",{"$f":"IF('PXS Kopieret'!N439<>\"\",HYPERLINK(\"https://ssl1.peoplexs.com/Peoplexs22/eFormportal/eForm.cfm?CandidateUpdateID=\"&'PXS Kopieret'!M439&\"&CandidateUpdateCode=\"&'PXS Kopieret'!N439&\"&Locale=en&CustomFormID=11612\",\"Docs\"),\"\")","v":""},{"$f":"'PXS Kopieret'!A439","v":0},{"$f":"'PXS Kopieret'!B439","v":0},{"$f":"'PXS Kopieret'!C439","v":0},{"$f":"'PXS Kopieret'!D439","v":0},{"$f":"IF($A439<>\"PhD Student\",'PXS Kopieret'!E439,\"\")","v":0},{"$f":"IF($A439=\"PhD Student\",'PXS Kopieret'!F439,\"\")","v":""},{"$f":"'PXS Kopieret'!G439","v":0},{"$f":"'PXS Kopieret'!H439","v":0},{"$f":"IF($A439=\"PhD Student\",'PXS Kopieret'!I439,\"\")","v":""},{"$f":"'PXS Kopieret'!J439","v":0},{"$f":"'PXS Kopieret'!K439","v":0},{"$f":"'PXS Kopieret'!L439","v":0}]
["",{"$f":"IF('PXS Kopieret'!N440<>\"\",HYPERLINK(\"https://ssl1.peoplexs.com/Peoplexs22/eFormportal/eForm.cfm?CandidateUpdateID=\"&'PXS Kopieret'!M440&\"&CandidateUpdateCode=\"&'PXS Kopieret'!N440&\"&Locale=en&CustomFormID=11612\",\"Docs\"),\"\")","v":""},{"$f":"'PXS Kopieret'!A440","v":0},{"$f":"'PXS Kopieret'!B440","v":0},{"$f":"'PXS Kopieret'!C440","v":0},{"$f":"'PXS Kopieret'!D440","v":0},{"$f":"IF($A440<>\"PhD Student\",'PXS Kopieret'!E440,\"\")","v":0},{"$f":"IF($A440=\"PhD Student\",'PXS Kopieret'!F440,\"\")","v":""},{"$f":"'PXS Kopieret'!G440","v":0},{"$f":"'PXS Kopieret'!H440","v":0},{"$f":"IF($A440=\"PhD Student\",'PXS Kopieret'!I440,\"\")","v":""},{"$f":"'PXS Kopieret'!J440","v":0},{"$f":"'PXS Kopieret'!K440","v":0},{"$f":"'PXS Kopieret'!L440","v":0}]
["",{"$f":"IF('PXS Kopieret'!N441<>\"\",HYPERLINK(\"https://ssl1.peoplexs.com/Peoplexs22/eFormportal/eForm.cfm?CandidateUpdateID=\"&'PXS Kopieret'!M441&\"&CandidateUpdateCode=\"&'PXS Kopieret'!N441&\"&Locale=en&CustomFormID=11612\",\"Docs\"),\"\")","v":""},{"$f":"'PXS Kopieret'!A441","v":0},{"$f":"'PXS Kopieret'!B441","v":0},{"$f":"'PXS Kopieret'!C441","v":0},{"$f":"'PXS Kopieret'!D441","v":0},{"$f":"IF($A441<>\"PhD Student\",'PXS Kopieret'!E441,\"\")","v":0},{"$f":"IF($A441=\"PhD Student\",'PXS Kopieret'!F441,\"\")","v":""},{"$f":"'PXS Kopieret'!G441","v":0},{"$f":"'PXS Kopieret'!H441","v":0},{"$f":"IF($A441=\"PhD Student\",'PXS Kopieret'!I441,\"\")","v":""},{"$f":"'PXS Kopieret'!J441","v":0},{"$f":"'PXS Kopieret'!K441","v":0},{"$f":"'PXS Kopieret'!L441","v":0}]
["",{"$f":"IF('PXS Kopieret'!N442<>\"\",HYPERLINK(\"https://ssl1.peoplexs.com/Peoplexs22/eFormportal/eForm.cfm?CandidateUpdateID=\"&'PXS Kopieret'!M442&\"&CandidateUpdateCode=\"&'PXS Kopieret'!N442&\"&Locale=en&CustomFormID=11612\",\"Docs\"),\"\")","v":""},{"$f":"'PXS Kopieret'!A442","v":0},{"$f":"'PXS Kopieret'!B442","v":0},{"$f":"'PXS Kopieret'!C442","v":0},{"$f":"'PXS Kopieret'!D442","v":0},{"$f":"IF($A442<>\"PhD Student\",'PXS Kopieret'!E442,\"\")","v":0},{"$f":"IF($A442=\"PhD Student\",'PXS Kopieret'!F442,\"\")","v":""},{"$f":"'PXS Kopieret'!G442","v":0},{"$f":"'PXS Kopieret'!H442","v":0},{"$f":"IF($A442=\"PhD Student\",'PXS Kopieret'!I442,\"\")","v":""},{"$f":"'PXS Kopieret'!J442","v":0},{"$f":"'PXS Kopieret'!K442","v":0},{"$f":"'PXS Kopieret'!L442","v":0}]
["",{"$f":"IF('PXS Kopieret'!N443<>\"\",HYPERLINK(\"https://ssl1.peoplexs.com/Peoplexs22/eFormportal/eForm.cfm?CandidateUpdateID=\"&'PXS Kopieret'!M443&\"&CandidateUpdateCode=\"&'PXS Kopieret'!N443&\"&Locale=en&CustomFormID=11612\",\"Docs\"),\"\")","v":""},{"$f":"'PXS Kopieret'!A443","v":0},{"$f":"'PXS Kopieret'!B443","v":0},{"$f":"'PXS Kopieret'!C443","v":0},{"$f":"'PXS Kopieret'!D443","v":0},{"$f":"IF($A443<>\"PhD Student\",'PXS Kopieret'!E443,\"\")","v":0},{"$f":"IF($A443=\"PhD Student\",'PXS Kopieret'!F443,\"\")","v":""},{"$f":"'PXS Kopieret'!G443","v":0},{"$f":"'PXS Kopieret'!H443","v":0},{"$f":"IF($A443=\"PhD Student\",'PXS Kopieret'!I443,\"\")","v":""},{"$f":"'PXS Kopieret'!J443","v":0},{"$f":"'PXS Kopieret'!K443","v":0},{"$f":"'PXS Kopieret'!L443","v":0}]
["",{"$f":"IF('PXS Kopieret'!N444<>\"\",HYPERLINK(\"https://ssl1.peoplexs.com/Peoplexs22/eFormportal/eForm.cfm?CandidateUpdateID=\"&'PXS Kopieret'!M444&\"&CandidateUpdateCode=\"&'PXS Kopieret'!N444&\"&Locale=en&CustomFormID=11612\",\"Docs\"),\"\")","v":""},{"$f":"'PXS Kopieret'!A444","v":0},{"$f":"'PXS Kopieret'!B444","v":0},{"$f":"'PXS Kopieret'!C444","v":0},{"$f":"'PXS Kopieret'!D444","v":0},{"$f":"IF($A444<>\"PhD Student\",'PXS Kopieret'!E444,\"\")","v":0},{"$f":"IF($A444=\"PhD Student\",'PXS Kopieret'!F444,\"\")","v":""},{"$f":"'PXS Kopieret'!G444","v":0},{"$f":"'PXS Kopieret'!H444","v":0},{"$f":"IF($A444=\"PhD Student\",'PXS Kopieret'!I444,\"\")","v":""},{"$f":"'PXS Kopieret'!J444","v":0},{"$f":"'PXS Kopieret'!K444","v":0},{"$f":"'PXS Kopieret'!L444","v":0}]
["",{"$f":"IF('PXS Kopieret'!N445<>\"\",HYPERLINK(\"https://ssl1.peoplexs.com/Peoplexs22/eFormportal/eForm.cfm?CandidateUpdateID=\"&'PXS Kopieret'!M445&\"&CandidateUpdateCode=\"&'PXS Kopieret'!N445&\"&Locale=en&CustomFormID=11612\",\"Docs\"),\"\")","v":""},{"$f":"'PXS Kopieret'!A445","v":0},{"$f":"'PXS Kopieret'!B445","v":0},{"$f":"'PXS Kopieret'!C445","v":0},{"$f":"'PXS Kopieret'!D445","v":0},{"$f":"IF($A445<>\"PhD Student\",'PXS Kopieret'!E445,\"\")","v":0},{"$f":"IF($A445=\"PhD Student\",'PXS Kopieret'!F445,\"\")","v":""},{"$f":"'PXS Kopieret'!G445","v":0},{"$f":"'PXS Kopieret'!H445","v":0},{"$f":"IF($A445=\"PhD Student\",'PXS Kopieret'!I445,\"\")","v":""},{"$f":"'PXS Kopieret'!J445","v":0},{"$f":"'PXS Kopieret'!K445","v":0},{"$f":"'PXS Kopieret'!L445","v":0}]
["",{"$f":"IF('PXS Kopieret'!N446<>\"\",HYPERLINK(\"https://ssl1.peoplexs.com/Peoplexs22/eFormportal/eForm.cfm?CandidateUpdateID=\"&'PXS Kopieret'!M446&\"&CandidateUpdateCode=\"&'PXS Kopieret'!N446&\"&Locale=en&CustomFormID=11612\",\"Docs\"),\"\")","v":""},{"$f":"'PXS Kopieret'!A446","v":0},{"$f":"'PXS Kopieret'!B446","v":0},{"$f":"'PXS Kopieret'!C446","v":0},{"$f":"'PXS Kopieret'!D446","v":0},{"$f":"IF($A446<>\"PhD Student\",'PXS Kopieret'!E446,\"\")","v":0},{"$f":"IF($A446=\"PhD Student\",'PXS Kopieret'!F446,\"\")","v":""},{"$f":"'PXS Kopieret'!G446","v":0},{"$f":"'PXS Kopieret'!H446","v":0},{"$f":"IF($A446=\"PhD Student\",'PXS Kopieret'!I446,\"\")","v":""},{"$f":"'PXS Kopieret'!J446","v":0},{"$f":"'PXS Kopieret'!K446","v":0},{"$f":"'PXS Kopieret'!L446","v":0}]
["",{"$f":"IF('PXS Kopieret'!N447<>\"\",HYPERLINK(\"https://ssl1.peoplexs.com/Peoplexs22/eFormportal/eForm.cfm?CandidateUpdateID=\"&'PXS Kopieret'!M447&\"&CandidateUpdateCode=\"&'PXS Kopieret'!N447&\"&Locale=en&CustomFormID=11612\",\"Docs\"),\"\")","v":""},{"$f":"'PXS Kopieret'!A447","v":0},{"$f":"'PXS Kopieret'!B447","v":0},{"$f":"'PXS Kopieret'!C447","v":0},{"$f":"'PXS Kopieret'!D447","v":0},{"$f":"IF($A447<>\"PhD Student\",'PXS Kopieret'!E447,\"\")","v":0},{"$f":"IF($A447=\"PhD Student\",'PXS Kopieret'!F447,\"\")","v":""},{"$f":"'PXS Kopieret'!G447","v":0},{"$f":"'PXS Kopieret'!H447","v":0},{"$f":"IF($A447=\"PhD Student\",'PXS Kopieret'!I447,\"\")","v":""},{"$f":"'PXS Kopieret'!J447","v":0},{"$f":"'PXS Kopieret'!K447","v":0},{"$f":"'PXS Kopieret'!L447","v":0}]
["",{"$f":"IF('PXS Kopieret'!N448<>\"\",HYPERLINK(\"https://ssl1.peoplexs.com/Peoplexs22/eFormportal/eForm.cfm?CandidateUpdateID=\"&'PXS Kopieret'!M448&\"&CandidateUpdateCode=\"&'PXS Kopieret'!N448&\"&Locale=en&CustomFormID=11612\",\"Docs\"),\"\")","v":""},{"$f":"'PXS Kopieret'!A448","v":0},{"$f":"'PXS Kopieret'!B448","v":0},{"$f":"'PXS Kopieret'!C448","v":0},{"$f":"'PXS Kopieret'!D448","v":0},{"$f":"IF($A448<>\"PhD Student\",'PXS Kopieret'!E448,\"\")","v":0},{"$f":"IF($A448=\"PhD Student\",'PXS Kopieret'!F448,\"\")","v":""},{"$f":"'PXS Kopieret'!G448","v":0},{"$f":"'PXS Kopieret'!H448","v":0},{"$f":"IF($A448=\"PhD Student\",'PXS Kopieret'!I448,\"\")","v":""},{"$f":"'PXS Kopieret'!J448","v":0},{"$f":"'PXS Kopieret'!K448","v":0},{"$f":"'PXS Kopieret'!L448","v":0}]
["",{"$f":"IF('PXS Kopieret'!N449<>\"\",HYPERLINK(\"https://ssl1.peoplexs.com/Peoplexs22/eFormportal/eForm.cfm?CandidateUpdateID=\"&'PXS Kopieret'!M449&\"&CandidateUpdateCode=\"&'PXS Kopieret'!N449&\"&Locale=en&CustomFormID=11612\",\"Docs\"),\"\")","v":""},{"$f":"'PXS Kopieret'!A449","v":0},{"$f":"'PXS Kopieret'!B449","v":0},{"$f":"'PXS Kopieret'!C449","v":0},{"$f":"'PXS Kopieret'!D449","v":0},{"$f":"IF($A449<>\"PhD Student\",'PXS Kopieret'!E449,\"\")","v":0},{"$f":"IF($A449=\"PhD Student\",'PXS Kopieret'!F449,\"\")","v":""},{"$f":"'PXS Kopieret'!G449","v":0},{"$f":"'PXS Kopieret'!H449","v":0},{"$f":"IF($A449=\"PhD Student\",'PXS Kopieret'!I449,\"\")","v":""},{"$f":"'PXS Kopieret'!J449","v":0},{"$f":"'PXS Kopieret'!K449","v":0},{"$f":"'PXS Kopieret'!L449","v":0}]
["",{"$f":"IF('PXS Kopieret'!N450<>\"\",HYPERLINK(\"https://ssl1.peoplexs.com/Peoplexs22/eFormportal/eForm.cfm?CandidateUpdateID=\"&'PXS Kopieret'!M450&\"&CandidateUpdateCode=\"&'PXS Kopieret'!N450&\"&Locale=en&CustomFormID=11612\",\"Docs\"),\"\")","v":""},{"$f":"'PXS Kopieret'!A450","v":0},{"$f":"'PXS Kopieret'!B450","v":0},{"$f":"'PXS Kopieret'!C450","v":0},{"$f":"'PXS Kopieret'!D450","v":0},{"$f":"IF($A450<>\"PhD Student\",'PXS Kopieret'!E450,\"\")","v":0},{"$f":"IF($A450=\"PhD Student\",'PXS Kopieret'!F450,\"\")","v":""},{"$f":"'PXS Kopieret'!G450","v":0},{"$f":"'PXS Kopieret'!H450","v":0},{"$f":"IF($A450=\"PhD Student\",'PXS Kopieret'!I450,\"\")","v":""},{"$f":"'PXS Kopieret'!J450","v":0},{"$f":"'PXS Kopieret'!K450","v":0},{"$f":"'PXS Kopieret'!L450","v":0}]
[{"$f":"IF(LEFT(C451,2)=\"RY\", \"Research Year Student\", IF(C451=0,\"\",\"PhD Student\"))","v":""},{"$f":"IF('PXS Kopieret'!N451<>\"\",HYPERLINK(\"https://ssl1.peoplexs.com/Peoplexs22/eFormportal/eForm.cfm?CandidateUpdateID=\"&'PXS Kopieret'!M451&\"&CandidateUpdateCode=\"&'PXS Kopieret'!N451&\"&Locale=en&CustomFormID=11612\",\"Docs\"),\"\")","v":""},{"$f":"'PXS Kopieret'!A451","v":0},{"$f":"'PXS Kopieret'!B451","v":0},{"$f":"'PXS Kopieret'!C451","v":0},{"$f":"'PXS Kopieret'!D451","v":0},{"$f":"IF($A451<>\"PhD Student\",'PXS Kopieret'!E451,\"\")","v":0},{"$f":"IF($A451=\"PhD Student\",'PXS Kopieret'!F451,\"\")","v":""},{"$f":"'PXS Kopieret'!G451","v":0},{"$f":"'PXS Kopieret'!H451","v":0},{"$f":"IF($A451=\"PhD Student\",'PXS Kopieret'!I451,\"\")","v":""},{"$f":"'PXS Kopieret'!J451","v":0},{"$f":"'PXS Kopieret'!K451","v":0},{"$f":"'PXS Kopieret'!L451","v":0}]
["",{"$f":"IF('PXS Kopieret'!N452<>\"\",HYPERLINK(\"https://ssl1.peoplexs.com/Peoplexs22/eFormportal/eForm.cfm?CandidateUpdateID=\"&'PXS Kopieret'!M452&\"&CandidateUpdateCode=\"&'PXS Kopieret'!N452&\"&Locale=en&CustomFormID=11612\",\"Docs\"),\"\")","v":""},{"$f":"'PXS Kopieret'!A452","v":0},{"$f":"'PXS Kopieret'!B452","v":0},{"$f":"'PXS Kopieret'!C452","v":0},{"$f":"'PXS Kopieret'!D452","v":0},{"$f":"IF($A452<>\"PhD Student\",'PXS Kopieret'!E452,\"\")","v":0},{"$f":"IF($A452=\"PhD Student\",'PXS Kopieret'!F452,\"\")","v":""},{"$f":"'PXS Kopieret'!G452","v":0},{"$f":"'PXS Kopieret'!H452","v":0},{"$f":"IF($A452=\"PhD Student\",'PXS Kopieret'!I452,\"\")","v":""},{"$f":"'PXS Kopieret'!J452","v":0},{"$f":"'PXS Kopieret'!K452","v":0},{"$f":"'PXS Kopieret'!L452","v":0}]
["",{"$f":"IF('PXS Kopieret'!N453<>\"\",HYPERLINK(\"https://ssl1.peoplexs.com/Peoplexs22/eFormportal/eForm.cfm?CandidateUpdateID=\"&'PXS Kopieret'!M453&\"&CandidateUpdateCode=\"&'PXS Kopieret'!N453&\"&Locale=en&CustomFormID=11612\",\"Docs\"),\"\")","v":""},{"$f":"'PXS Kopieret'!A453","v":0},{"$f":"'PXS Kopieret'!B453","v":0},{"$f":"'PXS Kopieret'!C453","v":0},{"$f":"'PXS Kopieret'!D453","v":0},{"$f":"IF($A453<>\"PhD Student\",'PXS Kopieret'!E453,\"\")","v":0},{"$f":"IF($A453=\"PhD Student\",'PXS Kopieret'!F453,\"\")","v":""},{"$f":"'PXS Kopieret'!G453","v":0},{"$f":"'PXS Kopieret'!H453","v":0},{"$f":"IF($A453=\"PhD Student\",'PXS Kopieret'!I453,\"\")","v":""},{"$f":"'PXS Kopieret'!J453","v":0},{"$f":"'PXS Kopieret'!K453","v":0},{"$f":"'PXS Kopieret'!L453","v":0}]
["",{"$f":"IF('PXS Kopieret'!N454<>\"\",HYPERLINK(\"https://ssl1.peoplexs.com/Peoplexs22/eFormportal/eForm.cfm?CandidateUpdateID=\"&'PXS Kopieret'!M454&\"&CandidateUpdateCode=\"&'PXS Kopieret'!N454&\"&Locale=en&CustomFormID=11612\",\"Docs\"),\"\")","v":""},{"$f":"'PXS Kopieret'!A454","v":0},{"$f":"'PXS Kopieret'!B454","v":0},{"$f":"'PXS Kopieret'!C454","v":0},{"$f":"'PXS Kopieret'!D454","v":0},{"$f":"IF($A454<>\"PhD Student\",'PXS Kopieret'!E454,\"\")","v":0},{"$f":"IF($A454=\"PhD Student\",'PXS Kopieret'!F454,\"\")","v":""},{"$f":"'PXS Kopieret'!G454","v":0},{"$f":"'PXS Kopieret'!H454","v":0},{"$f":"IF($A454=\"PhD Student\",'PXS Kopieret'!I454,\"\")","v":""},{"$f":"'PXS Kopieret'!J454","v":0},{"$f":"'PXS Kopieret'!K454","v":0},{"$f":"'PXS Kopieret'!L454","v":0}]
["",{"$f":"IF('PXS Kopieret'!N455<>\"\",HYPERLINK(\"https://ssl1.peoplexs.com/Peoplexs22/eFormportal/eForm.cfm?CandidateUpdateID=\"&'PXS Kopieret'!M455&\"&CandidateUpdateCode=\"&'PXS Kopieret'!N455&\"&Locale=en&CustomFormID=11612\",\"Docs\"),\"\")","v":""},{"$f":"'PXS Kopieret'!A455","v":0},{"$f":"'PXS Kopieret'!B455","v":0},{"$f":"'PXS Kopieret'!C455","v":0},{"$f":"'PXS Kopieret'!D455","v":0},{"$f":"IF($A455<>\"PhD Student\",'PXS Kopieret'!E455,\"\")","v":0},{"$f":"IF($A455=\"PhD Student\",'PXS Kopieret'!F455,\"\")","v":""},{"$f":"'PXS Kopieret'!G455","v":0},{"$f":"'PXS Kopieret'!H455","v":0},{"$f":"IF($A455=\"PhD Student\",'PXS Kopieret'!I455,\"\")","v":""},{"$f":"'PXS Kopieret'!J455","v":0},{"$f":"'PXS Kopieret'!K455","v":0},{"$f":"'PXS Kopieret'!L455","v":0}]
["",{"$f":"IF('PXS Kopieret'!N456<>\"\",HYPERLINK(\"https://ssl1.peoplexs.com/Peoplexs22/eFormportal/eForm.cfm?CandidateUpdateID=\"&'PXS Kopieret'!M456&\"&CandidateUpdateCode=\"&'PXS Kopieret'!N456&\"&Locale=en&CustomFormID=11612\",\"Docs\"),\"\")","v":""},{"$f":"'PXS Kopieret'!A456","v":0},{"$f":"'PXS Kopieret'!B456","v":0},{"$f":"'PXS Kopieret'!C456","v":0},{"$f":"'PXS Kopieret'!D456","v":0},{"$f":"IF($A456<>\"PhD Student\",'PXS Kopieret'!E456,\"\")","v":0},{"$f":"IF($A456=\"PhD Student\",'PXS Kopieret'!F456,\"\")","v":""},{"$f":"'PXS Kopieret'!G456","v":0},{"$f":"'PXS Kopieret'!H456","v":0},{"$f":"IF($A456=\"PhD Student\",'PXS Kopieret'!I456,\"\")","v":""},{"$f":"'PXS Kopieret'!J456","v":0},{"$f":"'PXS Kopieret'!K456","v":0},{"$f":"'PXS Kopieret'!L456","v":0}]
["",{"$f":"IF('PXS Kopieret'!N457<>\"\",HYPERLINK(\"https://ssl1.peoplexs.com/Peoplexs22/eFormportal/eForm.cfm?CandidateUpdateID=\"&'PXS Kopieret'!M457&\"&CandidateUpdateCode=\"&'PXS Kopieret'!N457&\"&Locale=en&CustomFormID=11612\",\"Docs\"),\"\")","v":""},{"$f":"'PXS Kopieret'!A457","v":0},{"$f":"'PXS Kopieret'!B457","v":0},{"$f":"'PXS Kopieret'!C457","v":0},{"$f":"'PXS Kopieret'!D457","v":0},{"$f":"IF($A457<>\"PhD Student\",'PXS Kopieret'!E457,\"\")","v":0},{"$f":"IF($A457=\"PhD Student\",'PXS Kopieret'!F457,\"\")","v":""},{"$f":"'PXS Kopieret'!G457","v":0},{"$f":"'PXS Kopieret'!H457","v":0},{"$f":"IF($A457=\"PhD Student\",'PXS Kopieret'!I457,\"\")","v":""},{"$f":"'PXS Kopieret'!J457","v":0},{"$f":"'PXS Kopieret'!K457","v":0},{"$f":"'PXS Kopieret'!L457","v":0}]
["",{"$f":"IF('PXS Kopieret'!N458<>\"\",HYPERLINK(\"https://ssl1.peoplexs.com/Peoplexs22/eFormportal/eForm.cfm?CandidateUpdateID=\"&'PXS Kopieret'!M458&\"&CandidateUpdateCode=\"&'PXS Kopieret'!N458&\"&Locale=en&CustomFormID=11612\",\"Docs\"),\"\")","v":""},{"$f":"'PXS Kopieret'!A458","v":0},{"$f":"'PXS Kopieret'!B458","v":0},{"$f":"'PXS Kopieret'!C458","v":0},{"$f":"'PXS Kopieret'!D458","v":0},{"$f":"IF($A458<>\"PhD Student\",'PXS Kopieret'!E458,\"\")","v":0},{"$f":"IF($A458=\"PhD Student\",'PXS Kopieret'!F458,\"\")","v":""},{"$f":"'PXS Kopieret'!G458","v":0},{"$f":"'PXS Kopieret'!H458","v":0},{"$f":"IF($A458=\"PhD Student\",'PXS Kopieret'!I458,\"\")","v":""},{"$f":"'PXS Kopieret'!J458","v":0},{"$f":"'PXS Kopieret'!K458","v":0},{"$f":"'PXS Kopieret'!L458","v":0}]
["",{"$f":"IF('PXS Kopieret'!N459<>\"\",HYPERLINK(\"https://ssl1.peoplexs.com/Peoplexs22/eFormportal/eForm.cfm?CandidateUpdateID=\"&'PXS Kopieret'!M459&\"&CandidateUpdateCode=\"&'PXS Kopieret'!N459&\"&Locale=en&CustomFormID=11612\",\"Docs\"),\"\")","v":""},{"$f":"'PXS Kopieret'!A459","v":0},{"$f":"'PXS Kopieret'!B459","v":0},{"$f":"'PXS Kopieret'!C459","v":0},{"$f":"'PXS Kopieret'!D459","v":0},{"$f":"IF($A459<>\"PhD Student\",'PXS Kopieret'!E459,\"\")","v":0},{"$f":"IF($A459=\"PhD Student\",'PXS Kopieret'!F459,\"\")","v":""},{"$f":"'PXS Kopieret'!G459","v":0},{"$f":"'PXS Kopieret'!H459","v":0},{"$f":"IF($A459=\"PhD Student\",'PXS Kopieret'!I459,\"\")","v":""},{"$f":"'PXS Kopieret'!J459","v":0},{"$f":"'PXS Kopieret'!K459","v":0},{"$f":"'PXS Kopieret'!L459","v":0}]
["",{"$f":"IF('PXS Kopieret'!N460<>\"\",HYPERLINK(\"https://ssl1.peoplexs.com/Peoplexs22/eFormportal/eForm.cfm?CandidateUpdateID=\"&'PXS Kopieret'!M460&\"&CandidateUpdateCode=\"&'PXS Kopieret'!N460&\"&Locale=en&CustomFormID=11612\",\"Docs\"),\"\")","v":""},{"$f":"'PXS Kopieret'!A460","v":0},{"$f":"'PXS Kopieret'!B460","v":0},{"$f":"'PXS Kopieret'!C460","v":0},{"$f":"'PXS Kopieret'!D460","v":0},{"$f":"IF($A460<>\"PhD Student\",'PXS Kopieret'!E460,\"\")","v":0},{"$f":"IF($A460=\"PhD Student\",'PXS Kopieret'!F460,\"\")","v":""},{"$f":"'PXS Kopieret'!G460","v":0},{"$f":"'PXS Kopieret'!H460","v":0},{"$f":"IF($A460=\"PhD Student\",'PXS Kopieret'!I460,\"\")","v":""},{"$f":"'PXS Kopieret'!J460","v":0},{"$f":"'PXS Kopieret'!K460","v":0},{"$f":"'PXS Kopieret'!L460","v":0}]
["",{"$f":"IF('PXS Kopieret'!N461<>\"\",HYPERLINK(\"https://ssl1.peoplexs.com/Peoplexs22/eFormportal/eForm.cfm?CandidateUpdateID=\"&'PXS Kopieret'!M461&\"&CandidateUpdateCode=\"&'PXS Kopieret'!N461&\"&Locale=en&CustomFormID=11612\",\"Docs\"),\"\")","v":""},{"$f":"'PXS Kopieret'!A461","v":0},{"$f":"'PXS Kopieret'!B461","v":0},{"$f":"'PXS Kopieret'!C461","v":0},{"$f":"'PXS Kopieret'!D461","v":0},{"$f":"IF($A461<>\"PhD Student\",'PXS Kopieret'!E461,\"\")","v":0},{"$f":"IF($A461=\"PhD Student\",'PXS Kopieret'!F461,\"\")","v":""},{"$f":"'PXS Kopieret'!G461","v":0},{"$f":"'PXS Kopieret'!H461","v":0},{"$f":"IF($A461=\"PhD Student\",'PXS Kopieret'!I461,\"\")","v":""},{"$f":"'PXS Kopieret'!J461","v":0},{"$f":"'PXS Kopieret'!K461","v":0},{"$f":"'PXS Kopieret'!L461","v":0}]
["",{"$f":"IF('PXS Kopieret'!N462<>\"\",HYPERLINK(\"https://ssl1.peoplexs.com/Peoplexs22/eFormportal/eForm.cfm?CandidateUpdateID=\"&'PXS Kopieret'!M462&\"&CandidateUpdateCode=\"&'PXS Kopieret'!N462&\"&Locale=en&CustomFormID=11612\",\"Docs\"),\"\")","v":""},{"$f":"'PXS Kopieret'!A462","v":0},{"$f":"'PXS Kopieret'!B462","v":0},{"$f":"'PXS Kopieret'!C462","v":0},{"$f":"'PXS Kopieret'!D462","v":0},{"$f":"IF($A462<>\"PhD Student\",'PXS Kopieret'!E462,\"\")","v":0},{"$f":"IF($A462=\"PhD Student\",'PXS Kopieret'!F462,\"\")","v":""},{"$f":"'PXS Kopieret'!G462","v":0},{"$f":"'PXS Kopieret'!H462","v":0},{"$f":"IF($A462=\"PhD Student\",'PXS Kopieret'!I462,\"\")","v":""},{"$f":"'PXS Kopieret'!J462","v":0},{"$f":"'PXS Kopieret'!K462","v":0},{"$f":"'PXS Kopieret'!L462","v":0}]
["",{"$f":"IF('PXS Kopieret'!N463<>\"\",HYPERLINK(\"https://ssl1.peoplexs.com/Peoplexs22/eFormportal/eForm.cfm?CandidateUpdateID=\"&'PXS Kopieret'!M463&\"&CandidateUpdateCode=\"&'PXS Kopieret'!N463&\"&Locale=en&CustomFormID=11612\",\"Docs\"),\"\")","v":""},{"$f":"'PXS Kopieret'!A463","v":0},{"$f":"'PXS Kopieret'!B463","v":0},{"$f":"'PXS Kopieret'!C463","v":0},{"$f":"'PXS Kopieret'!D463","v":0},{"$f":"IF($A463<>\"PhD Student\",'PXS Kopieret'!E463,\"\")","v":0},{"$f":"IF($A463=\"PhD Student\",'PXS Kopieret'!F463,\"\")","v":""},{"$f":"'PXS Kopieret'!G463","v":0},{"$f":"'PXS Kopieret'!H463","v":0},{"$f":"IF($A463=\"PhD Student\",'PXS Kopieret'!I463,\"\")","v":""},{"$f":"'PXS Kopieret'!J463","v":0},{"$f":"'PXS Kopieret'!K463","v":0},{"$f":"'PXS Kopieret'!L463","v":0}]
["",{"$f":"IF('PXS Kopieret'!N464<>\"\",HYPERLINK(\"https://ssl1.peoplexs.com/Peoplexs22/eFormportal/eForm.cfm?CandidateUpdateID=\"&'PXS Kopieret'!M464&\"&CandidateUpdateCode=\"&'PXS Kopieret'!N464&\"&Locale=en&CustomFormID=11612\",\"Docs\"),\"\")","v":""},{"$f":"'PXS Kopieret'!A464","v":0},{"$f":"'PXS Kopieret'!B464","v":0},{"$f":"'PXS Kopieret'!C464","v":0},{"$f":"'PXS Kopieret'!D464","v":0},{"$f":"IF($A464<>\"PhD Student\",'PXS Kopieret'!E464,\"\")","v":0},{"$f":"IF($A464=\"PhD Student\",'PXS Kopieret'!F464,\"\")","v":""},{"$f":"'PXS Kopieret'!G464","v":0},{"$f":"'PXS Kopieret'!H464","v":0},{"$f":"IF($A464=\"PhD Student\",'PXS Kopieret'!I464,\"\")","v":""},{"$f":"'PXS Kopieret'!J464","v":0},{"$f":"'PXS Kopieret'!K464","v":0},{"$f":"'PXS Kopieret'!L464","v":0}]
["",{"$f":"IF('PXS Kopieret'!N465<>\"\",HYPERLINK(\"https://ssl1.peoplexs.com/Peoplexs22/eFormportal/eForm.cfm?CandidateUpdateID=\"&'PXS Kopieret'!M465&\"&CandidateUpdateCode=\"&'PXS Kopieret'!N465&\"&Locale=en&CustomFormID=11612\",\"Docs\"),\"\")","v":""},{"$f":"'PXS Kopieret'!A465","v":0},{"$f":"'PXS Kopieret'!B465","v":0},{"$f":"'PXS Kopieret'!C465","v":0},{"$f":"'PXS Kopieret'!D465","v":0},{"$f":"IF($A465<>\"PhD Student\",'PXS Kopieret'!E465,\"\")","v":0},{"$f":"IF($A465=\"PhD Student\",'PXS Kopieret'!F465,\"\")","v":""},{"$f":"'PXS Kopieret'!G465","v":0},{"$f":"'PXS Kopieret'!H465","v":0},{"$f":"IF($A465=\"PhD Student\",'PXS Kopieret'!I465,\"\")","v":""},{"$f":"'PXS Kopieret'!J465","v":0},{"$f":"'PXS Kopieret'!K465","v":0},{"$f":"'PXS Kopieret'!L465","v":0}]
["",{"$f":"IF('PXS Kopieret'!N466<>\"\",HYPERLINK(\"https://ssl1.peoplexs.com/Peoplexs22/eFormportal/eForm.cfm?CandidateUpdateID=\"&'PXS Kopieret'!M466&\"&CandidateUpdateCode=\"&'PXS Kopieret'!N466&\"&Locale=en&CustomFormID=11612\",\"Docs\"),\"\")","v":""},{"$f":"'PXS Kopieret'!A466","v":0},{"$f":"'PXS Kopieret'!B466","v":0},{"$f":"'PXS Kopieret'!C466","v":0},{"$f":"'PXS Kopieret'!D466","v":0},{"$f":"IF($A466<>\"PhD Student\",'PXS Kopieret'!E466,\"\")","v":0},{"$f":"IF($A466=\"PhD Student\",'PXS Kopieret'!F466,\"\")","v":""},{"$f":"'PXS Kopieret'!G466","v":0},{"$f":"'PXS Kopieret'!H466","v":0},{"$f":"IF($A466=\"PhD Student\",'PXS Kopieret'!I466,\"\")","v":""},{"$f":"'PXS Kopieret'!J466","v":0},{"$f":"'PXS Kopieret'!K466","v":0},{"$f":"'PXS Kopieret'!L466","v":0}]
["",{"$f":"IF('PXS Kopieret'!N467<>\"\",HYPERLINK(\"https://ssl1.peoplexs.com/Peoplexs22/eFormportal/eForm.cfm?CandidateUpdateID=\"&'PXS Kopieret'!M467&\"&CandidateUpdateCode=\"&'PXS Kopieret'!N467&\"&Locale=en&CustomFormID=11612\",\"Docs\"),\"\")","v":""},{"$f":"'PXS Kopieret'!A467","v":0},{"$f":"'PXS Kopieret'!B467","v":0},{"$f":"'PXS Kopieret'!C467","v":0},{"$f":"'PXS Kopieret'!D467","v":0},{"$f":"IF($A467<>\"PhD Student\",'PXS Kopieret'!E467,\"\")","v":0},{"$f":"IF($A467=\"PhD Student\",'PXS Kopieret'!F467,\"\")","v":""},{"$f":"'PXS Kopieret'!G467","v":0},{"$f":"'PXS Kopieret'!H467","v":0},{"$f":"IF($A467=\"PhD Student\",'PXS Kopieret'!I467,\"\")","v":""},{"$f":"'PXS Kopieret'!J467","v":0},{"$f":"'PXS Kopieret'!K467","v":0},{"$f":"'PXS Kopieret'!L467","v":0}]
["",{"$f":"IF('PXS Kopieret'!N468<>\"\",HYPERLINK(\"https://ssl1.peoplexs.com/Peoplexs22/eFormportal/eForm.cfm?CandidateUpdateID=\"&'PXS Kopieret'!M468&\"&CandidateUpdateCode=\"&'PXS Kopieret'!N468&\"&Locale=en&CustomFormID=11612\",\"Docs\"),\"\")","v":""},{"$f":"'PXS Kopieret'!A468","v":0},{"$f":"'PXS Kopieret'!B468","v":0},{"$f":"'PXS Kopieret'!C468","v":0},{"$f":"'PXS Kopieret'!D468","v":0},{"$f":"IF($A468<>\"PhD Student\",'PXS Kopieret'!E468,\"\")","v":0},{"$f":"IF($A468=\"PhD Student\",'PXS Kopieret'!F468,\"\")","v":""},{"$f":"'PXS Kopieret'!G468","v":0},{"$f":"'PXS Kopieret'!H468","v":0},{"$f":"IF($A468=\"PhD Student\",'PXS Kopieret'!I468,\"\")","v":""},{"$f":"'PXS Kopieret'!J468","v":0},{"$f":"'PXS Kopieret'!K468","v":0},{"$f":"'PXS Kopieret'!L468","v":0}]
["",{"$f":"IF('PXS Kopieret'!N469<>\"\",HYPERLINK(\"https://ssl1.peoplexs.com/Peoplexs22/eFormportal/eForm.cfm?CandidateUpdateID=\"&'PXS Kopieret'!M469&\"&CandidateUpdateCode=\"&'PXS Kopieret'!N469&\"&Locale=en&CustomFormID=11612\",\"Docs\"),\"\")","v":""},{"$f":"'PXS Kopieret'!A469","v":0},{"$f":"'PXS Kopieret'!B469","v":0},{"$f":"'PXS Kopieret'!C469","v":0},{"$f":"'PXS Kopieret'!D469","v":0},{"$f":"IF($A469<>\"PhD Student\",'PXS Kopieret'!E469,\"\")","v":0},{"$f":"IF($A469=\"PhD Student\",'PXS Kopieret'!F469,\"\")","v":""},{"$f":"'PXS Kopieret'!G469","v":0},{"$f":"'PXS Kopieret'!H469","v":0},{"$f":"IF($A469=\"PhD Student\",'PXS Kopieret'!I469,\"\")","v":""},{"$f":"'PXS Kopieret'!J469","v":0},{"$f":"'PXS Kopieret'!K469","v":0},{"$f":"'PXS Kopieret'!L469","v":0}]
["",{"$f":"IF('PXS Kopieret'!N470<>\"\",HYPERLINK(\"https://ssl1.peoplexs.com/Peoplexs22/eFormportal/eForm.cfm?CandidateUpdateID=\"&'PXS Kopieret'!M470&\"&CandidateUpdateCode=\"&'PXS Kopieret'!N470&\"&Locale=en&CustomFormID=11612\",\"Docs\"),\"\")","v":""},{"$f":"'PXS Kopieret'!A470","v":0},{"$f":"'PXS Kopieret'!B470","v":0},{"$f":"'PXS Kopieret'!C470","v":0},{"$f":"'PXS Kopieret'!D470","v":0},{"$f":"IF($A470<>\"PhD Student\",'PXS Kopieret'!E470,\"\")","v":0},{"$f":"IF($A470=\"PhD Student\",'PXS Kopieret'!F470,\"\")","v":""},{"$f":"'PXS Kopieret'!G470","v":0},{"$f":"'PXS Kopieret'!H470","v":0},{"$f":"IF($A470=\"PhD Student\",'PXS Kopieret'!I470,\"\")","v":""},{"$f":"'PXS Kopieret'!J470","v":0},{"$f":"'PXS Kopieret'!K470","v":0},{"$f":"'PXS Kopieret'!L470","v":0}]
["",{"$f":"IF('PXS Kopieret'!N471<>\"\",HYPERLINK(\"https://ssl1.peoplexs.com/Peoplexs22/eFormportal/eForm.cfm?CandidateUpdateID=\"&'PXS Kopieret'!M471&\"&CandidateUpdateCode=\"&'PXS Kopieret'!N471&\"&Locale=en&CustomFormID=11612\",\"Docs\"),\"\")","v":""},{"$f":"'PXS Kopieret'!A471","v":0},{"$f":"'PXS Kopieret'!B471","v":0},{"$f":"'PXS Kopieret'!C471","v":0},{"$f":"'PXS Kopieret'!D471","v":0},{"$f":"IF($A471<>\"PhD Student\",'PXS Kopieret'!E471,\"\")","v":0},{"$f":"IF($A471=\"PhD Student\",'PXS Kopieret'!F471,\"\")","v":""},{"$f":"'PXS Kopieret'!G471","v":0},{"$f":"'PXS Kopieret'!H471","v":0},{"$f":"IF($A471=\"PhD Student\",'PXS Kopieret'!I471,\"\")","v":""},{"$f":"'PXS Kopieret'!J471","v":0},{"$f":"'PXS Kopieret'!K471","v":0},{"$f":"'PXS Kopieret'!L471","v":0}]
["",{"$f":"IF('PXS Kopieret'!N472<>\"\",HYPERLINK(\"https://ssl1.peoplexs.com/Peoplexs22/eFormportal/eForm.cfm?CandidateUpdateID=\"&'PXS Kopieret'!M472&\"&CandidateUpdateCode=\"&'PXS Kopieret'!N472&\"&Locale=en&CustomFormID=11612\",\"Docs\"),\"\")","v":""},{"$f":"'PXS Kopieret'!A472","v":0},{"$f":"'PXS Kopieret'!B472","v":0},{"$f":"'PXS Kopieret'!C472","v":0},{"$f":"'PXS Kopieret'!D472","v":0},{"$f":"IF($A472<>\"PhD Student\",'PXS Kopieret'!E472,\"\")","v":0},{"$f":"IF($A472=\"PhD Student\",'PXS Kopieret'!F472,\"\")","v":""},{"$f":"'PXS Kopieret'!G472","v":0},{"$f":"'PXS Kopieret'!H472","v":0},{"$f":"IF($A472=\"PhD Student\",'PXS Kopieret'!I472,\"\")","v":""},{"$f":"'PXS Kopieret'!J472","v":0},{"$f":"'PXS Kopieret'!K472","v":0},{"$f":"'PXS Kopieret'!L472","v":0}]
["",{"$f":"IF('PXS Kopieret'!N473<>\"\",HYPERLINK(\"https://ssl1.peoplexs.com/Peoplexs22/eFormportal/eForm.cfm?CandidateUpdateID=\"&'PXS Kopieret'!M473&\"&CandidateUpdateCode=\"&'PXS Kopieret'!N473&\"&Locale=en&CustomFormID=11612\",\"Docs\"),\"\")","v":""},{"$f":"'PXS Kopieret'!A473","v":0},{"$f":"'PXS Kopieret'!B473","v":0},{"$f":"'PXS Kopieret'!C473","v":0},{"$f":"'PXS Kopieret'!D473","v":0},{"$f":"IF($A473<>\"PhD Student\",'PXS Kopieret'!E473,\"\")","v":0},{"$f":"IF($A473=\"PhD Student\",'PXS Kopieret'!F473,\"\")","v":""},{"$f":"'PXS Kopieret'!G473","v":0},{"$f":"'PXS Kopieret'!H473","v":0},{"$f":"IF($A473=\"PhD Student\",'PXS Kopieret'!I473,\"\")","v":""},{"$f":"'PXS Kopieret'!J473","v":0},{"$f":"'PXS Kopieret'!K473","v":0},{"$f":"'PXS Kopieret'!L473","v":0}]
["",{"$f":"IF('PXS Kopieret'!N474<>\"\",HYPERLINK(\"https://ssl1.peoplexs.com/Peoplexs22/eFormportal/eForm.cfm?CandidateUpdateID=\"&'PXS Kopieret'!M474&\"&CandidateUpdateCode=\"&'PXS Kopieret'!N474&\"&Locale=en&CustomFormID=11612\",\"Docs\"),\"\")","v":""},{"$f":"'PXS Kopieret'!A474","v":0},{"$f":"'PXS Kopieret'!B474","v":0},{"$f":"'PXS Kopieret'!C474","v":0},{"$f":"'PXS Kopieret'!D474","v":0},{"$f":"IF($A474<>\"PhD Student\",'PXS Kopieret'!E474,\"\")","v":0},{"$f":"IF($A474=\"PhD Student\",'PXS Kopieret'!F474,\"\")","v":""},{"$f":"'PXS Kopieret'!G474","v":0},{"$f":"'PXS Kopieret'!H474","v":0},{"$f":"IF($A474=\"PhD Student\",'PXS Kopieret'!I474,\"\")","v":""},{"$f":"'PXS Kopieret'!J474","v":0},{"$f":"'PXS Kopieret'!K474","v":0},{"$f":"'PXS Kopieret'!L474","v":0}]
["",{"$f":"IF('PXS Kopieret'!N475<>\"\",HYPERLINK(\"https://ssl1.peoplexs.com/Peoplexs22/eFormportal/eForm.cfm?CandidateUpdateID=\"&'PXS Kopieret'!M475&\"&CandidateUpdateCode=\"&'PXS Kopieret'!N475&\"&Locale=en&CustomFormID=11612\",\"Docs\"),\"\")","v":""},{"$f":"'PXS Kopieret'!A475","v":0},{"$f":"'PXS Kopieret'!B475","v":0},{"$f":"'PXS Kopieret'!C475","v":0},{"$f":"'PXS Kopieret'!D475","v":0},{"$f":"IF($A475<>\"PhD Student\",'PXS Kopieret'!E475,\"\")","v":0},{"$f":"IF($A475=\"PhD Student\",'PXS Kopieret'!F475,\"\")","v":""},{"$f":"'PXS Kopieret'!G475","v":0},{"$f":"'PXS Kopieret'!H475","v":0},{"$f":"IF($A475=\"PhD Student\",'PXS Kopieret'!I475,\"\")","v":""},{"$f":"'PXS Kopieret'!J475","v":0},{"$f":"'PXS Kopieret'!K475","v":0},{"$f":"'PXS Kopieret'!L475","v":0}]
["",{"$f":"IF('PXS Kopieret'!N476<>\"\",HYPERLINK(\"https://ssl1.peoplexs.com/Peoplexs22/eFormportal/eForm.cfm?CandidateUpdateID=\"&'PXS Kopieret'!M476&\"&CandidateUpdateCode=\"&'PXS Kopieret'!N476&\"&Locale=en&CustomFormID=11612\",\"Docs\"),\"\")","v":""},{"$f":"'PXS Kopieret'!A476","v":0},{"$f":"'PXS Kopieret'!B476","v":0},{"$f":"'PXS Kopieret'!C476","v":0},{"$f":"'PXS Kopieret'!D476","v":0},{"$f":"IF($A476<>\"PhD Student\",'PXS Kopieret'!E476,\"\")","v":0},{"$f":"IF($A476=\"PhD Student\",'PXS Kopieret'!F476,\"\")","v":""},{"$f":"'PXS Kopieret'!G476","v":0},{"$f":"'PXS Kopieret'!H476","v":0},{"$f":"IF($A476=\"PhD Student\",'PXS Kopieret'!I476,\"\")","v":""},{"$f":"'PXS Kopieret'!J476","v":0},{"$f":"'PXS Kopieret'!K476","v":0},{"$f":"'PXS Kopieret'!L476","v":0}]
["",{"$f":"IF('PXS Kopieret'!N477<>\"\",HYPERLINK(\"https://ssl1.peoplexs.com/Peoplexs22/eFormportal/eForm.cfm?CandidateUpdateID=\"&'PXS Kopieret'!M477&\"&CandidateUpdateCode=\"&'PXS Kopieret'!N477&\"&Locale=en&CustomFormID=11612\",\"Docs\"),\"\")","v":""},{"$f":"'PXS Kopieret'!A477","v":0},{"$f":"'PXS Kopieret'!B477","v":0},{"$f":"'PXS Kopieret'!C477","v":0},{"$f":"'PXS Kopieret'!D477","v":0},{"$f":"IF($A477<>\"PhD Student\",'PXS Kopieret'!E477,\"\")","v":0},{"$f":"IF($A477=\"PhD Student\",'PXS Kopieret'!F477,\"\")","v":""},{"$f":"'PXS Kopieret'!G477","v":0},{"$f":"'PXS Kopieret'!H477","v":0},{"$f":"IF($A477=\"PhD Student\",'PXS Kopieret'!I477,\"\")","v":""},{"$f":"'PXS Kopieret'!J477","v":0},{"$f":"'PXS Kopieret'!K477","v":0},{"$f":"'PXS Kopieret'!L477","v":0}]
["",{"$f":"IF('PXS Kopieret'!N478<>\"\",HYPERLINK(\"https://ssl1.peoplexs.com/Peoplexs22/eFormportal/eForm.cfm?CandidateUpdateID=\"&'PXS Kopieret'!M478&\"&CandidateUpdateCode=\"&'PXS Kopieret'!N478&\"&Locale=en&CustomFormID=11612\",\"Docs\"),\"\")","v":""},{"$f":"'PXS Kopieret'!A478","v":0},{"$f":"'PXS Kopieret'!B478","v":0},{"$f":"'PXS Kopieret'!C478","v":0},{"$f":"'PXS Kopieret'!D478","v":0},{"$f":"IF($A478<>\"PhD Student\",'PXS Kopieret'!E478,\"\")","v":0},{"$f":"IF($A478=\"PhD Student\",'PXS Kopieret'!F478,\"\")","v":""},{"$f":"'PXS Kopieret'!G478","v":0},{"$f":"'PXS Kopieret'!H478","v":0},{"$f":"IF($A478=\"PhD Student\",'PXS Kopieret'!I478,\"\")","v":""},{"$f":"'PXS Kopieret'!J478","v":0},{"$f":"'PXS Kopieret'!K478","v":0},{"$f":"'PXS Kopieret'!L478","v":0}]
["",{"$f":"IF('PXS Kopieret'!N479<>\"\",HYPERLINK(\"https://ssl1.peoplexs.com/Peoplexs22/eFormportal/eForm.cfm?CandidateUpdateID=\"&'PXS Kopieret'!M479&\"&CandidateUpdateCode=\"&'PXS Kopieret'!N479&\"&Locale=en&CustomFormID=11612\",\"Docs\"),\"\")","v":""},{"$f":"'PXS Kopieret'!A479","v":0},{"$f":"'PXS Kopieret'!B479","v":0},{"$f":"'PXS Kopieret'!C479","v":0},{"$f":"'PXS Kopieret'!D479","v":0},{"$f":"IF($A479<>\"PhD Student\",'PXS Kopieret'!E479,\"\")","v":0},{"$f":"IF($A479=\"PhD Student\",'PXS Kopieret'!F479,\"\")","v":""},{"$f":"'PXS Kopieret'!G479","v":0},{"$f":"'PXS Kopieret'!H479","v":0},{"$f":"IF($A479=\"PhD Student\",'PXS Kopieret'!I479,\"\")","v":""},{"$f":"'PXS Kopieret'!J479","v":0},{"$f":"'PXS Kopieret'!K479","v":0},{"$f":"'PXS Kopieret'!L479","v":0}]
["",{"$f":"IF('PXS Kopieret'!N480<>\"\",HYPERLINK(\"https://ssl1.peoplexs.com/Peoplexs22/eFormportal/eForm.cfm?CandidateUpdateID=\"&'PXS Kopieret'!M480&\"&CandidateUpdateCode=\"&'PXS Kopieret'!N480&\"&Locale=en&CustomFormID=11612\",\"Docs\"),\"\")","v":""},{"$f":"'PXS Kopieret'!A480","v":0},{"$f":"'PXS Kopieret'!B480","v":0},{"$f":"'PXS Kopieret'!C480","v":0},{"$f":"'PXS Kopieret'!D480","v":0},{"$f":"IF($A480<>\"PhD Student\",'PXS Kopieret'!E480,\"\")","v":0},{"$f":"IF($A480=\"PhD Student\",'PXS Kopieret'!F480,\"\")","v":""},{"$f":"'PXS Kopieret'!G480","v":0},{"$f":"'PXS Kopieret'!H480","v":0},{"$f":"IF($A480=\"PhD Student\",'PXS Kopieret'!I480,\"\")","v":""},{"$f":"'PXS Kopieret'!J480","v":0},{"$f":"'PXS Kopieret'!K480","v":0},{"$f":"'PXS Kopieret'!L480","v":0}]
["",{"$f":"IF('PXS Kopieret'!N481<>\"\",HYPERLINK(\"https://ssl1.peoplexs.com/Peoplexs22/eFormportal/eForm.cfm?CandidateUpdateID=\"&'PXS Kopieret'!M481&\"&CandidateUpdateCode=\"&'PXS Kopieret'!N481&\"&Locale=en&CustomFormID=11612\",\"Docs\"),\"\")","v":""},{"$f":"'PXS Kopieret'!A481","v":0},{"$f":"'PXS Kopieret'!B481","v":0},{"$f":"'PXS Kopieret'!C481","v":0},{"$f":"'PXS Kopieret'!D481","v":0},{"$f":"IF($A481<>\"PhD Student\",'PXS Kopieret'!E481,\"\")","v":0},{"$f":"IF($A481=\"PhD Student\",'PXS Kopieret'!F481,\"\")","v":""},{"$f":"'PXS Kopieret'!G481","v":0},{"$f":"'PXS Kopieret'!H481","v":0},{"$f":"IF($A481=\"PhD Student\",'PXS Kopieret'!I481,\"\")","v":""},{"$f":"'PXS Kopieret'!J481","v":0},{"$f":"'PXS Kopieret'!K481","v":0},{"$f":"'PXS Kopieret'!L481","v":0}]
["",{"$f":"IF('PXS Kopieret'!N482<>\"\",HYPERLINK(\"https://ssl1.peoplexs.com/Peoplexs22/eFormportal/eForm.cfm?CandidateUpdateID=\"&'PXS Kopieret'!M482&\"&CandidateUpdateCode=\"&'PXS Kopieret'!N482&\"&Locale=en&CustomFormID=11612\",\"Docs\"),\"\")","v":""},{"$f":"'PXS Kopieret'!A482","v":0},{"$f":"'PXS Kopieret'!B482","v":0},{"$f":"'PXS Kopieret'!C482","v":0},{"$f":"'PXS Kopieret'!D482","v":0},{"$f":"IF($A482<>\"PhD Student\",'PXS Kopieret'!E482,\"\")","v":0},{"$f":"IF($A482=\"PhD Student\",'PXS Kopieret'!F482,\"\")","v":""},{"$f":"'PXS Kopieret'!G482","v":0},{"$f":"'PXS Kopieret'!H482","v":0},{"$f":"IF($A482=\"PhD Student\",'PXS Kopieret'!I482,\"\")","v":""},{"$f":"'PXS Kopieret'!J482","v":0},{"$f":"'PXS Kopieret'!K482","v":0},{"$f":"'PXS Kopieret'!L482","v":0}]
["",{"$f":"IF('PXS Kopieret'!N483<>\"\",HYPERLINK(\"https://ssl1.peoplexs.com/Peoplexs22/eFormportal/eForm.cfm?CandidateUpdateID=\"&'PXS Kopieret'!M483&\"&CandidateUpdateCode=\"&'PXS Kopieret'!N483&\"&Locale=en&CustomFormID=11612\",\"Docs\"),\"\")","v":""},{"$f":"'PXS Kopieret'!A483","v":0},{"$f":"'PXS Kopieret'!B483","v":0},{"$f":"'PXS Kopieret'!C483","v":0},{"$f":"'PXS Kopieret'!D483","v":0},{"$f":"IF($A483<>\"PhD Student\",'PXS Kopieret'!E483,\"\")","v":0},{"$f":"IF($A483=\"PhD Student\",'PXS Kopieret'!F483,\"\")","v":""},{"$f":"'PXS Kopieret'!G483","v":0},{"$f":"'PXS Kopieret'!H483","v":0},{"$f":"IF($A483=\"PhD Student\",'PXS Kopieret'!I483,\"\")","v":""},{"$f":"'PXS Kopieret'!J483","v":0},{"$f":"'PXS Kopieret'!K483","v":0},{"$f":"'PXS Kopieret'!L483","v":0}]
["",{"$f":"IF('PXS Kopieret'!N484<>\"\",HYPERLINK(\"https://ssl1.peoplexs.com/Peoplexs22/eFormportal/eForm.cfm?CandidateUpdateID=\"&'PXS Kopieret'!M484&\"&CandidateUpdateCode=\"&'PXS Kopieret'!N484&\"&Locale=en&CustomFormID=11612\",\"Docs\"),\"\")","v":""},{"$f":"'PXS Kopieret'!A484","v":0},{"$f":"'PXS Kopieret'!B484","v":0},{"$f":"'PXS Kopieret'!C484","v":0},{"$f":"'PXS Kopieret'!D484","v":0},{"$f":"IF($A484<>\"PhD Student\",'PXS Kopieret'!E484,\"\")","v":0},{"$f":"IF($A484=\"PhD Student\",'PXS Kopieret'!F484,\"\")","v":""},{"$f":"'PXS Kopieret'!G484","v":0},{"$f":"'PXS Kopieret'!H484","v":0},{"$f":"IF($A484=\"PhD Student\",'PXS Kopieret'!I484,\"\")","v":""},{"$f":"'PXS Kopieret'!J484","v":0},{"$f":"'PXS Kopieret'!K484","v":0},{"$f":"'PXS Kopieret'!L484","v":0}]
["",{"$f":"IF('PXS Kopieret'!N485<>\"\",HYPERLINK(\"https://ssl1.peoplexs.com/Peoplexs22/eFormportal/eForm.cfm?CandidateUpdateID=\"&'PXS Kopieret'!M485&\"&CandidateUpdateCode=\"&'PXS Kopieret'!N485&\"&Locale=en&CustomFormID=11612\",\"Docs\"),\"\")","v":""},{"$f":"'PXS Kopieret'!A485","v":0},{"$f":"'PXS Kopieret'!B485","v":0},{"$f":"'PXS Kopieret'!C485","v":0},{"$f":"'PXS Kopieret'!D485","v":0},{"$f":"IF($A485<>\"PhD Student\",'PXS Kopieret'!E485,\"\")","v":0},{"$f":"IF($A485=\"PhD Student\",'PXS Kopieret'!F485,\"\")","v":""},{"$f":"'PXS Kopieret'!G485","v":0},{"$f":"'PXS Kopieret'!H485","v":0},{"$f":"IF($A485=\"PhD Student\",'PXS Kopieret'!I485,\"\")","v":""},{"$f":"'PXS Kopieret'!J485","v":0},{"$f":"'PXS Kopieret'!K485","v":0},{"$f":"'PXS Kopieret'!L485","v":0}]
["",{"$f":"IF('PXS Kopieret'!N486<>\"\",HYPERLINK(\"https://ssl1.peoplexs.com/Peoplexs22/eFormportal/eForm.cfm?CandidateUpdateID=\"&'PXS Kopieret'!M486&\"&CandidateUpdateCode=\"&'PXS Kopieret'!N486&\"&Locale=en&CustomFormID=11612\",\"Docs\"),\"\")","v":""},{"$f":"'PXS Kopieret'!A486","v":0},{"$f":"'PXS Kopieret'!B486","v":0},{"$f":"'PXS Kopieret'!C486","v":0},{"$f":"'PXS Kopieret'!D486","v":0},{"$f":"IF($A486<>\"PhD Student\",'PXS Kopieret'!E486,\"\")","v":0},{"$f":"IF($A486=\"PhD Student\",'PXS Kopieret'!F486,\"\")","v":""},{"$f":"'PXS Kopieret'!G486","v":0},{"$f":"'PXS Kopieret'!H486","v":0},{"$f":"IF($A486=\"PhD Student\",'PXS Kopieret'!I486,\"\")","v":""},{"$f":"'PXS Kopieret'!J486","v":0},{"$f":"'PXS Kopieret'!K486","v":0},{"$f":"'PXS Kopieret'!L486","v":0}]
["",{"$f":"IF('PXS Kopieret'!N487<>\"\",HYPERLINK(\"https://ssl1.peoplexs.com/Peoplexs22/eFormportal/eForm.cfm?CandidateUpdateID=\"&'PXS Kopieret'!M487&\"&CandidateUpdateCode=\"&'PXS Kopieret'!N487&\"&Locale=en&CustomFormID=11612\",\"Docs\"),\"\")","v":""},{"$f":"'PXS Kopieret'!A487","v":0},{"$f":"'PXS Kopieret'!B487","v":0},{"$f":"'PXS Kopieret'!C487","v":0},{"$f":"'PXS Kopieret'!D487","v":0},{"$f":"IF($A487<>\"PhD Student\",'PXS Kopieret'!E487,\"\")","v":0},{"$f":"IF($A487=\"PhD Student\",'PXS Kopieret'!F487,\"\")","v":""},{"$f":"'PXS Kopieret'!G487","v":0},{"$f":"'PXS Kopieret'!H487","v":0},{"$f":"IF($A487=\"PhD Student\",'PXS Kopieret'!I487,\"\")","v":""},{"$f":"'PXS Kopieret'!J487","v":0},{"$f":"'PXS Kopieret'!K487","v":0},{"$f":"'PXS Kopieret'!L487","v":0}]
["",{"$f":"IF('PXS Kopieret'!N488<>\"\",HYPERLINK(\"https://ssl1.peoplexs.com/Peoplexs22/eFormportal/eForm.cfm?CandidateUpdateID=\"&'PXS Kopieret'!M488&\"&CandidateUpdateCode=\"&'PXS Kopieret'!N488&\"&Locale=en&CustomFormID=11612\",\"Docs\"),\"\")","v":""},{"$f":"'PXS Kopieret'!A488","v":0},{"$f":"'PXS Kopieret'!B488","v":0},{"$f":"'PXS Kopieret'!C488","v":0},{"$f":"'PXS Kopieret'!D488","v":0},{"$f":"IF($A488<>\"PhD Student\",'PXS Kopieret'!E488,\"\")","v":0},{"$f":"IF($A488=\"PhD Student\",'PXS Kopieret'!F488,\"\")","v":""},{"$f":"'PXS Kopieret'!G488","v":0},{"$f":"'PXS Kopieret'!H488","v":0},{"$f":"IF($A488=\"PhD Student\",'PXS Kopieret'!I488,\"\")","v":""},{"$f":"'PXS Kopieret'!J488","v":0},{"$f":"'PXS Kopieret'!K488","v":0},{"$f":"'PXS Kopieret'!L488","v":0}]
["",{"$f":"IF('PXS Kopieret'!N489<>\"\",HYPERLINK(\"https://ssl1.peoplexs.com/Peoplexs22/eFormportal/eForm.cfm?CandidateUpdateID=\"&'PXS Kopieret'!M489&\"&CandidateUpdateCode=\"&'PXS Kopieret'!N489&\"&Locale=en&CustomFormID=11612\",\"Docs\"),\"\")","v":""},{"$f":"'PXS Kopieret'!A489","v":0},{"$f":"'PXS Kopieret'!B489","v":0},{"$f":"'PXS Kopieret'!C489","v":0},{"$f":"'PXS Kopieret'!D489","v":0},{"$f":"IF($A489<>\"PhD Student\",'PXS Kopieret'!E489,\"\")","v":0},{"$f":"IF($A489=\"PhD Student\",'PXS Kopieret'!F489,\"\")","v":""},{"$f":"'PXS Kopieret'!G489","v":0},{"$f":"'PXS Kopieret'!H489","v":0},{"$f":"IF($A489=\"PhD Student\",'PXS Kopieret'!I489,\"\")","v":""},{"$f":"'PXS Kopieret'!J489","v":0},{"$f":"'PXS Kopieret'!K489","v":0},{"$f":"'PXS Kopieret'!L489","v":0}]
["",{"$f":"IF('PXS Kopieret'!N490<>\"\",HYPERLINK(\"https://ssl1.peoplexs.com/Peoplexs22/eFormportal/eForm.cfm?CandidateUpdateID=\"&'PXS Kopieret'!M490&\"&CandidateUpdateCode=\"&'PXS Kopieret'!N490&\"&Locale=en&CustomFormID=11612\",\"Docs\"),\"\")","v":""},{"$f":"'PXS Kopieret'!A490","v":0},{"$f":"'PXS Kopieret'!B490","v":0},{"$f":"'PXS Kopieret'!C490","v":0},{"$f":"'PXS Kopieret'!D490","v":0},{"$f":"IF($A490<>\"PhD Student\",'PXS Kopieret'!E490,\"\")","v":0},{"$f":"IF($A490=\"PhD Student\",'PXS Kopieret'!F490,\"\")","v":""},{"$f":"'PXS Kopieret'!G490","v":0},{"$f":"'PXS Kopieret'!H490","v":0},{"$f":"IF($A490=\"PhD Student\",'PXS Kopieret'!I490,\"\")","v":""},{"$f":"'PXS Kopieret'!J490","v":0},{"$f":"'PXS Kopieret'!K490","v":0},{"$f":"'PXS Kopieret'!L490","v":0}]
["",{"$f":"IF('PXS Kopieret'!N491<>\"\",HYPERLINK(\"https://ssl1.peoplexs.com/Peoplexs22/eFormportal/eForm.cfm?CandidateUpdateID=\"&'PXS Kopieret'!M491&\"&CandidateUpdateCode=\"&'PXS Kopieret'!N491&\"&Locale=en&CustomFormID=11612\",\"Docs\"),\"\")","v":""},{"$f":"'PXS Kopieret'!A491","v":0},{"$f":"'PXS Kopieret'!B491","v":0},{"$f":"'PXS Kopieret'!C491","v":0},{"$f":"'PXS Kopieret'!D491","v":0},{"$f":"IF($A491<>\"PhD Student\",'PXS Kopieret'!E491,\"\")","v":0},{"$f":"IF($A491=\"PhD Student\",'PXS Kopieret'!F491,\"\")","v":""},{"$f":"'PXS Kopieret'!G491","v":0},{"$f":"'PXS Kopieret'!H491","v":0},{"$f":"IF($A491=\"PhD Student\",'PXS Kopieret'!I491,\"\")","v":""},{"$f":"'PXS Kopieret'!J491","v":0},{"$f":"'PXS Kopieret'!K491","v":0},{"$f":"'PXS Kopieret'!L491","v":0}]
["",{"$f":"IF('PXS Kopieret'!N492<>\"\",HYPERLINK(\"https://ssl1.peoplexs.com/Peoplexs22/eFormportal/eForm.cfm?CandidateUpdateID=\"&'PXS Kopieret'!M492&\"&CandidateUpdateCode=\"&'PXS Kopieret'!N492&\"&Locale=en&CustomFormID=11612\",\"Docs\"),\"\")","v":""},{"$f":"'PXS Kopieret'!A492","v":0},{"$f":"'PXS Kopieret'!B492","v":0},{"$f":"'PXS Kopieret'!C492","v":0},{"$f":"'PXS Kopieret'!D492","v":0},{"$f":"IF($A492<>\"PhD Student\",'PXS Kopieret'!E492,\"\")","v":0},{"$f":"IF($A492=\"PhD Student\",'PXS Kopieret'!F492,\"\")","v":""},{"$f":"'PXS Kopieret'!G492","v":0},{"$f":"'PXS Kopieret'!H492","v":0},{"$f":"IF($A492=\"PhD Student\",'PXS Kopieret'!I492,\"\")","v":""},{"$f":"'PXS Kopieret'!J492","v":0},{"$f":"'PXS Kopieret'!K492","v":0},{"$f":"'PXS Kopieret'!L492","v":0}]
["",{"$f":"IF('PXS Kopieret'!N493<>\"\",HYPERLINK(\"https://ssl1.peoplexs.com/Peoplexs22/eFormportal/eForm.cfm?CandidateUpdateID=\"&'PXS Kopieret'!M493&\"&CandidateUpdateCode=\"&'PXS Kopieret'!N493&\"&Locale=en&CustomFormID=11612\",\"Docs\"),\"\")","v":""},{"$f":"'PXS Kopieret'!A493","v":0},{"$f":"'PXS Kopieret'!B493","v":0},{"$f":"'PXS Kopieret'!C493","v":0},{"$f":"'PXS Kopieret'!D493","v":0},{"$f":"IF($A493<>\"PhD Student\",'PXS Kopieret'!E493,\"\")","v":0},{"$f":"IF($A493=\"PhD Student\",'PXS Kopieret'!F493,\"\")","v":""},{"$f":"'PXS Kopieret'!G493","v":0},{"$f":"'PXS Kopieret'!H493","v":0},{"$f":"IF($A493=\"PhD Student\",'PXS Kopieret'!I493,\"\")","v":""},{"$f":"'PXS Kopieret'!J493","v":0},{"$f":"'PXS Kopieret'!K493","v":0},{"$f":"'PXS Kopieret'!L493","v":0}]
["",{"$f":"IF('PXS Kopieret'!N494<>\"\",HYPERLINK(\"https://ssl1.peoplexs.com/Peoplexs22/eFormportal/eForm.cfm?CandidateUpdateID=\"&'PXS Kopieret'!M494&\"&CandidateUpdateCode=\"&'PXS Kopieret'!N494&\"&Locale=en&CustomFormID=11612\",\"Docs\"),\"\")","v":""},{"$f":"'PXS Kopieret'!A494","v":0},{"$f":"'PXS Kopieret'!B494","v":0},{"$f":"'PXS Kopieret'!C494","v":0},{"$f":"'PXS Kopieret'!D494","v":0},{"$f":"IF($A494<>\"PhD Student\",'PXS Kopieret'!E494,\"\")","v":0},{"$f":"IF($A494=\"PhD Student\",'PXS Kopieret'!F494,\"\")","v":""},{"$f":"'PXS Kopieret'!G494","v":0},{"$f":"'PXS Kopieret'!H494","v":0},{"$f":"IF($A494=\"PhD Student\",'PXS Kopieret'!I494,\"\")","v":""},{"$f":"'PXS Kopieret'!J494","v":0},{"$f":"'PXS Kopieret'!K494","v":0},{"$f":"'PXS Kopieret'!L494","v":0}]
["",{"$f":"IF('PXS Kopieret'!N495<>\"\",HYPERLINK(\"https://ssl1.peoplexs.com/Peoplexs22/eFormportal/eForm.cfm?CandidateUpdateID=\"&'PXS Kopieret'!M495&\"&CandidateUpdateCode=\"&'PXS Kopieret'!N495&\"&Locale=en&CustomFormID=11612\",\"Docs\"),\"\")","v":""},{"$f":"'PXS Kopieret'!A495","v":0},{"$f":"'PXS Kopieret'!B495","v":0},{"$f":"'PXS Kopieret'!C495","v":0},{"$f":"'PXS Kopieret'!D495","v":0},{"$f":"IF($A495<>\"PhD Student\",'PXS Kopieret'!E495,\"\")","v":0},{"$f":"IF($A495=\"PhD Student\",'PXS Kopieret'!F495,\"\")","v":""},{"$f":"'PXS Kopieret'!G495","v":0},{"$f":"'PXS Kopieret'!H495","v":0},{"$f":"IF($A495=\"PhD Student\",'PXS Kopieret'!I495,\"\")","v":""},{"$f":"'PXS Kopieret'!J495","v":0},{"$f":"'PXS Kopieret'!K495","v":0},{"$f":"'PXS Kopieret'!L495","v":0}]
["",{"$f":"IF('PXS Kopieret'!N496<>\"\",HYPERLINK(\"https://ssl1.peoplexs.com/Peoplexs22/eFormportal/eForm.cfm?CandidateUpdateID=\"&'PXS Kopieret'!M496&\"&CandidateUpdateCode=\"&'PXS Kopieret'!N496&\"&Locale=en&CustomFormID=11612\",\"Docs\"),\"\")","v":""},{"$f":"'PXS Kopieret'!A496","v":0},{"$f":"'PXS Kopieret'!B496","v":0},{"$f":"'PXS Kopieret'!C496","v":0},{"$f":"'PXS Kopieret'!D496","v":0},{"$f":"IF($A496<>\"PhD Student\",'PXS Kopieret'!E496,\"\")","v":0},{"$f":"IF($A496=\"PhD Student\",'PXS Kopieret'!F496,\"\")","v":""},{"$f":"'PXS Kopieret'!G496","v":0},{"$f":"'PXS Kopieret'!H496","v":0},{"$f":"IF($A496=\"PhD Student\",'PXS Kopieret'!I496,\"\")","v":""},{"$f":"'PXS Kopieret'!J496","v":0},{"$f":"'PXS Kopieret'!K496","v":0},{"$f":"'PXS Kopieret'!L496","v":0}]
["",{"$f":"IF('PXS Kopieret'!N497<>\"\",HYPERLINK(\"https://ssl1.peoplexs.com/Peoplexs22/eFormportal/eForm.cfm?CandidateUpdateID=\"&'PXS Kopieret'!M497&\"&CandidateUpdateCode=\"&'PXS Kopieret'!N497&\"&Locale=en&CustomFormID=11612\",\"Docs\"),\"\")","v":""},{"$f":"'PXS Kopieret'!A497","v":0},{"$f":"'PXS Kopieret'!B497","v":0},{"$f":"'PXS Kopieret'!C497","v":0},{"$f":"'PXS Kopieret'!D497","v":0},{"$f":"IF($A497<>\"PhD Student\",'PXS Kopieret'!E497,\"\")","v":0},{"$f":"IF($A497=\"PhD Student\",'PXS Kopieret'!F497,\"\")","v":""},{"$f":"'PXS Kopieret'!G497","v":0},{"$f":"'PXS Kopieret'!H497","v":0},{"$f":"IF($A497=\"PhD Student\",'PXS Kopieret'!I497,\"\")","v":""},{"$f":"'PXS Kopieret'!J497","v":0},{"$f":"'PXS Kopieret'!K497","v":0},{"$f":"'PXS Kopieret'!L497","v":0}]
["",{"$f":"IF('PXS Kopieret'!N498<>\"\",HYPERLINK(\"https://ssl1.peoplexs.com/Peoplexs22/eFormportal/eForm.cfm?CandidateUpdateID=\"&'PXS Kopieret'!M498&\"&CandidateUpdateCode=\"&'PXS Kopieret'!N498&\"&Locale=en&CustomFormID=11612\",\"Docs\"),\"\")","v":""},{"$f":"'PXS Kopieret'!A498","v":0},{"$f":"'PXS Kopieret'!B498","v":0},{"$f":"'PXS Kopieret'!C498","v":0},{"$f":"'PXS Kopieret'!D498","v":0},{"$f":"IF($A498<>\"PhD Student\",'PXS Kopieret'!E498,\"\")","v":0},{"$f":"IF($A498=\"PhD Student\",'PXS Kopieret'!F498,\"\")","v":""},{"$f":"'PXS Kopieret'!G498","v":0},{"$f":"'PXS Kopieret'!H498","v":0},{"$f":"IF($A498=\"PhD Student\",'PXS Kopieret'!I498,\"\")","v":""},{"$f":"'PXS Kopieret'!J498","v":0},{"$f":"'PXS Kopieret'!K498","v":0},{"$f":"'PXS Kopieret'!L498","v":0}]
["",{"$f":"IF('PXS Kopieret'!N499<>\"\",HYPERLINK(\"https://ssl1.peoplexs.com/Peoplexs22/eFormportal/eForm.cfm?CandidateUpdateID=\"&'PXS Kopieret'!M499&\"&CandidateUpdateCode=\"&'PXS Kopieret'!N499&\"&Locale=en&CustomFormID=11612\",\"Docs\"),\"\")","v":""},{"$f":"'PXS Kopieret'!A499","v":0},{"$f":"'PXS Kopieret'!B499","v":0},{"$f":"'PXS Kopieret'!C499","v":0},{"$f":"'PXS Kopieret'!D499","v":0},{"$f":"IF($A499<>\"PhD Student\",'PXS Kopieret'!E499,\"\")","v":0},{"$f":"IF($A499=\"PhD Student\",'PXS Kopieret'!F499,\"\")","v":""},{"$f":"'PXS Kopieret'!G499","v":0},{"$f":"'PXS Kopieret'!H499","v":0},{"$f":"IF($A499=\"PhD Student\",'PXS Kopieret'!I499,\"\")","v":""},{"$f":"'PXS Kopieret'!J499","v":0},{"$f":"'PXS Kopieret'!K499","v":0},{"$f":"'PXS Kopieret'!L499","v":0}]
["",{"$f":"IF('PXS Kopieret'!N500<>\"\",HYPERLINK(\"https://ssl1.peoplexs.com/Peoplexs22/eFormportal/eForm.cfm?CandidateUpdateID=\"&'PXS Kopieret'!M500&\"&CandidateUpdateCode=\"&'PXS Kopieret'!N500&\"&Locale=en&CustomFormID=11612\",\"Docs\"),\"\")","v":""},{"$f":"'PXS Kopieret'!A500","v":0},{"$f":"'PXS Kopieret'!B500","v":0},{"$f":"'PXS Kopieret'!C500","v":0},{"$f":"'PXS Kopieret'!D500","v":0},{"$f":"IF($A500<>\"PhD Student\",'PXS Kopieret'!E500,\"\")","v":0},{"$f":"IF($A500=\"PhD Student\",'PXS Kopieret'!F500,\"\")","v":""},{"$f":"'PXS Kopieret'!G500","v":0},{"$f":"'PXS Kopieret'!H500","v":0},{"$f":"IF($A500=\"PhD Student\",'PXS Kopieret'!I500,\"\")","v":""},{"$f":"'PXS Kopieret'!J500","v":0},{"$f":"'PXS Kopieret'!K500","v":0},{"$f":"'PXS Kopieret'!L500","v":0}]
["",{"$f":"IF('PXS Kopieret'!N501<>\"\",HYPERLINK(\"https://ssl1.peoplexs.com/Peoplexs22/eFormportal/eForm.cfm?CandidateUpdateID=\"&'PXS Kopieret'!M501&\"&CandidateUpdateCode=\"&'PXS Kopieret'!N501&\"&Locale=en&CustomFormID=11612\",\"Docs\"),\"\")","v":""},{"$f":"'PXS Kopieret'!A501","v":0},{"$f":"'PXS Kopieret'!B501","v":0},{"$f":"'PXS Kopieret'!C501","v":0},{"$f":"'PXS Kopieret'!D501","v":0},{"$f":"IF($A501<>\"PhD Student\",'PXS Kopieret'!E501,\"\")","v":0},{"$f":"IF($A501=\"PhD Student\",'PXS Kopieret'!F501,\"\")","v":""},{"$f":"'PXS Kopieret'!G501","v":0},{"$f":"'PXS Kopieret'!H501","v":0},{"$f":"IF($A501=\"PhD Student\",'PXS Kopieret'!I501,\"\")","v":""},{"$f":"'PXS Kopieret'!J501","v":0},{"$f":"'PXS Kopieret'!K501","v":0},{"$f":"'PXS Kopieret'!L501","v":0}]
["",{"$f":"IF('PXS Kopieret'!N502<>\"\",HYPERLINK(\"https://ssl1.peoplexs.com/Peoplexs22/eFormportal/eForm.cfm?CandidateUpdateID=\"&'PXS Kopieret'!M502&\"&CandidateUpdateCode=\"&'PXS Kopieret'!N502&\"&Locale=en&CustomFormID=11612\",\"Docs\"),\"\")","v":""},{"$f":"'PXS Kopieret'!A502","v":0},{"$f":"'PXS Kopieret'!B502","v":0},{"$f":"'PXS Kopieret'!C502","v":0},{"$f":"'PXS Kopieret'!D502","v":0},{"$f":"IF($A502<>\"PhD Student\",'PXS Kopieret'!E502,\"\")","v":0},{"$f":"IF($A502=\"PhD Student\",'PXS Kopieret'!F502,\"\")","v":""},{"$f":"'PXS Kopieret'!G502","v":0},{"$f":"'PXS Kopieret'!H502","v":0},{"$f":"IF($A502=\"PhD Student\",'PXS Kopieret'!I502,\"\")","v":""},{"$f":"'PXS Kopieret'!J502","v":0},{"$f":"'PXS Kopieret'!K502","v":0},{"$f":"'PXS Kopieret'!L502","v":0}]
["",{"$f":"IF('PXS Kopieret'!N503<>\"\",HYPERLINK(\"https://ssl1.peoplexs.com/Peoplexs22/eFormportal/eForm.cfm?CandidateUpdateID=\"&'PXS Kopieret'!M503&\"&CandidateUpdateCode=\"&'PXS Kopieret'!N503&\"&Locale=en&CustomFormID=11612\",\"Docs\"),\"\")","v":""},{"$f":"'PXS Kopieret'!A503","v":0},{"$f":"'PXS Kopieret'!B503","v":0},{"$f":"'PXS Kopieret'!C503","v":0},{"$f":"'PXS Kopieret'!D503","v":0},{"$f":"IF($A503<>\"PhD Student\",'PXS Kopieret'!E503,\"\")","v":0},{"$f":"IF($A503=\"PhD Student\",'PXS Kopieret'!F503,\"\")","v":""},{"$f":"'PXS Kopieret'!G503","v":0},{"$f":"'PXS Kopieret'!H503","v":0},{"$f":"IF($A503=\"PhD Student\",'PXS Kopieret'!I503,\"\")","v":""},{"$f":"'PXS Kopieret'!J503","v":0},{"$f":"'PXS Kopieret'!K503","v":0},{"$f":"'PXS Kopieret'!L503","v":0}]
["",{"$f":"IF('PXS Kopieret'!N504<>\"\",HYPERLINK(\"https://ssl1.peoplexs.com/Peoplexs22/eFormportal/eForm.cfm?CandidateUpdateID=\"&'PXS Kopieret'!M504&\"&CandidateUpdateCode=\"&'PXS Kopieret'!N504&\"&Locale=en&CustomFormID=11612\",\"Docs\"),\"\")","v":""},{"$f":"'PXS Kopieret'!A504","v":0},{"$f":"'PXS Kopieret'!B504","v":0},{"$f":"'PXS Kopieret'!C504","v":0},{"$f":"'PXS Kopieret'!D504","v":0},{"$f":"IF($A504<>\"PhD Student\",'PXS Kopieret'!E504,\"\")","v":0},{"$f":"IF($A504=\"PhD Student\",'PXS Kopieret'!F504,\"\")","v":""},{"$f":"'PXS Kopieret'!G504","v":0},{"$f":"'PXS Kopieret'!H504","v":0},{"$f":"IF($A504=\"PhD Student\",'PXS Kopieret'!I504,\"\")","v":""},{"$f":"'PXS Kopieret'!J504","v":0},{"$f":"'PXS Kopieret'!K504","v":0},{"$f":"'PXS Kopieret'!L504","v":0}]
["",{"$f":"IF('PXS Kopieret'!N505<>\"\",HYPERLINK(\"https://ssl1.peoplexs.com/Peoplexs22/eFormportal/eForm.cfm?CandidateUpdateID=\"&'PXS Kopieret'!M505&\"&CandidateUpdateCode=\"&'PXS Kopieret'!N505&\"&Locale=en&CustomFormID=11612\",\"Docs\"),\"\")","v":""},{"$f":"'PXS Kopieret'!A505","v":0},{"$f":"'PXS Kopieret'!B505","v":0},{"$f":"'PXS Kopieret'!C505","v":0},{"$f":"'PXS Kopieret'!D505","v":0},{"$f":"IF($A505<>\"PhD Student\",'PXS Kopieret'!E505,\"\")","v":0},{"$f":"IF($A505=\"PhD Student\",'PXS Kopieret'!F505,\"\")","v":""},{"$f":"'PXS Kopieret'!G505","v":0},{"$f":"'PXS Kopieret'!H505","v":0},{"$f":"IF($A505=\"PhD Student\",'PXS Kopieret'!I505,\"\")","v":""},{"$f":"'PXS Kopieret'!J505","v":0},{"$f":"'PXS Kopieret'!K505","v":0},{"$f":"'PXS Kopieret'!L505","v":0}]
["",{"$f":"IF('PXS Kopieret'!N506<>\"\",HYPERLINK(\"https://ssl1.peoplexs.com/Peoplexs22/eFormportal/eForm.cfm?CandidateUpdateID=\"&'PXS Kopieret'!M506&\"&CandidateUpdateCode=\"&'PXS Kopieret'!N506&\"&Locale=en&CustomFormID=11612\",\"Docs\"),\"\")","v":""},{"$f":"'PXS Kopieret'!A506","v":0},{"$f":"'PXS Kopieret'!B506","v":0},{"$f":"'PXS Kopieret'!C506","v":0},{"$f":"'PXS Kopieret'!D506","v":0},{"$f":"IF($A506<>\"PhD Student\",'PXS Kopieret'!E506,\"\")","v":0},{"$f":"IF($A506=\"PhD Student\",'PXS Kopieret'!F506,\"\")","v":""},{"$f":"'PXS Kopieret'!G506","v":0},{"$f":"'PXS Kopieret'!H506","v":0},{"$f":"IF($A506=\"PhD Student\",'PXS Kopieret'!I506,\"\")","v":""},{"$f":"'PXS Kopieret'!J506","v":0},{"$f":"'PXS Kopieret'!K506","v":0},{"$f":"'PXS Kopieret'!L506","v":0}]
["",{"$f":"IF('PXS Kopieret'!N507<>\"\",HYPERLINK(\"https://ssl1.peoplexs.com/Peoplexs22/eFormportal/eForm.cfm?CandidateUpdateID=\"&'PXS Kopieret'!M507&\"&CandidateUpdateCode=\"&'PXS Kopieret'!N507&\"&Locale=en&CustomFormID=11612\",\"Docs\"),\"\")","v":""},{"$f":"'PXS Kopieret'!A507","v":0},{"$f":"'PXS Kopieret'!B507","v":0},{"$f":"'PXS Kopieret'!C507","v":0},{"$f":"'PXS Kopieret'!D507","v":0},{"$f":"IF($A507<>\"PhD Student\",'PXS Kopieret'!E507,\"\")","v":0},{"$f":"IF($A507=\"PhD Student\",'PXS Kopieret'!F507,\"\")","v":""},{"$f":"'PXS Kopieret'!G507","v":0},{"$f":"'PXS Kopieret'!H507","v":0},{"$f":"IF($A507=\"PhD Student\",'PXS Kopieret'!I507,\"\")","v":""},{"$f":"'PXS Kopieret'!J507","v":0},{"$f":"'PXS Kopieret'!K507","v":0},{"$f":"'PXS Kopieret'!L507","v":0}]
["",{"$f":"IF('PXS Kopieret'!N508<>\"\",HYPERLINK(\"https://ssl1.peoplexs.com/Peoplexs22/eFormportal/eForm.cfm?CandidateUpdateID=\"&'PXS Kopieret'!M508&\"&CandidateUpdateCode=\"&'PXS Kopieret'!N508&\"&Locale=en&CustomFormID=11612\",\"Docs\"),\"\")","v":""},{"$f":"'PXS Kopieret'!A508","v":0},{"$f":"'PXS Kopieret'!B508","v":0},{"$f":"'PXS Kopieret'!C508","v":0},{"$f":"'PXS Kopieret'!D508","v":0},{"$f":"IF($A508<>\"PhD Student\",'PXS Kopieret'!E508,\"\")","v":0},{"$f":"IF($A508=\"PhD Student\",'PXS Kopieret'!F508,\"\")","v":""},{"$f":"'PXS Kopieret'!G508","v":0},{"$f":"'PXS Kopieret'!H508","v":0},{"$f":"IF($A508=\"PhD Student\",'PXS Kopieret'!I508,\"\")","v":""},{"$f":"'PXS Kopieret'!J508","v":0},{"$f":"'PXS Kopieret'!K508","v":0},{"$f":"'PXS Kopieret'!L508","v":0}]
["",{"$f":"IF('PXS Kopieret'!N509<>\"\",HYPERLINK(\"https://ssl1.peoplexs.com/Peoplexs22/eFormportal/eForm.cfm?CandidateUpdateID=\"&'PXS Kopieret'!M509&\"&CandidateUpdateCode=\"&'PXS Kopieret'!N509&\"&Locale=en&CustomFormID=11612\",\"Docs\"),\"\")","v":""},{"$f":"'PXS Kopieret'!A509","v":0},{"$f":"'PXS Kopieret'!B509","v":0},{"$f":"'PXS Kopieret'!C509","v":0},{"$f":"'PXS Kopieret'!D509","v":0},{"$f":"IF($A509<>\"PhD Student\",'PXS Kopieret'!E509,\"\")","v":0},{"$f":"IF($A509=\"PhD Student\",'PXS Kopieret'!F509,\"\")","v":""},{"$f":"'PXS Kopieret'!G509","v":0},{"$f":"'PXS Kopieret'!H509","v":0},{"$f":"IF($A509=\"PhD Student\",'PXS Kopieret'!I509,\"\")","v":""},{"$f":"'PXS Kopieret'!J509","v":0},{"$f":"'PXS Kopieret'!K509","v":0},{"$f":"'PXS Kopieret'!L509","v":0}]
["",{"$f":"IF('PXS Kopieret'!N510<>\"\",HYPERLINK(\"https://ssl1.peoplexs.com/Peoplexs22/eFormportal/eForm.cfm?CandidateUpdateID=\"&'PXS Kopieret'!M510&\"&CandidateUpdateCode=\"&'PXS Kopieret'!N510&\"&Locale=en&CustomFormID=11612\",\"Docs\"),\"\")","v":""},{"$f":"'PXS Kopieret'!A510","v":0},{"$f":"'PXS Kopieret'!B510","v":0},{"$f":"'PXS Kopieret'!C510","v":0},{"$f":"'PXS Kopieret'!D510","v":0},{"$f":"IF($A510<>\"PhD Student\",'PXS Kopieret'!E510,\"\")","v":0},{"$f":"IF($A510=\"PhD Student\",'PXS Kopieret'!F510,\"\")","v":""},{"$f":"'PXS Kopieret'!G510","v":0},{"$f":"'PXS Kopieret'!H510","v":0},{"$f":"IF($A510=\"PhD Student\",'PXS Kopieret'!I510,\"\")","v":""},{"$f":"'PXS Kopieret'!J510","v":0},{"$f":"'PXS Kopieret'!K510","v":0},{"$f":"'PXS Kopieret'!L510","v":0}]
["",{"$f":"IF('PXS Kopieret'!N511<>\"\",HYPERLINK(\"https://ssl1.peoplexs.com/Peoplexs22/eFormportal/eForm.cfm?CandidateUpdateID=\"&'PXS Kopieret'!M511&\"&CandidateUpdateCode=\"&'PXS Kopieret'!N511&\"&Locale=en&CustomFormID=11612\",\"Docs\"),\"\")","v":""},{"$f":"'PXS Kopieret'!A511","v":0},{"$f":"'PXS Kopieret'!B511","v":0},{"$f":"'PXS Kopieret'!C511","v":0},{"$f":"'PXS Kopieret'!D511","v":0},{"$f":"IF($A511<>\"PhD Student\",'PXS Kopieret'!E511,\"\")","v":0},{"$f":"IF($A511=\"PhD Student\",'PXS Kopieret'!F511,\"\")","v":""},{"$f":"'PXS Kopieret'!G511","v":0},{"$f":"'PXS Kopieret'!H511","v":0},{"$f":"IF($A511=\"PhD Student\",'PXS Kopieret'!I511,\"\")","v":""},{"$f":"'PXS Kopieret'!J511","v":0},{"$f":"'PXS Kopieret'!K511","v":0},{"$f":"'PXS Kopieret'!L511","v":0}]
["",{"$f":"IF('PXS Kopieret'!N512<>\"\",HYPERLINK(\"https://ssl1.peoplexs.com/Peoplexs22/eFormportal/eForm.cfm?CandidateUpdateID=\"&'PXS Kopieret'!M512&\"&CandidateUpdateCode=\"&'PXS Kopieret'!N512&\"&Locale=en&CustomFormID=11612\",\"Docs\"),\"\")","v":""},{"$f":"'PXS Kopieret'!A512","v":0},{"$f":"'PXS Kopieret'!B512","v":0},{"$f":"'PXS Kopieret'!C512","v":0},{"$f":"'PXS Kopieret'!D512","v":0},{"$f":"IF($A512<>\"PhD Student\",'PXS Kopieret'!E512,\"\")","v":0},{"$f":"IF($A512=\"PhD Student\",'PXS Kopieret'!F512,\"\")","v":""},{"$f":"'PXS Kopieret'!G512","v":0},{"$f":"'PXS Kopieret'!H512","v":0},{"$f":"IF($A512=\"PhD Student\",'PXS Kopieret'!I512,\"\")","v":""},{"$f":"'PXS Kopieret'!J512","v":0},{"$f":"'PXS Kopieret'!K512","v":0},{"$f":"'PXS Kopieret'!L512","v":0}]
["",{"$f":"IF('PXS Kopieret'!N513<>\"\",HYPERLINK(\"https://ssl1.peoplexs.com/Peoplexs22/eFormportal/eForm.cfm?CandidateUpdateID=\"&'PXS Kopieret'!M513&\"&CandidateUpdateCode=\"&'PXS Kopieret'!N513&\"&Locale=en&CustomFormID=11612\",\"Docs\"),\"\")","v":""},{"$f":"'PXS Kopieret'!A513","v":0},{"$f":"'PXS Kopieret'!B513","v":0},{"$f":"'PXS Kopieret'!C513","v":0},{"$f":"'PXS Kopieret'!D513","v":0},{"$f":"IF($A513<>\"PhD Student\",'PXS Kopieret'!E513,\"\")","v":0},{"$f":"IF($A513=\"PhD Student\",'PXS Kopieret'!F513,\"\")","v":""},{"$f":"'PXS Kopieret'!G513","v":0},{"$f":"'PXS Kopieret'!H513","v":0},{"$f":"IF($A513=\"PhD Student\",'PXS Kopieret'!I513,\"\")","v":""},{"$f":"'PXS Kopieret'!J513","v":0},{"$f":"'PXS Kopieret'!K513","v":0},{"$f":"'PXS Kopieret'!L513","v":0}]
["",{"$f":"IF('PXS Kopieret'!N514<>\"\",HYPERLINK(\"https://ssl1.peoplexs.com/Peoplexs22/eFormportal/eForm.cfm?CandidateUpdateID=\"&'PXS Kopieret'!M514&\"&CandidateUpdateCode=\"&'PXS Kopieret'!N514&\"&Locale=en&CustomFormID=11612\",\"Docs\"),\"\")","v":""},{"$f":"'PXS Kopieret'!A514","v":0},{"$f":"'PXS Kopieret'!B514","v":0},{"$f":"'PXS Kopieret'!C514","v":0},{"$f":"'PXS Kopieret'!D514","v":0},{"$f":"IF($A514<>\"PhD Student\",'PXS Kopieret'!E514,\"\")","v":0},{"$f":"IF($A514=\"PhD Student\",'PXS Kopieret'!F514,\"\")","v":""},{"$f":"'PXS Kopieret'!G514","v":0},{"$f":"'PXS Kopieret'!H514","v":0},{"$f":"IF($A514=\"PhD Student\",'PXS Kopieret'!I514,\"\")","v":""},{"$f":"'PXS Kopieret'!J514","v":0},{"$f":"'PXS Kopieret'!K514","v":0},{"$f":"'PXS Kopieret'!L514","v":0}]
[{"$f":"IF(LEFT(C515,2)=\"RY\", \"Research Year Student\", IF(C515=0,\"\",\"PhD Student\"))","v":""},{"$f":"IF('PXS Kopieret'!N515<>\"\",HYPERLINK(\"https://ssl1.peoplexs.com/Peoplexs22/eFormportal/eForm.cfm?CandidateUpdateID=\"&'PXS Kopieret'!M515&\"&CandidateUpdateCode=\"&'PXS Kopieret'!N515&\"&Locale=en&CustomFormID=11612\",\"Docs\"),\"\")","v":""},{"$f":"'PXS Kopieret'!A515","v":0},{"$f":"'PXS Kopieret'!B515","v":0},{"$f":"'PXS Kopieret'!C515","v":0},{"$f":"'PXS Kopieret'!D515","v":0},{"$f":"IF($A515<>\"PhD Student\",'PXS Kopieret'!E515,\"\")","v":0},{"$f":"IF($A515=\"PhD Student\",'PXS Kopieret'!F515,\"\")","v":""},{"$f":"'PXS Kopieret'!G515","v":0},{"$f":"'PXS Kopieret'!H515","v":0},{"$f":"IF($A515=\"PhD Student\",'PXS Kopieret'!I515,\"\")","v":""},{"$f":"'PXS Kopieret'!J515","v":0},{"$f":"'PXS Kopieret'!K515","v":0},{"$f":"'PXS Kopieret'!L515","v":0}]
["",{"$f":"IF('PXS Kopieret'!N516<>\"\",HYPERLINK(\"https://ssl1.peoplexs.com/Peoplexs22/eFormportal/eForm.cfm?CandidateUpdateID=\"&'PXS Kopieret'!M516&\"&CandidateUpdateCode=\"&'PXS Kopieret'!N516&\"&Locale=en&CustomFormID=11612\",\"Docs\"),\"\")","v":""},{"$f":"'PXS Kopieret'!A516","v":0},{"$f":"'PXS Kopieret'!B516","v":0},{"$f":"'PXS Kopieret'!C516","v":0},{"$f":"'PXS Kopieret'!D516","v":0},{"$f":"IF($A516<>\"PhD Student\",'PXS Kopieret'!E516,\"\")","v":0},{"$f":"IF($A516=\"PhD Student\",'PXS Kopieret'!F516,\"\")","v":""},{"$f":"'PXS Kopieret'!G516","v":0},{"$f":"'PXS Kopieret'!H516","v":0},{"$f":"IF($A516=\"PhD Student\",'PXS Kopieret'!I516,\"\")","v":""},{"$f":"'PXS Kopieret'!J516","v":0},{"$f":"'PXS Kopieret'!K516","v":0},{"$f":"'PXS Kopieret'!L516","v":0}]
["",{"$f":"IF('PXS Kopieret'!N517<>\"\",HYPERLINK(\"https://ssl1.peoplexs.com/Peoplexs22/eFormportal/eForm.cfm?CandidateUpdateID=\"&'PXS Kopieret'!M517&\"&CandidateUpdateCode=\"&'PXS Kopieret'!N517&\"&Locale=en&CustomFormID=11612\",\"Docs\"),\"\")","v":""},{"$f":"'PXS Kopieret'!A517","v":0},{"$f":"'PXS Kopieret'!B517","v":0},{"$f":"'PXS Kopieret'!C517","v":0},{"$f":"'PXS Kopieret'!D517","v":0},{"$f":"IF($A517<>\"PhD Student\",'PXS Kopieret'!E517,\"\")","v":0},{"$f":"IF($A517=\"PhD Student\",'PXS Kopieret'!F517,\"\")","v":""},{"$f":"'PXS Kopieret'!G517","v":0},{"$f":"'PXS Kopieret'!H517","v":0},{"$f":"IF($A517=\"PhD Student\",'PXS Kopieret'!I517,\"\")","v":""},{"$f":"'PXS Kopieret'!J517","v":0},{"$f":"'PXS Kopieret'!K517","v":0},{"$f":"'PXS Kopieret'!L517","v":0}]
["",{"$f":"IF('PXS Kopieret'!N518<>\"\",HYPERLINK(\"https://ssl1.peoplexs.com/Peoplexs22/eFormportal/eForm.cfm?CandidateUpdateID=\"&'PXS Kopieret'!M518&\"&CandidateUpdateCode=\"&'PXS Kopieret'!N518&\"&Locale=en&CustomFormID=11612\",\"Docs\"),\"\")","v":""},{"$f":"'PXS Kopieret'!A518","v":0},{"$f":"'PXS Kopieret'!B518","v":0},{"$f":"'PXS Kopieret'!C518","v":0},{"$f":"'PXS Kopieret'!D518","v":0},{"$f":"IF($A518<>\"PhD Student\",'PXS Kopieret'!E518,\"\")","v":0},{"$f":"IF($A518=\"PhD Student\",'PXS Kopieret'!F518,\"\")","v":""},{"$f":"'PXS Kopieret'!G518","v":0},{"$f":"'PXS Kopieret'!H518","v":0},{"$f":"IF($A518=\"PhD Student\",'PXS Kopieret'!I518,\"\")","v":""},{"$f":"'PXS Kopieret'!J518","v":0},{"$f":"'PXS Kopieret'!K518","v":0},{"$f":"'PXS Kopieret'!L518","v":0}]
["",{"$f":"IF('PXS Kopieret'!N519<>\"\",HYPERLINK(\"https://ssl1.peoplexs.com/Peoplexs22/eFormportal/eForm.cfm?CandidateUpdateID=\"&'PXS Kopieret'!M519&\"&CandidateUpdateCode=\"&'PXS Kopieret'!N519&\"&Locale=en&CustomFormID=11612\",\"Docs\"),\"\")","v":""},{"$f":"'PXS Kopieret'!A519","v":0},{"$f":"'PXS Kopieret'!B519","v":0},{"$f":"'PXS Kopieret'!C519","v":0},{"$f":"'PXS Kopieret'!D519","v":0},{"$f":"IF($A519<>\"PhD Student\",'PXS Kopieret'!E519,\"\")","v":0},{"$f":"IF($A519=\"PhD Student\",'PXS Kopieret'!F519,\"\")","v":""},{"$f":"'PXS Kopieret'!G519","v":0},{"$f":"'PXS Kopieret'!H519","v":0},{"$f":"IF($A519=\"PhD Student\",'PXS Kopieret'!I519,\"\")","v":""},{"$f":"'PXS Kopieret'!J519","v":0},{"$f":"'PXS Kopieret'!K519","v":0},{"$f":"'PXS Kopieret'!L519","v":0}]
["",{"$f":"IF('PXS Kopieret'!N520<>\"\",HYPERLINK(\"https://ssl1.peoplexs.com/Peoplexs22/eFormportal/eForm.cfm?CandidateUpdateID=\"&'PXS Kopieret'!M520&\"&CandidateUpdateCode=\"&'PXS Kopieret'!N520&\"&Locale=en&CustomFormID=11612\",\"Docs\"),\"\")","v":""},{"$f":"'PXS Kopieret'!A520","v":0},{"$f":"'PXS Kopieret'!B520","v":0},{"$f":"'PXS Kopieret'!C520","v":0},{"$f":"'PXS Kopieret'!D520","v":0},{"$f":"IF($A520<>\"PhD Student\",'PXS Kopieret'!E520,\"\")","v":0},{"$f":"IF($A520=\"PhD Student\",'PXS Kopieret'!F520,\"\")","v":""},{"$f":"'PXS Kopieret'!G520","v":0},{"$f":"'PXS Kopieret'!H520","v":0},{"$f":"IF($A520=\"PhD Student\",'PXS Kopieret'!I520,\"\")","v":""},{"$f":"'PXS Kopieret'!J520","v":0},{"$f":"'PXS Kopieret'!K520","v":0},{"$f":"'PXS Kopieret'!L520","v":0}]
["",{"$f":"IF('PXS Kopieret'!N521<>\"\",HYPERLINK(\"https://ssl1.peoplexs.com/Peoplexs22/eFormportal/eForm.cfm?CandidateUpdateID=\"&'PXS Kopieret'!M521&\"&CandidateUpdateCode=\"&'PXS Kopieret'!N521&\"&Locale=en&CustomFormID=11612\",\"Docs\"),\"\")","v":""},{"$f":"'PXS Kopieret'!A521","v":0},{"$f":"'PXS Kopieret'!B521","v":0},{"$f":"'PXS Kopieret'!C521","v":0},{"$f":"'PXS Kopieret'!D521","v":0},{"$f":"IF($A521<>\"PhD Student\",'PXS Kopieret'!E521,\"\")","v":0},{"$f":"IF($A521=\"PhD Student\",'PXS Kopieret'!F521,\"\")","v":""},{"$f":"'PXS Kopieret'!G521","v":0},{"$f":"'PXS Kopieret'!H521","v":0},{"$f":"IF($A521=\"PhD Student\",'PXS Kopieret'!I521,\"\")","v":""},{"$f":"'PXS Kopieret'!J521","v":0},{"$f":"'PXS Kopieret'!K521","v":0},{"$f":"'PXS Kopieret'!L521","v":0}]
["",{"$f":"IF('PXS Kopieret'!N522<>\"\",HYPERLINK(\"https://ssl1.peoplexs.com/Peoplexs22/eFormportal/eForm.cfm?CandidateUpdateID=\"&'PXS Kopieret'!M522&\"&CandidateUpdateCode=\"&'PXS Kopieret'!N522&\"&Locale=en&CustomFormID=11612\",\"Docs\"),\"\")","v":""},{"$f":"'PXS Kopieret'!A522","v":0},{"$f":"'PXS Kopieret'!B522","v":0},{"$f":"'PXS Kopieret'!C522","v":0},{"$f":"'PXS Kopieret'!D522","v":0},{"$f":"IF($A522<>\"PhD Student\",'PXS Kopieret'!E522,\"\")","v":0},{"$f":"IF($A522=\"PhD Student\",'PXS Kopieret'!F522,\"\")","v":""},{"$f":"'PXS Kopieret'!G522","v":0},{"$f":"'PXS Kopieret'!H522","v":0},{"$f":"IF($A522=\"PhD Student\",'PXS Kopieret'!I522,\"\")","v":""},{"$f":"'PXS Kopieret'!J522","v":0},{"$f":"'PXS Kopieret'!K522","v":0},{"$f":"'PXS Kopieret'!L522","v":0}]
["",{"$f":"IF('PXS Kopieret'!N523<>\"\",HYPERLINK(\"https://ssl1.peoplexs.com/Peoplexs22/eFormportal/eForm.cfm?CandidateUpdateID=\"&'PXS Kopieret'!M523&\"&CandidateUpdateCode=\"&'PXS Kopieret'!N523&\"&Locale=en&CustomFormID=11612\",\"Docs\"),\"\")","v":""},{"$f":"'PXS Kopieret'!A523","v":0},{"$f":"'PXS Kopieret'!B523","v":0},{"$f":"'PXS Kopieret'!C523","v":0},{"$f":"'PXS Kopieret'!D523","v":0},{"$f":"IF($A523<>\"PhD Student\",'PXS Kopieret'!E523,\"\")","v":0},{"$f":"IF($A523=\"PhD Student\",'PXS Kopieret'!F523,\"\")","v":""},{"$f":"'PXS Kopieret'!G523","v":0},{"$f":"'PXS Kopieret'!H523","v":0},{"$f":"IF($A523=\"PhD Student\",'PXS Kopieret'!I523,\"\")","v":""},{"$f":"'PXS Kopieret'!J523","v":0},{"$f":"'PXS Kopieret'!K523","v":0},{"$f":"'PXS Kopieret'!L523","v":0}]
["",{"$f":"IF('PXS Kopieret'!N524<>\"\",HYPERLINK(\"https://ssl1.peoplexs.com/Peoplexs22/eFormportal/eForm.cfm?CandidateUpdateID=\"&'PXS Kopieret'!M524&\"&CandidateUpdateCode=\"&'PXS Kopieret'!N524&\"&Locale=en&CustomFormID=11612\",\"Docs\"),\"\")","v":""},{"$f":"'PXS Kopieret'!A524","v":0},{"$f":"'PXS Kopieret'!B524","v":0},{"$f":"'PXS Kopieret'!C524","v":0},{"$f":"'PXS Kopieret'!D524","v":0},{"$f":"IF($A524<>\"PhD Student\",'PXS Kopieret'!E524,\"\")","v":0},{"$f":"IF($A524=\"PhD Student\",'PXS Kopieret'!F524,\"\")","v":""},{"$f":"'PXS Kopieret'!G524","v":0},{"$f":"'PXS Kopieret'!H524","v":0},{"$f":"IF($A524=\"PhD Student\",'PXS Kopieret'!I524,\"\")","v":""},{"$f":"'PXS Kopieret'!J524","v":0},{"$f":"'PXS Kopieret'!K524","v":0},{"$f":"'PXS Kopieret'!L524","v":0}]
["",{"$f":"IF('PXS Kopieret'!N525<>\"\",HYPERLINK(\"https://ssl1.peoplexs.com/Peoplexs22/eFormportal/eForm.cfm?CandidateUpdateID=\"&'PXS Kopieret'!M525&\"&CandidateUpdateCode=\"&'PXS Kopieret'!N525&\"&Locale=en&CustomFormID=11612\",\"Docs\"),\"\")","v":""},{"$f":"'PXS Kopieret'!A525","v":0},{"$f":"'PXS Kopieret'!B525","v":0},{"$f":"'PXS Kopieret'!C525","v":0},{"$f":"'PXS Kopieret'!D525","v":0},{"$f":"IF($A525<>\"PhD Student\",'PXS Kopieret'!E525,\"\")","v":0},{"$f":"IF($A525=\"PhD Student\",'PXS Kopieret'!F525,\"\")","v":""},{"$f":"'PXS Kopieret'!G525","v":0},{"$f":"'PXS Kopieret'!H525","v":0},{"$f":"IF($A525=\"PhD Student\",'PXS Kopieret'!I525,\"\")","v":""},{"$f":"'PXS Kopieret'!J525","v":0},{"$f":"'PXS Kopieret'!K525","v":0},{"$f":"'PXS Kopieret'!L525","v":0}]
["",{"$f":"IF('PXS Kopieret'!N526<>\"\",HYPERLINK(\"https://ssl1.peoplexs.com/Peoplexs22/eFormportal/eForm.cfm?CandidateUpdateID=\"&'PXS Kopieret'!M526&\"&CandidateUpdateCode=\"&'PXS Kopieret'!N526&\"&Locale=en&CustomFormID=11612\",\"Docs\"),\"\")","v":""},{"$f":"'PXS Kopieret'!A526","v":0},{"$f":"'PXS Kopieret'!B526","v":0},{"$f":"'PXS Kopieret'!C526","v":0},{"$f":"'PXS Kopieret'!D526","v":0},{"$f":"IF($A526<>\"PhD Student\",'PXS Kopieret'!E526,\"\")","v":0},{"$f":"IF($A526=\"PhD Student\",'PXS Kopieret'!F526,\"\")","v":""},{"$f":"'PXS Kopieret'!G526","v":0},{"$f":"'PXS Kopieret'!H526","v":0},{"$f":"IF($A526=\"PhD Student\",'PXS Kopieret'!I526,\"\")","v":""},{"$f":"'PXS Kopieret'!J526","v":0},{"$f":"'PXS Kopieret'!K526","v":0},{"$f":"'PXS Kopieret'!L526","v":0}]
["",{"$f":"IF('PXS Kopieret'!N527<>\"\",HYPERLINK(\"https://ssl1.peoplexs.com/Peoplexs22/eFormportal/eForm.cfm?CandidateUpdateID=\"&'PXS Kopieret'!M527&\"&CandidateUpdateCode=\"&'PXS Kopieret'!N527&\"&Locale=en&CustomFormID=11612\",\"Docs\"),\"\")","v":""},{"$f":"'PXS Kopieret'!A527","v":0},{"$f":"'PXS Kopieret'!B527","v":0},{"$f":"'PXS Kopieret'!C527","v":0},{"$f":"'PXS Kopieret'!D527","v":0},{"$f":"IF($A527<>\"PhD Student\",'PXS Kopieret'!E527,\"\")","v":0},{"$f":"IF($A527=\"PhD Student\",'PXS Kopieret'!F527,\"\")","v":""},{"$f":"'PXS Kopieret'!G527","v":0},{"$f":"'PXS Kopieret'!H527","v":0},{"$f":"IF($A527=\"PhD Student\",'PXS Kopieret'!I527,\"\")","v":""},{"$f":"'PXS Kopieret'!J527","v":0},{"$f":"'PXS Kopieret'!K527","v":0},{"$f":"'PXS Kopieret'!L527","v":0}]
["",{"$f":"IF('PXS Kopieret'!N528<>\"\",HYPERLINK(\"https://ssl1.peoplexs.com/Peoplexs22/eFormportal/eForm.cfm?CandidateUpdateID=\"&'PXS Kopieret'!M528&\"&CandidateUpdateCode=\"&'PXS Kopieret'!N528&\"&Locale=en&CustomFormID=11612\",\"Docs\"),\"\")","v":""},{"$f":"'PXS Kopieret'!A528","v":0},{"$f":"'PXS Kopieret'!B528","v":0},{"$f":"'PXS Kopieret'!C528","v":0},{"$f":"'PXS Kopieret'!D528","v":0},{"$f":"IF($A528<>\"PhD Student\",'PXS Kopieret'!E528,\"\")","v":0},{"$f":"IF($A528=\"PhD Student\",'PXS Kopieret'!F528,\"\")","v":""},{"$f":"'PXS Kopieret'!G528","v":0},{"$f":"'PXS Kopieret'!H528","v":0},{"$f":"IF($A528=\"PhD Student\",'PXS Kopieret'!I528,\"\")","v":""},{"$f":"'PXS Kopieret'!J528","v":0},{"$f":"'PXS Kopieret'!K528","v":0},{"$f":"'PXS Kopieret'!L528","v":0}]
["",{"$f":"IF('PXS Kopieret'!N529<>\"\",HYPERLINK(\"https://ssl1.peoplexs.com/Peoplexs22/eFormportal/eForm.cfm?CandidateUpdateID=\"&'PXS Kopieret'!M529&\"&CandidateUpdateCode=\"&'PXS Kopieret'!N529&\"&Locale=en&CustomFormID=11612\",\"Docs\"),\"\")","v":""},{"$f":"'PXS Kopieret'!A529","v":0},{"$f":"'PXS Kopieret'!B529","v":0},{"$f":"'PXS Kopieret'!C529","v":0},{"$f":"'PXS Kopieret'!D529","v":0},{"$f":"IF($A529<>\"PhD Student\",'PXS Kopieret'!E529,\"\")","v":0},{"$f":"IF($A529=\"PhD Student\",'PXS Kopieret'!F529,\"\")","v":""},{"$f":"'PXS Kopieret'!G529","v":0},{"$f":"'PXS Kopieret'!H529","v":0},{"$f":"IF($A529=\"PhD Student\",'PXS Kopieret'!I529,\"\")","v":""},{"$f":"'PXS Kopieret'!J529","v":0},{"$f":"'PXS Kopieret'!K529","v":0},{"$f":"'PXS Kopieret'!L529","v":0}]
["",{"$f":"IF('PXS Kopieret'!N530<>\"\",HYPERLINK(\"https://ssl1.peoplexs.com/Peoplexs22/eFormportal/eForm.cfm?CandidateUpdateID=\"&'PXS Kopieret'!M530&\"&CandidateUpdateCode=\"&'PXS Kopieret'!N530&\"&Locale=en&CustomFormID=11612\",\"Docs\"),\"\")","v":""},{"$f":"'PXS Kopieret'!A530","v":0},{"$f":"'PXS Kopieret'!B530","v":0},{"$f":"'PXS Kopieret'!C530","v":0},{"$f":"'PXS Kopieret'!D530","v":0},{"$f":"IF($A530<>\"PhD Student\",'PXS Kopieret'!E530,\"\")","v":0},{"$f":"IF($A530=\"PhD Student\",'PXS Kopieret'!F530,\"\")","v":""},{"$f":"'PXS Kopieret'!G530","v":0},{"$f":"'PXS Kopieret'!H530","v":0},{"$f":"IF($A530=\"PhD Student\",'PXS Kopieret'!I530,\"\")","v":""},{"$f":"'PXS Kopieret'!J530","v":0},{"$f":"'PXS Kopieret'!K530","v":0},{"$f":"'PXS Kopieret'!L530","v":0}]
["",{"$f":"IF('PXS Kopieret'!N531<>\"\",HYPERLINK(\"https://ssl1.peoplexs.com/Peoplexs22/eFormportal/eForm.cfm?CandidateUpdateID=\"&'PXS Kopieret'!M531&\"&CandidateUpdateCode=\"&'PXS Kopieret'!N531&\"&Locale=en&CustomFormID=11612\",\"Docs\"),\"\")","v":""},{"$f":"'PXS Kopieret'!A531","v":0},{"$f":"'PXS Kopieret'!B531","v":0},{"$f":"'PXS Kopieret'!C531","v":0},{"$f":"'PXS Kopieret'!D531","v":0},{"$f":"IF($A531<>\"PhD Student\",'PXS Kopieret'!E531,\"\")","v":0},{"$f":"IF($A531=\"PhD Student\",'PXS Kopieret'!F531,\"\")","v":""},{"$f":"'PXS Kopieret'!G531","v":0},{"$f":"'PXS Kopieret'!H531","v":0},{"$f":"IF($A531=\"PhD Student\",'PXS Kopieret'!I531,\"\")","v":""},{"$f":"'PXS Kopieret'!J531","v":0},{"$f":"'PXS Kopieret'!K531","v":0},{"$f":"'PXS Kopieret'!L531","v":0}]
["",{"$f":"IF('PXS Kopieret'!N532<>\"\",HYPERLINK(\"https://ssl1.peoplexs.com/Peoplexs22/eFormportal/eForm.cfm?CandidateUpdateID=\"&'PXS Kopieret'!M532&\"&CandidateUpdateCode=\"&'PXS Kopieret'!N532&\"&Locale=en&CustomFormID=11612\",\"Docs\"),\"\")","v":""},{"$f":"'PXS Kopieret'!A532","v":0},{"$f":"'PXS Kopieret'!B532","v":0},{"$f":"'PXS Kopieret'!C532","v":0},{"$f":"'PXS Kopieret'!D532","v":0},{"$f":"IF($A532<>\"PhD Student\",'PXS Kopieret'!E532,\"\")","v":0},{"$f":"IF($A532=\"PhD Student\",'PXS Kopieret'!F532,\"\")","v":""},{"$f":"'PXS Kopieret'!G532","v":0},{"$f":"'PXS Kopieret'!H532","v":0},{"$f":"IF($A532=\"PhD Student\",'PXS Kopieret'!I532,\"\")","v":""},{"$f":"'PXS Kopieret'!J532","v":0},{"$f":"'PXS Kopieret'!K532","v":0},{"$f":"'PXS Kopieret'!L532","v":0}]
["",{"$f":"IF('PXS Kopieret'!N533<>\"\",HYPERLINK(\"https://ssl1.peoplexs.com/Peoplexs22/eFormportal/eForm.cfm?CandidateUpdateID=\"&'PXS Kopieret'!M533&\"&CandidateUpdateCode=\"&'PXS Kopieret'!N533&\"&Locale=en&CustomFormID=11612\",\"Docs\"),\"\")","v":""},{"$f":"'PXS Kopieret'!A533","v":0},{"$f":"'PXS Kopieret'!B533","v":0},{"$f":"'PXS Kopieret'!C533","v":0},{"$f":"'PXS Kopieret'!D533","v":0},{"$f":"IF($A533<>\"PhD Student\",'PXS Kopieret'!E533,\"\")","v":0},{"$f":"IF($A533=\"PhD Student\",'PXS Kopieret'!F533,\"\")","v":""},{"$f":"'PXS Kopieret'!G533","v":0},{"$f":"'PXS Kopieret'!H533","v":0},{"$f":"IF($A533=\"PhD Student\",'PXS Kopieret'!I533,\"\")","v":""},{"$f":"'PXS Kopieret'!J533","v":0},{"$f":"'PXS Kopieret'!K533","v":0},{"$f":"'PXS Kopieret'!L533","v":0}]
["",{"$f":"IF('PXS Kopieret'!N534<>\"\",HYPERLINK(\"https://ssl1.peoplexs.com/Peoplexs22/eFormportal/eForm.cfm?CandidateUpdateID=\"&'PXS Kopieret'!M534&\"&CandidateUpdateCode=\"&'PXS Kopieret'!N534&\"&Locale=en&CustomFormID=11612\",\"Docs\"),\"\")","v":""},{"$f":"'PXS Kopieret'!A534","v":0},{"$f":"'PXS Kopieret'!B534","v":0},{"$f":"'PXS Kopieret'!C534","v":0},{"$f":"'PXS Kopieret'!D534","v":0},{"$f":"IF($A534<>\"PhD Student\",'PXS Kopieret'!E534,\"\")","v":0},{"$f":"IF($A534=\"PhD Student\",'PXS Kopieret'!F534,\"\")","v":""},{"$f":"'PXS Kopieret'!G534","v":0},{"$f":"'PXS Kopieret'!H534","v":0},{"$f":"IF($A534=\"PhD Student\",'PXS Kopieret'!I534,\"\")","v":""},{"$f":"'PXS Kopieret'!J534","v":0},{"$f":"'PXS Kopieret'!K534","v":0},{"$f":"'PXS Kopieret'!L534","v":0}]
["",{"$f":"IF('PXS Kopieret'!N535<>\"\",HYPERLINK(\"https://ssl1.peoplexs.com/Peoplexs22/eFormportal/eForm.cfm?CandidateUpdateID=\"&'PXS Kopieret'!M535&\"&CandidateUpdateCode=\"&'PXS Kopieret'!N535&\"&Locale=en&CustomFormID=11612\",\"Docs\"),\"\")","v":""},{"$f":"'PXS Kopieret'!A535","v":0},{"$f":"'PXS Kopieret'!B535","v":0},{"$f":"'PXS Kopieret'!C535","v":0},{"$f":"'PXS Kopieret'!D535","v":0},{"$f":"IF($A535<>\"PhD Student\",'PXS Kopieret'!E535,\"\")","v":0},{"$f":"IF($A535=\"PhD Student\",'PXS Kopieret'!F535,\"\")","v":""},{"$f":"'PXS Kopieret'!G535","v":0},{"$f":"'PXS Kopieret'!H535","v":0},{"$f":"IF($A535=\"PhD Student\",'PXS Kopieret'!I535,\"\")","v":""},{"$f":"'PXS Kopieret'!J535","v":0},{"$f":"'PXS Kopieret'!K535","v":0},{"$f":"'PXS Kopieret'!L535","v":0}]
["",{"$f":"IF('PXS Kopieret'!N536<>\"\",HYPERLINK(\"https://ssl1.peoplexs.com/Peoplexs22/eFormportal/eForm.cfm?CandidateUpdateID=\"&'PXS Kopieret'!M536&\"&CandidateUpdateCode=\"&'PXS Kopieret'!N536&\"&Locale=en&CustomFormID=11612\",\"Docs\"),\"\")","v":""},{"$f":"'PXS Kopieret'!A536","v":0},{"$f":"'PXS Kopieret'!B536","v":0},{"$f":"'PXS Kopieret'!C536","v":0},{"$f":"'PXS Kopieret'!D536","v":0},{"$f":"IF($A536<>\"PhD Student\",'PXS Kopieret'!E536,\"\")","v":0},{"$f":"IF($A536=\"PhD Student\",'PXS Kopieret'!F536,\"\")","v":""},{"$f":"'PXS Kopieret'!G536","v":0},{"$f":"'PXS Kopieret'!H536","v":0},{"$f":"IF($A536=\"PhD Student\",'PXS Kopieret'!I536,\"\")","v":""},{"$f":"'PXS Kopieret'!J536","v":0},{"$f":"'PXS Kopieret'!K536","v":0},{"$f":"'PXS Kopieret'!L536","v":0}]
["",{"$f":"IF('PXS Kopieret'!N537<>\"\",HYPERLINK(\"https://ssl1.peoplexs.com/Peoplexs22/eFormportal/eForm.cfm?CandidateUpdateID=\"&'PXS Kopieret'!M537&\"&CandidateUpdateCode=\"&'PXS Kopieret'!N537&\"&Locale=en&CustomFormID=11612\",\"Docs\"),\"\")","v":""},{"$f":"'PXS Kopieret'!A537","v":0},{"$f":"'PXS Kopieret'!B537","v":0},{"$f":"'PXS Kopieret'!C537","v":0},{"$f":"'PXS Kopieret'!D537","v":0},{"$f":"IF($A537<>\"PhD Student\",'PXS Kopieret'!E537,\"\")","v":0},{"$f":"IF($A537=\"PhD Student\",'PXS Kopieret'!F537,\"\")","v":""},{"$f":"'PXS Kopieret'!G537","v":0},{"$f":"'PXS Kopieret'!H537","v":0},{"$f":"IF($A537=\"PhD Student\",'PXS Kopieret'!I537,\"\")","v":""},{"$f":"'PXS Kopieret'!J537","v":0},{"$f":"'PXS Kopieret'!K537","v":0},{"$f":"'PXS Kopieret'!L537","v":0}]
["",{"$f":"IF('PXS Kopieret'!N538<>\"\",HYPERLINK(\"https://ssl1.peoplexs.com/Peoplexs22/eFormportal/eForm.cfm?CandidateUpdateID=\"&'PXS Kopieret'!M538&\"&CandidateUpdateCode=\"&'PXS Kopieret'!N538&\"&Locale=en&CustomFormID=11612\",\"Docs\"),\"\")","v":""},{"$f":"'PXS Kopieret'!A538","v":0},{"$f":"'PXS Kopieret'!B538","v":0},{"$f":"'PXS Kopieret'!C538","v":0},{"$f":"'PXS Kopieret'!D538","v":0},{"$f":"IF($A538<>\"PhD Student\",'PXS Kopieret'!E538,\"\")","v":0},{"$f":"IF($A538=\"PhD Student\",'PXS Kopieret'!F538,\"\")","v":""},{"$f":"'PXS Kopieret'!G538","v":0},{"$f":"'PXS Kopieret'!H538","v":0},{"$f":"IF($A538=\"PhD Student\",'PXS Kopieret'!I538,\"\")","v":""},{"$f":"'PXS Kopieret'!J538","v":0},{"$f":"'PXS Kopieret'!K538","v":0},{"$f":"'PXS Kopieret'!L538","v":0}]
["",{"$f":"IF('PXS Kopieret'!N539<>\"\",HYPERLINK(\"https://ssl1.peoplexs.com/Peoplexs22/eFormportal/eForm.cfm?CandidateUpdateID=\"&'PXS Kopieret'!M539&\"&CandidateUpdateCode=\"&'PXS Kopieret'!N539&\"&Locale=en&CustomFormID=11612\",\"Docs\"),\"\")","v":""},{"$f":"'PXS Kopieret'!A539","v":0},{"$f":"'PXS Kopieret'!B539","v":0},{"$f":"'PXS Kopieret'!C539","v":0},{"$f":"'PXS Kopieret'!D539","v":0},{"$f":"IF($A539<>\"PhD Student\",'PXS Kopieret'!E539,\"\")","v":0},{"$f":"IF($A539=\"PhD Student\",'PXS Kopieret'!F539,\"\")","v":""},{"$f":"'PXS Kopieret'!G539","v":0},{"$f":"'PXS Kopieret'!H539","v":0},{"$f":"IF($A539=\"PhD Student\",'PXS Kopieret'!I539,\"\")","v":""},{"$f":"'PXS Kopieret'!J539","v":0},{"$f":"'PXS Kopieret'!K539","v":0},{"$f":"'PXS Kopieret'!L539","v":0}]
["",{"$f":"IF('PXS Kopieret'!N540<>\"\",HYPERLINK(\"https://ssl1.peoplexs.com/Peoplexs22/eFormportal/eForm.cfm?CandidateUpdateID=\"&'PXS Kopieret'!M540&\"&CandidateUpdateCode=\"&'PXS Kopieret'!N540&\"&Locale=en&CustomFormID=11612\",\"Docs\"),\"\")","v":""},{"$f":"'PXS Kopieret'!A540","v":0},{"$f":"'PXS Kopieret'!B540","v":0},{"$f":"'PXS Kopieret'!C540","v":0},{"$f":"'PXS Kopieret'!D540","v":0},{"$f":"IF($A540<>\"PhD Student\",'PXS Kopieret'!E540,\"\")","v":0},{"$f":"IF($A540=\"PhD Student\",'PXS Kopieret'!F540,\"\")","v":""},{"$f":"'PXS Kopieret'!G540","v":0},{"$f":"'PXS Kopieret'!H540","v":0},{"$f":"IF($A540=\"PhD Student\",'PXS Kopieret'!I540,\"\")","v":""},{"$f":"'PXS Kopieret'!J540","v":0},{"$f":"'PXS Kopieret'!K540","v":0},{"$f":"'PXS Kopieret'!L540","v":0}]
["",{"$f":"IF('PXS Kopieret'!N541<>\"\",HYPERLINK(\"https://ssl1.peoplexs.com/Peoplexs22/eFormportal/eForm.cfm?CandidateUpdateID=\"&'PXS Kopieret'!M541&\"&CandidateUpdateCode=\"&'PXS Kopieret'!N541&\"&Locale=en&CustomFormID=11612\",\"Docs\"),\"\")","v":""},{"$f":"'PXS Kopieret'!A541","v":0},{"$f":"'PXS Kopieret'!B541","v":0},{"$f":"'PXS Kopieret'!C541","v":0},{"$f":"'PXS Kopieret'!D541","v":0},{"$f":"IF($A541<>\"PhD Student\",'PXS Kopieret'!E541,\"\")","v":0},{"$f":"IF($A541=\"PhD Student\",'PXS Kopieret'!F541,\"\")","v":""},{"$f":"'PXS Kopieret'!G541","v":0},{"$f":"'PXS Kopieret'!H541","v":0},{"$f":"IF($A541=\"PhD Student\",'PXS Kopieret'!I541,\"\")","v":""},{"$f":"'PXS Kopieret'!J541","v":0},{"$f":"'PXS Kopieret'!K541","v":0},{"$f":"'PXS Kopieret'!L541","v":0}]
["",{"$f":"IF('PXS Kopieret'!N542<>\"\",HYPERLINK(\"https://ssl1.peoplexs.com/Peoplexs22/eFormportal/eForm.cfm?CandidateUpdateID=\"&'PXS Kopieret'!M542&\"&CandidateUpdateCode=\"&'PXS Kopieret'!N542&\"&Locale=en&CustomFormID=11612\",\"Docs\"),\"\")","v":""},{"$f":"'PXS Kopieret'!A542","v":0},{"$f":"'PXS Kopieret'!B542","v":0},{"$f":"'PXS Kopieret'!C542","v":0},{"$f":"'PXS Kopieret'!D542","v":0},{"$f":"IF($A542<>\"PhD Student\",'PXS Kopieret'!E542,\"\")","v":0},{"$f":"IF($A542=\"PhD Student\",'PXS Kopieret'!F542,\"\")","v":""},{"$f":"'PXS Kopieret'!G542","v":0},{"$f":"'PXS Kopieret'!H542","v":0},{"$f":"IF($A542=\"PhD Student\",'PXS Kopieret'!I542,\"\")","v":""},{"$f":"'PXS Kopieret'!J542","v":0},{"$f":"'PXS Kopieret'!K542","v":0},{"$f":"'PXS Kopieret'!L542","v":0}]
["",{"$f":"IF('PXS Kopieret'!N543<>\"\",HYPERLINK(\"https://ssl1.peoplexs.com/Peoplexs22/eFormportal/eForm.cfm?CandidateUpdateID=\"&'PXS Kopieret'!M543&\"&CandidateUpdateCode=\"&'PXS Kopieret'!N543&\"&Locale=en&CustomFormID=11612\",\"Docs\"),\"\")","v":""},{"$f":"'PXS Kopieret'!A543","v":0},{"$f":"'PXS Kopieret'!B543","v":0},{"$f":"'PXS Kopieret'!C543","v":0},{"$f":"'PXS Kopieret'!D543","v":0},{"$f":"IF($A543<>\"PhD Student\",'PXS Kopieret'!E543,\"\")","v":0},{"$f":"IF($A543=\"PhD Student\",'PXS Kopieret'!F543,\"\")","v":""},{"$f":"'PXS Kopieret'!G543","v":0},{"$f":"'PXS Kopieret'!H543","v":0},{"$f":"IF($A543=\"PhD Student\",'PXS Kopieret'!I543,\"\")","v":""},{"$f":"'PXS Kopieret'!J543","v":0},{"$f":"'PXS Kopieret'!K543","v":0},{"$f":"'PXS Kopieret'!L543","v":0}]
["",{"$f":"IF('PXS Kopieret'!N544<>\"\",HYPERLINK(\"https://ssl1.peoplexs.com/Peoplexs22/eFormportal/eForm.cfm?CandidateUpdateID=\"&'PXS Kopieret'!M544&\"&CandidateUpdateCode=\"&'PXS Kopieret'!N544&\"&Locale=en&CustomFormID=11612\",\"Docs\"),\"\")","v":""},{"$f":"'PXS Kopieret'!A544","v":0},{"$f":"'PXS Kopieret'!B544","v":0},{"$f":"'PXS Kopieret'!C544","v":0},{"$f":"'PXS Kopieret'!D544","v":0},{"$f":"IF($A544<>\"PhD Student\",'PXS Kopieret'!E544,\"\")","v":0},{"$f":"IF($A544=\"PhD Student\",'PXS Kopieret'!F544,\"\")","v":""},{"$f":"'PXS Kopieret'!G544","v":0},{"$f":"'PXS Kopieret'!H544","v":0},{"$f":"IF($A544=\"PhD Student\",'PXS Kopieret'!I544,\"\")","v":""},{"$f":"'PXS Kopieret'!J544","v":0},{"$f":"'PXS Kopieret'!K544","v":0},{"$f":"'PXS Kopieret'!L544","v":0}]
["",{"$f":"IF('PXS Kopieret'!N545<>\"\",HYPERLINK(\"https://ssl1.peoplexs.com/Peoplexs22/eFormportal/eForm.cfm?CandidateUpdateID=\"&'PXS Kopieret'!M545&\"&CandidateUpdateCode=\"&'PXS Kopieret'!N545&\"&Locale=en&CustomFormID=11612\",\"Docs\"),\"\")","v":""},{"$f":"'PXS Kopieret'!A545","v":0},{"$f":"'PXS Kopieret'!B545","v":0},{"$f":"'PXS Kopieret'!C545","v":0},{"$f":"'PXS Kopieret'!D545","v":0},{"$f":"IF($A545<>\"PhD Student\",'PXS Kopieret'!E545,\"\")","v":0},{"$f":"IF($A545=\"PhD Student\",'PXS Kopieret'!F545,\"\")","v":""},{"$f":"'PXS Kopieret'!G545","v":0},{"$f":"'PXS Kopieret'!H545","v":0},{"$f":"IF($A545=\"PhD Student\",'PXS Kopieret'!I545,\"\")","v":""},{"$f":"'PXS Kopieret'!J545","v":0},{"$f":"'PXS Kopieret'!K545","v":0},{"$f":"'PXS Kopieret'!L545","v":0}]
["",{"$f":"IF('PXS Kopieret'!N546<>\"\",HYPERLINK(\"https://ssl1.peoplexs.com/Peoplexs22/eFormportal/eForm.cfm?CandidateUpdateID=\"&'PXS Kopieret'!M546&\"&CandidateUpdateCode=\"&'PXS Kopieret'!N546&\"&Locale=en&CustomFormID=11612\",\"Docs\"),\"\")","v":""},{"$f":"'PXS Kopieret'!A546","v":0},{"$f":"'PXS Kopieret'!B546","v":0},{"$f":"'PXS Kopieret'!C546","v":0},{"$f":"'PXS Kopieret'!D546","v":0},{"$f":"IF($A546<>\"PhD Student\",'PXS Kopieret'!E546,\"\")","v":0},{"$f":"IF($A546=\"PhD Student\",'PXS Kopieret'!F546,\"\")","v":""},{"$f":"'PXS Kopieret'!G546","v":0},{"$f":"'PXS Kopieret'!H546","v":0},{"$f":"IF($A546=\"PhD Student\",'PXS Kopieret'!I546,\"\")","v":""},{"$f":"'PXS Kopieret'!J546","v":0},{"$f":"'PXS Kopieret'!K546","v":0},{"$f":"'PXS Kopieret'!L546","v":0}]
["",{"$f":"IF('PXS Kopieret'!N547<>\"\",HYPERLINK(\"https://ssl1.peoplexs.com/Peoplexs22/eFormportal/eForm.cfm?CandidateUpdateID=\"&'PXS Kopieret'!M547&\"&CandidateUpdateCode=\"&'PXS Kopieret'!N547&\"&Locale=en&CustomFormID=11612\",\"Docs\"),\"\")","v":""},{"$f":"'PXS Kopieret'!A547","v":0},{"$f":"'PXS Kopieret'!B547","v":0},{"$f":"'PXS Kopieret'!C547","v":0},{"$f":"'PXS Kopieret'!D547","v":0},{"$f":"IF($A547<>\"PhD Student\",'PXS Kopieret'!E547,\"\")","v":0},{"$f":"IF($A547=\"PhD Student\",'PXS Kopieret'!F547,\"\")","v":""},{"$f":"'PXS Kopieret'!G547","v":0},{"$f":"'PXS Kopieret'!H547","v":0},{"$f":"IF($A547=\"PhD Student\",'PXS Kopieret'!I547,\"\")","v":""},{"$f":"'PXS Kopieret'!J547","v":0},{"$f":"'PXS Kopieret'!K547","v":0},{"$f":"'PXS Kopieret'!L547","v":0}]
["",{"$f":"IF('PXS Kopieret'!N548<>\"\",HYPERLINK(\"https://ssl1.peoplexs.com/Peoplexs22/eFormportal/eForm.cfm?CandidateUpdateID=\"&'PXS Kopieret'!M548&\"&CandidateUpdateCode=\"&'PXS Kopieret'!N548&\"&Locale=en&CustomFormID=11612\",\"Docs\"),\"\")","v":""},{"$f":"'PXS Kopieret'!A548","v":0},{"$f":"'PXS Kopieret'!B548","v":0},{"$f":"'PXS Kopieret'!C548","v":0},{"$f":"'PXS Kopieret'!D548","v":0},{"$f":"IF($A548<>\"PhD Student\",'PXS Kopieret'!E548,\"\")","v":0},{"$f":"IF($A548=\"PhD Student\",'PXS Kopieret'!F548,\"\")","v":""},{"$f":"'PXS Kopieret'!G548","v":0},{"$f":"'PXS Kopieret'!H548","v":0},{"$f":"IF($A548=\"PhD Student\",'PXS Kopieret'!I548,\"\")","v":""},{"$f":"'PXS Kopieret'!J548","v":0},{"$f":"'PXS Kopieret'!K548","v":0},{"$f":"'PXS Kopieret'!L548","v":0}]
["",{"$f":"IF('PXS Kopieret'!N549<>\"\",HYPERLINK(\"https://ssl1.peoplexs.com/Peoplexs22/eFormportal/eForm.cfm?CandidateUpdateID=\"&'PXS Kopieret'!M549&\"&CandidateUpdateCode=\"&'PXS Kopieret'!N549&\"&Locale=en&CustomFormID=11612\",\"Docs\"),\"\")","v":""},{"$f":"'PXS Kopieret'!A549","v":0},{"$f":"'PXS Kopieret'!B549","v":0},{"$f":"'PXS Kopieret'!C549","v":0},{"$f":"'PXS Kopieret'!D549","v":0},{"$f":"IF($A549<>\"PhD Student\",'PXS Kopieret'!E549,\"\")","v":0},{"$f":"IF($A549=\"PhD Student\",'PXS Kopieret'!F549,\"\")","v":""},{"$f":"'PXS Kopieret'!G549","v":0},{"$f":"'PXS Kopieret'!H549","v":0},{"$f":"IF($A549=\"PhD Student\",'PXS Kopieret'!I549,\"\")","v":""},{"$f":"'PXS Kopieret'!J549","v":0},{"$f":"'PXS Kopieret'!K549","v":0},{"$f":"'PXS Kopieret'!L549","v":0}]
["",{"$f":"IF('PXS Kopieret'!N550<>\"\",HYPERLINK(\"https://ssl1.peoplexs.com/Peoplexs22/eFormportal/eForm.cfm?CandidateUpdateID=\"&'PXS Kopieret'!M550&\"&CandidateUpdateCode=\"&'PXS Kopieret'!N550&\"&Locale=en&CustomFormID=11612\",\"Docs\"),\"\")","v":""},{"$f":"'PXS Kopieret'!A550","v":0},{"$f":"'PXS Kopieret'!B550","v":0},{"$f":"'PXS Kopieret'!C550","v":0},{"$f":"'PXS Kopieret'!D550","v":0},{"$f":"IF($A550<>\"PhD Student\",'PXS Kopieret'!E550,\"\")","v":0},{"$f":"IF($A550=\"PhD Student\",'PXS Kopieret'!F550,\"\")","v":""},{"$f":"'PXS Kopieret'!G550","v":0},{"$f":"'PXS Kopieret'!H550","v":0},{"$f":"IF($A550=\"PhD Student\",'PXS Kopieret'!I550,\"\")","v":""},{"$f":"'PXS Kopieret'!J550","v":0},{"$f":"'PXS Kopieret'!K550","v":0},{"$f":"'PXS Kopieret'!L550","v":0}]
["",{"$f":"IF('PXS Kopieret'!N551<>\"\",HYPERLINK(\"https://ssl1.peoplexs.com/Peoplexs22/eFormportal/eForm.cfm?CandidateUpdateID=\"&'PXS Kopieret'!M551&\"&CandidateUpdateCode=\"&'PXS Kopieret'!N551&\"&Locale=en&CustomFormID=11612\",\"Docs\"),\"\")","v":""},{"$f":"'PXS Kopieret'!A551","v":0},{"$f":"'PXS Kopieret'!B551","v":0},{"$f":"'PXS Kopieret'!C551","v":0},{"$f":"'PXS Kopieret'!D551","v":0},{"$f":"IF($A551<>\"PhD Student\",'PXS Kopieret'!E551,\"\")","v":0},{"$f":"IF($A551=\"PhD Student\",'PXS Kopieret'!F551,\"\")","v":""},{"$f":"'PXS Kopieret'!G551","v":0},{"$f":"'PXS Kopieret'!H551","v":0},{"$f":"IF($A551=\"PhD Student\",'PXS Kopieret'!I551,\"\")","v":""},{"$f":"'PXS Kopieret'!J551","v":0},{"$f":"'PXS Kopieret'!K551","v":0},{"$f":"'PXS Kopieret'!L551","v":0}]
["",{"$f":"IF('PXS Kopieret'!N552<>\"\",HYPERLINK(\"https://ssl1.peoplexs.com/Peoplexs22/eFormportal/eForm.cfm?CandidateUpdateID=\"&'PXS Kopieret'!M552&\"&CandidateUpdateCode=\"&'PXS Kopieret'!N552&\"&Locale=en&CustomFormID=11612\",\"Docs\"),\"\")","v":""},{"$f":"'PXS Kopieret'!A552","v":0},{"$f":"'PXS Kopieret'!B552","v":0},{"$f":"'PXS Kopieret'!C552","v":0},{"$f":"'PXS Kopieret'!D552","v":0},{"$f":"IF($A552<>\"PhD Student\",'PXS Kopieret'!E552,\"\")","v":0},{"$f":"IF($A552=\"PhD Student\",'PXS Kopieret'!F552,\"\")","v":""},{"$f":"'PXS Kopieret'!G552","v":0},{"$f":"'PXS Kopieret'!H552","v":0},{"$f":"IF($A552=\"PhD Student\",'PXS Kopieret'!I552,\"\")","v":""},{"$f":"'PXS Kopieret'!J552","v":0},{"$f":"'PXS Kopieret'!K552","v":0},{"$f":"'PXS Kopieret'!L552","v":0}]
["",{"$f":"IF('PXS Kopieret'!N553<>\"\",HYPERLINK(\"https://ssl1.peoplexs.com/Peoplexs22/eFormportal/eForm.cfm?CandidateUpdateID=\"&'PXS Kopieret'!M553&\"&CandidateUpdateCode=\"&'PXS Kopieret'!N553&\"&Locale=en&CustomFormID=11612\",\"Docs\"),\"\")","v":""},{"$f":"'PXS Kopieret'!A553","v":0},{"$f":"'PXS Kopieret'!B553","v":0},{"$f":"'PXS Kopieret'!C553","v":0},{"$f":"'PXS Kopieret'!D553","v":0},{"$f":"IF($A553<>\"PhD Student\",'PXS Kopieret'!E553,\"\")","v":0},{"$f":"IF($A553=\"PhD Student\",'PXS Kopieret'!F553,\"\")","v":""},{"$f":"'PXS Kopieret'!G553","v":0},{"$f":"'PXS Kopieret'!H553","v":0},{"$f":"IF($A553=\"PhD Student\",'PXS Kopieret'!I553,\"\")","v":""},{"$f":"'PXS Kopieret'!J553","v":0},{"$f":"'PXS Kopieret'!K553","v":0},{"$f":"'PXS Kopieret'!L553","v":0}]
["",{"$f":"IF('PXS Kopieret'!N554<>\"\",HYPERLINK(\"https://ssl1.peoplexs.com/Peoplexs22/eFormportal/eForm.cfm?CandidateUpdateID=\"&'PXS Kopieret'!M554&\"&CandidateUpdateCode=\"&'PXS Kopieret'!N554&\"&Locale=en&CustomFormID=11612\",\"Docs\"),\"\")","v":""},{"$f":"'PXS Kopieret'!A554","v":0},{"$f":"'PXS Kopieret'!B554","v":0},{"$f":"'PXS Kopieret'!C554","v":0},{"$f":"'PXS Kopieret'!D554","v":0},{"$f":"IF($A554<>\"PhD Student\",'PXS Kopieret'!E554,\"\")","v":0},{"$f":"IF($A554=\"PhD Student\",'PXS Kopieret'!F554,\"\")","v":""},{"$f":"'PXS Kopieret'!G554","v":0},{"$f":"'PXS Kopieret'!H554","v":0},{"$f":"IF($A554=\"PhD Student\",'PXS Kopieret'!I554,\"\")","v":""},{"$f":"'PXS Kopieret'!J554","v":0},{"$f":"'PXS Kopieret'!K554","v":0},{"$f":"'PXS Kopieret'!L554","v":0}]
["",{"$f":"IF('PXS Kopieret'!N555<>\"\",HYPERLINK(\"https://ssl1.peoplexs.com/Peoplexs22/eFormportal/eForm.cfm?CandidateUpdateID=\"&'PXS Kopieret'!M555&\"&CandidateUpdateCode=\"&'PXS Kopieret'!N555&\"&Locale=en&CustomFormID=11612\",\"Docs\"),\"\")","v":""},{"$f":"'PXS Kopieret'!A555","v":0},{"$f":"'PXS Kopieret'!B555","v":0},{"$f":"'PXS Kopieret'!C555","v":0},{"$f":"'PXS Kopieret'!D555","v":0},{"$f":"IF($A555<>\"PhD Student\",'PXS Kopieret'!E555,\"\")","v":0},{"$f":"IF($A555=\"PhD Student\",'PXS Kopieret'!F555,\"\")","v":""},{"$f":"'PXS Kopieret'!G555","v":0},{"$f":"'PXS Kopieret'!H555","v":0},{"$f":"IF($A555=\"PhD Student\",'PXS Kopieret'!I555,\"\")","v":""},{"$f":"'PXS Kopieret'!J555","v":0},{"$f":"'PXS Kopieret'!K555","v":0},{"$f":"'PXS Kopieret'!L555","v":0}]
["",{"$f":"IF('PXS Kopieret'!N556<>\"\",HYPERLINK(\"https://ssl1.peoplexs.com/Peoplexs22/eFormportal/eForm.cfm?CandidateUpdateID=\"&'PXS Kopieret'!M556&\"&CandidateUpdateCode=\"&'PXS Kopieret'!N556&\"&Locale=en&CustomFormID=11612\",\"Docs\"),\"\")","v":""},{"$f":"'PXS Kopieret'!A556","v":0},{"$f":"'PXS Kopieret'!B556","v":0},{"$f":"'PXS Kopieret'!C556","v":0},{"$f":"'PXS Kopieret'!D556","v":0},{"$f":"IF($A556<>\"PhD Student\",'PXS Kopieret'!E556,\"\")","v":0},{"$f":"IF($A556=\"PhD Student\",'PXS Kopieret'!F556,\"\")","v":""},{"$f":"'PXS Kopieret'!G556","v":0},{"$f":"'PXS Kopieret'!H556","v":0},{"$f":"IF($A556=\"PhD Student\",'PXS Kopieret'!I556,\"\")","v":""},{"$f":"'PXS Kopieret'!J556","v":0},{"$f":"'PXS Kopieret'!K556","v":0},{"$f":"'PXS Kopieret'!L556","v":0}]
["",{"$f":"IF('PXS Kopieret'!N557<>\"\",HYPERLINK(\"https://ssl1.peoplexs.com/Peoplexs22/eFormportal/eForm.cfm?CandidateUpdateID=\"&'PXS Kopieret'!M557&\"&CandidateUpdateCode=\"&'PXS Kopieret'!N557&\"&Locale=en&CustomFormID=11612\",\"Docs\"),\"\")","v":""},{"$f":"'PXS Kopieret'!A557","v":0},{"$f":"'PXS Kopieret'!B557","v":0},{"$f":"'PXS Kopieret'!C557","v":0},{"$f":"'PXS Kopieret'!D557","v":0},{"$f":"IF($A557<>\"PhD Student\",'PXS Kopieret'!E557,\"\")","v":0},{"$f":"IF($A557=\"PhD Student\",'PXS Kopieret'!F557,\"\")","v":""},{"$f":"'PXS Kopieret'!G557","v":0},{"$f":"'PXS Kopieret'!H557","v":0},{"$f":"IF($A557=\"PhD Student\",'PXS Kopieret'!I557,\"\")","v":""},{"$f":"'PXS Kopieret'!J557","v":0},{"$f":"'PXS Kopieret'!K557","v":0},{"$f":"'PXS Kopieret'!L557","v":0}]
["",{"$f":"IF('PXS Kopieret'!N558<>\"\",HYPERLINK(\"https://ssl1.peoplexs.com/Peoplexs22/eFormportal/eForm.cfm?CandidateUpdateID=\"&'PXS Kopieret'!M558&\"&CandidateUpdateCode=\"&'PXS Kopieret'!N558&\"&Locale=en&CustomFormID=11612\",\"Docs\"),\"\")","v":""},{"$f":"'PXS Kopieret'!A558","v":0},{"$f":"'PXS Kopieret'!B558","v":0},{"$f":"'PXS Kopieret'!C558","v":0},{"$f":"'PXS Kopieret'!D558","v":0},{"$f":"IF($A558<>\"PhD Student\",'PXS Kopieret'!E558,\"\")","v":0},{"$f":"IF($A558=\"PhD Student\",'PXS Kopieret'!F558,\"\")","v":""},{"$f":"'PXS Kopieret'!G558","v":0},{"$f":"'PXS Kopieret'!H558","v":0},{"$f":"IF($A558=\"PhD Student\",'PXS Kopieret'!I558,\"\")","v":""},{"$f":"'PXS Kopieret'!J558","v":0},{"$f":"'PXS Kopieret'!K558","v":0},{"$f":"'PXS Kopieret'!L558","v":0}]
["",{"$f":"IF('PXS Kopieret'!N559<>\"\",HYPERLINK(\"https://ssl1.peoplexs.com/Peoplexs22/eFormportal/eForm.cfm?CandidateUpdateID=\"&'PXS Kopieret'!M559&\"&CandidateUpdateCode=\"&'PXS Kopieret'!N559&\"&Locale=en&CustomFormID=11612\",\"Docs\"),\"\")","v":""},{"$f":"'PXS Kopieret'!A559","v":0},{"$f":"'PXS Kopieret'!B559","v":0},{"$f":"'PXS Kopieret'!C559","v":0},{"$f":"'PXS Kopieret'!D559","v":0},{"$f":"IF($A559<>\"PhD Student\",'PXS Kopieret'!E559,\"\")","v":0},{"$f":"IF($A559=\"PhD Student\",'PXS Kopieret'!F559,\"\")","v":""},{"$f":"'PXS Kopieret'!G559","v":0},{"$f":"'PXS Kopieret'!H559","v":0},{"$f":"IF($A559=\"PhD Student\",'PXS Kopieret'!I559,\"\")","v":""},{"$f":"'PXS Kopieret'!J559","v":0},{"$f":"'PXS Kopieret'!K559","v":0},{"$f":"'PXS Kopieret'!L559","v":0}]
["",{"$f":"IF('PXS Kopieret'!N560<>\"\",HYPERLINK(\"https://ssl1.peoplexs.com/Peoplexs22/eFormportal/eForm.cfm?CandidateUpdateID=\"&'PXS Kopieret'!M560&\"&CandidateUpdateCode=\"&'PXS Kopieret'!N560&\"&Locale=en&CustomFormID=11612\",\"Docs\"),\"\")","v":""},{"$f":"'PXS Kopieret'!A560","v":0},{"$f":"'PXS Kopieret'!B560","v":0},{"$f":"'PXS Kopieret'!C560","v":0},{"$f":"'PXS Kopieret'!D560","v":0},{"$f":"IF($A560<>\"PhD Student\",'PXS Kopieret'!E560,\"\")","v":0},{"$f":"IF($A560=\"PhD Student\",'PXS Kopieret'!F560,\"\")","v":""},{"$f":"'PXS Kopieret'!G560","v":0},{"$f":"'PXS Kopieret'!H560","v":0},{"$f":"IF($A560=\"PhD Student\",'PXS Kopieret'!I560,\"\")","v":""},{"$f":"'PXS Kopieret'!J560","v":0},{"$f":"'PXS Kopieret'!K560","v":0},{"$f":"'PXS Kopieret'!L560","v":0}]
["",{"$f":"IF('PXS Kopieret'!N561<>\"\",HYPERLINK(\"https://ssl1.peoplexs.com/Peoplexs22/eFormportal/eForm.cfm?CandidateUpdateID=\"&'PXS Kopieret'!M561&\"&CandidateUpdateCode=\"&'PXS Kopieret'!N561&\"&Locale=en&CustomFormID=11612\",\"Docs\"),\"\")","v":""},{"$f":"'PXS Kopieret'!A561","v":0},{"$f":"'PXS Kopieret'!B561","v":0},{"$f":"'PXS Kopieret'!C561","v":0},{"$f":"'PXS Kopieret'!D561","v":0},{"$f":"IF($A561<>\"PhD Student\",'PXS Kopieret'!E561,\"\")","v":0},{"$f":"IF($A561=\"PhD Student\",'PXS Kopieret'!F561,\"\")","v":""},{"$f":"'PXS Kopieret'!G561","v":0},{"$f":"'PXS Kopieret'!H561","v":0},{"$f":"IF($A561=\"PhD Student\",'PXS Kopieret'!I561,\"\")","v":""},{"$f":"'PXS Kopieret'!J561","v":0},{"$f":"'PXS Kopieret'!K561","v":0},{"$f":"'PXS Kopieret'!L561","v":0}]
["",{"$f":"IF('PXS Kopieret'!N562<>\"\",HYPERLINK(\"https://ssl1.peoplexs.com/Peoplexs22/eFormportal/eForm.cfm?CandidateUpdateID=\"&'PXS Kopieret'!M562&\"&CandidateUpdateCode=\"&'PXS Kopieret'!N562&\"&Locale=en&CustomFormID=11612\",\"Docs\"),\"\")","v":""},{"$f":"'PXS Kopieret'!A562","v":0},{"$f":"'PXS Kopieret'!B562","v":0},{"$f":"'PXS Kopieret'!C562","v":0},{"$f":"'PXS Kopieret'!D562","v":0},{"$f":"IF($A562<>\"PhD Student\",'PXS Kopieret'!E562,\"\")","v":0},{"$f":"IF($A562=\"PhD Student\",'PXS Kopieret'!F562,\"\")","v":""},{"$f":"'PXS Kopieret'!G562","v":0},{"$f":"'PXS Kopieret'!H562","v":0},{"$f":"IF($A562=\"PhD Student\",'PXS Kopieret'!I562,\"\")","v":""},{"$f":"'PXS Kopieret'!J562","v":0},{"$f":"'PXS Kopieret'!K562","v":0},{"$f":"'PXS Kopieret'!L562","v":0}]
["",{"$f":"IF('PXS Kopieret'!N563<>\"\",HYPERLINK(\"https://ssl1.peoplexs.com/Peoplexs22/eFormportal/eForm.cfm?CandidateUpdateID=\"&'PXS Kopieret'!M563&\"&CandidateUpdateCode=\"&'PXS Kopieret'!N563&\"&Locale=en&CustomFormID=11612\",\"Docs\"),\"\")","v":""},{"$f":"'PXS Kopieret'!A563","v":0},{"$f":"'PXS Kopieret'!B563","v":0},{"$f":"'PXS Kopieret'!C563","v":0},{"$f":"'PXS Kopieret'!D563","v":0},{"$f":"IF($A563<>\"PhD Student\",'PXS Kopieret'!E563,\"\")","v":0},{"$f":"IF($A563=\"PhD Student\",'PXS Kopieret'!F563,\"\")","v":""},{"$f":"'PXS Kopieret'!G563","v":0},{"$f":"'PXS Kopieret'!H563","v":0},{"$f":"IF($A563=\"PhD Student\",'PXS Kopieret'!I563,\"\")","v":""},{"$f":"'PXS Kopieret'!J563","v":0},{"$f":"'PXS Kopieret'!K563","v":0},{"$f":"'PXS Kopieret'!L563","v":0}]
["",{"$f":"IF('PXS Kopieret'!N564<>\"\",HYPERLINK(\"https://ssl1.peoplexs.com/Peoplexs22/eFormportal/eForm.cfm?CandidateUpdateID=\"&'PXS Kopieret'!M564&\"&CandidateUpdateCode=\"&'PXS Kopieret'!N564&\"&Locale=en&CustomFormID=11612\",\"Docs\"),\"\")","v":""},{"$f":"'PXS Kopieret'!A564","v":0},{"$f":"'PXS Kopieret'!B564","v":0},{"$f":"'PXS Kopieret'!C564","v":0},{"$f":"'PXS Kopieret'!D564","v":0},{"$f":"IF($A564<>\"PhD Student\",'PXS Kopieret'!E564,\"\")","v":0},{"$f":"IF($A564=\"PhD Student\",'PXS Kopieret'!F564,\"\")","v":""},{"$f":"'PXS Kopieret'!G564","v":0},{"$f":"'PXS Kopieret'!H564","v":0},{"$f":"IF($A564=\"PhD Student\",'PXS Kopieret'!I564,\"\")","v":""},{"$f":"'PXS Kopieret'!J564","v":0},{"$f":"'PXS Kopieret'!K564","v":0},{"$f":"'PXS Kopieret'!L564","v":0}]
["",{"$f":"IF('PXS Kopieret'!N565<>\"\",HYPERLINK(\"https://ssl1.peoplexs.com/Peoplexs22/eFormportal/eForm.cfm?CandidateUpdateID=\"&'PXS Kopieret'!M565&\"&CandidateUpdateCode=\"&'PXS Kopieret'!N565&\"&Locale=en&CustomFormID=11612\",\"Docs\"),\"\")","v":""},{"$f":"'PXS Kopieret'!A565","v":0},{"$f":"'PXS Kopieret'!B565","v":0},{"$f":"'PXS Kopieret'!C565","v":0},{"$f":"'PXS Kopieret'!D565","v":0},{"$f":"IF($A565<>\"PhD Student\",'PXS Kopieret'!E565,\"\")","v":0},{"$f":"IF($A565=\"PhD Student\",'PXS Kopieret'!F565,\"\")","v":""},{"$f":"'PXS Kopieret'!G565","v":0},{"$f":"'PXS Kopieret'!H565","v":0},{"$f":"IF($A565=\"PhD Student\",'PXS Kopieret'!I565,\"\")","v":""},{"$f":"'PXS Kopieret'!J565","v":0},{"$f":"'PXS Kopieret'!K565","v":0},{"$f":"'PXS Kopieret'!L565","v":0}]
["",{"$f":"IF('PXS Kopieret'!N566<>\"\",HYPERLINK(\"https://ssl1.peoplexs.com/Peoplexs22/eFormportal/eForm.cfm?CandidateUpdateID=\"&'PXS Kopieret'!M566&\"&CandidateUpdateCode=\"&'PXS Kopieret'!N566&\"&Locale=en&CustomFormID=11612\",\"Docs\"),\"\")","v":""},{"$f":"'PXS Kopieret'!A566","v":0},{"$f":"'PXS Kopieret'!B566","v":0},{"$f":"'PXS Kopieret'!C566","v":0},{"$f":"'PXS Kopieret'!D566","v":0},{"$f":"IF($A566<>\"PhD Student\",'PXS Kopieret'!E566,\"\")","v":0},{"$f":"IF($A566=\"PhD Student\",'PXS Kopieret'!F566,\"\")","v":""},{"$f":"'PXS Kopieret'!G566","v":0},{"$f":"'PXS Kopieret'!H566","v":0},{"$f":"IF($A566=\"PhD Student\",'PXS Kopieret'!I566,\"\")","v":""},{"$f":"'PXS Kopieret'!J566","v":0},{"$f":"'PXS Kopieret'!K566","v":0},{"$f":"'PXS Kopieret'!L566","v":0}]
["",{"$f":"IF('PXS Kopieret'!N567<>\"\",HYPERLINK(\"https://ssl1.peoplexs.com/Peoplexs22/eFormportal/eForm.cfm?CandidateUpdateID=\"&'PXS Kopieret'!M567&\"&CandidateUpdateCode=\"&'PXS Kopieret'!N567&\"&Locale=en&CustomFormID=11612\",\"Docs\"),\"\")","v":""},{"$f":"'PXS Kopieret'!A567","v":0},{"$f":"'PXS Kopieret'!B567","v":0},{"$f":"'PXS Kopieret'!C567","v":0},{"$f":"'PXS Kopieret'!D567","v":0},{"$f":"IF($A567<>\"PhD Student\",'PXS Kopieret'!E567,\"\")","v":0},{"$f":"IF($A567=\"PhD Student\",'PXS Kopieret'!F567,\"\")","v":""},{"$f":"'PXS Kopieret'!G567","v":0},{"$f":"'PXS Kopieret'!H567","v":0},{"$f":"IF($A567=\"PhD Student\",'PXS Kopieret'!I567,\"\")","v":""},{"$f":"'PXS Kopieret'!J567","v":0},{"$f":"'PXS Kopieret'!K567","v":0},{"$f":"'PXS Kopieret'!L567","v":0}]
["",{"$f":"IF('PXS Kopieret'!N568<>\"\",HYPERLINK(\"https://ssl1.peoplexs.com/Peoplexs22/eFormportal/eForm.cfm?CandidateUpdateID=\"&'PXS Kopieret'!M568&\"&CandidateUpdateCode=\"&'PXS Kopieret'!N568&\"&Locale=en&CustomFormID=11612\",\"Docs\"),\"\")","v":""},{"$f":"'PXS Kopieret'!A568","v":0},{"$f":"'PXS Kopieret'!B568","v":0},{"$f":"'PXS Kopieret'!C568","v":0},{"$f":"'PXS Kopieret'!D568","v":0},{"$f":"IF($A568<>\"PhD Student\",'PXS Kopieret'!E568,\"\")","v":0},{"$f":"IF($A568=\"PhD Student\",'PXS Kopieret'!F568,\"\")","v":""},{"$f":"'PXS Kopieret'!G568","v":0},{"$f":"'PXS Kopieret'!H568","v":0},{"$f":"IF($A568=\"PhD Student\",'PXS Kopieret'!I568,\"\")","v":""},{"$f":"'PXS Kopieret'!J568","v":0},{"$f":"'PXS Kopieret'!K568","v":0},{"$f":"'PXS Kopieret'!L568","v":0}]
["",{"$f":"IF('PXS Kopieret'!N569<>\"\",HYPERLINK(\"https://ssl1.peoplexs.com/Peoplexs22/eFormportal/eForm.cfm?CandidateUpdateID=\"&'PXS Kopieret'!M569&\"&CandidateUpdateCode=\"&'PXS Kopieret'!N569&\"&Locale=en&CustomFormID=11612\",\"Docs\"),\"\")","v":""},{"$f":"'PXS Kopieret'!A569","v":0},{"$f":"'PXS Kopieret'!B569","v":0},{"$f":"'PXS Kopieret'!C569","v":0},{"$f":"'PXS Kopieret'!D569","v":0},{"$f":"IF($A569<>\"PhD Student\",'PXS Kopieret'!E569,\"\")","v":0},{"$f":"IF($A569=\"PhD Student\",'PXS Kopieret'!F569,\"\")","v":""},{"$f":"'PXS Kopieret'!G569","v":0},{"$f":"'PXS Kopieret'!H569","v":0},{"$f":"IF($A569=\"PhD Student\",'PXS Kopieret'!I569,\"\")","v":""},{"$f":"'PXS Kopieret'!J569","v":0},{"$f":"'PXS Kopieret'!K569","v":0},{"$f":"'PXS Kopieret'!L569","v":0}]
["",{"$f":"IF('PXS Kopieret'!N570<>\"\",HYPERLINK(\"https://ssl1.peoplexs.com/Peoplexs22/eFormportal/eForm.cfm?CandidateUpdateID=\"&'PXS Kopieret'!M570&\"&CandidateUpdateCode=\"&'PXS Kopieret'!N570&\"&Locale=en&CustomFormID=11612\",\"Docs\"),\"\")","v":""},{"$f":"'PXS Kopieret'!A570","v":0},{"$f":"'PXS Kopieret'!B570","v":0},{"$f":"'PXS Kopieret'!C570","v":0},{"$f":"'PXS Kopieret'!D570","v":0},{"$f":"IF($A570<>\"PhD Student\",'PXS Kopieret'!E570,\"\")","v":0},{"$f":"IF($A570=\"PhD Student\",'PXS Kopieret'!F570,\"\")","v":""},{"$f":"'PXS Kopieret'!G570","v":0},{"$f":"'PXS Kopieret'!H570","v":0},{"$f":"IF($A570=\"PhD Student\",'PXS Kopieret'!I570,\"\")","v":""},{"$f":"'PXS Kopieret'!J570","v":0},{"$f":"'PXS Kopieret'!K570","v":0},{"$f":"'PXS Kopieret'!L570","v":0}]
["",{"$f":"IF('PXS Kopieret'!N571<>\"\",HYPERLINK(\"https://ssl1.peoplexs.com/Peoplexs22/eFormportal/eForm.cfm?CandidateUpdateID=\"&'PXS Kopieret'!M571&\"&CandidateUpdateCode=\"&'PXS Kopieret'!N571&\"&Locale=en&CustomFormID=11612\",\"Docs\"),\"\")","v":""},{"$f":"'PXS Kopieret'!A571","v":0},{"$f":"'PXS Kopieret'!B571","v":0},{"$f":"'PXS Kopieret'!C571","v":0},{"$f":"'PXS Kopieret'!D571","v":0},{"$f":"IF($A571<>\"PhD Student\",'PXS Kopieret'!E571,\"\")","v":0},{"$f":"IF($A571=\"PhD Student\",'PXS Kopieret'!F571,\"\")","v":""},{"$f":"'PXS Kopieret'!G571","v":0},{"$f":"'PXS Kopieret'!H571","v":0},{"$f":"IF($A571=\"PhD Student\",'PXS Kopieret'!I571,\"\")","v":""},{"$f":"'PXS Kopieret'!J571","v":0},{"$f":"'PXS Kopieret'!K571","v":0},{"$f":"'PXS Kopieret'!L571","v":0}]
["",{"$f":"IF('PXS Kopieret'!N572<>\"\",HYPERLINK(\"https://ssl1.peoplexs.com/Peoplexs22/eFormportal/eForm.cfm?CandidateUpdateID=\"&'PXS Kopieret'!M572&\"&CandidateUpdateCode=\"&'PXS Kopieret'!N572&\"&Locale=en&CustomFormID=11612\",\"Docs\"),\"\")","v":""},{"$f":"'PXS Kopieret'!A572","v":0},{"$f":"'PXS Kopieret'!B572","v":0},{"$f":"'PXS Kopieret'!C572","v":0},{"$f":"'PXS Kopieret'!D572","v":0},{"$f":"IF($A572<>\"PhD Student\",'PXS Kopieret'!E572,\"\")","v":0},{"$f":"IF($A572=\"PhD Student\",'PXS Kopieret'!F572,\"\")","v":""},{"$f":"'PXS Kopieret'!G572","v":0},{"$f":"'PXS Kopieret'!H572","v":0},{"$f":"IF($A572=\"PhD Student\",'PXS Kopieret'!I572,\"\")","v":""},{"$f":"'PXS Kopieret'!J572","v":0},{"$f":"'PXS Kopieret'!K572","v":0},{"$f":"'PXS Kopieret'!L572","v":0}]
["",{"$f":"IF('PXS Kopieret'!N573<>\"\",HYPERLINK(\"https://ssl1.peoplexs.com/Peoplexs22/eFormportal/eForm.cfm?CandidateUpdateID=\"&'PXS Kopieret'!M573&\"&CandidateUpdateCode=\"&'PXS Kopieret'!N573&\"&Locale=en&CustomFormID=11612\",\"Docs\"),\"\")","v":""},{"$f":"'PXS Kopieret'!A573","v":0},{"$f":"'PXS Kopieret'!B573","v":0},{"$f":"'PXS Kopieret'!C573","v":0},{"$f":"'PXS Kopieret'!D573","v":0},{"$f":"IF($A573<>\"PhD Student\",'PXS Kopieret'!E573,\"\")","v":0},{"$f":"IF($A573=\"PhD Student\",'PXS Kopieret'!F573,\"\")","v":""},{"$f":"'PXS Kopieret'!G573","v":0},{"$f":"'PXS Kopieret'!H573","v":0},{"$f":"IF($A573=\"PhD Student\",'PXS Kopieret'!I573,\"\")","v":""},{"$f":"'PXS Kopieret'!J573","v":0},{"$f":"'PXS Kopieret'!K573","v":0},{"$f":"'PXS Kopieret'!L573","v":0}]
["",{"$f":"IF('PXS Kopieret'!N574<>\"\",HYPERLINK(\"https://ssl1.peoplexs.com/Peoplexs22/eFormportal/eForm.cfm?CandidateUpdateID=\"&'PXS Kopieret'!M574&\"&CandidateUpdateCode=\"&'PXS Kopieret'!N574&\"&Locale=en&CustomFormID=11612\",\"Docs\"),\"\")","v":""},{"$f":"'PXS Kopieret'!A574","v":0},{"$f":"'PXS Kopieret'!B574","v":0},{"$f":"'PXS Kopieret'!C574","v":0},{"$f":"'PXS Kopieret'!D574","v":0},{"$f":"IF($A574<>\"PhD Student\",'PXS Kopieret'!E574,\"\")","v":0},{"$f":"IF($A574=\"PhD Student\",'PXS Kopieret'!F574,\"\")","v":""},{"$f":"'PXS Kopieret'!G574","v":0},{"$f":"'PXS Kopieret'!H574","v":0},{"$f":"IF($A574=\"PhD Student\",'PXS Kopieret'!I574,\"\")","v":""},{"$f":"'PXS Kopieret'!J574","v":0},{"$f":"'PXS Kopieret'!K574","v":0},{"$f":"'PXS Kopieret'!L574","v":0}]
["",{"$f":"IF('PXS Kopieret'!N575<>\"\",HYPERLINK(\"https://ssl1.peoplexs.com/Peoplexs22/eFormportal/eForm.cfm?CandidateUpdateID=\"&'PXS Kopieret'!M575&\"&CandidateUpdateCode=\"&'PXS Kopieret'!N575&\"&Locale=en&CustomFormID=11612\",\"Docs\"),\"\")","v":""},{"$f":"'PXS Kopieret'!A575","v":0},{"$f":"'PXS Kopieret'!B575","v":0},{"$f":"'PXS Kopieret'!C575","v":0},{"$f":"'PXS Kopieret'!D575","v":0},{"$f":"IF($A575<>\"PhD Student\",'PXS Kopieret'!E575,\"\")","v":0},{"$f":"IF($A575=\"PhD Student\",'PXS Kopieret'!F575,\"\")","v":""},{"$f":"'PXS Kopieret'!G575","v":0},{"$f":"'PXS Kopieret'!H575","v":0},{"$f":"IF($A575=\"PhD Student\",'PXS Kopieret'!I575,\"\")","v":""},{"$f":"'PXS Kopieret'!J575","v":0},{"$f":"'PXS Kopieret'!K575","v":0},{"$f":"'PXS Kopieret'!L575","v":0}]
["",{"$f":"IF('PXS Kopieret'!N576<>\"\",HYPERLINK(\"https://ssl1.peoplexs.com/Peoplexs22/eFormportal/eForm.cfm?CandidateUpdateID=\"&'PXS Kopieret'!M576&\"&CandidateUpdateCode=\"&'PXS Kopieret'!N576&\"&Locale=en&CustomFormID=11612\",\"Docs\"),\"\")","v":""},{"$f":"'PXS Kopieret'!A576","v":0},{"$f":"'PXS Kopieret'!B576","v":0},{"$f":"'PXS Kopieret'!C576","v":0},{"$f":"'PXS Kopieret'!D576","v":0},{"$f":"IF($A576<>\"PhD Student\",'PXS Kopieret'!E576,\"\")","v":0},{"$f":"IF($A576=\"PhD Student\",'PXS Kopieret'!F576,\"\")","v":""},{"$f":"'PXS Kopieret'!G576","v":0},{"$f":"'PXS Kopieret'!H576","v":0},{"$f":"IF($A576=\"PhD Student\",'PXS Kopieret'!I576,\"\")","v":""},{"$f":"'PXS Kopieret'!J576","v":0},{"$f":"'PXS Kopieret'!K576","v":0},{"$f":"'PXS Kopieret'!L576","v":0}]
["",{"$f":"IF('PXS Kopieret'!N577<>\"\",HYPERLINK(\"https://ssl1.peoplexs.com/Peoplexs22/eFormportal/eForm.cfm?CandidateUpdateID=\"&'PXS Kopieret'!M577&\"&CandidateUpdateCode=\"&'PXS Kopieret'!N577&\"&Locale=en&CustomFormID=11612\",\"Docs\"),\"\")","v":""},{"$f":"'PXS Kopieret'!A577","v":0},{"$f":"'PXS Kopieret'!B577","v":0},{"$f":"'PXS Kopieret'!C577","v":0},{"$f":"'PXS Kopieret'!D577","v":0},{"$f":"IF($A577<>\"PhD Student\",'PXS Kopieret'!E577,\"\")","v":0},{"$f":"IF($A577=\"PhD Student\",'PXS Kopieret'!F577,\"\")","v":""},{"$f":"'PXS Kopieret'!G577","v":0},{"$f":"'PXS Kopieret'!H577","v":0},{"$f":"IF($A577=\"PhD Student\",'PXS Kopieret'!I577,\"\")","v":""},{"$f":"'PXS Kopieret'!J577","v":0},{"$f":"'PXS Kopieret'!K577","v":0},{"$f":"'PXS Kopieret'!L577","v":0}]
["",{"$f":"IF('PXS Kopieret'!N578<>\"\",HYPERLINK(\"https://ssl1.peoplexs.com/Peoplexs22/eFormportal/eForm.cfm?CandidateUpdateID=\"&'PXS Kopieret'!M578&\"&CandidateUpdateCode=\"&'PXS Kopieret'!N578&\"&Locale=en&CustomFormID=11612\",\"Docs\"),\"\")","v":""},{"$f":"'PXS Kopieret'!A578","v":0},{"$f":"'PXS Kopieret'!B578","v":0},{"$f":"'PXS Kopieret'!C578","v":0},{"$f":"'PXS Kopieret'!D578","v":0},{"$f":"IF($A578<>\"PhD Student\",'PXS Kopieret'!E578,\"\")","v":0},{"$f":"IF($A578=\"PhD Student\",'PXS Kopieret'!F578,\"\")","v":""},{"$f":"'PXS Kopieret'!G578","v":0},{"$f":"'PXS Kopieret'!H578","v":0},{"$f":"IF($A578=\"PhD Student\",'PXS Kopieret'!I578,\"\")","v":""},{"$f":"'PXS Kopieret'!J578","v":0},{"$f":"'PXS Kopieret'!K578","v":0},{"$f":"'PXS Kopieret'!L578","v":0}]
[{"$f":"IF(LEFT(C579,2)=\"RY\", \"Research Year Student\", IF(C579=0,\"\",\"PhD Student\"))","v":""},{"$f":"IF('PXS Kopieret'!N579<>\"\",HYPERLINK(\"https://ssl1.peoplexs.com/Peoplexs22/eFormportal/eForm.cfm?CandidateUpdateID=\"&'PXS Kopieret'!M579&\"&CandidateUpdateCode=\"&'PXS Kopieret'!N579&\"&Locale=en&CustomFormID=11612\",\"Docs\"),\"\")","v":""},{"$f":"'PXS Kopieret'!A579","v":0},{"$f":"'PXS Kopieret'!B579","v":0},{"$f":"'PXS Kopieret'!C579","v":0},{"$f":"'PXS Kopieret'!D579","v":0},{"$f":"IF($A579<>\"PhD Student\",'PXS Kopieret'!E579,\"\")","v":0},{"$f":"IF($A579=\"PhD Student\",'PXS Kopieret'!F579,\"\")","v":""},{"$f":"'PXS Kopieret'!G579","v":0},{"$f":"'PXS Kopieret'!H579","v":0},{"$f":"IF($A579=\"PhD Student\",'PXS Kopieret'!I579,\"\")","v":""},{"$f":"'PXS Kopieret'!J579","v":0},{"$f":"'PXS Kopieret'!K579","v":0},{"$f":"'PXS Kopieret'!L579","v":0}]
["",{"$f":"IF('PXS Kopieret'!N580<>\"\",HYPERLINK(\"https://ssl1.peoplexs.com/Peoplexs22/eFormportal/eForm.cfm?CandidateUpdateID=\"&'PXS Kopieret'!M580&\"&CandidateUpdateCode=\"&'PXS Kopieret'!N580&\"&Locale=en&CustomFormID=11612\",\"Docs\"),\"\")","v":""},{"$f":"'PXS Kopieret'!A580","v":0},{"$f":"'PXS Kopieret'!B580","v":0},{"$f":"'PXS Kopieret'!C580","v":0},{"$f":"'PXS Kopieret'!D580","v":0},{"$f":"IF($A580<>\"PhD Student\",'PXS Kopieret'!E580,\"\")","v":0},{"$f":"IF($A580=\"PhD Student\",'PXS Kopieret'!F580,\"\")","v":""},{"$f":"'PXS Kopieret'!G580","v":0},{"$f":"'PXS Kopieret'!H580","v":0},{"$f":"IF($A580=\"PhD Student\",'PXS Kopieret'!I580,\"\")","v":""},{"$f":"'PXS Kopieret'!J580","v":0},{"$f":"'PXS Kopieret'!K580","v":0},{"$f":"'PXS Kopieret'!L580","v":0}]
["",{"$f":"IF('PXS Kopieret'!N581<>\"\",HYPERLINK(\"https://ssl1.peoplexs.com/Peoplexs22/eFormportal/eForm.cfm?CandidateUpdateID=\"&'PXS Kopieret'!M581&\"&CandidateUpdateCode=\"&'PXS Kopieret'!N581&\"&Locale=en&CustomFormID=11612\",\"Docs\"),\"\")","v":""},{"$f":"'PXS Kopieret'!A581","v":0},{"$f":"'PXS Kopieret'!B581","v":0},{"$f":"'PXS Kopieret'!C581","v":0},{"$f":"'PXS Kopieret'!D581","v":0},{"$f":"IF($A581<>\"PhD Student\",'PXS Kopieret'!E581,\"\")","v":0},{"$f":"IF($A581=\"PhD Student\",'PXS Kopieret'!F581,\"\")","v":""},{"$f":"'PXS Kopieret'!G581","v":0},{"$f":"'PXS Kopieret'!H581","v":0},{"$f":"IF($A581=\"PhD Student\",'PXS Kopieret'!I581,\"\")","v":""},{"$f":"'PXS Kopieret'!J581","v":0},{"$f":"'PXS Kopieret'!K581","v":0},{"$f":"'PXS Kopieret'!L581","v":0}]
["",{"$f":"IF('PXS Kopieret'!N582<>\"\",HYPERLINK(\"https://ssl1.peoplexs.com/Peoplexs22/eFormportal/eForm.cfm?CandidateUpdateID=\"&'PXS Kopieret'!M582&\"&CandidateUpdateCode=\"&'PXS Kopieret'!N582&\"&Locale=en&CustomFormID=11612\",\"Docs\"),\"\")","v":""},{"$f":"'PXS Kopieret'!A582","v":0},{"$f":"'PXS Kopieret'!B582","v":0},{"$f":"'PXS Kopieret'!C582","v":0},{"$f":"'PXS Kopieret'!D582","v":0},{"$f":"IF($A582<>\"PhD Student\",'PXS Kopieret'!E582,\"\")","v":0},{"$f":"IF($A582=\"PhD Student\",'PXS Kopieret'!F582,\"\")","v":""},{"$f":"'PXS Kopieret'!G582","v":0},{"$f":"'PXS Kopieret'!H582","v":0},{"$f":"IF($A582=\"PhD Student\",'PXS Kopieret'!I582,\"\")","v":""},{"$f":"'PXS Kopieret'!J582","v":0},{"$f":"'PXS Kopieret'!K582","v":0},{"$f":"'PXS Kopieret'!L582","v":0}]
["",{"$f":"IF('PXS Kopieret'!N583<>\"\",HYPERLINK(\"https://ssl1.peoplexs.com/Peoplexs22/eFormportal/eForm.cfm?CandidateUpdateID=\"&'PXS Kopieret'!M583&\"&CandidateUpdateCode=\"&'PXS Kopieret'!N583&\"&Locale=en&CustomFormID=11612\",\"Docs\"),\"\")","v":""},{"$f":"'PXS Kopieret'!A583","v":0},{"$f":"'PXS Kopieret'!B583","v":0},{"$f":"'PXS Kopieret'!C583","v":0},{"$f":"'PXS Kopieret'!D583","v":0},{"$f":"IF($A583<>\"PhD Student\",'PXS Kopieret'!E583,\"\")","v":0},{"$f":"IF($A583=\"PhD Student\",'PXS Kopieret'!F583,\"\")","v":""},{"$f":"'PXS Kopieret'!G583","v":0},{"$f":"'PXS Kopieret'!H583","v":0},{"$f":"IF($A583=\"PhD Student\",'PXS Kopieret'!I583,\"\")","v":""},{"$f":"'PXS Kopieret'!J583","v":0},{"$f":"'PXS Kopieret'!K583","v":0},{"$f":"'PXS Kopieret'!L583","v":0}]
["",{"$f":"IF('PXS Kopieret'!N584<>\"\",HYPERLINK(\"https://ssl1.peoplexs.com/Peoplexs22/eFormportal/eForm.cfm?CandidateUpdateID=\"&'PXS Kopieret'!M584&\"&CandidateUpdateCode=\"&'PXS Kopieret'!N584&\"&Locale=en&CustomFormID=11612\",\"Docs\"),\"\")","v":""},{"$f":"'PXS Kopieret'!A584","v":0},{"$f":"'PXS Kopieret'!B584","v":0},{"$f":"'PXS Kopieret'!C584","v":0},{"$f":"'PXS Kopieret'!D584","v":0},{"$f":"IF($A584<>\"PhD Student\",'PXS Kopieret'!E584,\"\")","v":0},{"$f":"IF($A584=\"PhD Student\",'PXS Kopieret'!F584,\"\")","v":""},{"$f":"'PXS Kopieret'!G584","v":0},{"$f":"'PXS Kopieret'!H584","v":0},{"$f":"IF($A584=\"PhD Student\",'PXS Kopieret'!I584,\"\")","v":""},{"$f":"'PXS Kopieret'!J584","v":0},{"$f":"'PXS Kopieret'!K584","v":0},{"$f":"'PXS Kopieret'!L584","v":0}]
["",{"$f":"IF('PXS Kopieret'!N585<>\"\",HYPERLINK(\"https://ssl1.peoplexs.com/Peoplexs22/eFormportal/eForm.cfm?CandidateUpdateID=\"&'PXS Kopieret'!M585&\"&CandidateUpdateCode=\"&'PXS Kopieret'!N585&\"&Locale=en&CustomFormID=11612\",\"Docs\"),\"\")","v":""},{"$f":"'PXS Kopieret'!A585","v":0},{"$f":"'PXS Kopieret'!B585","v":0},{"$f":"'PXS Kopieret'!C585","v":0},{"$f":"'PXS Kopieret'!D585","v":0},{"$f":"IF($A585<>\"PhD Student\",'PXS Kopieret'!E585,\"\")","v":0},{"$f":"IF($A585=\"PhD Student\",'PXS Kopieret'!F585,\"\")","v":""},{"$f":"'PXS Kopieret'!G585","v":0},{"$f":"'PXS Kopieret'!H585","v":0},{"$f":"IF($A585=\"PhD Student\",'PXS Kopieret'!I585,\"\")","v":""},{"$f":"'PXS Kopieret'!J585","v":0},{"$f":"'PXS Kopieret'!K585","v":0},{"$f":"'PXS Kopieret'!L585","v":0}]
["",{"$f":"IF('PXS Kopieret'!N586<>\"\",HYPERLINK(\"https://ssl1.peoplexs.com/Peoplexs22/eFormportal/eForm.cfm?CandidateUpdateID=\"&'PXS Kopieret'!M586&\"&CandidateUpdateCode=\"&'PXS Kopieret'!N586&\"&Locale=en&CustomFormID=11612\",\"Docs\"),\"\")","v":""},{"$f":"'PXS Kopieret'!A586","v":0},{"$f":"'PXS Kopieret'!B586","v":0},{"$f":"'PXS Kopieret'!C586","v":0},{"$f":"'PXS Kopieret'!D586","v":0},{"$f":"IF($A586<>\"PhD Student\",'PXS Kopieret'!E586,\"\")","v":0},{"$f":"IF($A586=\"PhD Student\",'PXS Kopieret'!F586,\"\")","v":""},{"$f":"'PXS Kopieret'!G586","v":0},{"$f":"'PXS Kopieret'!H586","v":0},{"$f":"IF($A586=\"PhD Student\",'PXS Kopieret'!I586,\"\")","v":""},{"$f":"'PXS Kopieret'!J586","v":0},{"$f":"'PXS Kopieret'!K586","v":0},{"$f":"'PXS Kopieret'!L586","v":0}]
["",{"$f":"IF('PXS Kopieret'!N587<>\"\",HYPERLINK(\"https://ssl1.peoplexs.com/Peoplexs22/eFormportal/eForm.cfm?CandidateUpdateID=\"&'PXS Kopieret'!M587&\"&CandidateUpdateCode=\"&'PXS Kopieret'!N587&\"&Locale=en&CustomFormID=11612\",\"Docs\"),\"\")","v":""},{"$f":"'PXS Kopieret'!A587","v":0},{"$f":"'PXS Kopieret'!B587","v":0},{"$f":"'PXS Kopieret'!C587","v":0},{"$f":"'PXS Kopieret'!D587","v":0},{"$f":"IF($A587<>\"PhD Student\",'PXS Kopieret'!E587,\"\")","v":0},{"$f":"IF($A587=\"PhD Student\",'PXS Kopieret'!F587,\"\")","v":""},{"$f":"'PXS Kopieret'!G587","v":0},{"$f":"'PXS Kopieret'!H587","v":0},{"$f":"IF($A587=\"PhD Student\",'PXS Kopieret'!I587,\"\")","v":""},{"$f":"'PXS Kopieret'!J587","v":0},{"$f":"'PXS Kopieret'!K587","v":0},{"$f":"'PXS Kopieret'!L587","v":0}]
["",{"$f":"IF('PXS Kopieret'!N588<>\"\",HYPERLINK(\"https://ssl1.peoplexs.com/Peoplexs22/eFormportal/eForm.cfm?CandidateUpdateID=\"&'PXS Kopieret'!M588&\"&CandidateUpdateCode=\"&'PXS Kopieret'!N588&\"&Locale=en&CustomFormID=11612\",\"Docs\"),\"\")","v":""},{"$f":"'PXS Kopieret'!A588","v":0},{"$f":"'PXS Kopieret'!B588","v":0},{"$f":"'PXS Kopieret'!C588","v":0},{"$f":"'PXS Kopieret'!D588","v":0},{"$f":"IF($A588<>\"PhD Student\",'PXS Kopieret'!E588,\"\")","v":0},{"$f":"IF($A588=\"PhD Student\",'PXS Kopieret'!F588,\"\")","v":""},{"$f":"'PXS Kopieret'!G588","v":0},{"$f":"'PXS Kopieret'!H588","v":0},{"$f":"IF($A588=\"PhD Student\",'PXS Kopieret'!I588,\"\")","v":""},{"$f":"'PXS Kopieret'!J588","v":0},{"$f":"'PXS Kopieret'!K588","v":0},{"$f":"'PXS Kopieret'!L588","v":0}]
["",{"$f":"IF('PXS Kopieret'!N589<>\"\",HYPERLINK(\"https://ssl1.peoplexs.com/Peoplexs22/eFormportal/eForm.cfm?CandidateUpdateID=\"&'PXS Kopieret'!M589&\"&CandidateUpdateCode=\"&'PXS Kopieret'!N589&\"&Locale=en&CustomFormID=11612\",\"Docs\"),\"\")","v":""},{"$f":"'PXS Kopieret'!A589","v":0},{"$f":"'PXS Kopieret'!B589","v":0},{"$f":"'PXS Kopieret'!C589","v":0},{"$f":"'PXS Kopieret'!D589","v":0},{"$f":"IF($A589<>\"PhD Student\",'PXS Kopieret'!E589,\"\")","v":0},{"$f":"IF($A589=\"PhD Student\",'PXS Kopieret'!F589,\"\")","v":""},{"$f":"'PXS Kopieret'!G589","v":0},{"$f":"'PXS Kopieret'!H589","v":0},{"$f":"IF($A589=\"PhD Student\",'PXS Kopieret'!I589,\"\")","v":""},{"$f":"'PXS Kopieret'!J589","v":0},{"$f":"'PXS Kopieret'!K589","v":0},{"$f":"'PXS Kopieret'!L589","v":0}]
["",{"$f":"IF('PXS Kopieret'!N590<>\"\",HYPERLINK(\"https://ssl1.peoplexs.com/Peoplexs22/eFormportal/eForm.cfm?CandidateUpdateID=\"&'PXS Kopieret'!M590&\"&CandidateUpdateCode=\"&'PXS Kopieret'!N590&\"&Locale=en&CustomFormID=11612\",\"Docs\"),\"\")","v":""},{"$f":"'PXS Kopieret'!A590","v":0},{"$f":"'PXS Kopieret'!B590","v":0},{"$f":"'PXS Kopieret'!C590","v":0},{"$f":"'PXS Kopieret'!D590","v":0},{"$f":"IF($A590<>\"PhD Student\",'PXS Kopieret'!E590,\"\")","v":0},{"$f":"IF($A590=\"PhD Student\",'PXS Kopieret'!F590,\"\")","v":""},{"$f":"'PXS Kopieret'!G590","v":0},{"$f":"'PXS Kopieret'!H590","v":0},{"$f":"IF($A590=\"PhD Student\",'PXS Kopieret'!I590,\"\")","v":""},{"$f":"'PXS Kopieret'!J590","v":0},{"$f":"'PXS Kopieret'!K590","v":0},{"$f":"'PXS Kopieret'!L590","v":0}]
["",{"$f":"IF('PXS Kopieret'!N591<>\"\",HYPERLINK(\"https://ssl1.peoplexs.com/Peoplexs22/eFormportal/eForm.cfm?CandidateUpdateID=\"&'PXS Kopieret'!M591&\"&CandidateUpdateCode=\"&'PXS Kopieret'!N591&\"&Locale=en&CustomFormID=11612\",\"Docs\"),\"\")","v":""},{"$f":"'PXS Kopieret'!A591","v":0},{"$f":"'PXS Kopieret'!B591","v":0},{"$f":"'PXS Kopieret'!C591","v":0},{"$f":"'PXS Kopieret'!D591","v":0},{"$f":"IF($A591<>\"PhD Student\",'PXS Kopieret'!E591,\"\")","v":0},{"$f":"IF($A591=\"PhD Student\",'PXS Kopieret'!F591,\"\")","v":""},{"$f":"'PXS Kopieret'!G591","v":0},{"$f":"'PXS Kopieret'!H591","v":0},{"$f":"IF($A591=\"PhD Student\",'PXS Kopieret'!I591,\"\")","v":""},{"$f":"'PXS Kopieret'!J591","v":0},{"$f":"'PXS Kopieret'!K591","v":0},{"$f":"'PXS Kopieret'!L591","v":0}]
["",{"$f":"IF('PXS Kopieret'!N592<>\"\",HYPERLINK(\"https://ssl1.peoplexs.com/Peoplexs22/eFormportal/eForm.cfm?CandidateUpdateID=\"&'PXS Kopieret'!M592&\"&CandidateUpdateCode=\"&'PXS Kopieret'!N592&\"&Locale=en&CustomFormID=11612\",\"Docs\"),\"\")","v":""},{"$f":"'PXS Kopieret'!A592","v":0},{"$f":"'PXS Kopieret'!B592","v":0},{"$f":"'PXS Kopieret'!C592","v":0},{"$f":"'PXS Kopieret'!D592","v":0},{"$f":"IF($A592<>\"PhD Student\",'PXS Kopieret'!E592,\"\")","v":0},{"$f":"IF($A592=\"PhD Student\",'PXS Kopieret'!F592,\"\")","v":""},{"$f":"'PXS Kopieret'!G592","v":0},{"$f":"'PXS Kopieret'!H592","v":0},{"$f":"IF($A592=\"PhD Student\",'PXS Kopieret'!I592,\"\")","v":""},{"$f":"'PXS Kopieret'!J592","v":0},{"$f":"'PXS Kopieret'!K592","v":0},{"$f":"'PXS Kopieret'!L592","v":0}]
["",{"$f":"IF('PXS Kopieret'!N593<>\"\",HYPERLINK(\"https://ssl1.peoplexs.com/Peoplexs22/eFormportal/eForm.cfm?CandidateUpdateID=\"&'PXS Kopieret'!M593&\"&CandidateUpdateCode=\"&'PXS Kopieret'!N593&\"&Locale=en&CustomFormID=11612\",\"Docs\"),\"\")","v":""},{"$f":"'PXS Kopieret'!A593","v":0},{"$f":"'PXS Kopieret'!B593","v":0},{"$f":"'PXS Kopieret'!C593","v":0},{"$f":"'PXS Kopieret'!D593","v":0},{"$f":"IF($A593<>\"PhD Student\",'PXS Kopieret'!E593,\"\")","v":0},{"$f":"IF($A593=\"PhD Student\",'PXS Kopieret'!F593,\"\")","v":""},{"$f":"'PXS Kopieret'!G593","v":0},{"$f":"'PXS Kopieret'!H593","v":0},{"$f":"IF($A593=\"PhD Student\",'PXS Kopieret'!I593,\"\")","v":""},{"$f":"'PXS Kopieret'!J593","v":0},{"$f":"'PXS Kopieret'!K593","v":0},{"$f":"'PXS Kopieret'!L593","v":0}]
["",{"$f":"IF('PXS Kopieret'!N594<>\"\",HYPERLINK(\"https://ssl1.peoplexs.com/Peoplexs22/eFormportal/eForm.cfm?CandidateUpdateID=\"&'PXS Kopieret'!M594&\"&CandidateUpdateCode=\"&'PXS Kopieret'!N594&\"&Locale=en&CustomFormID=11612\",\"Docs\"),\"\")","v":""},{"$f":"'PXS Kopieret'!A594","v":0},{"$f":"'PXS Kopieret'!B594","v":0},{"$f":"'PXS Kopieret'!C594","v":0},{"$f":"'PXS Kopieret'!D594","v":0},{"$f":"IF($A594<>\"PhD Student\",'PXS Kopieret'!E594,\"\")","v":0},{"$f":"IF($A594=\"PhD Student\",'PXS Kopieret'!F594,\"\")","v":""},{"$f":"'PXS Kopieret'!G594","v":0},{"$f":"'PXS Kopieret'!H594","v":0},{"$f":"IF($A594=\"PhD Student\",'PXS Kopieret'!I594,\"\")","v":""},{"$f":"'PXS Kopieret'!J594","v":0},{"$f":"'PXS Kopieret'!K594","v":0},{"$f":"'PXS Kopieret'!L594","v":0}]
["",{"$f":"IF('PXS Kopieret'!N595<>\"\",HYPERLINK(\"https://ssl1.peoplexs.com/Peoplexs22/eFormportal/eForm.cfm?CandidateUpdateID=\"&'PXS Kopieret'!M595&\"&CandidateUpdateCode=\"&'PXS Kopieret'!N595&\"&Locale=en&CustomFormID=11612\",\"Docs\"),\"\")","v":""},{"$f":"'PXS Kopieret'!A595","v":0},{"$f":"'PXS Kopieret'!B595","v":0},{"$f":"'PXS Kopieret'!C595","v":0},{"$f":"'PXS Kopieret'!D595","v":0},{"$f":"IF($A595<>\"PhD Student\",'PXS Kopieret'!E595,\"\")","v":0},{"$f":"IF($A595=\"PhD Student\",'PXS Kopieret'!F595,\"\")","v":""},{"$f":"'PXS Kopieret'!G595","v":0},{"$f":"'PXS Kopieret'!H595","v":0},{"$f":"IF($A595=\"PhD Student\",'PXS Kopieret'!I595,\"\")","v":""},{"$f":"'PXS Kopieret'!J595","v":0},{"$f":"'PXS Kopieret'!K595","v":0},{"$f":"'PXS Kopieret'!L595","v":0}]
["",{"$f":"IF('PXS Kopieret'!N596<>\"\",HYPERLINK(\"https://ssl1.peoplexs.com/Peoplexs22/eFormportal/eForm.cfm?CandidateUpdateID=\"&'PXS Kopieret'!M596&\"&CandidateUpdateCode=\"&'PXS Kopieret'!N596&\"&Locale=en&CustomFormID=11612\",\"Docs\"),\"\")","v":""},{"$f":"'PXS Kopieret'!A596","v":0},{"$f":"'PXS Kopieret'!B596","v":0},{"$f":"'PXS Kopieret'!C596","v":0},{"$f":"'PXS Kopieret'!D596","v":0},{"$f":"IF($A596<>\"PhD Student\",'PXS Kopieret'!E596,\"\")","v":0},{"$f":"IF($A596=\"PhD Student\",'PXS Kopieret'!F596,\"\")","v":""},{"$f":"'PXS Kopieret'!G596","v":0},{"$f":"'PXS Kopieret'!H596","v":0},{"$f":"IF($A596=\"PhD Student\",'PXS Kopieret'!I596,\"\")","v":""},{"$f":"'PXS Kopieret'!J596","v":0},{"$f":"'PXS Kopieret'!K596","v":0},{"$f":"'PXS Kopieret'!L596","v":0}]
["",{"$f":"IF('PXS Kopieret'!N597<>\"\",HYPERLINK(\"https://ssl1.peoplexs.com/Peoplexs22/eFormportal/eForm.cfm?CandidateUpdateID=\"&'PXS Kopieret'!M597&\"&CandidateUpdateCode=\"&'PXS Kopieret'!N597&\"&Locale=en&CustomFormID=11612\",\"Docs\"),\"\")","v":""},{"$f":"'PXS Kopieret'!A597","v":0},{"$f":"'PXS Kopieret'!B597","v":0},{"$f":"'PXS Kopieret'!C597","v":0},{"$f":"'PXS Kopieret'!D597","v":0},{"$f":"IF($A597<>\"PhD Student\",'PXS Kopieret'!E597,\"\")","v":0},{"$f":"IF($A597=\"PhD Student\",'PXS Kopieret'!F597,\"\")","v":""},{"$f":"'PXS Kopieret'!G597","v":0},{"$f":"'PXS Kopieret'!H597","v":0},{"$f":"IF($A597=\"PhD Student\",'PXS Kopieret'!I597,\"\")","v":""},{"$f":"'PXS Kopieret'!J597","v":0},{"$f":"'PXS Kopieret'!K597","v":0},{"$f":"'PXS Kopieret'!L597","v":0}]
["",{"$f":"IF('PXS Kopieret'!N598<>\"\",HYPERLINK(\"https://ssl1.peoplexs.com/Peoplexs22/eFormportal/eForm.cfm?CandidateUpdateID=\"&'PXS Kopieret'!M598&\"&CandidateUpdateCode=\"&'PXS Kopieret'!N598&\"&Locale=en&CustomFormID=11612\",\"Docs\"),\"\")","v":""},{"$f":"'PXS Kopieret'!A598","v":0},{"$f":"'PXS Kopieret'!B598","v":0},{"$f":"'PXS Kopieret'!C598","v":0},{"$f":"'PXS Kopieret'!D598","v":0},{"$f":"IF($A598<>\"PhD Student\",'PXS Kopieret'!E598,\"\")","v":0},{"$f":"IF($A598=\"PhD Student\",'PXS Kopieret'!F598,\"\")","v":""},{"$f":"'PXS Kopieret'!G598","v":0},{"$f":"'PXS Kopieret'!H598","v":0},{"$f":"IF($A598=\"PhD Student\",'PXS Kopieret'!I598,\"\")","v":""},{"$f":"'PXS Kopieret'!J598","v":0},{"$f":"'PXS Kopieret'!K598","v":0},{"$f":"'PXS Kopieret'!L598","v":0}]
["",{"$f":"IF('PXS Kopieret'!N599<>\"\",HYPERLINK(\"https://ssl1.peoplexs.com/Peoplexs22/eFormportal/eForm.cfm?CandidateUpdateID=\"&'PXS Kopieret'!M599&\"&CandidateUpdateCode=\"&'PXS Kopieret'!N599&\"&Locale=en&CustomFormID=11612\",\"Docs\"),\"\")","v":""},{"$f":"'PXS Kopieret'!A599","v":0},{"$f":"'PXS Kopieret'!B599","v":0},{"$f":"'PXS Kopieret'!C599","v":0},{"$f":"'PXS Kopieret'!D599","v":0},{"$f":"IF($A599<>\"PhD Student\",'PXS Kopieret'!E599,\"\")","v":0},{"$f":"IF($A599=\"PhD Student\",'PXS Kopieret'!F599,\"\")","v":""},{"$f":"'PXS Kopieret'!G599","v":0},{"$f":"'PXS Kopieret'!H599","v":0},{"$f":"IF($A599=\"PhD Student\",'PXS Kopieret'!I599,\"\")","v":""},{"$f":"'PXS Kopieret'!J599","v":0},{"$f":"'PXS Kopieret'!K599","v":0},{"$f":"'PXS Kopieret'!L599","v":0}]
["",{"$f":"IF('PXS Kopieret'!N600<>\"\",HYPERLINK(\"https://ssl1.peoplexs.com/Peoplexs22/eFormportal/eForm.cfm?CandidateUpdateID=\"&'PXS Kopieret'!M600&\"&CandidateUpdateCode=\"&'PXS Kopieret'!N600&\"&Locale=en&CustomFormID=11612\",\"Docs\"),\"\")","v":""},{"$f":"'PXS Kopieret'!A600","v":0},{"$f":"'PXS Kopieret'!B600","v":0},{"$f":"'PXS Kopieret'!C600","v":0},{"$f":"'PXS Kopieret'!D600","v":0},{"$f":"IF($A600<>\"PhD Student\",'PXS Kopieret'!E600,\"\")","v":0},{"$f":"IF($A600=\"PhD Student\",'PXS Kopieret'!F600,\"\")","v":""},{"$f":"'PXS Kopieret'!G600","v":0},{"$f":"'PXS Kopieret'!H600","v":0},{"$f":"IF($A600=\"PhD Student\",'PXS Kopieret'!I600,\"\")","v":""},{"$f":"'PXS Kopieret'!J600","v":0},{"$f":"'PXS Kopieret'!K600","v":0},{"$f":"'PXS Kopieret'!L600","v":0}]
["",{"$f":"IF('PXS Kopieret'!N601<>\"\",HYPERLINK(\"https://ssl1.peoplexs.com/Peoplexs22/eFormportal/eForm.cfm?CandidateUpdateID=\"&'PXS Kopieret'!M601&\"&CandidateUpdateCode=\"&'PXS Kopieret'!N601&\"&Locale=en&CustomFormID=11612\",\"Docs\"),\"\")","v":""},{"$f":"'PXS Kopieret'!A601","v":0},{"$f":"'PXS Kopieret'!B601","v":0},{"$f":"'PXS Kopieret'!C601","v":0},{"$f":"'PXS Kopieret'!D601","v":0},{"$f":"IF($A601<>\"PhD Student\",'PXS Kopieret'!E601,\"\")","v":0},{"$f":"IF($A601=\"PhD Student\",'PXS Kopieret'!F601,\"\")","v":""},{"$f":"'PXS Kopieret'!G601","v":0},{"$f":"'PXS Kopieret'!H601","v":0},{"$f":"IF($A601=\"PhD Student\",'PXS Kopieret'!I601,\"\")","v":""},{"$f":"'PXS Kopieret'!J601","v":0},{"$f":"'PXS Kopieret'!K601","v":0},{"$f":"'PXS Kopieret'!L601","v":0}]
["",{"$f":"IF('PXS Kopieret'!N602<>\"\",HYPERLINK(\"https://ssl1.peoplexs.com/Peoplexs22/eFormportal/eForm.cfm?CandidateUpdateID=\"&'PXS Kopieret'!M602&\"&CandidateUpdateCode=\"&'PXS Kopieret'!N602&\"&Locale=en&CustomFormID=11612\",\"Docs\"),\"\")","v":""},{"$f":"'PXS Kopieret'!A602","v":0},{"$f":"'PXS Kopieret'!B602","v":0},{"$f":"'PXS Kopieret'!C602","v":0},{"$f":"'PXS Kopieret'!D602","v":0},{"$f":"IF($A602<>\"PhD Student\",'PXS Kopieret'!E602,\"\")","v":0},{"$f":"IF($A602=\"PhD Student\",'PXS Kopieret'!F602,\"\")","v":""},{"$f":"'PXS Kopieret'!G602","v":0},{"$f":"'PXS Kopieret'!H602","v":0},{"$f":"IF($A602=\"PhD Student\",'PXS Kopieret'!I602,\"\")","v":""},{"$f":"'PXS Kopieret'!J602","v":0},{"$f":"'PXS Kopieret'!K602","v":0},{"$f":"'PXS Kopieret'!L602","v":0}]
["",{"$f":"IF('PXS Kopieret'!N603<>\"\",HYPERLINK(\"https://ssl1.peoplexs.com/Peoplexs22/eFormportal/eForm.cfm?CandidateUpdateID=\"&'PXS Kopieret'!M603&\"&CandidateUpdateCode=\"&'PXS Kopieret'!N603&\"&Locale=en&CustomFormID=11612\",\"Docs\"),\"\")","v":""},{"$f":"'PXS Kopieret'!A603","v":0},{"$f":"'PXS Kopieret'!B603","v":0},{"$f":"'PXS Kopieret'!C603","v":0},{"$f":"'PXS Kopieret'!D603","v":0},{"$f":"IF($A603<>\"PhD Student\",'PXS Kopieret'!E603,\"\")","v":0},{"$f":"IF($A603=\"PhD Student\",'PXS Kopieret'!F603,\"\")","v":""},{"$f":"'PXS Kopieret'!G603","v":0},{"$f":"'PXS Kopieret'!H603","v":0},{"$f":"IF($A603=\"PhD Student\",'PXS Kopieret'!I603,\"\")","v":""},{"$f":"'PXS Kopieret'!J603","v":0},{"$f":"'PXS Kopieret'!K603","v":0},{"$f":"'PXS Kopieret'!L603","v":0}]
["",{"$f":"IF('PXS Kopieret'!N604<>\"\",HYPERLINK(\"https://ssl1.peoplexs.com/Peoplexs22/eFormportal/eForm.cfm?CandidateUpdateID=\"&'PXS Kopieret'!M604&\"&CandidateUpdateCode=\"&'PXS Kopieret'!N604&\"&Locale=en&CustomFormID=11612\",\"Docs\"),\"\")","v":""},{"$f":"'PXS Kopieret'!A604","v":0},{"$f":"'PXS Kopieret'!B604","v":0},{"$f":"'PXS Kopieret'!C604","v":0},{"$f":"'PXS Kopieret'!D604","v":0},{"$f":"IF($A604<>\"PhD Student\",'PXS Kopieret'!E604,\"\")","v":0},{"$f":"IF($A604=\"PhD Student\",'PXS Kopieret'!F604,\"\")","v":""},{"$f":"'PXS Kopieret'!G604","v":0},{"$f":"'PXS Kopieret'!H604","v":0},{"$f":"IF($A604=\"PhD Student\",'PXS Kopieret'!I604,\"\")","v":""},{"$f":"'PXS Kopieret'!J604","v":0},{"$f":"'PXS Kopieret'!K604","v":0},{"$f":"'PXS Kopieret'!L604","v":0}]
["",{"$f":"IF('PXS Kopieret'!N605<>\"\",HYPERLINK(\"https://ssl1.peoplexs.com/Peoplexs22/eFormportal/eForm.cfm?CandidateUpdateID=\"&'PXS Kopieret'!M605&\"&CandidateUpdateCode=\"&'PXS Kopieret'!N605&\"&Locale=en&CustomFormID=11612\",\"Docs\"),\"\")","v":""},{"$f":"'PXS Kopieret'!A605","v":0},{"$f":"'PXS Kopieret'!B605","v":0},{"$f":"'PXS Kopieret'!C605","v":0},{"$f":"'PXS Kopieret'!D605","v":0},{"$f":"IF($A605<>\"PhD Student\",'PXS Kopieret'!E605,\"\")","v":0},{"$f":"IF($A605=\"PhD Student\",'PXS Kopieret'!F605,\"\")","v":""},{"$f":"'PXS Kopieret'!G605","v":0},{"$f":"'PXS Kopieret'!H605","v":0},{"$f":"IF($A605=\"PhD Student\",'PXS Kopieret'!I605,\"\")","v":""},{"$f":"'PXS Kopieret'!J605","v":0},{"$f":"'PXS Kopieret'!K605","v":0},{"$f":"'PXS Kopieret'!L605","v":0}]
["",{"$f":"IF('PXS Kopieret'!N606<>\"\",HYPERLINK(\"https://ssl1.peoplexs.com/Peoplexs22/eFormportal/eForm.cfm?CandidateUpdateID=\"&'PXS Kopieret'!M606&\"&CandidateUpdateCode=\"&'PXS Kopieret'!N606&\"&Locale=en&CustomFormID=11612\",\"Docs\"),\"\")","v":""},{"$f":"'PXS Kopieret'!A606","v":0},{"$f":"'PXS Kopieret'!B606","v":0},{"$f":"'PXS Kopieret'!C606","v":0},{"$f":"'PXS Kopieret'!D606","v":0},{"$f":"IF($A606<>\"PhD Student\",'PXS Kopieret'!E606,\"\")","v":0},{"$f":"IF($A606=\"PhD Student\",'PXS Kopieret'!F606,\"\")","v":""},{"$f":"'PXS Kopieret'!G606","v":0},{"$f":"'PXS Kopieret'!H606","v":0},{"$f":"IF($A606=\"PhD Student\",'PXS Kopieret'!I606,\"\")","v":""},{"$f":"'PXS Kopieret'!J606","v":0},{"$f":"'PXS Kopieret'!K606","v":0},{"$f":"'PXS Kopieret'!L606","v":0}]
["",{"$f":"IF('PXS Kopieret'!N607<>\"\",HYPERLINK(\"https://ssl1.peoplexs.com/Peoplexs22/eFormportal/eForm.cfm?CandidateUpdateID=\"&'PXS Kopieret'!M607&\"&CandidateUpdateCode=\"&'PXS Kopieret'!N607&\"&Locale=en&CustomFormID=11612\",\"Docs\"),\"\")","v":""},{"$f":"'PXS Kopieret'!A607","v":0},{"$f":"'PXS Kopieret'!B607","v":0},{"$f":"'PXS Kopieret'!C607","v":0},{"$f":"'PXS Kopieret'!D607","v":0},{"$f":"IF($A607<>\"PhD Student\",'PXS Kopieret'!E607,\"\")","v":0},{"$f":"IF($A607=\"PhD Student\",'PXS Kopieret'!F607,\"\")","v":""},{"$f":"'PXS Kopieret'!G607","v":0},{"$f":"'PXS Kopieret'!H607","v":0},{"$f":"IF($A607=\"PhD Student\",'PXS Kopieret'!I607,\"\")","v":""},{"$f":"'PXS Kopieret'!J607","v":0},{"$f":"'PXS Kopieret'!K607","v":0},{"$f":"'PXS Kopieret'!L607","v":0}]
["",{"$f":"IF('PXS Kopieret'!N608<>\"\",HYPERLINK(\"https://ssl1.peoplexs.com/Peoplexs22/eFormportal/eForm.cfm?CandidateUpdateID=\"&'PXS Kopieret'!M608&\"&CandidateUpdateCode=\"&'PXS Kopieret'!N608&\"&Locale=en&CustomFormID=11612\",\"Docs\"),\"\")","v":""},{"$f":"'PXS Kopieret'!A608","v":0},{"$f":"'PXS Kopieret'!B608","v":0},{"$f":"'PXS Kopieret'!C608","v":0},{"$f":"'PXS Kopieret'!D608","v":0},{"$f":"IF($A608<>\"PhD Student\",'PXS Kopieret'!E608,\"\")","v":0},{"$f":"IF($A608=\"PhD Student\",'PXS Kopieret'!F608,\"\")","v":""},{"$f":"'PXS Kopieret'!G608","v":0},{"$f":"'PXS Kopieret'!H608","v":0},{"$f":"IF($A608=\"PhD Student\",'PXS Kopieret'!I608,\"\")","v":""},{"$f":"'PXS Kopieret'!J608","v":0},{"$f":"'PXS Kopieret'!K608","v":0},{"$f":"'PXS Kopieret'!L608","v":0}]
["",{"$f":"IF('PXS Kopieret'!N609<>\"\",HYPERLINK(\"https://ssl1.peoplexs.com/Peoplexs22/eFormportal/eForm.cfm?CandidateUpdateID=\"&'PXS Kopieret'!M609&\"&CandidateUpdateCode=\"&'PXS Kopieret'!N609&\"&Locale=en&CustomFormID=11612\",\"Docs\"),\"\")","v":""},{"$f":"'PXS Kopieret'!A609","v":0},{"$f":"'PXS Kopieret'!B609","v":0},{"$f":"'PXS Kopieret'!C609","v":0},{"$f":"'PXS Kopieret'!D609","v":0},{"$f":"IF($A609<>\"PhD Student\",'PXS Kopieret'!E609,\"\")","v":0},{"$f":"IF($A609=\"PhD Student\",'PXS Kopieret'!F609,\"\")","v":""},{"$f":"'PXS Kopieret'!G609","v":0},{"$f":"'PXS Kopieret'!H609","v":0},{"$f":"IF($A609=\"PhD Student\",'PXS Kopieret'!I609,\"\")","v":""},{"$f":"'PXS Kopieret'!J609","v":0},{"$f":"'PXS Kopieret'!K609","v":0},{"$f":"'PXS Kopieret'!L609","v":0}]
["",{"$f":"IF('PXS Kopieret'!N610<>\"\",HYPERLINK(\"https://ssl1.peoplexs.com/Peoplexs22/eFormportal/eForm.cfm?CandidateUpdateID=\"&'PXS Kopieret'!M610&\"&CandidateUpdateCode=\"&'PXS Kopieret'!N610&\"&Locale=en&CustomFormID=11612\",\"Docs\"),\"\")","v":""},{"$f":"'PXS Kopieret'!A610","v":0},{"$f":"'PXS Kopieret'!B610","v":0},{"$f":"'PXS Kopieret'!C610","v":0},{"$f":"'PXS Kopieret'!D610","v":0},{"$f":"IF($A610<>\"PhD Student\",'PXS Kopieret'!E610,\"\")","v":0},{"$f":"IF($A610=\"PhD Student\",'PXS Kopieret'!F610,\"\")","v":""},{"$f":"'PXS Kopieret'!G610","v":0},{"$f":"'PXS Kopieret'!H610","v":0},{"$f":"IF($A610=\"PhD Student\",'PXS Kopieret'!I610,\"\")","v":""},{"$f":"'PXS Kopieret'!J610","v":0},{"$f":"'PXS Kopieret'!K610","v":0},{"$f":"'PXS Kopieret'!L610","v":0}]
["",{"$f":"IF('PXS Kopieret'!N611<>\"\",HYPERLINK(\"https://ssl1.peoplexs.com/Peoplexs22/eFormportal/eForm.cfm?CandidateUpdateID=\"&'PXS Kopieret'!M611&\"&CandidateUpdateCode=\"&'PXS Kopieret'!N611&\"&Locale=en&CustomFormID=11612\",\"Docs\"),\"\")","v":""},{"$f":"'PXS Kopieret'!A611","v":0},{"$f":"'PXS Kopieret'!B611","v":0},{"$f":"'PXS Kopieret'!C611","v":0},{"$f":"'PXS Kopieret'!D611","v":0},{"$f":"IF($A611<>\"PhD Student\",'PXS Kopieret'!E611,\"\")","v":0},{"$f":"IF($A611=\"PhD Student\",'PXS Kopieret'!F611,\"\")","v":""},{"$f":"'PXS Kopieret'!G611","v":0},{"$f":"'PXS Kopieret'!H611","v":0},{"$f":"IF($A611=\"PhD Student\",'PXS Kopieret'!I611,\"\")","v":""},{"$f":"'PXS Kopieret'!J611","v":0},{"$f":"'PXS Kopieret'!K611","v":0},{"$f":"'PXS Kopieret'!L611","v":0}]
["",{"$f":"IF('PXS Kopieret'!N612<>\"\",HYPERLINK(\"https://ssl1.peoplexs.com/Peoplexs22/eFormportal/eForm.cfm?CandidateUpdateID=\"&'PXS Kopieret'!M612&\"&CandidateUpdateCode=\"&'PXS Kopieret'!N612&\"&Locale=en&CustomFormID=11612\",\"Docs\"),\"\")","v":""},{"$f":"'PXS Kopieret'!A612","v":0},{"$f":"'PXS Kopieret'!B612","v":0},{"$f":"'PXS Kopieret'!C612","v":0},{"$f":"'PXS Kopieret'!D612","v":0},{"$f":"IF($A612<>\"PhD Student\",'PXS Kopieret'!E612,\"\")","v":0},{"$f":"IF($A612=\"PhD Student\",'PXS Kopieret'!F612,\"\")","v":""},{"$f":"'PXS Kopieret'!G612","v":0},{"$f":"'PXS Kopieret'!H612","v":0},{"$f":"IF($A612=\"PhD Student\",'PXS Kopieret'!I612,\"\")","v":""},{"$f":"'PXS Kopieret'!J612","v":0},{"$f":"'PXS Kopieret'!K612","v":0},{"$f":"'PXS Kopieret'!L612","v":0}]
["",{"$f":"IF('PXS Kopieret'!N613<>\"\",HYPERLINK(\"https://ssl1.peoplexs.com/Peoplexs22/eFormportal/eForm.cfm?CandidateUpdateID=\"&'PXS Kopieret'!M613&\"&CandidateUpdateCode=\"&'PXS Kopieret'!N613&\"&Locale=en&CustomFormID=11612\",\"Docs\"),\"\")","v":""},{"$f":"'PXS Kopieret'!A613","v":0},{"$f":"'PXS Kopieret'!B613","v":0},{"$f":"'PXS Kopieret'!C613","v":0},{"$f":"'PXS Kopieret'!D613","v":0},{"$f":"IF($A613<>\"PhD Student\",'PXS Kopieret'!E613,\"\")","v":0},{"$f":"IF($A613=\"PhD Student\",'PXS Kopieret'!F613,\"\")","v":""},{"$f":"'PXS Kopieret'!G613","v":0},{"$f":"'PXS Kopieret'!H613","v":0},{"$f":"IF($A613=\"PhD Student\",'PXS Kopieret'!I613,\"\")","v":""},{"$f":"'PXS Kopieret'!J613","v":0},{"$f":"'PXS Kopieret'!K613","v":0},{"$f":"'PXS Kopieret'!L613","v":0}]
["",{"$f":"IF('PXS Kopieret'!N614<>\"\",HYPERLINK(\"https://ssl1.peoplexs.com/Peoplexs22/eFormportal/eForm.cfm?CandidateUpdateID=\"&'PXS Kopieret'!M614&\"&CandidateUpdateCode=\"&'PXS Kopieret'!N614&\"&Locale=en&CustomFormID=11612\",\"Docs\"),\"\")","v":""},{"$f":"'PXS Kopieret'!A614","v":0},{"$f":"'PXS Kopieret'!B614","v":0},{"$f":"'PXS Kopieret'!C614","v":0},{"$f":"'PXS Kopieret'!D614","v":0},{"$f":"IF($A614<>\"PhD Student\",'PXS Kopieret'!E614,\"\")","v":0},{"$f":"IF($A614=\"PhD Student\",'PXS Kopieret'!F614,\"\")","v":""},{"$f":"'PXS Kopieret'!G614","v":0},{"$f":"'PXS Kopieret'!H614","v":0},{"$f":"IF($A614=\"PhD Student\",'PXS Kopieret'!I614,\"\")","v":""},{"$f":"'PXS Kopieret'!J614","v":0},{"$f":"'PXS Kopieret'!K614","v":0},{"$f":"'PXS Kopieret'!L614","v":0}]
["",{"$f":"IF('PXS Kopieret'!N615<>\"\",HYPERLINK(\"https://ssl1.peoplexs.com/Peoplexs22/eFormportal/eForm.cfm?CandidateUpdateID=\"&'PXS Kopieret'!M615&\"&CandidateUpdateCode=\"&'PXS Kopieret'!N615&\"&Locale=en&CustomFormID=11612\",\"Docs\"),\"\")","v":""},{"$f":"'PXS Kopieret'!A615","v":0},{"$f":"'PXS Kopieret'!B615","v":0},{"$f":"'PXS Kopieret'!C615","v":0},{"$f":"'PXS Kopieret'!D615","v":0},{"$f":"IF($A615<>\"PhD Student\",'PXS Kopieret'!E615,\"\")","v":0},{"$f":"IF($A615=\"PhD Student\",'PXS Kopieret'!F615,\"\")","v":""},{"$f":"'PXS Kopieret'!G615","v":0},{"$f":"'PXS Kopieret'!H615","v":0},{"$f":"IF($A615=\"PhD Student\",'PXS Kopieret'!I615,\"\")","v":""},{"$f":"'PXS Kopieret'!J615","v":0},{"$f":"'PXS Kopieret'!K615","v":0},{"$f":"'PXS Kopieret'!L615","v":0}]
["",{"$f":"IF('PXS Kopieret'!N616<>\"\",HYPERLINK(\"https://ssl1.peoplexs.com/Peoplexs22/eFormportal/eForm.cfm?CandidateUpdateID=\"&'PXS Kopieret'!M616&\"&CandidateUpdateCode=\"&'PXS Kopieret'!N616&\"&Locale=en&CustomFormID=11612\",\"Docs\"),\"\")","v":""},{"$f":"'PXS Kopieret'!A616","v":0},{"$f":"'PXS Kopieret'!B616","v":0},{"$f":"'PXS Kopieret'!C616","v":0},{"$f":"'PXS Kopieret'!D616","v":0},{"$f":"IF($A616<>\"PhD Student\",'PXS Kopieret'!E616,\"\")","v":0},{"$f":"IF($A616=\"PhD Student\",'PXS Kopieret'!F616,\"\")","v":""},{"$f":"'PXS Kopieret'!G616","v":0},{"$f":"'PXS Kopieret'!H616","v":0},{"$f":"IF($A616=\"PhD Student\",'PXS Kopieret'!I616,\"\")","v":""},{"$f":"'PXS Kopieret'!J616","v":0},{"$f":"'PXS Kopieret'!K616","v":0},{"$f":"'PXS Kopieret'!L616","v":0}]
["",{"$f":"IF('PXS Kopieret'!N617<>\"\",HYPERLINK(\"https://ssl1.peoplexs.com/Peoplexs22/eFormportal/eForm.cfm?CandidateUpdateID=\"&'PXS Kopieret'!M617&\"&CandidateUpdateCode=\"&'PXS Kopieret'!N617&\"&Locale=en&CustomFormID=11612\",\"Docs\"),\"\")","v":""},{"$f":"'PXS Kopieret'!A617","v":0},{"$f":"'PXS Kopieret'!B617","v":0},{"$f":"'PXS Kopieret'!C617","v":0},{"$f":"'PXS Kopieret'!D617","v":0},{"$f":"IF($A617<>\"PhD Student\",'PXS Kopieret'!E617,\"\")","v":0},{"$f":"IF($A617=\"PhD Student\",'PXS Kopieret'!F617,\"\")","v":""},{"$f":"'PXS Kopieret'!G617","v":0},{"$f":"'PXS Kopieret'!H617","v":0},{"$f":"IF($A617=\"PhD Student\",'PXS Kopieret'!I617,\"\")","v":""},{"$f":"'PXS Kopieret'!J617","v":0},{"$f":"'PXS Kopieret'!K617","v":0},{"$f":"'PXS Kopieret'!L617","v":0}]
["",{"$f":"IF('PXS Kopieret'!N618<>\"\",HYPERLINK(\"https://ssl1.peoplexs.com/Peoplexs22/eFormportal/eForm.cfm?CandidateUpdateID=\"&'PXS Kopieret'!M618&\"&CandidateUpdateCode=\"&'PXS Kopieret'!N618&\"&Locale=en&CustomFormID=11612\",\"Docs\"),\"\")","v":""},{"$f":"'PXS Kopieret'!A618","v":0},{"$f":"'PXS Kopieret'!B618","v":0},{"$f":"'PXS Kopieret'!C618","v":0},{"$f":"'PXS Kopieret'!D618","v":0},{"$f":"IF($A618<>\"PhD Student\",'PXS Kopieret'!E618,\"\")","v":0},{"$f":"IF($A618=\"PhD Student\",'PXS Kopieret'!F618,\"\")","v":""},{"$f":"'PXS Kopieret'!G618","v":0},{"$f":"'PXS Kopieret'!H618","v":0},{"$f":"IF($A618=\"PhD Student\",'PXS Kopieret'!I618,\"\")","v":""},{"$f":"'PXS Kopieret'!J618","v":0},{"$f":"'PXS Kopieret'!K618","v":0},{"$f":"'PXS Kopieret'!L618","v":0}]
["",{"$f":"IF('PXS Kopieret'!N619<>\"\",HYPERLINK(\"https://ssl1.peoplexs.com/Peoplexs22/eFormportal/eForm.cfm?CandidateUpdateID=\"&'PXS Kopieret'!M619&\"&CandidateUpdateCode=\"&'PXS Kopieret'!N619&\"&Locale=en&CustomFormID=11612\",\"Docs\"),\"\")","v":""},{"$f":"'PXS Kopieret'!A619","v":0},{"$f":"'PXS Kopieret'!B619","v":0},{"$f":"'PXS Kopieret'!C619","v":0},{"$f":"'PXS Kopieret'!D619","v":0},{"$f":"IF($A619<>\"PhD Student\",'PXS Kopieret'!E619,\"\")","v":0},{"$f":"IF($A619=\"PhD Student\",'PXS Kopieret'!F619,\"\")","v":""},{"$f":"'PXS Kopieret'!G619","v":0},{"$f":"'PXS Kopieret'!H619","v":0},{"$f":"IF($A619=\"PhD Student\",'PXS Kopieret'!I619,\"\")","v":""},{"$f":"'PXS Kopieret'!J619","v":0},{"$f":"'PXS Kopieret'!K619","v":0},{"$f":"'PXS Kopieret'!L619","v":0}]
["",{"$f":"IF('PXS Kopieret'!N620<>\"\",HYPERLINK(\"https://ssl1.peoplexs.com/Peoplexs22/eFormportal/eForm.cfm?CandidateUpdateID=\"&'PXS Kopieret'!M620&\"&CandidateUpdateCode=\"&'PXS Kopieret'!N620&\"&Locale=en&CustomFormID=11612\",\"Docs\"),\"\")","v":""},{"$f":"'PXS Kopieret'!A620","v":0},{"$f":"'PXS Kopieret'!B620","v":0},{"$f":"'PXS Kopieret'!C620","v":0},{"$f":"'PXS Kopieret'!D620","v":0},{"$f":"IF($A620<>\"PhD Student\",'PXS Kopieret'!E620,\"\")","v":0},{"$f":"IF($A620=\"PhD Student\",'PXS Kopieret'!F620,\"\")","v":""},{"$f":"'PXS Kopieret'!G620","v":0},{"$f":"'PXS Kopieret'!H620","v":0},{"$f":"IF($A620=\"PhD Student\",'PXS Kopieret'!I620,\"\")","v":""},{"$f":"'PXS Kopieret'!J620","v":0},{"$f":"'PXS Kopieret'!K620","v":0},{"$f":"'PXS Kopieret'!L620","v":0}]
["",{"$f":"IF('PXS Kopieret'!N621<>\"\",HYPERLINK(\"https://ssl1.peoplexs.com/Peoplexs22/eFormportal/eForm.cfm?CandidateUpdateID=\"&'PXS Kopieret'!M621&\"&CandidateUpdateCode=\"&'PXS Kopieret'!N621&\"&Locale=en&CustomFormID=11612\",\"Docs\"),\"\")","v":""},{"$f":"'PXS Kopieret'!A621","v":0},{"$f":"'PXS Kopieret'!B621","v":0},{"$f":"'PXS Kopieret'!C621","v":0},{"$f":"'PXS Kopieret'!D621","v":0},{"$f":"IF($A621<>\"PhD Student\",'PXS Kopieret'!E621,\"\")","v":0},{"$f":"IF($A621=\"PhD Student\",'PXS Kopieret'!F621,\"\")","v":""},{"$f":"'PXS Kopieret'!G621","v":0},{"$f":"'PXS Kopieret'!H621","v":0},{"$f":"IF($A621=\"PhD Student\",'PXS Kopieret'!I621,\"\")","v":""},{"$f":"'PXS Kopieret'!J621","v":0},{"$f":"'PXS Kopieret'!K621","v":0},{"$f":"'PXS Kopieret'!L621","v":0}]
["",{"$f":"IF('PXS Kopieret'!N622<>\"\",HYPERLINK(\"https://ssl1.peoplexs.com/Peoplexs22/eFormportal/eForm.cfm?CandidateUpdateID=\"&'PXS Kopieret'!M622&\"&CandidateUpdateCode=\"&'PXS Kopieret'!N622&\"&Locale=en&CustomFormID=11612\",\"Docs\"),\"\")","v":""},{"$f":"'PXS Kopieret'!A622","v":0},{"$f":"'PXS Kopieret'!B622","v":0},{"$f":"'PXS Kopieret'!C622","v":0},{"$f":"'PXS Kopieret'!D622","v":0},{"$f":"IF($A622<>\"PhD Student\",'PXS Kopieret'!E622,\"\")","v":0},{"$f":"IF($A622=\"PhD Student\",'PXS Kopieret'!F622,\"\")","v":""},{"$f":"'PXS Kopieret'!G622","v":0},{"$f":"'PXS Kopieret'!H622","v":0},{"$f":"IF($A622=\"PhD Student\",'PXS Kopieret'!I622,\"\")","v":""},{"$f":"'PXS Kopieret'!J622","v":0},{"$f":"'PXS Kopieret'!K622","v":0},{"$f":"'PXS Kopieret'!L622","v":0}]
["",{"$f":"IF('PXS Kopieret'!N623<>\"\",HYPERLINK(\"https://ssl1.peoplexs.com/Peoplexs22/eFormportal/eForm.cfm?CandidateUpdateID=\"&'PXS Kopieret'!M623&\"&CandidateUpdateCode=\"&'PXS Kopieret'!N623&\"&Locale=en&CustomFormID=11612\",\"Docs\"),\"\")","v":""},{"$f":"'PXS Kopieret'!A623","v":0},{"$f":"'PXS Kopieret'!B623","v":0},{"$f":"'PXS Kopieret'!C623","v":0},{"$f":"'PXS Kopieret'!D623","v":0},{"$f":"IF($A623<>\"PhD Student\",'PXS Kopieret'!E623,\"\")","v":0},{"$f":"IF($A623=\"PhD Student\",'PXS Kopieret'!F623,\"\")","v":""},{"$f":"'PXS Kopieret'!G623","v":0},{"$f":"'PXS Kopieret'!H623","v":0},{"$f":"IF($A623=\"PhD Student\",'PXS Kopieret'!I623,\"\")","v":""},{"$f":"'PXS Kopieret'!J623","v":0},{"$f":"'PXS Kopieret'!K623","v":0},{"$f":"'PXS Kopieret'!L623","v":0}]
["",{"$f":"IF('PXS Kopieret'!N624<>\"\",HYPERLINK(\"https://ssl1.peoplexs.com/Peoplexs22/eFormportal/eForm.cfm?CandidateUpdateID=\"&'PXS Kopieret'!M624&\"&CandidateUpdateCode=\"&'PXS Kopieret'!N624&\"&Locale=en&CustomFormID=11612\",\"Docs\"),\"\")","v":""},{"$f":"'PXS Kopieret'!A624","v":0},{"$f":"'PXS Kopieret'!B624","v":0},{"$f":"'PXS Kopieret'!C624","v":0},{"$f":"'PXS Kopieret'!D624","v":0},{"$f":"IF($A624<>\"PhD Student\",'PXS Kopieret'!E624,\"\")","v":0},{"$f":"IF($A624=\"PhD Student\",'PXS Kopieret'!F624,\"\")","v":""},{"$f":"'PXS Kopieret'!G624","v":0},{"$f":"'PXS Kopieret'!H624","v":0},{"$f":"IF($A624=\"PhD Student\",'PXS Kopieret'!I624,\"\")","v":""},{"$f":"'PXS Kopieret'!J624","v":0},{"$f":"'PXS Kopieret'!K624","v":0},{"$f":"'PXS Kopieret'!L624","v":0}]
["",{"$f":"IF('PXS Kopieret'!N625<>\"\",HYPERLINK(\"https://ssl1.peoplexs.com/Peoplexs22/eFormportal/eForm.cfm?CandidateUpdateID=\"&'PXS Kopieret'!M625&\"&CandidateUpdateCode=\"&'PXS Kopieret'!N625&\"&Locale=en&CustomFormID=11612\",\"Docs\"),\"\")","v":""},{"$f":"'PXS Kopieret'!A625","v":0},{"$f":"'PXS Kopieret'!B625","v":0},{"$f":"'PXS Kopieret'!C625","v":0},{"$f":"'PXS Kopieret'!D625","v":0},{"$f":"IF($A625<>\"PhD Student\",'PXS Kopieret'!E625,\"\")","v":0},{"$f":"IF($A625=\"PhD Student\",'PXS Kopieret'!F625,\"\")","v":""},{"$f":"'PXS Kopieret'!G625","v":0},{"$f":"'PXS Kopieret'!H625","v":0},{"$f":"IF($A625=\"PhD Student\",'PXS Kopieret'!I625,\"\")","v":""},{"$f":"'PXS Kopieret'!J625","v":0},{"$f":"'PXS Kopieret'!K625","v":0},{"$f":"'PXS Kopieret'!L625","v":0}]
["",{"$f":"IF('PXS Kopieret'!N626<>\"\",HYPERLINK(\"https://ssl1.peoplexs.com/Peoplexs22/eFormportal/eForm.cfm?CandidateUpdateID=\"&'PXS Kopieret'!M626&\"&CandidateUpdateCode=\"&'PXS Kopieret'!N626&\"&Locale=en&CustomFormID=11612\",\"Docs\"),\"\")","v":""},{"$f":"'PXS Kopieret'!A626","v":0},{"$f":"'PXS Kopieret'!B626","v":0},{"$f":"'PXS Kopieret'!C626","v":0},{"$f":"'PXS Kopieret'!D626","v":0},{"$f":"IF($A626<>\"PhD Student\",'PXS Kopieret'!E626,\"\")","v":0},{"$f":"IF($A626=\"PhD Student\",'PXS Kopieret'!F626,\"\")","v":""},{"$f":"'PXS Kopieret'!G626","v":0},{"$f":"'PXS Kopieret'!H626","v":0},{"$f":"IF($A626=\"PhD Student\",'PXS Kopieret'!I626,\"\")","v":""},{"$f":"'PXS Kopieret'!J626","v":0},{"$f":"'PXS Kopieret'!K626","v":0},{"$f":"'PXS Kopieret'!L626","v":0}]
["",{"$f":"IF('PXS Kopieret'!N627<>\"\",HYPERLINK(\"https://ssl1.peoplexs.com/Peoplexs22/eFormportal/eForm.cfm?CandidateUpdateID=\"&'PXS Kopieret'!M627&\"&CandidateUpdateCode=\"&'PXS Kopieret'!N627&\"&Locale=en&CustomFormID=11612\",\"Docs\"),\"\")","v":""},{"$f":"'PXS Kopieret'!A627","v":0},{"$f":"'PXS Kopieret'!B627","v":0},{"$f":"'PXS Kopieret'!C627","v":0},{"$f":"'PXS Kopieret'!D627","v":0},{"$f":"IF($A627<>\"PhD Student\",'PXS Kopieret'!E627,\"\")","v":0},{"$f":"IF($A627=\"PhD Student\",'PXS Kopieret'!F627,\"\")","v":""},{"$f":"'PXS Kopieret'!G627","v":0},{"$f":"'PXS Kopieret'!H627","v":0},{"$f":"IF($A627=\"PhD Student\",'PXS Kopieret'!I627,\"\")","v":""},{"$f":"'PXS Kopieret'!J627","v":0},{"$f":"'PXS Kopieret'!K627","v":0},{"$f":"'PXS Kopieret'!L627","v":0}]
["",{"$f":"IF('PXS Kopieret'!N628<>\"\",HYPERLINK(\"https://ssl1.peoplexs.com/Peoplexs22/eFormportal/eForm.cfm?CandidateUpdateID=\"&'PXS Kopieret'!M628&\"&CandidateUpdateCode=\"&'PXS Kopieret'!N628&\"&Locale=en&CustomFormID=11612\",\"Docs\"),\"\")","v":""},{"$f":"'PXS Kopieret'!A628","v":0},{"$f":"'PXS Kopieret'!B628","v":0},{"$f":"'PXS Kopieret'!C628","v":0},{"$f":"'PXS Kopieret'!D628","v":0},{"$f":"IF($A628<>\"PhD Student\",'PXS Kopieret'!E628,\"\")","v":0},{"$f":"IF($A628=\"PhD Student\",'PXS Kopieret'!F628,\"\")","v":""},{"$f":"'PXS Kopieret'!G628","v":0},{"$f":"'PXS Kopieret'!H628","v":0},{"$f":"IF($A628=\"PhD Student\",'PXS Kopieret'!I628,\"\")","v":""},{"$f":"'PXS Kopieret'!J628","v":0},{"$f":"'PXS Kopieret'!K628","v":0},{"$f":"'PXS Kopieret'!L628","v":0}]
["",{"$f":"IF('PXS Kopieret'!N629<>\"\",HYPERLINK(\"https://ssl1.peoplexs.com/Peoplexs22/eFormportal/eForm.cfm?CandidateUpdateID=\"&'PXS Kopieret'!M629&\"&CandidateUpdateCode=\"&'PXS Kopieret'!N629&\"&Locale=en&CustomFormID=11612\",\"Docs\"),\"\")","v":""},{"$f":"'PXS Kopieret'!A629","v":0},{"$f":"'PXS Kopieret'!B629","v":0},{"$f":"'PXS Kopieret'!C629","v":0},{"$f":"'PXS Kopieret'!D629","v":0},{"$f":"IF($A629<>\"PhD Student\",'PXS Kopieret'!E629,\"\")","v":0},{"$f":"IF($A629=\"PhD Student\",'PXS Kopieret'!F629,\"\")","v":""},{"$f":"'PXS Kopieret'!G629","v":0},{"$f":"'PXS Kopieret'!H629","v":0},{"$f":"IF($A629=\"PhD Student\",'PXS Kopieret'!I629,\"\")","v":""},{"$f":"'PXS Kopieret'!J629","v":0},{"$f":"'PXS Kopieret'!K629","v":0},{"$f":"'PXS Kopieret'!L629","v":0}]
["",{"$f":"IF('PXS Kopieret'!N630<>\"\",HYPERLINK(\"https://ssl1.peoplexs.com/Peoplexs22/eFormportal/eForm.cfm?CandidateUpdateID=\"&'PXS Kopieret'!M630&\"&CandidateUpdateCode=\"&'PXS Kopieret'!N630&\"&Locale=en&CustomFormID=11612\",\"Docs\"),\"\")","v":""},{"$f":"'PXS Kopieret'!A630","v":0},{"$f":"'PXS Kopieret'!B630","v":0},{"$f":"'PXS Kopieret'!C630","v":0},{"$f":"'PXS Kopieret'!D630","v":0},{"$f":"IF($A630<>\"PhD Student\",'PXS Kopieret'!E630,\"\")","v":0},{"$f":"IF($A630=\"PhD Student\",'PXS Kopieret'!F630,\"\")","v":""},{"$f":"'PXS Kopieret'!G630","v":0},{"$f":"'PXS Kopieret'!H630","v":0},{"$f":"IF($A630=\"PhD Student\",'PXS Kopieret'!I630,\"\")","v":""},{"$f":"'PXS Kopieret'!J630","v":0},{"$f":"'PXS Kopieret'!K630","v":0},{"$f":"'PXS Kopieret'!L630","v":0}]
["",{"$f":"IF('PXS Kopieret'!N631<>\"\",HYPERLINK(\"https://ssl1.peoplexs.com/Peoplexs22/eFormportal/eForm.cfm?CandidateUpdateID=\"&'PXS Kopieret'!M631&\"&CandidateUpdateCode=\"&'PXS Kopieret'!N631&\"&Locale=en&CustomFormID=11612\",\"Docs\"),\"\")","v":""},{"$f":"'PXS Kopieret'!A631","v":0},{"$f":"'PXS Kopieret'!B631","v":0},{"$f":"'PXS Kopieret'!C631","v":0},{"$f":"'PXS Kopieret'!D631","v":0},{"$f":"IF($A631<>\"PhD Student\",'PXS Kopieret'!E631,\"\")","v":0},{"$f":"IF($A631=\"PhD Student\",'PXS Kopieret'!F631,\"\")","v":""},{"$f":"'PXS Kopieret'!G631","v":0},{"$f":"'PXS Kopieret'!H631","v":0},{"$f":"IF($A631=\"PhD Student\",'PXS Kopieret'!I631,\"\")","v":""},{"$f":"'PXS Kopieret'!J631","v":0},{"$f":"'PXS Kopieret'!K631","v":0},{"$f":"'PXS Kopieret'!L631","v":0}]
["",{"$f":"IF('PXS Kopieret'!N632<>\"\",HYPERLINK(\"https://ssl1.peoplexs.com/Peoplexs22/eFormportal/eForm.cfm?CandidateUpdateID=\"&'PXS Kopieret'!M632&\"&CandidateUpdateCode=\"&'PXS Kopieret'!N632&\"&Locale=en&CustomFormID=11612\",\"Docs\"),\"\")","v":""},{"$f":"'PXS Kopieret'!A632","v":0},{"$f":"'PXS Kopieret'!B632","v":0},{"$f":"'PXS Kopieret'!C632","v":0},{"$f":"'PXS Kopieret'!D632","v":0},{"$f":"IF($A632<>\"PhD Student\",'PXS Kopieret'!E632,\"\")","v":0},{"$f":"IF($A632=\"PhD Student\",'PXS Kopieret'!F632,\"\")","v":""},{"$f":"'PXS Kopieret'!G632","v":0},{"$f":"'PXS Kopieret'!H632","v":0},{"$f":"IF($A632=\"PhD Student\",'PXS Kopieret'!I632,\"\")","v":""},{"$f":"'PXS Kopieret'!J632","v":0},{"$f":"'PXS Kopieret'!K632","v":0},{"$f":"'PXS Kopieret'!L632","v":0}]
["",{"$f":"IF('PXS Kopieret'!N633<>\"\",HYPERLINK(\"https://ssl1.peoplexs.com/Peoplexs22/eFormportal/eForm.cfm?CandidateUpdateID=\"&'PXS Kopieret'!M633&\"&CandidateUpdateCode=\"&'PXS Kopieret'!N633&\"&Locale=en&CustomFormID=11612\",\"Docs\"),\"\")","v":""},{"$f":"'PXS Kopieret'!A633","v":0},{"$f":"'PXS Kopieret'!B633","v":0},{"$f":"'PXS Kopieret'!C633","v":0},{"$f":"'PXS Kopieret'!D633","v":0},{"$f":"IF($A633<>\"PhD Student\",'PXS Kopieret'!E633,\"\")","v":0},{"$f":"IF($A633=\"PhD Student\",'PXS Kopieret'!F633,\"\")","v":""},{"$f":"'PXS Kopieret'!G633","v":0},{"$f":"'PXS Kopieret'!H633","v":0},{"$f":"IF($A633=\"PhD Student\",'PXS Kopieret'!I633,\"\")","v":""},{"$f":"'PXS Kopieret'!J633","v":0},{"$f":"'PXS Kopieret'!K633","v":0},{"$f":"'PXS Kopieret'!L633","v":0}]
["",{"$f":"IF('PXS Kopieret'!N634<>\"\",HYPERLINK(\"https://ssl1.peoplexs.com/Peoplexs22/eFormportal/eForm.cfm?CandidateUpdateID=\"&'PXS Kopieret'!M634&\"&CandidateUpdateCode=\"&'PXS Kopieret'!N634&\"&Locale=en&CustomFormID=11612\",\"Docs\"),\"\")","v":""},{"$f":"'PXS Kopieret'!A634","v":0},{"$f":"'PXS Kopieret'!B634","v":0},{"$f":"'PXS Kopieret'!C634","v":0},{"$f":"'PXS Kopieret'!D634","v":0},{"$f":"IF($A634<>\"PhD Student\",'PXS Kopieret'!E634,\"\")","v":0},{"$f":"IF($A634=\"PhD Student\",'PXS Kopieret'!F634,\"\")","v":""},{"$f":"'PXS Kopieret'!G634","v":0},{"$f":"'PXS Kopieret'!H634","v":0},{"$f":"IF($A634=\"PhD Student\",'PXS Kopieret'!I634,\"\")","v":""},{"$f":"'PXS Kopieret'!J634","v":0},{"$f":"'PXS Kopieret'!K634","v":0},{"$f":"'PXS Kopieret'!L634","v":0}]
["",{"$f":"IF('PXS Kopieret'!N635<>\"\",HYPERLINK(\"https://ssl1.peoplexs.com/Peoplexs22/eFormportal/eForm.cfm?CandidateUpdateID=\"&'PXS Kopieret'!M635&\"&CandidateUpdateCode=\"&'PXS Kopieret'!N635&\"&Locale=en&CustomFormID=11612\",\"Docs\"),\"\")","v":""},{"$f":"'PXS Kopieret'!A635","v":0},{"$f":"'PXS Kopieret'!B635","v":0},{"$f":"'PXS Kopieret'!C635","v":0},{"$f":"'PXS Kopieret'!D635","v":0},{"$f":"IF($A635<>\"PhD Student\",'PXS Kopieret'!E635,\"\")","v":0},{"$f":"IF($A635=\"PhD Student\",'PXS Kopieret'!F635,\"\")","v":""},{"$f":"'PXS Kopieret'!G635","v":0},{"$f":"'PXS Kopieret'!H635","v":0},{"$f":"IF($A635=\"PhD Student\",'PXS Kopieret'!I635,\"\")","v":""},{"$f":"'PXS Kopieret'!J635","v":0},{"$f":"'PXS Kopieret'!K635","v":0},{"$f":"'PXS Kopieret'!L635","v":0}]
["",{"$f":"IF('PXS Kopieret'!N636<>\"\",HYPERLINK(\"https://ssl1.peoplexs.com/Peoplexs22/eFormportal/eForm.cfm?CandidateUpdateID=\"&'PXS Kopieret'!M636&\"&CandidateUpdateCode=\"&'PXS Kopieret'!N636&\"&Locale=en&CustomFormID=11612\",\"Docs\"),\"\")","v":""},{"$f":"'PXS Kopieret'!A636","v":0},{"$f":"'PXS Kopieret'!B636","v":0},{"$f":"'PXS Kopieret'!C636","v":0},{"$f":"'PXS Kopieret'!D636","v":0},{"$f":"IF($A636<>\"PhD Student\",'PXS Kopieret'!E636,\"\")","v":0},{"$f":"IF($A636=\"PhD Student\",'PXS Kopieret'!F636,\"\")","v":""},{"$f":"'PXS Kopieret'!G636","v":0},{"$f":"'PXS Kopieret'!H636","v":0},{"$f":"IF($A636=\"PhD Student\",'PXS Kopieret'!I636,\"\")","v":""},{"$f":"'PXS Kopieret'!J636","v":0},{"$f":"'PXS Kopieret'!K636","v":0},{"$f":"'PXS Kopieret'!L636","v":0}]
["",{"$f":"IF('PXS Kopieret'!N637<>\"\",HYPERLINK(\"https://ssl1.peoplexs.com/Peoplexs22/eFormportal/eForm.cfm?CandidateUpdateID=\"&'PXS Kopieret'!M637&\"&CandidateUpdateCode=\"&'PXS Kopieret'!N637&\"&Locale=en&CustomFormID=11612\",\"Docs\"),\"\")","v":""},{"$f":"'PXS Kopieret'!A637","v":0},{"$f":"'PXS Kopieret'!B637","v":0},{"$f":"'PXS Kopieret'!C637","v":0},{"$f":"'PXS Kopieret'!D637","v":0},{"$f":"IF($A637<>\"PhD Student\",'PXS Kopieret'!E637,\"\")","v":0},{"$f":"IF($A637=\"PhD Student\",'PXS Kopieret'!F637,\"\")","v":""},{"$f":"'PXS Kopieret'!G637","v":0},{"$f":"'PXS Kopieret'!H637","v":0},{"$f":"IF($A637=\"PhD Student\",'PXS Kopieret'!I637,\"\")","v":""},{"$f":"'PXS Kopieret'!J637","v":0},{"$f":"'PXS Kopieret'!K637","v":0},{"$f":"'PXS Kopieret'!L637","v":0}]
["",{"$f":"IF('PXS Kopieret'!N638<>\"\",HYPERLINK(\"https://ssl1.peoplexs.com/Peoplexs22/eFormportal/eForm.cfm?CandidateUpdateID=\"&'PXS Kopieret'!M638&\"&CandidateUpdateCode=\"&'PXS Kopieret'!N638&\"&Locale=en&CustomFormID=11612\",\"Docs\"),\"\")","v":""},{"$f":"'PXS Kopieret'!A638","v":0},{"$f":"'PXS Kopieret'!B638","v":0},{"$f":"'PXS Kopieret'!C638","v":0},{"$f":"'PXS Kopieret'!D638","v":0},{"$f":"IF($A638<>\"PhD Student\",'PXS Kopieret'!E638,\"\")","v":0},{"$f":"IF($A638=\"PhD Student\",'PXS Kopieret'!F638,\"\")","v":""},{"$f":"'PXS Kopieret'!G638","v":0},{"$f":"'PXS Kopieret'!H638","v":0},{"$f":"IF($A638=\"PhD Student\",'PXS Kopieret'!I638,\"\")","v":""},{"$f":"'PXS Kopieret'!J638","v":0},{"$f":"'PXS Kopieret'!K638","v":0},{"$f":"'PXS Kopieret'!L638","v":0}]
["",{"$f":"IF('PXS Kopieret'!N639<>\"\",HYPERLINK(\"https://ssl1.peoplexs.com/Peoplexs22/eFormportal/eForm.cfm?CandidateUpdateID=\"&'PXS Kopieret'!M639&\"&CandidateUpdateCode=\"&'PXS Kopieret'!N639&\"&Locale=en&CustomFormID=11612\",\"Docs\"),\"\")","v":""},{"$f":"'PXS Kopieret'!A639","v":0},{"$f":"'PXS Kopieret'!B639","v":0},{"$f":"'PXS Kopieret'!C639","v":0},{"$f":"'PXS Kopieret'!D639","v":0},{"$f":"IF($A639<>\"PhD Student\",'PXS Kopieret'!E639,\"\")","v":0},{"$f":"IF($A639=\"PhD Student\",'PXS Kopieret'!F639,\"\")","v":""},{"$f":"'PXS Kopieret'!G639","v":0},{"$f":"'PXS Kopieret'!H639","v":0},{"$f":"IF($A639=\"PhD Student\",'PXS Kopieret'!I639,\"\")","v":""},{"$f":"'PXS Kopieret'!J639","v":0},{"$f":"'PXS Kopieret'!K639","v":0},{"$f":"'PXS Kopieret'!L639","v":0}]
["",{"$f":"IF('PXS Kopieret'!N640<>\"\",HYPERLINK(\"https://ssl1.peoplexs.com/Peoplexs22/eFormportal/eForm.cfm?CandidateUpdateID=\"&'PXS Kopieret'!M640&\"&CandidateUpdateCode=\"&'PXS Kopieret'!N640&\"&Locale=en&CustomFormID=11612\",\"Docs\"),\"\")","v":""},{"$f":"'PXS Kopieret'!A640","v":0},{"$f":"'PXS Kopieret'!B640","v":0},{"$f":"'PXS Kopieret'!C640","v":0},{"$f":"'PXS Kopieret'!D640","v":0},{"$f":"IF($A640<>\"PhD Student\",'PXS Kopieret'!E640,\"\")","v":0},{"$f":"IF($A640=\"PhD Student\",'PXS Kopieret'!F640,\"\")","v":""},{"$f":"'PXS Kopieret'!G640","v":0},{"$f":"'PXS Kopieret'!H640","v":0},{"$f":"IF($A640=\"PhD Student\",'PXS Kopieret'!I640,\"\")","v":""},{"$f":"'PXS Kopieret'!J640","v":0},{"$f":"'PXS Kopieret'!K640","v":0},{"$f":"'PXS Kopieret'!L640","v":0}]
["",{"$f":"IF('PXS Kopieret'!N641<>\"\",HYPERLINK(\"https://ssl1.peoplexs.com/Peoplexs22/eFormportal/eForm.cfm?CandidateUpdateID=\"&'PXS Kopieret'!M641&\"&CandidateUpdateCode=\"&'PXS Kopieret'!N641&\"&Locale=en&CustomFormID=11612\",\"Docs\"),\"\")","v":""},{"$f":"'PXS Kopieret'!A641","v":0},{"$f":"'PXS Kopieret'!B641","v":0},{"$f":"'PXS Kopieret'!C641","v":0},{"$f":"'PXS Kopieret'!D641","v":0},{"$f":"IF($A641<>\"PhD Student\",'PXS Kopieret'!E641,\"\")","v":0},{"$f":"IF($A641=\"PhD Student\",'PXS Kopieret'!F641,\"\")","v":""},{"$f":"'PXS Kopieret'!G641","v":0},{"$f":"'PXS Kopieret'!H641","v":0},{"$f":"IF($A641=\"PhD Student\",'PXS Kopieret'!I641,\"\")","v":""},{"$f":"'PXS Kopieret'!J641","v":0},{"$f":"'PXS Kopieret'!K641","v":0},{"$f":"'PXS Kopieret'!L641","v":0}]
["",{"$f":"IF('PXS Kopieret'!N642<>\"\",HYPERLINK(\"https://ssl1.peoplexs.com/Peoplexs22/eFormportal/eForm.cfm?CandidateUpdateID=\"&'PXS Kopieret'!M642&\"&CandidateUpdateCode=\"&'PXS Kopieret'!N642&\"&Locale=en&CustomFormID=11612\",\"Docs\"),\"\")","v":""},{"$f":"'PXS Kopieret'!A642","v":0},{"$f":"'PXS Kopieret'!B642","v":0},{"$f":"'PXS Kopieret'!C642","v":0},{"$f":"'PXS Kopieret'!D642","v":0},{"$f":"IF($A642<>\"PhD Student\",'PXS Kopieret'!E642,\"\")","v":0},{"$f":"IF($A642=\"PhD Student\",'PXS Kopieret'!F642,\"\")","v":""},{"$f":"'PXS Kopieret'!G642","v":0},{"$f":"'PXS Kopieret'!H642","v":0},{"$f":"IF($A642=\"PhD Student\",'PXS Kopieret'!I642,\"\")","v":""},{"$f":"'PXS Kopieret'!J642","v":0},{"$f":"'PXS Kopieret'!K642","v":0},{"$f":"'PXS Kopieret'!L642","v":0}]
[{"$f":"IF(LEFT(C643,2)=\"RY\", \"Research Year Student\", IF(C643=0,\"\",\"PhD Student\"))","v":""},{"$f":"IF('PXS Kopieret'!N643<>\"\",HYPERLINK(\"https://ssl1.peoplexs.com/Peoplexs22/eFormportal/eForm.cfm?CandidateUpdateID=\"&'PXS Kopieret'!M643&\"&CandidateUpdateCode=\"&'PXS Kopieret'!N643&\"&Locale=en&CustomFormID=11612\",\"Docs\"),\"\")","v":""},{"$f":"'PXS Kopieret'!A643","v":0},{"$f":"'PXS Kopieret'!B643","v":0},{"$f":"'PXS Kopieret'!C643","v":0},{"$f":"'PXS Kopieret'!D643","v":0},{"$f":"IF($A643<>\"PhD Student\",'PXS Kopieret'!E643,\"\")","v":0},{"$f":"IF($A643=\"PhD Student\",'PXS Kopieret'!F643,\"\")","v":""},{"$f":"'PXS Kopieret'!G643","v":0},{"$f":"'PXS Kopieret'!H643","v":0},{"$f":"IF($A643=\"PhD Student\",'PXS Kopieret'!I643,\"\")","v":""},{"$f":"'PXS Kopieret'!J643","v":0},{"$f":"'PXS Kopieret'!K643","v":0},{"$f":"'PXS Kopieret'!L643","v":0}]
["",{"$f":"IF('PXS Kopieret'!N644<>\"\",HYPERLINK(\"https://ssl1.peoplexs.com/Peoplexs22/eFormportal/eForm.cfm?CandidateUpdateID=\"&'PXS Kopieret'!M644&\"&CandidateUpdateCode=\"&'PXS Kopieret'!N644&\"&Locale=en&CustomFormID=11612\",\"Docs\"),\"\")","v":""},{"$f":"'PXS Kopieret'!A644","v":0},{"$f":"'PXS Kopieret'!B644","v":0},{"$f":"'PXS Kopieret'!C644","v":0},{"$f":"'PXS Kopieret'!D644","v":0},{"$f":"IF($A644<>\"PhD Student\",'PXS Kopieret'!E644,\"\")","v":0},{"$f":"IF($A644=\"PhD Student\",'PXS Kopieret'!F644,\"\")","v":""},{"$f":"'PXS Kopieret'!G644","v":0},{"$f":"'PXS Kopieret'!H644","v":0},{"$f":"IF($A644=\"PhD Student\",'PXS Kopieret'!I644,\"\")","v":""},{"$f":"'PXS Kopieret'!J644","v":0},{"$f":"'PXS Kopieret'!K644","v":0},{"$f":"'PXS Kopieret'!L644","v":0}]
["",{"$f":"IF('PXS Kopieret'!N645<>\"\",HYPERLINK(\"https://ssl1.peoplexs.com/Peoplexs22/eFormportal/eForm.cfm?CandidateUpdateID=\"&'PXS Kopieret'!M645&\"&CandidateUpdateCode=\"&'PXS Kopieret'!N645&\"&Locale=en&CustomFormID=11612\",\"Docs\"),\"\")","v":""},{"$f":"'PXS Kopieret'!A645","v":0},{"$f":"'PXS Kopieret'!B645","v":0},{"$f":"'PXS Kopieret'!C645","v":0},{"$f":"'PXS Kopieret'!D645","v":0},{"$f":"IF($A645<>\"PhD Student\",'PXS Kopieret'!E645,\"\")","v":0},{"$f":"IF($A645=\"PhD Student\",'PXS Kopieret'!F645,\"\")","v":""},{"$f":"'PXS Kopieret'!G645","v":0},{"$f":"'PXS Kopieret'!H645","v":0},{"$f":"IF($A645=\"PhD Student\",'PXS Kopieret'!I645,\"\")","v":""},{"$f":"'PXS Kopieret'!J645","v":0},{"$f":"'PXS Kopieret'!K645","v":0},{"$f":"'PXS Kopieret'!L645","v":0}]
["",{"$f":"IF('PXS Kopieret'!N646<>\"\",HYPERLINK(\"https://ssl1.peoplexs.com/Peoplexs22/eFormportal/eForm.cfm?CandidateUpdateID=\"&'PXS Kopieret'!M646&\"&CandidateUpdateCode=\"&'PXS Kopieret'!N646&\"&Locale=en&CustomFormID=11612\",\"Docs\"),\"\")","v":""},{"$f":"'PXS Kopieret'!A646","v":0},{"$f":"'PXS Kopieret'!B646","v":0},{"$f":"'PXS Kopieret'!C646","v":0},{"$f":"'PXS Kopieret'!D646","v":0},{"$f":"IF($A646<>\"PhD Student\",'PXS Kopieret'!E646,\"\")","v":0},{"$f":"IF($A646=\"PhD Student\",'PXS Kopieret'!F646,\"\")","v":""},{"$f":"'PXS Kopieret'!G646","v":0},{"$f":"'PXS Kopieret'!H646","v":0},{"$f":"IF($A646=\"PhD Student\",'PXS Kopieret'!I646,\"\")","v":""},{"$f":"'PXS Kopieret'!J646","v":0},{"$f":"'PXS Kopieret'!K646","v":0},{"$f":"'PXS Kopieret'!L646","v":0}]
["",{"$f":"IF('PXS Kopieret'!N647<>\"\",HYPERLINK(\"https://ssl1.peoplexs.com/Peoplexs22/eFormportal/eForm.cfm?CandidateUpdateID=\"&'PXS Kopieret'!M647&\"&CandidateUpdateCode=\"&'PXS Kopieret'!N647&\"&Locale=en&CustomFormID=11612\",\"Docs\"),\"\")","v":""},{"$f":"'PXS Kopieret'!A647","v":0},{"$f":"'PXS Kopieret'!B647","v":0},{"$f":"'PXS Kopieret'!C647","v":0},{"$f":"'PXS Kopieret'!D647","v":0},{"$f":"IF($A647<>\"PhD Student\",'PXS Kopieret'!E647,\"\")","v":0},{"$f":"IF($A647=\"PhD Student\",'PXS Kopieret'!F647,\"\")","v":""},{"$f":"'PXS Kopieret'!G647","v":0},{"$f":"'PXS Kopieret'!H647","v":0},{"$f":"IF($A647=\"PhD Student\",'PXS Kopieret'!I647,\"\")","v":""},{"$f":"'PXS Kopieret'!J647","v":0},{"$f":"'PXS Kopieret'!K647","v":0},{"$f":"'PXS Kopieret'!L647","v":0}]
["",{"$f":"IF('PXS Kopieret'!N648<>\"\",HYPERLINK(\"https://ssl1.peoplexs.com/Peoplexs22/eFormportal/eForm.cfm?CandidateUpdateID=\"&'PXS Kopieret'!M648&\"&CandidateUpdateCode=\"&'PXS Kopieret'!N648&\"&Locale=en&CustomFormID=11612\",\"Docs\"),\"\")","v":""},{"$f":"'PXS Kopieret'!A648","v":0},{"$f":"'PXS Kopieret'!B648","v":0},{"$f":"'PXS Kopieret'!C648","v":0},{"$f":"'PXS Kopieret'!D648","v":0},{"$f":"IF($A648<>\"PhD Student\",'PXS Kopieret'!E648,\"\")","v":0},{"$f":"IF($A648=\"PhD Student\",'PXS Kopieret'!F648,\"\")","v":""},{"$f":"'PXS Kopieret'!G648","v":0},{"$f":"'PXS Kopieret'!H648","v":0},{"$f":"IF($A648=\"PhD Student\",'PXS Kopieret'!I648,\"\")","v":""},{"$f":"'PXS Kopieret'!J648","v":0},{"$f":"'PXS Kopieret'!K648","v":0},{"$f":"'PXS Kopieret'!L648","v":0}]
["",{"$f":"IF('PXS Kopieret'!N649<>\"\",HYPERLINK(\"https://ssl1.peoplexs.com/Peoplexs22/eFormportal/eForm.cfm?CandidateUpdateID=\"&'PXS Kopieret'!M649&\"&CandidateUpdateCode=\"&'PXS Kopieret'!N649&\"&Locale=en&CustomFormID=11612\",\"Docs\"),\"\")","v":""},{"$f":"'PXS Kopieret'!A649","v":0},{"$f":"'PXS Kopieret'!B649","v":0},{"$f":"'PXS Kopieret'!C649","v":0},{"$f":"'PXS Kopieret'!D649","v":0},{"$f":"IF($A649<>\"PhD Student\",'PXS Kopieret'!E649,\"\")","v":0},{"$f":"IF($A649=\"PhD Student\",'PXS Kopieret'!F649,\"\")","v":""},{"$f":"'PXS Kopieret'!G649","v":0},{"$f":"'PXS Kopieret'!H649","v":0},{"$f":"IF($A649=\"PhD Student\",'PXS Kopieret'!I649,\"\")","v":""},{"$f":"'PXS Kopieret'!J649","v":0},{"$f":"'PXS Kopieret'!K649","v":0},{"$f":"'PXS Kopieret'!L649","v":0}]
["",{"$f":"IF('PXS Kopieret'!N650<>\"\",HYPERLINK(\"https://ssl1.peoplexs.com/Peoplexs22/eFormportal/eForm.cfm?CandidateUpdateID=\"&'PXS Kopieret'!M650&\"&CandidateUpdateCode=\"&'PXS Kopieret'!N650&\"&Locale=en&CustomFormID=11612\",\"Docs\"),\"\")","v":""},{"$f":"'PXS Kopieret'!A650","v":0},{"$f":"'PXS Kopieret'!B650","v":0},{"$f":"'PXS Kopieret'!C650","v":0},{"$f":"'PXS Kopieret'!D650","v":0},{"$f":"IF($A650<>\"PhD Student\",'PXS Kopieret'!E650,\"\")","v":0},{"$f":"IF($A650=\"PhD Student\",'PXS Kopieret'!F650,\"\")","v":""},{"$f":"'PXS Kopieret'!G650","v":0},{"$f":"'PXS Kopieret'!H650","v":0},{"$f":"IF($A650=\"PhD Student\",'PXS Kopieret'!I650,\"\")","v":""},{"$f":"'PXS Kopieret'!J650","v":0},{"$f":"'PXS Kopieret'!K650","v":0},{"$f":"'PXS Kopieret'!L650","v":0}]
["",{"$f":"IF('PXS Kopieret'!N651<>\"\",HYPERLINK(\"https://ssl1.peoplexs.com/Peoplexs22/eFormportal/eForm.cfm?CandidateUpdateID=\"&'PXS Kopieret'!M651&\"&CandidateUpdateCode=\"&'PXS Kopieret'!N651&\"&Locale=en&CustomFormID=11612\",\"Docs\"),\"\")","v":""},{"$f":"'PXS Kopieret'!A651","v":0},{"$f":"'PXS Kopieret'!B651","v":0},{"$f":"'PXS Kopieret'!C651","v":0},{"$f":"'PXS Kopieret'!D651","v":0},{"$f":"IF($A651<>\"PhD Student\",'PXS Kopieret'!E651,\"\")","v":0},{"$f":"IF($A651=\"PhD Student\",'PXS Kopieret'!F651,\"\")","v":""},{"$f":"'PXS Kopieret'!G651","v":0},{"$f":"'PXS Kopieret'!H651","v":0},{"$f":"IF($A651=\"PhD Student\",'PXS Kopieret'!I651,\"\")","v":""},{"$f":"'PXS Kopieret'!J651","v":0},{"$f":"'PXS Kopieret'!K651","v":0},{"$f":"'PXS Kopieret'!L651","v":0}]
["",{"$f":"IF('PXS Kopieret'!N652<>\"\",HYPERLINK(\"https://ssl1.peoplexs.com/Peoplexs22/eFormportal/eForm.cfm?CandidateUpdateID=\"&'PXS Kopieret'!M652&\"&CandidateUpdateCode=\"&'PXS Kopieret'!N652&\"&Locale=en&CustomFormID=11612\",\"Docs\"),\"\")","v":""},{"$f":"'PXS Kopieret'!A652","v":0},{"$f":"'PXS Kopieret'!B652","v":0},{"$f":"'PXS Kopieret'!C652","v":0},{"$f":"'PXS Kopieret'!D652","v":0},{"$f":"IF($A652<>\"PhD Student\",'PXS Kopieret'!E652,\"\")","v":0},{"$f":"IF($A652=\"PhD Student\",'PXS Kopieret'!F652,\"\")","v":""},{"$f":"'PXS Kopieret'!G652","v":0},{"$f":"'PXS Kopieret'!H652","v":0},{"$f":"IF($A652=\"PhD Student\",'PXS Kopieret'!I652,\"\")","v":""},{"$f":"'PXS Kopieret'!J652","v":0},{"$f":"'PXS Kopieret'!K652","v":0},{"$f":"'PXS Kopieret'!L652","v":0}]
["",{"$f":"IF('PXS Kopieret'!N653<>\"\",HYPERLINK(\"https://ssl1.peoplexs.com/Peoplexs22/eFormportal/eForm.cfm?CandidateUpdateID=\"&'PXS Kopieret'!M653&\"&CandidateUpdateCode=\"&'PXS Kopieret'!N653&\"&Locale=en&CustomFormID=11612\",\"Docs\"),\"\")","v":""},{"$f":"'PXS Kopieret'!A653","v":0},{"$f":"'PXS Kopieret'!B653","v":0},{"$f":"'PXS Kopieret'!C653","v":0},{"$f":"'PXS Kopieret'!D653","v":0},{"$f":"IF($A653<>\"PhD Student\",'PXS Kopieret'!E653,\"\")","v":0},{"$f":"IF($A653=\"PhD Student\",'PXS Kopieret'!F653,\"\")","v":""},{"$f":"'PXS Kopieret'!G653","v":0},{"$f":"'PXS Kopieret'!H653","v":0},{"$f":"IF($A653=\"PhD Student\",'PXS Kopieret'!I653,\"\")","v":""},{"$f":"'PXS Kopieret'!J653","v":0},{"$f":"'PXS Kopieret'!K653","v":0},{"$f":"'PXS Kopieret'!L653","v":0}]
["",{"$f":"IF('PXS Kopieret'!N654<>\"\",HYPERLINK(\"https://ssl1.peoplexs.com/Peoplexs22/eFormportal/eForm.cfm?CandidateUpdateID=\"&'PXS Kopieret'!M654&\"&CandidateUpdateCode=\"&'PXS Kopieret'!N654&\"&Locale=en&CustomFormID=11612\",\"Docs\"),\"\")","v":""},{"$f":"'PXS Kopieret'!A654","v":0},{"$f":"'PXS Kopieret'!B654","v":0},{"$f":"'PXS Kopieret'!C654","v":0},{"$f":"'PXS Kopieret'!D654","v":0},{"$f":"IF($A654<>\"PhD Student\",'PXS Kopieret'!E654,\"\")","v":0},{"$f":"IF($A654=\"PhD Student\",'PXS Kopieret'!F654,\"\")","v":""},{"$f":"'PXS Kopieret'!G654","v":0},{"$f":"'PXS Kopieret'!H654","v":0},{"$f":"IF($A654=\"PhD Student\",'PXS Kopieret'!I654,\"\")","v":""},{"$f":"'PXS Kopieret'!J654","v":0},{"$f":"'PXS Kopieret'!K654","v":0},{"$f":"'PXS Kopieret'!L654","v":0}]
["",{"$f":"IF('PXS Kopieret'!N655<>\"\",HYPERLINK(\"https://ssl1.peoplexs.com/Peoplexs22/eFormportal/eForm.cfm?CandidateUpdateID=\"&'PXS Kopieret'!M655&\"&CandidateUpdateCode=\"&'PXS Kopieret'!N655&\"&Locale=en&CustomFormID=11612\",\"Docs\"),\"\")","v":""},{"$f":"'PXS Kopieret'!A655","v":0},{"$f":"'PXS Kopieret'!B655","v":0},{"$f":"'PXS Kopieret'!C655","v":0},{"$f":"'PXS Kopieret'!D655","v":0},{"$f":"IF($A655<>\"PhD Student\",'PXS Kopieret'!E655,\"\")","v":0},{"$f":"IF($A655=\"PhD Student\",'PXS Kopieret'!F655,\"\")","v":""},{"$f":"'PXS Kopieret'!G655","v":0},{"$f":"'PXS Kopieret'!H655","v":0},{"$f":"IF($A655=\"PhD Student\",'PXS Kopieret'!I655,\"\")","v":""},{"$f":"'PXS Kopieret'!J655","v":0},{"$f":"'PXS Kopieret'!K655","v":0},{"$f":"'PXS Kopieret'!L655","v":0}]
["",{"$f":"IF('PXS Kopieret'!N656<>\"\",HYPERLINK(\"https://ssl1.peoplexs.com/Peoplexs22/eFormportal/eForm.cfm?CandidateUpdateID=\"&'PXS Kopieret'!M656&\"&CandidateUpdateCode=\"&'PXS Kopieret'!N656&\"&Locale=en&CustomFormID=11612\",\"Docs\"),\"\")","v":""},{"$f":"'PXS Kopieret'!A656","v":0},{"$f":"'PXS Kopieret'!B656","v":0},{"$f":"'PXS Kopieret'!C656","v":0},{"$f":"'PXS Kopieret'!D656","v":0},{"$f":"IF($A656<>\"PhD Student\",'PXS Kopieret'!E656,\"\")","v":0},{"$f":"IF($A656=\"PhD Student\",'PXS Kopieret'!F656,\"\")","v":""},{"$f":"'PXS Kopieret'!G656","v":0},{"$f":"'PXS Kopieret'!H656","v":0},{"$f":"IF($A656=\"PhD Student\",'PXS Kopieret'!I656,\"\")","v":""},{"$f":"'PXS Kopieret'!J656","v":0},{"$f":"'PXS Kopieret'!K656","v":0},{"$f":"'PXS Kopieret'!L656","v":0}]
["",{"$f":"IF('PXS Kopieret'!N657<>\"\",HYPERLINK(\"https://ssl1.peoplexs.com/Peoplexs22/eFormportal/eForm.cfm?CandidateUpdateID=\"&'PXS Kopieret'!M657&\"&CandidateUpdateCode=\"&'PXS Kopieret'!N657&\"&Locale=en&CustomFormID=11612\",\"Docs\"),\"\")","v":""},{"$f":"'PXS Kopieret'!A657","v":0},{"$f":"'PXS Kopieret'!B657","v":0},{"$f":"'PXS Kopieret'!C657","v":0},{"$f":"'PXS Kopieret'!D657","v":0},{"$f":"IF($A657<>\"PhD Student\",'PXS Kopieret'!E657,\"\")","v":0},{"$f":"IF($A657=\"PhD Student\",'PXS Kopieret'!F657,\"\")","v":""},{"$f":"'PXS Kopieret'!G657","v":0},{"$f":"'PXS Kopieret'!H657","v":0},{"$f":"IF($A657=\"PhD Student\",'PXS Kopieret'!I657,\"\")","v":""},{"$f":"'PXS Kopieret'!J657","v":0},{"$f":"'PXS Kopieret'!K657","v":0},{"$f":"'PXS Kopieret'!L657","v":0}]
["",{"$f":"IF('PXS Kopieret'!N658<>\"\",HYPERLINK(\"https://ssl1.peoplexs.com/Peoplexs22/eFormportal/eForm.cfm?CandidateUpdateID=\"&'PXS Kopieret'!M658&\"&CandidateUpdateCode=\"&'PXS Kopieret'!N658&\"&Locale=en&CustomFormID=11612\",\"Docs\"),\"\")","v":""},{"$f":"'PXS Kopieret'!A658","v":0},{"$f":"'PXS Kopieret'!B658","v":0},{"$f":"'PXS Kopieret'!C658","v":0},{"$f":"'PXS Kopieret'!D658","v":0},{"$f":"IF($A658<>\"PhD Student\",'PXS Kopieret'!E658,\"\")","v":0},{"$f":"IF($A658=\"PhD Student\",'PXS Kopieret'!F658,\"\")","v":""},{"$f":"'PXS Kopieret'!G658","v":0},{"$f":"'PXS Kopieret'!H658","v":0},{"$f":"IF($A658=\"PhD Student\",'PXS Kopieret'!I658,\"\")","v":""},{"$f":"'PXS Kopieret'!J658","v":0},{"$f":"'PXS Kopieret'!K658","v":0},{"$f":"'PXS Kopieret'!L658","v":0}]
["",{"$f":"IF('PXS Kopieret'!N659<>\"\",HYPERLINK(\"https://ssl1.peoplexs.com/Peoplexs22/eFormportal/eForm.cfm?CandidateUpdateID=\"&'PXS Kopieret'!M659&\"&CandidateUpdateCode=\"&'PXS Kopieret'!N659&\"&Locale=en&CustomFormID=11612\",\"Docs\"),\"\")","v":""},{"$f":"'PXS Kopieret'!A659","v":0},{"$f":"'PXS Kopieret'!B659","v":0},{"$f":"'PXS Kopieret'!C659","v":0},{"$f":"'PXS Kopieret'!D659","v":0},{"$f":"IF($A659<>\"PhD Student\",'PXS Kopieret'!E659,\"\")","v":0},{"$f":"IF($A659=\"PhD Student\",'PXS Kopieret'!F659,\"\")","v":""},{"$f":"'PXS Kopieret'!G659","v":0},{"$f":"'PXS Kopieret'!H659","v":0},{"$f":"IF($A659=\"PhD Student\",'PXS Kopieret'!I659,\"\")","v":""},{"$f":"'PXS Kopieret'!J659","v":0},{"$f":"'PXS Kopieret'!K659","v":0},{"$f":"'PXS Kopieret'!L659","v":0}]
["",{"$f":"IF('PXS Kopieret'!N660<>\"\",HYPERLINK(\"https://ssl1.peoplexs.com/Peoplexs22/eFormportal/eForm.cfm?CandidateUpdateID=\"&'PXS Kopieret'!M660&\"&CandidateUpdateCode=\"&'PXS Kopieret'!N660&\"&Locale=en&CustomFormID=11612\",\"Docs\"),\"\")","v":""},{"$f":"'PXS Kopieret'!A660","v":0},{"$f":"'PXS Kopieret'!B660","v":0},{"$f":"'PXS Kopieret'!C660","v":0},{"$f":"'PXS Kopieret'!D660","v":0},{"$f":"IF($A660<>\"PhD Student\",'PXS Kopieret'!E660,\"\")","v":0},{"$f":"IF($A660=\"PhD Student\",'PXS Kopieret'!F660,\"\")","v":""},{"$f":"'PXS Kopieret'!G660","v":0},{"$f":"'PXS Kopieret'!H660","v":0},{"$f":"IF($A660=\"PhD Student\",'PXS Kopieret'!I660,\"\")","v":""},{"$f":"'PXS Kopieret'!J660","v":0},{"$f":"'PXS Kopieret'!K660","v":0},{"$f":"'PXS Kopieret'!L660","v":0}]
["",{"$f":"IF('PXS Kopieret'!N661<>\"\",HYPERLINK(\"https://ssl1.peoplexs.com/Peoplexs22/eFormportal/eForm.cfm?CandidateUpdateID=\"&'PXS Kopieret'!M661&\"&CandidateUpdateCode=\"&'PXS Kopieret'!N661&\"&Locale=en&CustomFormID=11612\",\"Docs\"),\"\")","v":""},{"$f":"'PXS Kopieret'!A661","v":0},{"$f":"'PXS Kopieret'!B661","v":0},{"$f":"'PXS Kopieret'!C661","v":0},{"$f":"'PXS Kopieret'!D661","v":0},{"$f":"IF($A661<>\"PhD Student\",'PXS Kopieret'!E661,\"\")","v":0},{"$f":"IF($A661=\"PhD Student\",'PXS Kopieret'!F661,\"\")","v":""},{"$f":"'PXS Kopieret'!G661","v":0},{"$f":"'PXS Kopieret'!H661","v":0},{"$f":"IF($A661=\"PhD Student\",'PXS Kopieret'!I661,\"\")","v":""},{"$f":"'PXS Kopieret'!J661","v":0},{"$f":"'PXS Kopieret'!K661","v":0},{"$f":"'PXS Kopieret'!L661","v":0}]
["",{"$f":"IF('PXS Kopieret'!N662<>\"\",HYPERLINK(\"https://ssl1.peoplexs.com/Peoplexs22/eFormportal/eForm.cfm?CandidateUpdateID=\"&'PXS Kopieret'!M662&\"&CandidateUpdateCode=\"&'PXS Kopieret'!N662&\"&Locale=en&CustomFormID=11612\",\"Docs\"),\"\")","v":""},{"$f":"'PXS Kopieret'!A662","v":0},{"$f":"'PXS Kopieret'!B662","v":0},{"$f":"'PXS Kopieret'!C662","v":0},{"$f":"'PXS Kopieret'!D662","v":0},{"$f":"IF($A662<>\"PhD Student\",'PXS Kopieret'!E662,\"\")","v":0},{"$f":"IF($A662=\"PhD Student\",'PXS Kopieret'!F662,\"\")","v":""},{"$f":"'PXS Kopieret'!G662","v":0},{"$f":"'PXS Kopieret'!H662","v":0},{"$f":"IF($A662=\"PhD Student\",'PXS Kopieret'!I662,\"\")","v":""},{"$f":"'PXS Kopieret'!J662","v":0},{"$f":"'PXS Kopieret'!K662","v":0},{"$f":"'PXS Kopieret'!L662","v":0}]
["",{"$f":"IF('PXS Kopieret'!N663<>\"\",HYPERLINK(\"https://ssl1.peoplexs.com/Peoplexs22/eFormportal/eForm.cfm?CandidateUpdateID=\"&'PXS Kopieret'!M663&\"&CandidateUpdateCode=\"&'PXS Kopieret'!N663&\"&Locale=en&CustomFormID=11612\",\"Docs\"),\"\")","v":""},{"$f":"'PXS Kopieret'!A663","v":0},{"$f":"'PXS Kopieret'!B663","v":0},{"$f":"'PXS Kopieret'!C663","v":0},{"$f":"'PXS Kopieret'!D663","v":0},{"$f":"IF($A663<>\"PhD Student\",'PXS Kopieret'!E663,\"\")","v":0},{"$f":"IF($A663=\"PhD Student\",'PXS Kopieret'!F663,\"\")","v":""},{"$f":"'PXS Kopieret'!G663","v":0},{"$f":"'PXS Kopieret'!H663","v":0},{"$f":"IF($A663=\"PhD Student\",'PXS Kopieret'!I663,\"\")","v":""},{"$f":"'PXS Kopieret'!J663","v":0},{"$f":"'PXS Kopieret'!K663","v":0},{"$f":"'PXS Kopieret'!L663","v":0}]
["",{"$f":"IF('PXS Kopieret'!N664<>\"\",HYPERLINK(\"https://ssl1.peoplexs.com/Peoplexs22/eFormportal/eForm.cfm?CandidateUpdateID=\"&'PXS Kopieret'!M664&\"&CandidateUpdateCode=\"&'PXS Kopieret'!N664&\"&Locale=en&CustomFormID=11612\",\"Docs\"),\"\")","v":""},{"$f":"'PXS Kopieret'!A664","v":0},{"$f":"'PXS Kopieret'!B664","v":0},{"$f":"'PXS Kopieret'!C664","v":0},{"$f":"'PXS Kopieret'!D664","v":0},{"$f":"IF($A664<>\"PhD Student\",'PXS Kopieret'!E664,\"\")","v":0},{"$f":"IF($A664=\"PhD Student\",'PXS Kopieret'!F664,\"\")","v":""},{"$f":"'PXS Kopieret'!G664","v":0},{"$f":"'PXS Kopieret'!H664","v":0},{"$f":"IF($A664=\"PhD Student\",'PXS Kopieret'!I664,\"\")","v":""},{"$f":"'PXS Kopieret'!J664","v":0},{"$f":"'PXS Kopieret'!K664","v":0},{"$f":"'PXS Kopieret'!L664","v":0}]
["",{"$f":"IF('PXS Kopieret'!N665<>\"\",HYPERLINK(\"https://ssl1.peoplexs.com/Peoplexs22/eFormportal/eForm.cfm?CandidateUpdateID=\"&'PXS Kopieret'!M665&\"&CandidateUpdateCode=\"&'PXS Kopieret'!N665&\"&Locale=en&CustomFormID=11612\",\"Docs\"),\"\")","v":""},{"$f":"'PXS Kopieret'!A665","v":0},{"$f":"'PXS Kopieret'!B665","v":0},{"$f":"'PXS Kopieret'!C665","v":0},{"$f":"'PXS Kopieret'!D665","v":0},{"$f":"IF($A665<>\"PhD Student\",'PXS Kopieret'!E665,\"\")","v":0},{"$f":"IF($A665=\"PhD Student\",'PXS Kopieret'!F665,\"\")","v":""},{"$f":"'PXS Kopieret'!G665","v":0},{"$f":"'PXS Kopieret'!H665","v":0},{"$f":"IF($A665=\"PhD Student\",'PXS Kopieret'!I665,\"\")","v":""},{"$f":"'PXS Kopieret'!J665","v":0},{"$f":"'PXS Kopieret'!K665","v":0},{"$f":"'PXS Kopieret'!L665","v":0}]
["",{"$f":"IF('PXS Kopieret'!N666<>\"\",HYPERLINK(\"https://ssl1.peoplexs.com/Peoplexs22/eFormportal/eForm.cfm?CandidateUpdateID=\"&'PXS Kopieret'!M666&\"&CandidateUpdateCode=\"&'PXS Kopieret'!N666&\"&Locale=en&CustomFormID=11612\",\"Docs\"),\"\")","v":""},{"$f":"'PXS Kopieret'!A666","v":0},{"$f":"'PXS Kopieret'!B666","v":0},{"$f":"'PXS Kopieret'!C666","v":0},{"$f":"'PXS Kopieret'!D666","v":0},{"$f":"IF($A666<>\"PhD Student\",'PXS Kopieret'!E666,\"\")","v":0},{"$f":"IF($A666=\"PhD Student\",'PXS Kopieret'!F666,\"\")","v":""},{"$f":"'PXS Kopieret'!G666","v":0},{"$f":"'PXS Kopieret'!H666","v":0},{"$f":"IF($A666=\"PhD Student\",'PXS Kopieret'!I666,\"\")","v":""},{"$f":"'PXS Kopieret'!J666","v":0},{"$f":"'PXS Kopieret'!K666","v":0},{"$f":"'PXS Kopieret'!L666","v":0}]
["",{"$f":"IF('PXS Kopieret'!N667<>\"\",HYPERLINK(\"https://ssl1.peoplexs.com/Peoplexs22/eFormportal/eForm.cfm?CandidateUpdateID=\"&'PXS Kopieret'!M667&\"&CandidateUpdateCode=\"&'PXS Kopieret'!N667&\"&Locale=en&CustomFormID=11612\",\"Docs\"),\"\")","v":""},{"$f":"'PXS Kopieret'!A667","v":0},{"$f":"'PXS Kopieret'!B667","v":0},{"$f":"'PXS Kopieret'!C667","v":0},{"$f":"'PXS Kopieret'!D667","v":0},{"$f":"IF($A667<>\"PhD Student\",'PXS Kopieret'!E667,\"\")","v":0},{"$f":"IF($A667=\"PhD Student\",'PXS Kopieret'!F667,\"\")","v":""},{"$f":"'PXS Kopieret'!G667","v":0},{"$f":"'PXS Kopieret'!H667","v":0},{"$f":"IF($A667=\"PhD Student\",'PXS Kopieret'!I667,\"\")","v":""},{"$f":"'PXS Kopieret'!J667","v":0},{"$f":"'PXS Kopieret'!K667","v":0},{"$f":"'PXS Kopieret'!L667","v":0}]
["",{"$f":"IF('PXS Kopieret'!N668<>\"\",HYPERLINK(\"https://ssl1.peoplexs.com/Peoplexs22/eFormportal/eForm.cfm?CandidateUpdateID=\"&'PXS Kopieret'!M668&\"&CandidateUpdateCode=\"&'PXS Kopieret'!N668&\"&Locale=en&CustomFormID=11612\",\"Docs\"),\"\")","v":""},{"$f":"'PXS Kopieret'!A668","v":0},{"$f":"'PXS Kopieret'!B668","v":0},{"$f":"'PXS Kopieret'!C668","v":0},{"$f":"'PXS Kopieret'!D668","v":0},{"$f":"IF($A668<>\"PhD Student\",'PXS Kopieret'!E668,\"\")","v":0},{"$f":"IF($A668=\"PhD Student\",'PXS Kopieret'!F668,\"\")","v":""},{"$f":"'PXS Kopieret'!G668","v":0},{"$f":"'PXS Kopieret'!H668","v":0},{"$f":"IF($A668=\"PhD Student\",'PXS Kopieret'!I668,\"\")","v":""},{"$f":"'PXS Kopieret'!J668","v":0},{"$f":"'PXS Kopieret'!K668","v":0},{"$f":"'PXS Kopieret'!L668","v":0}]
["",{"$f":"IF('PXS Kopieret'!N669<>\"\",HYPERLINK(\"https://ssl1.peoplexs.com/Peoplexs22/eFormportal/eForm.cfm?CandidateUpdateID=\"&'PXS Kopieret'!M669&\"&CandidateUpdateCode=\"&'PXS Kopieret'!N669&\"&Locale=en&CustomFormID=11612\",\"Docs\"),\"\")","v":""},{"$f":"'PXS Kopieret'!A669","v":0},{"$f":"'PXS Kopieret'!B669","v":0},{"$f":"'PXS Kopieret'!C669","v":0},{"$f":"'PXS Kopieret'!D669","v":0},{"$f":"IF($A669<>\"PhD Student\",'PXS Kopieret'!E669,\"\")","v":0},{"$f":"IF($A669=\"PhD Student\",'PXS Kopieret'!F669,\"\")","v":""},{"$f":"'PXS Kopieret'!G669","v":0},{"$f":"'PXS Kopieret'!H669","v":0},{"$f":"IF($A669=\"PhD Student\",'PXS Kopieret'!I669,\"\")","v":""},{"$f":"'PXS Kopieret'!J669","v":0},{"$f":"'PXS Kopieret'!K669","v":0},{"$f":"'PXS Kopieret'!L669","v":0}]
["",{"$f":"IF('PXS Kopieret'!N670<>\"\",HYPERLINK(\"https://ssl1.peoplexs.com/Peoplexs22/eFormportal/eForm.cfm?CandidateUpdateID=\"&'PXS Kopieret'!M670&\"&CandidateUpdateCode=\"&'PXS Kopieret'!N670&\"&Locale=en&CustomFormID=11612\",\"Docs\"),\"\")","v":""},{"$f":"'PXS Kopieret'!A670","v":0},{"$f":"'PXS Kopieret'!B670","v":0},{"$f":"'PXS Kopieret'!C670","v":0},{"$f":"'PXS Kopieret'!D670","v":0},{"$f":"IF($A670<>\"PhD Student\",'PXS Kopieret'!E670,\"\")","v":0},{"$f":"IF($A670=\"PhD Student\",'PXS Kopieret'!F670,\"\")","v":""},{"$f":"'PXS Kopieret'!G670","v":0},{"$f":"'PXS Kopieret'!H670","v":0},{"$f":"IF($A670=\"PhD Student\",'PXS Kopieret'!I670,\"\")","v":""},{"$f":"'PXS Kopieret'!J670","v":0},{"$f":"'PXS Kopieret'!K670","v":0},{"$f":"'PXS Kopieret'!L670","v":0}]
["",{"$f":"IF('PXS Kopieret'!N671<>\"\",HYPERLINK(\"https://ssl1.peoplexs.com/Peoplexs22/eFormportal/eForm.cfm?CandidateUpdateID=\"&'PXS Kopieret'!M671&\"&CandidateUpdateCode=\"&'PXS Kopieret'!N671&\"&Locale=en&CustomFormID=11612\",\"Docs\"),\"\")","v":""},{"$f":"'PXS Kopieret'!A671","v":0},{"$f":"'PXS Kopieret'!B671","v":0},{"$f":"'PXS Kopieret'!C671","v":0},{"$f":"'PXS Kopieret'!D671","v":0},{"$f":"IF($A671<>\"PhD Student\",'PXS Kopieret'!E671,\"\")","v":0},{"$f":"IF($A671=\"PhD Student\",'PXS Kopieret'!F671,\"\")","v":""},{"$f":"'PXS Kopieret'!G671","v":0},{"$f":"'PXS Kopieret'!H671","v":0},{"$f":"IF($A671=\"PhD Student\",'PXS Kopieret'!I671,\"\")","v":""},{"$f":"'PXS Kopieret'!J671","v":0},{"$f":"'PXS Kopieret'!K671","v":0},{"$f":"'PXS Kopieret'!L671","v":0}]
["",{"$f":"IF('PXS Kopieret'!N672<>\"\",HYPERLINK(\"https://ssl1.peoplexs.com/Peoplexs22/eFormportal/eForm.cfm?CandidateUpdateID=\"&'PXS Kopieret'!M672&\"&CandidateUpdateCode=\"&'PXS Kopieret'!N672&\"&Locale=en&CustomFormID=11612\",\"Docs\"),\"\")","v":""},{"$f":"'PXS Kopieret'!A672","v":0},{"$f":"'PXS Kopieret'!B672","v":0},{"$f":"'PXS Kopieret'!C672","v":0},{"$f":"'PXS Kopieret'!D672","v":0},{"$f":"IF($A672<>\"PhD Student\",'PXS Kopieret'!E672,\"\")","v":0},{"$f":"IF($A672=\"PhD Student\",'PXS Kopieret'!F672,\"\")","v":""},{"$f":"'PXS Kopieret'!G672","v":0},{"$f":"'PXS Kopieret'!H672","v":0},{"$f":"IF($A672=\"PhD Student\",'PXS Kopieret'!I672,\"\")","v":""},{"$f":"'PXS Kopieret'!J672","v":0},{"$f":"'PXS Kopieret'!K672","v":0},{"$f":"'PXS Kopieret'!L672","v":0}]
["",{"$f":"IF('PXS Kopieret'!N673<>\"\",HYPERLINK(\"https://ssl1.peoplexs.com/Peoplexs22/eFormportal/eForm.cfm?CandidateUpdateID=\"&'PXS Kopieret'!M673&\"&CandidateUpdateCode=\"&'PXS Kopieret'!N673&\"&Locale=en&CustomFormID=11612\",\"Docs\"),\"\")","v":""},{"$f":"'PXS Kopieret'!A673","v":0},{"$f":"'PXS Kopieret'!B673","v":0},{"$f":"'PXS Kopieret'!C673","v":0},{"$f":"'PXS Kopieret'!D673","v":0},{"$f":"IF($A673<>\"PhD Student\",'PXS Kopieret'!E673,\"\")","v":0},{"$f":"IF($A673=\"PhD Student\",'PXS Kopieret'!F673,\"\")","v":""},{"$f":"'PXS Kopieret'!G673","v":0},{"$f":"'PXS Kopieret'!H673","v":0},{"$f":"IF($A673=\"PhD Student\",'PXS Kopieret'!I673,\"\")","v":""},{"$f":"'PXS Kopieret'!J673","v":0},{"$f":"'PXS Kopieret'!K673","v":0},{"$f":"'PXS Kopieret'!L673","v":0}]
["",{"$f":"IF('PXS Kopieret'!N674<>\"\",HYPERLINK(\"https://ssl1.peoplexs.com/Peoplexs22/eFormportal/eForm.cfm?CandidateUpdateID=\"&'PXS Kopieret'!M674&\"&CandidateUpdateCode=\"&'PXS Kopieret'!N674&\"&Locale=en&CustomFormID=11612\",\"Docs\"),\"\")","v":""},{"$f":"'PXS Kopieret'!A674","v":0},{"$f":"'PXS Kopieret'!B674","v":0},{"$f":"'PXS Kopieret'!C674","v":0},{"$f":"'PXS Kopieret'!D674","v":0},{"$f":"IF($A674<>\"PhD Student\",'PXS Kopieret'!E674,\"\")","v":0},{"$f":"IF($A674=\"PhD Student\",'PXS Kopieret'!F674,\"\")","v":""},{"$f":"'PXS Kopieret'!G674","v":0},{"$f":"'PXS Kopieret'!H674","v":0},{"$f":"IF($A674=\"PhD Student\",'PXS Kopieret'!I674,\"\")","v":""},{"$f":"'PXS Kopieret'!J674","v":0},{"$f":"'PXS Kopieret'!K674","v":0},{"$f":"'PXS Kopieret'!L674","v":0}]
["",{"$f":"IF('PXS Kopieret'!N675<>\"\",HYPERLINK(\"https://ssl1.peoplexs.com/Peoplexs22/eFormportal/eForm.cfm?CandidateUpdateID=\"&'PXS Kopieret'!M675&\"&CandidateUpdateCode=\"&'PXS Kopieret'!N675&\"&Locale=en&CustomFormID=11612\",\"Docs\"),\"\")","v":""},{"$f":"'PXS Kopieret'!A675","v":0},{"$f":"'PXS Kopieret'!B675","v":0},{"$f":"'PXS Kopieret'!C675","v":0},{"$f":"'PXS Kopieret'!D675","v":0},{"$f":"IF($A675<>\"PhD Student\",'PXS Kopieret'!E675,\"\")","v":0},{"$f":"IF($A675=\"PhD Student\",'PXS Kopieret'!F675,\"\")","v":""},{"$f":"'PXS Kopieret'!G675","v":0},{"$f":"'PXS Kopieret'!H675","v":0},{"$f":"IF($A675=\"PhD Student\",'PXS Kopieret'!I675,\"\")","v":""},{"$f":"'PXS Kopieret'!J675","v":0},{"$f":"'PXS Kopieret'!K675","v":0},{"$f":"'PXS Kopieret'!L675","v":0}]
["",{"$f":"IF('PXS Kopieret'!N676<>\"\",HYPERLINK(\"https://ssl1.peoplexs.com/Peoplexs22/eFormportal/eForm.cfm?CandidateUpdateID=\"&'PXS Kopieret'!M676&\"&CandidateUpdateCode=\"&'PXS Kopieret'!N676&\"&Locale=en&CustomFormID=11612\",\"Docs\"),\"\")","v":""},{"$f":"'PXS Kopieret'!A676","v":0},{"$f":"'PXS Kopieret'!B676","v":0},{"$f":"'PXS Kopieret'!C676","v":0},{"$f":"'PXS Kopieret'!D676","v":0},{"$f":"IF($A676<>\"PhD Student\",'PXS Kopieret'!E676,\"\")","v":0},{"$f":"IF($A676=\"PhD Student\",'PXS Kopieret'!F676,\"\")","v":""},{"$f":"'PXS Kopieret'!G676","v":0},{"$f":"'PXS Kopieret'!H676","v":0},{"$f":"IF($A676=\"PhD Student\",'PXS Kopieret'!I676,\"\")","v":""},{"$f":"'PXS Kopieret'!J676","v":0},{"$f":"'PXS Kopieret'!K676","v":0},{"$f":"'PXS Kopieret'!L676","v":0}]
["",{"$f":"IF('PXS Kopieret'!N677<>\"\",HYPERLINK(\"https://ssl1.peoplexs.com/Peoplexs22/eFormportal/eForm.cfm?CandidateUpdateID=\"&'PXS Kopieret'!M677&\"&CandidateUpdateCode=\"&'PXS Kopieret'!N677&\"&Locale=en&CustomFormID=11612\",\"Docs\"),\"\")","v":""},{"$f":"'PXS Kopieret'!A677","v":0},{"$f":"'PXS Kopieret'!B677","v":0},{"$f":"'PXS Kopieret'!C677","v":0},{"$f":"'PXS Kopieret'!D677","v":0},{"$f":"IF($A677<>\"PhD Student\",'PXS Kopieret'!E677,\"\")","v":0},{"$f":"IF($A677=\"PhD Student\",'PXS Kopieret'!F677,\"\")","v":""},{"$f":"'PXS Kopieret'!G677","v":0},{"$f":"'PXS Kopieret'!H677","v":0},{"$f":"IF($A677=\"PhD Student\",'PXS Kopieret'!I677,\"\")","v":""},{"$f":"'PXS Kopieret'!J677","v":0},{"$f":"'PXS Kopieret'!K677","v":0},{"$f":"'PXS Kopieret'!L677","v":0}]
["",{"$f":"IF('PXS Kopieret'!N678<>\"\",HYPERLINK(\"https://ssl1.peoplexs.com/Peoplexs22/eFormportal/eForm.cfm?CandidateUpdateID=\"&'PXS Kopieret'!M678&\"&CandidateUpdateCode=\"&'PXS Kopieret'!N678&\"&Locale=en&CustomFormID=11612\",\"Docs\"),\"\")","v":""},{"$f":"'PXS Kopieret'!A678","v":0},{"$f":"'PXS Kopieret'!B678","v":0},{"$f":"'PXS Kopieret'!C678","v":0},{"$f":"'PXS Kopieret'!D678","v":0},{"$f":"IF($A678<>\"PhD Student\",'PXS Kopieret'!E678,\"\")","v":0},{"$f":"IF($A678=\"PhD Student\",'PXS Kopieret'!F678,\"\")","v":""},{"$f":"'PXS Kopieret'!G678","v":0},{"$f":"'PXS Kopieret'!H678","v":0},{"$f":"IF($A678=\"PhD Student\",'PXS Kopieret'!I678,\"\")","v":""},{"$f":"'PXS Kopieret'!J678","v":0},{"$f":"'PXS Kopieret'!K678","v":0},{"$f":"'PXS Kopieret'!L678","v":0}]
["",{"$f":"IF('PXS Kopieret'!N679<>\"\",HYPERLINK(\"https://ssl1.peoplexs.com/Peoplexs22/eFormportal/eForm.cfm?CandidateUpdateID=\"&'PXS Kopieret'!M679&\"&CandidateUpdateCode=\"&'PXS Kopieret'!N679&\"&Locale=en&CustomFormID=11612\",\"Docs\"),\"\")","v":""},{"$f":"'PXS Kopieret'!A679","v":0},{"$f":"'PXS Kopieret'!B679","v":0},{"$f":"'PXS Kopieret'!C679","v":0},{"$f":"'PXS Kopieret'!D679","v":0},{"$f":"IF($A679<>\"PhD Student\",'PXS Kopieret'!E679,\"\")","v":0},{"$f":"IF($A679=\"PhD Student\",'PXS Kopieret'!F679,\"\")","v":""},{"$f":"'PXS Kopieret'!G679","v":0},{"$f":"'PXS Kopieret'!H679","v":0},{"$f":"IF($A679=\"PhD Student\",'PXS Kopieret'!I679,\"\")","v":""},{"$f":"'PXS Kopieret'!J679","v":0},{"$f":"'PXS Kopieret'!K679","v":0},{"$f":"'PXS Kopieret'!L679","v":0}]
["",{"$f":"IF('PXS Kopieret'!N680<>\"\",HYPERLINK(\"https://ssl1.peoplexs.com/Peoplexs22/eFormportal/eForm.cfm?CandidateUpdateID=\"&'PXS Kopieret'!M680&\"&CandidateUpdateCode=\"&'PXS Kopieret'!N680&\"&Locale=en&CustomFormID=11612\",\"Docs\"),\"\")","v":""},{"$f":"'PXS Kopieret'!A680","v":0},{"$f":"'PXS Kopieret'!B680","v":0},{"$f":"'PXS Kopieret'!C680","v":0},{"$f":"'PXS Kopieret'!D680","v":0},{"$f":"IF($A680<>\"PhD Student\",'PXS Kopieret'!E680,\"\")","v":0},{"$f":"IF($A680=\"PhD Student\",'PXS Kopieret'!F680,\"\")","v":""},{"$f":"'PXS Kopieret'!G680","v":0},{"$f":"'PXS Kopieret'!H680","v":0},{"$f":"IF($A680=\"PhD Student\",'PXS Kopieret'!I680,\"\")","v":""},{"$f":"'PXS Kopieret'!J680","v":0},{"$f":"'PXS Kopieret'!K680","v":0},{"$f":"'PXS Kopieret'!L680","v":0}]
["",{"$f":"IF('PXS Kopieret'!N681<>\"\",HYPERLINK(\"https://ssl1.peoplexs.com/Peoplexs22/eFormportal/eForm.cfm?CandidateUpdateID=\"&'PXS Kopieret'!M681&\"&CandidateUpdateCode=\"&'PXS Kopieret'!N681&\"&Locale=en&CustomFormID=11612\",\"Docs\"),\"\")","v":""},{"$f":"'PXS Kopieret'!A681","v":0},{"$f":"'PXS Kopieret'!B681","v":0},{"$f":"'PXS Kopieret'!C681","v":0},{"$f":"'PXS Kopieret'!D681","v":0},{"$f":"IF($A681<>\"PhD Student\",'PXS Kopieret'!E681,\"\")","v":0},{"$f":"IF($A681=\"PhD Student\",'PXS Kopieret'!F681,\"\")","v":""},{"$f":"'PXS Kopieret'!G681","v":0},{"$f":"'PXS Kopieret'!H681","v":0},{"$f":"IF($A681=\"PhD Student\",'PXS Kopieret'!I681,\"\")","v":""},{"$f":"'PXS Kopieret'!J681","v":0},{"$f":"'PXS Kopieret'!K681","v":0},{"$f":"'PXS Kopieret'!L681","v":0}]
["",{"$f":"IF('PXS Kopieret'!N682<>\"\",HYPERLINK(\"https://ssl1.peoplexs.com/Peoplexs22/eFormportal/eForm.cfm?CandidateUpdateID=\"&'PXS Kopieret'!M682&\"&CandidateUpdateCode=\"&'PXS Kopieret'!N682&\"&Locale=en&CustomFormID=11612\",\"Docs\"),\"\")","v":""},{"$f":"'PXS Kopieret'!A682","v":0},{"$f":"'PXS Kopieret'!B682","v":0},{"$f":"'PXS Kopieret'!C682","v":0},{"$f":"'PXS Kopieret'!D682","v":0},{"$f":"IF($A682<>\"PhD Student\",'PXS Kopieret'!E682,\"\")","v":0},{"$f":"IF($A682=\"PhD Student\",'PXS Kopieret'!F682,\"\")","v":""},{"$f":"'PXS Kopieret'!G682","v":0},{"$f":"'PXS Kopieret'!H682","v":0},{"$f":"IF($A682=\"PhD Student\",'PXS Kopieret'!I682,\"\")","v":""},{"$f":"'PXS Kopieret'!J682","v":0},{"$f":"'PXS Kopieret'!K682","v":0},{"$f":"'PXS Kopieret'!L682","v":0}]
["",{"$f":"IF('PXS Kopieret'!N683<>\"\",HYPERLINK(\"https://ssl1.peoplexs.com/Peoplexs22/eFormportal/eForm.cfm?CandidateUpdateID=\"&'PXS Kopieret'!M683&\"&CandidateUpdateCode=\"&'PXS Kopieret'!N683&\"&Locale=en&CustomFormID=11612\",\"Docs\"),\"\")","v":""},{"$f":"'PXS Kopieret'!A683","v":0},{"$f":"'PXS Kopieret'!B683","v":0},{"$f":"'PXS Kopieret'!C683","v":0},{"$f":"'PXS Kopieret'!D683","v":0},{"$f":"IF($A683<>\"PhD Student\",'PXS Kopieret'!E683,\"\")","v":0},{"$f":"IF($A683=\"PhD Student\",'PXS Kopieret'!F683,\"\")","v":""},{"$f":"'PXS Kopieret'!G683","v":0},{"$f":"'PXS Kopieret'!H683","v":0},{"$f":"IF($A683=\"PhD Student\",'PXS Kopieret'!I683,\"\")","v":""},{"$f":"'PXS Kopieret'!J683","v":0},{"$f":"'PXS Kopieret'!K683","v":0},{"$f":"'PXS Kopieret'!L683","v":0}]
["",{"$f":"IF('PXS Kopieret'!N684<>\"\",HYPERLINK(\"https://ssl1.peoplexs.com/Peoplexs22/eFormportal/eForm.cfm?CandidateUpdateID=\"&'PXS Kopieret'!M684&\"&CandidateUpdateCode=\"&'PXS Kopieret'!N684&\"&Locale=en&CustomFormID=11612\",\"Docs\"),\"\")","v":""},{"$f":"'PXS Kopieret'!A684","v":0},{"$f":"'PXS Kopieret'!B684","v":0},{"$f":"'PXS Kopieret'!C684","v":0},{"$f":"'PXS Kopieret'!D684","v":0},{"$f":"IF($A684<>\"PhD Student\",'PXS Kopieret'!E684,\"\")","v":0},{"$f":"IF($A684=\"PhD Student\",'PXS Kopieret'!F684,\"\")","v":""},{"$f":"'PXS Kopieret'!G684","v":0},{"$f":"'PXS Kopieret'!H684","v":0},{"$f":"IF($A684=\"PhD Student\",'PXS Kopieret'!I684,\"\")","v":""},{"$f":"'PXS Kopieret'!J684","v":0},{"$f":"'PXS Kopieret'!K684","v":0},{"$f":"'PXS Kopieret'!L684","v":0}]
["",{"$f":"IF('PXS Kopieret'!N685<>\"\",HYPERLINK(\"https://ssl1.peoplexs.com/Peoplexs22/eFormportal/eForm.cfm?CandidateUpdateID=\"&'PXS Kopieret'!M685&\"&CandidateUpdateCode=\"&'PXS Kopieret'!N685&\"&Locale=en&CustomFormID=11612\",\"Docs\"),\"\")","v":""},{"$f":"'PXS Kopieret'!A685","v":0},{"$f":"'PXS Kopieret'!B685","v":0},{"$f":"'PXS Kopieret'!C685","v":0},{"$f":"'PXS Kopieret'!D685","v":0},{"$f":"IF($A685<>\"PhD Student\",'PXS Kopieret'!E685,\"\")","v":0},{"$f":"IF($A685=\"PhD Student\",'PXS Kopieret'!F685,\"\")","v":""},{"$f":"'PXS Kopieret'!G685","v":0},{"$f":"'PXS Kopieret'!H685","v":0},{"$f":"IF($A685=\"PhD Student\",'PXS Kopieret'!I685,\"\")","v":""},{"$f":"'PXS Kopieret'!J685","v":0},{"$f":"'PXS Kopieret'!K685","v":0},{"$f":"'PXS Kopieret'!L685","v":0}]
["",{"$f":"IF('PXS Kopieret'!N686<>\"\",HYPERLINK(\"https://ssl1.peoplexs.com/Peoplexs22/eFormportal/eForm.cfm?CandidateUpdateID=\"&'PXS Kopieret'!M686&\"&CandidateUpdateCode=\"&'PXS Kopieret'!N686&\"&Locale=en&CustomFormID=11612\",\"Docs\"),\"\")","v":""},{"$f":"'PXS Kopieret'!A686","v":0},{"$f":"'PXS Kopieret'!B686","v":0},{"$f":"'PXS Kopieret'!C686","v":0},{"$f":"'PXS Kopieret'!D686","v":0},{"$f":"IF($A686<>\"PhD Student\",'PXS Kopieret'!E686,\"\")","v":0},{"$f":"IF($A686=\"PhD Student\",'PXS Kopieret'!F686,\"\")","v":""},{"$f":"'PXS Kopieret'!G686","v":0},{"$f":"'PXS Kopieret'!H686","v":0},{"$f":"IF($A686=\"PhD Student\",'PXS Kopieret'!I686,\"\")","v":""},{"$f":"'PXS Kopieret'!J686","v":0},{"$f":"'PXS Kopieret'!K686","v":0},{"$f":"'PXS Kopieret'!L686","v":0}]
["",{"$f":"IF('PXS Kopieret'!N687<>\"\",HYPERLINK(\"https://ssl1.peoplexs.com/Peoplexs22/eFormportal/eForm.cfm?CandidateUpdateID=\"&'PXS Kopieret'!M687&\"&CandidateUpdateCode=\"&'PXS Kopieret'!N687&\"&Locale=en&CustomFormID=11612\",\"Docs\"),\"\")","v":""},{"$f":"'PXS Kopieret'!A687","v":0},{"$f":"'PXS Kopieret'!B687","v":0},{"$f":"'PXS Kopieret'!C687","v":0},{"$f":"'PXS Kopieret'!D687","v":0},{"$f":"IF($A687<>\"PhD Student\",'PXS Kopieret'!E687,\"\")","v":0},{"$f":"IF($A687=\"PhD Student\",'PXS Kopieret'!F687,\"\")","v":""},{"$f":"'PXS Kopieret'!G687","v":0},{"$f":"'PXS Kopieret'!H687","v":0},{"$f":"IF($A687=\"PhD Student\",'PXS Kopieret'!I687,\"\")","v":""},{"$f":"'PXS Kopieret'!J687","v":0},{"$f":"'PXS Kopieret'!K687","v":0},{"$f":"'PXS Kopieret'!L687","v":0}]
["",{"$f":"IF('PXS Kopieret'!N688<>\"\",HYPERLINK(\"https://ssl1.peoplexs.com/Peoplexs22/eFormportal/eForm.cfm?CandidateUpdateID=\"&'PXS Kopieret'!M688&\"&CandidateUpdateCode=\"&'PXS Kopieret'!N688&\"&Locale=en&CustomFormID=11612\",\"Docs\"),\"\")","v":""},{"$f":"'PXS Kopieret'!A688","v":0},{"$f":"'PXS Kopieret'!B688","v":0},{"$f":"'PXS Kopieret'!C688","v":0},{"$f":"'PXS Kopieret'!D688","v":0},{"$f":"IF($A688<>\"PhD Student\",'PXS Kopieret'!E688,\"\")","v":0},{"$f":"IF($A688=\"PhD Student\",'PXS Kopieret'!F688,\"\")","v":""},{"$f":"'PXS Kopieret'!G688","v":0},{"$f":"'PXS Kopieret'!H688","v":0},{"$f":"IF($A688=\"PhD Student\",'PXS Kopieret'!I688,\"\")","v":""},{"$f":"'PXS Kopieret'!J688","v":0},{"$f":"'PXS Kopieret'!K688","v":0},{"$f":"'PXS Kopieret'!L688","v":0}]
["",{"$f":"IF('PXS Kopieret'!N689<>\"\",HYPERLINK(\"https://ssl1.peoplexs.com/Peoplexs22/eFormportal/eForm.cfm?CandidateUpdateID=\"&'PXS Kopieret'!M689&\"&CandidateUpdateCode=\"&'PXS Kopieret'!N689&\"&Locale=en&CustomFormID=11612\",\"Docs\"),\"\")","v":""},{"$f":"'PXS Kopieret'!A689","v":0},{"$f":"'PXS Kopieret'!B689","v":0},{"$f":"'PXS Kopieret'!C689","v":0},{"$f":"'PXS Kopieret'!D689","v":0},{"$f":"IF($A689<>\"PhD Student\",'PXS Kopieret'!E689,\"\")","v":0},{"$f":"IF($A689=\"PhD Student\",'PXS Kopieret'!F689,\"\")","v":""},{"$f":"'PXS Kopieret'!G689","v":0},{"$f":"'PXS Kopieret'!H689","v":0},{"$f":"IF($A689=\"PhD Student\",'PXS Kopieret'!I689,\"\")","v":""},{"$f":"'PXS Kopieret'!J689","v":0},{"$f":"'PXS Kopieret'!K689","v":0},{"$f":"'PXS Kopieret'!L689","v":0}]
["",{"$f":"IF('PXS Kopieret'!N690<>\"\",HYPERLINK(\"https://ssl1.peoplexs.com/Peoplexs22/eFormportal/eForm.cfm?CandidateUpdateID=\"&'PXS Kopieret'!M690&\"&CandidateUpdateCode=\"&'PXS Kopieret'!N690&\"&Locale=en&CustomFormID=11612\",\"Docs\"),\"\")","v":""},{"$f":"'PXS Kopieret'!A690","v":0},{"$f":"'PXS Kopieret'!B690","v":0},{"$f":"'PXS Kopieret'!C690","v":0},{"$f":"'PXS Kopieret'!D690","v":0},{"$f":"IF($A690<>\"PhD Student\",'PXS Kopieret'!E690,\"\")","v":0},{"$f":"IF($A690=\"PhD Student\",'PXS Kopieret'!F690,\"\")","v":""},{"$f":"'PXS Kopieret'!G690","v":0},{"$f":"'PXS Kopieret'!H690","v":0},{"$f":"IF($A690=\"PhD Student\",'PXS Kopieret'!I690,\"\")","v":""},{"$f":"'PXS Kopieret'!J690","v":0},{"$f":"'PXS Kopieret'!K690","v":0},{"$f":"'PXS Kopieret'!L690","v":0}]
["",{"$f":"IF('PXS Kopieret'!N691<>\"\",HYPERLINK(\"https://ssl1.peoplexs.com/Peoplexs22/eFormportal/eForm.cfm?CandidateUpdateID=\"&'PXS Kopieret'!M691&\"&CandidateUpdateCode=\"&'PXS Kopieret'!N691&\"&Locale=en&CustomFormID=11612\",\"Docs\"),\"\")","v":""},{"$f":"'PXS Kopieret'!A691","v":0},{"$f":"'PXS Kopieret'!B691","v":0},{"$f":"'PXS Kopieret'!C691","v":0},{"$f":"'PXS Kopieret'!D691","v":0},{"$f":"IF($A691<>\"PhD Student\",'PXS Kopieret'!E691,\"\")","v":0},{"$f":"IF($A691=\"PhD Student\",'PXS Kopieret'!F691,\"\")","v":""},{"$f":"'PXS Kopieret'!G691","v":0},{"$f":"'PXS Kopieret'!H691","v":0},{"$f":"IF($A691=\"PhD Student\",'PXS Kopieret'!I691,\"\")","v":""},{"$f":"'PXS Kopieret'!J691","v":0},{"$f":"'PXS Kopieret'!K691","v":0},{"$f":"'PXS Kopieret'!L691","v":0}]
["",{"$f":"IF('PXS Kopieret'!N692<>\"\",HYPERLINK(\"https://ssl1.peoplexs.com/Peoplexs22/eFormportal/eForm.cfm?CandidateUpdateID=\"&'PXS Kopieret'!M692&\"&CandidateUpdateCode=\"&'PXS Kopieret'!N692&\"&Locale=en&CustomFormID=11612\",\"Docs\"),\"\")","v":""},{"$f":"'PXS Kopieret'!A692","v":0},{"$f":"'PXS Kopieret'!B692","v":0},{"$f":"'PXS Kopieret'!C692","v":0},{"$f":"'PXS Kopieret'!D692","v":0},{"$f":"IF($A692<>\"PhD Student\",'PXS Kopieret'!E692,\"\")","v":0},{"$f":"IF($A692=\"PhD Student\",'PXS Kopieret'!F692,\"\")","v":""},{"$f":"'PXS Kopieret'!G692","v":0},{"$f":"'PXS Kopieret'!H692","v":0},{"$f":"IF($A692=\"PhD Student\",'PXS Kopieret'!I692,\"\")","v":""},{"$f":"'PXS Kopieret'!J692","v":0},{"$f":"'PXS Kopieret'!K692","v":0},{"$f":"'PXS Kopieret'!L692","v":0}]
["",{"$f":"IF('PXS Kopieret'!N693<>\"\",HYPERLINK(\"https://ssl1.peoplexs.com/Peoplexs22/eFormportal/eForm.cfm?CandidateUpdateID=\"&'PXS Kopieret'!M693&\"&CandidateUpdateCode=\"&'PXS Kopieret'!N693&\"&Locale=en&CustomFormID=11612\",\"Docs\"),\"\")","v":""},{"$f":"'PXS Kopieret'!A693","v":0},{"$f":"'PXS Kopieret'!B693","v":0},{"$f":"'PXS Kopieret'!C693","v":0},{"$f":"'PXS Kopieret'!D693","v":0},{"$f":"IF($A693<>\"PhD Student\",'PXS Kopieret'!E693,\"\")","v":0},{"$f":"IF($A693=\"PhD Student\",'PXS Kopieret'!F693,\"\")","v":""},{"$f":"'PXS Kopieret'!G693","v":0},{"$f":"'PXS Kopieret'!H693","v":0},{"$f":"IF($A693=\"PhD Student\",'PXS Kopieret'!I693,\"\")","v":""},{"$f":"'PXS Kopieret'!J693","v":0},{"$f":"'PXS Kopieret'!K693","v":0},{"$f":"'PXS Kopieret'!L693","v":0}]
["",{"$f":"IF('PXS Kopieret'!N694<>\"\",HYPERLINK(\"https://ssl1.peoplexs.com/Peoplexs22/eFormportal/eForm.cfm?CandidateUpdateID=\"&'PXS Kopieret'!M694&\"&CandidateUpdateCode=\"&'PXS Kopieret'!N694&\"&Locale=en&CustomFormID=11612\",\"Docs\"),\"\")","v":""},{"$f":"'PXS Kopieret'!A694","v":0},{"$f":"'PXS Kopieret'!B694","v":0},{"$f":"'PXS Kopieret'!C694","v":0},{"$f":"'PXS Kopieret'!D694","v":0},{"$f":"IF($A694<>\"PhD Student\",'PXS Kopieret'!E694,\"\")","v":0},{"$f":"IF($A694=\"PhD Student\",'PXS Kopieret'!F694,\"\")","v":""},{"$f":"'PXS Kopieret'!G694","v":0},{"$f":"'PXS Kopieret'!H694","v":0},{"$f":"IF($A694=\"PhD Student\",'PXS Kopieret'!I694,\"\")","v":""},{"$f":"'PXS Kopieret'!J694","v":0},{"$f":"'PXS Kopieret'!K694","v":0},{"$f":"'PXS Kopieret'!L694","v":0}]
["",{"$f":"IF('PXS Kopieret'!N695<>\"\",HYPERLINK(\"https://ssl1.peoplexs.com/Peoplexs22/eFormportal/eForm.cfm?CandidateUpdateID=\"&'PXS Kopieret'!M695&\"&CandidateUpdateCode=\"&'PXS Kopieret'!N695&\"&Locale=en&CustomFormID=11612\",\"Docs\"),\"\")","v":""},{"$f":"'PXS Kopieret'!A695","v":0},{"$f":"'PXS Kopieret'!B695","v":0},{"$f":"'PXS Kopieret'!C695","v":0},{"$f":"'PXS Kopieret'!D695","v":0},{"$f":"IF($A695<>\"PhD Student\",'PXS Kopieret'!E695,\"\")","v":0},{"$f":"IF($A695=\"PhD Student\",'PXS Kopieret'!F695,\"\")","v":""},{"$f":"'PXS Kopieret'!G695","v":0},{"$f":"'PXS Kopieret'!H695","v":0},{"$f":"IF($A695=\"PhD Student\",'PXS Kopieret'!I695,\"\")","v":""},{"$f":"'PXS Kopieret'!J695","v":0},{"$f":"'PXS Kopieret'!K695","v":0},{"$f":"'PXS Kopieret'!L695","v":0}]
["",{"$f":"IF('PXS Kopieret'!N696<>\"\",HYPERLINK(\"https://ssl1.peoplexs.com/Peoplexs22/eFormportal/eForm.cfm?CandidateUpdateID=\"&'PXS Kopieret'!M696&\"&CandidateUpdateCode=\"&'PXS Kopieret'!N696&\"&Locale=en&CustomFormID=11612\",\"Docs\"),\"\")","v":""},{"$f":"'PXS Kopieret'!A696","v":0},{"$f":"'PXS Kopieret'!B696","v":0},{"$f":"'PXS Kopieret'!C696","v":0},{"$f":"'PXS Kopieret'!D696","v":0},{"$f":"IF($A696<>\"PhD Student\",'PXS Kopieret'!E696,\"\")","v":0},{"$f":"IF($A696=\"PhD Student\",'PXS Kopieret'!F696,\"\")","v":""},{"$f":"'PXS Kopieret'!G696","v":0},{"$f":"'PXS Kopieret'!H696","v":0},{"$f":"IF($A696=\"PhD Student\",'PXS Kopieret'!I696,\"\")","v":""},{"$f":"'PXS Kopieret'!J696","v":0},{"$f":"'PXS Kopieret'!K696","v":0},{"$f":"'PXS Kopieret'!L696","v":0}]
["",{"$f":"IF('PXS Kopieret'!N697<>\"\",HYPERLINK(\"https://ssl1.peoplexs.com/Peoplexs22/eFormportal/eForm.cfm?CandidateUpdateID=\"&'PXS Kopieret'!M697&\"&CandidateUpdateCode=\"&'PXS Kopieret'!N697&\"&Locale=en&CustomFormID=11612\",\"Docs\"),\"\")","v":""},{"$f":"'PXS Kopieret'!A697","v":0},{"$f":"'PXS Kopieret'!B697","v":0},{"$f":"'PXS Kopieret'!C697","v":0},{"$f":"'PXS Kopieret'!D697","v":0},{"$f":"IF($A697<>\"PhD Student\",'PXS Kopieret'!E697,\"\")","v":0},{"$f":"IF($A697=\"PhD Student\",'PXS Kopieret'!F697,\"\")","v":""},{"$f":"'PXS Kopieret'!G697","v":0},{"$f":"'PXS Kopieret'!H697","v":0},{"$f":"IF($A697=\"PhD Student\",'PXS Kopieret'!I697,\"\")","v":""},{"$f":"'PXS Kopieret'!J697","v":0},{"$f":"'PXS Kopieret'!K697","v":0},{"$f":"'PXS Kopieret'!L697","v":0}]
["",{"$f":"IF('PXS Kopieret'!N698<>\"\",HYPERLINK(\"https://ssl1.peoplexs.com/Peoplexs22/eFormportal/eForm.cfm?CandidateUpdateID=\"&'PXS Kopieret'!M698&\"&CandidateUpdateCode=\"&'PXS Kopieret'!N698&\"&Locale=en&CustomFormID=11612\",\"Docs\"),\"\")","v":""},{"$f":"'PXS Kopieret'!A698","v":0},{"$f":"'PXS Kopieret'!B698","v":0},{"$f":"'PXS Kopieret'!C698","v":0},{"$f":"'PXS Kopieret'!D698","v":0},{"$f":"IF($A698<>\"PhD Student\",'PXS Kopieret'!E698,\"\")","v":0},{"$f":"IF($A698=\"PhD Student\",'PXS Kopieret'!F698,\"\")","v":""},{"$f":"'PXS Kopieret'!G698","v":0},{"$f":"'PXS Kopieret'!H698","v":0},{"$f":"IF($A698=\"PhD Student\",'PXS Kopieret'!I698,\"\")","v":""},{"$f":"'PXS Kopieret'!J698","v":0},{"$f":"'PXS Kopieret'!K698","v":0},{"$f":"'PXS Kopieret'!L698","v":0}]
["",{"$f":"IF('PXS Kopieret'!N699<>\"\",HYPERLINK(\"https://ssl1.peoplexs.com/Peoplexs22/eFormportal/eForm.cfm?CandidateUpdateID=\"&'PXS Kopieret'!M699&\"&CandidateUpdateCode=\"&'PXS Kopieret'!N699&\"&Locale=en&CustomFormID=11612\",\"Docs\"),\"\")","v":""},{"$f":"'PXS Kopieret'!A699","v":0},{"$f":"'PXS Kopieret'!B699","v":0},{"$f":"'PXS Kopieret'!C699","v":0},{"$f":"'PXS Kopieret'!D699","v":0},{"$f":"IF($A699<>\"PhD Student\",'PXS Kopieret'!E699,\"\")","v":0},{"$f":"IF($A699=\"PhD Student\",'PXS Kopieret'!F699,\"\")","v":""},{"$f":"'PXS Kopieret'!G699","v":0},{"$f":"'PXS Kopieret'!H699","v":0},{"$f":"IF($A699=\"PhD Student\",'PXS Kopieret'!I699,\"\")","v":""},{"$f":"'PXS Kopieret'!J699","v":0},{"$f":"'PXS Kopieret'!K699","v":0},{"$f":"'PXS Kopieret'!L699","v":0}]
["",{"$f":"IF('PXS Kopieret'!N700<>\"\",HYPERLINK(\"https://ssl1.peoplexs.com/Peoplexs22/eFormportal/eForm.cfm?CandidateUpdateID=\"&'PXS Kopieret'!M700&\"&CandidateUpdateCode=\"&'PXS Kopieret'!N700&\"&Locale=en&CustomFormID=11612\",\"Docs\"),\"\")","v":""},{"$f":"'PXS Kopieret'!A700","v":0},{"$f":"'PXS Kopieret'!B700","v":0},{"$f":"'PXS Kopieret'!C700","v":0},{"$f":"'PXS Kopieret'!D700","v":0},{"$f":"IF($A700<>\"PhD Student\",'PXS Kopieret'!E700,\"\")","v":0},{"$f":"IF($A700=\"PhD Student\",'PXS Kopieret'!F700,\"\")","v":""},{"$f":"'PXS Kopieret'!G700","v":0},{"$f":"'PXS Kopieret'!H700","v":0},{"$f":"IF($A700=\"PhD Student\",'PXS Kopieret'!I700,\"\")","v":""},{"$f":"'PXS Kopieret'!J700","v":0},{"$f":"'PXS Kopieret'!K700","v":0},{"$f":"'PXS Kopieret'!L700","v":0}]
["",{"$f":"IF('PXS Kopieret'!N701<>\"\",HYPERLINK(\"https://ssl1.peoplexs.com/Peoplexs22/eFormportal/eForm.cfm?CandidateUpdateID=\"&'PXS Kopieret'!M701&\"&CandidateUpdateCode=\"&'PXS Kopieret'!N701&\"&Locale=en&CustomFormID=11612\",\"Docs\"),\"\")","v":""},{"$f":"'PXS Kopieret'!A701","v":0},{"$f":"'PXS Kopieret'!B701","v":0},{"$f":"'PXS Kopieret'!C701","v":0},{"$f":"'PXS Kopieret'!D701","v":0},{"$f":"IF($A701<>\"PhD Student\",'PXS Kopieret'!E701,\"\")","v":0},{"$f":"IF($A701=\"PhD Student\",'PXS Kopieret'!F701,\"\")","v":""},{"$f":"'PXS Kopieret'!G701","v":0},{"$f":"'PXS Kopieret'!H701","v":0},{"$f":"IF($A701=\"PhD Student\",'PXS Kopieret'!I701,\"\")","v":""},{"$f":"'PXS Kopieret'!J701","v":0},{"$f":"'PXS Kopieret'!K701","v":0},{"$f":"'PXS Kopieret'!L701","v":0}]
["",{"$f":"IF('PXS Kopieret'!N702<>\"\",HYPERLINK(\"https://ssl1.peoplexs.com/Peoplexs22/eFormportal/eForm.cfm?CandidateUpdateID=\"&'PXS Kopieret'!M702&\"&CandidateUpdateCode=\"&'PXS Kopieret'!N702&\"&Locale=en&CustomFormID=11612\",\"Docs\"),\"\")","v":""},{"$f":"'PXS Kopieret'!A702","v":0},{"$f":"'PXS Kopieret'!B702","v":0},{"$f":"'PXS Kopieret'!C702","v":0},{"$f":"'PXS Kopieret'!D702","v":0},{"$f":"IF($A702<>\"PhD Student\",'PXS Kopieret'!E702,\"\")","v":0},{"$f":"IF($A702=\"PhD Student\",'PXS Kopieret'!F702,\"\")","v":""},{"$f":"'PXS Kopieret'!G702","v":0},{"$f":"'PXS Kopieret'!H702","v":0},{"$f":"IF($A702=\"PhD Student\",'PXS Kopieret'!I702,\"\")","v":""},{"$f":"'PXS Kopieret'!J702","v":0},{"$f":"'PXS Kopieret'!K702","v":0},{"$f":"'PXS Kopieret'!L702","v":0}]
["",{"$f":"IF('PXS Kopieret'!N703<>\"\",HYPERLINK(\"https://ssl1.peoplexs.com/Peoplexs22/eFormportal/eForm.cfm?CandidateUpdateID=\"&'PXS Kopieret'!M703&\"&CandidateUpdateCode=\"&'PXS Kopieret'!N703&\"&Locale=en&CustomFormID=11612\",\"Docs\"),\"\")","v":""},{"$f":"'PXS Kopieret'!A703","v":0},{"$f":"'PXS Kopieret'!B703","v":0},{"$f":"'PXS Kopieret'!C703","v":0},{"$f":"'PXS Kopieret'!D703","v":0},{"$f":"IF($A703<>\"PhD Student\",'PXS Kopieret'!E703,\"\")","v":0},{"$f":"IF($A703=\"PhD Student\",'PXS Kopieret'!F703,\"\")","v":""},{"$f":"'PXS Kopieret'!G703","v":0},{"$f":"'PXS Kopieret'!H703","v":0},{"$f":"IF($A703=\"PhD Student\",'PXS Kopieret'!I703,\"\")","v":""},{"$f":"'PXS Kopieret'!J703","v":0},{"$f":"'PXS Kopieret'!K703","v":0},{"$f":"'PXS Kopieret'!L703","v":0}]
["",{"$f":"IF('PXS Kopieret'!N704<>\"\",HYPERLINK(\"https://ssl1.peoplexs.com/Peoplexs22/eFormportal/eForm.cfm?CandidateUpdateID=\"&'PXS Kopieret'!M704&\"&CandidateUpdateCode=\"&'PXS Kopieret'!N704&\"&Locale=en&CustomFormID=11612\",\"Docs\"),\"\")","v":""},{"$f":"'PXS Kopieret'!A704","v":0},{"$f":"'PXS Kopieret'!B704","v":0},{"$f":"'PXS Kopieret'!C704","v":0},{"$f":"'PXS Kopieret'!D704","v":0},{"$f":"IF($A704<>\"PhD Student\",'PXS Kopieret'!E704,\"\")","v":0},{"$f":"IF($A704=\"PhD Student\",'PXS Kopieret'!F704,\"\")","v":""},{"$f":"'PXS Kopieret'!G704","v":0},{"$f":"'PXS Kopieret'!H704","v":0},{"$f":"IF($A704=\"PhD Student\",'PXS Kopieret'!I704,\"\")","v":""},{"$f":"'PXS Kopieret'!J704","v":0},{"$f":"'PXS Kopieret'!K704","v":0},{"$f":"'PXS Kopieret'!L704","v":0}]
["",{"$f":"IF('PXS Kopieret'!N705<>\"\",HYPERLINK(\"https://ssl1.peoplexs.com/Peoplexs22/eFormportal/eForm.cfm?CandidateUpdateID=\"&'PXS Kopieret'!M705&\"&CandidateUpdateCode=\"&'PXS Kopieret'!N705&\"&Locale=en&CustomFormID=11612\",\"Docs\"),\"\")","v":""},{"$f":"'PXS Kopieret'!A705","v":0},{"$f":"'PXS Kopieret'!B705","v":0},{"$f":"'PXS Kopieret'!C705","v":0},{"$f":"'PXS Kopieret'!D705","v":0},{"$f":"IF($A705<>\"PhD Student\",'PXS Kopieret'!E705,\"\")","v":0},{"$f":"IF($A705=\"PhD Student\",'PXS Kopieret'!F705,\"\")","v":""},{"$f":"'PXS Kopieret'!G705","v":0},{"$f":"'PXS Kopieret'!H705","v":0},{"$f":"IF($A705=\"PhD Student\",'PXS Kopieret'!I705,\"\")","v":""},{"$f":"'PXS Kopieret'!J705","v":0},{"$f":"'PXS Kopieret'!K705","v":0},{"$f":"'PXS Kopieret'!L705","v":0}]
["",{"$f":"IF('PXS Kopieret'!N706<>\"\",HYPERLINK(\"https://ssl1.peoplexs.com/Peoplexs22/eFormportal/eForm.cfm?CandidateUpdateID=\"&'PXS Kopieret'!M706&\"&CandidateUpdateCode=\"&'PXS Kopieret'!N706&\"&Locale=en&CustomFormID=11612\",\"Docs\"),\"\")","v":""},{"$f":"'PXS Kopieret'!A706","v":0},{"$f":"'PXS Kopieret'!B706","v":0},{"$f":"'PXS Kopieret'!C706","v":0},{"$f":"'PXS Kopieret'!D706","v":0},{"$f":"IF($A706<>\"PhD Student\",'PXS Kopieret'!E706,\"\")","v":0},{"$f":"IF($A706=\"PhD Student\",'PXS Kopieret'!F706,\"\")","v":""},{"$f":"'PXS Kopieret'!G706","v":0},{"$f":"'PXS Kopieret'!H706","v":0},{"$f":"IF($A706=\"PhD Student\",'PXS Kopieret'!I706,\"\")","v":""},{"$f":"'PXS Kopieret'!J706","v":0},{"$f":"'PXS Kopieret'!K706","v":0},{"$f":"'PXS Kopieret'!L706","v":0}]
[{"$f":"IF(LEFT(C707,2)=\"RY\", \"Research Year Student\", IF(C707=0,\"\",\"PhD Student\"))","v":""},{"$f":"IF('PXS Kopieret'!N707<>\"\",HYPERLINK(\"https://ssl1.peoplexs.com/Peoplexs22/eFormportal/eForm.cfm?CandidateUpdateID=\"&'PXS Kopieret'!M707&\"&CandidateUpdateCode=\"&'PXS Kopieret'!N707&\"&Locale=en&CustomFormID=11612\",\"Docs\"),\"\")","v":""},{"$f":"'PXS Kopieret'!A707","v":0},{"$f":"'PXS Kopieret'!B707","v":0},{"$f":"'PXS Kopieret'!C707","v":0},{"$f":"'PXS Kopieret'!D707","v":0},{"$f":"IF($A707<>\"PhD Student\",'PXS Kopieret'!E707,\"\")","v":0},{"$f":"IF($A707=\"PhD Student\",'PXS Kopieret'!F707,\"\")","v":""},{"$f":"'PXS Kopieret'!G707","v":0},{"$f":"'PXS Kopieret'!H707","v":0},{"$f":"IF($A707=\"PhD Student\",'PXS Kopieret'!I707,\"\")","v":""},{"$f":"'PXS Kopieret'!J707","v":0},{"$f":"'PXS Kopieret'!K707","v":0},{"$f":"'PXS Kopieret'!L707","v":0}]
["",{"$f":"IF('PXS Kopieret'!N708<>\"\",HYPERLINK(\"https://ssl1.peoplexs.com/Peoplexs22/eFormportal/eForm.cfm?CandidateUpdateID=\"&'PXS Kopieret'!M708&\"&CandidateUpdateCode=\"&'PXS Kopieret'!N708&\"&Locale=en&CustomFormID=11612\",\"Docs\"),\"\")","v":""},{"$f":"'PXS Kopieret'!A708","v":0},{"$f":"'PXS Kopieret'!B708","v":0},{"$f":"'PXS Kopieret'!C708","v":0},{"$f":"'PXS Kopieret'!D708","v":0},{"$f":"IF($A708<>\"PhD Student\",'PXS Kopieret'!E708,\"\")","v":0},{"$f":"IF($A708=\"PhD Student\",'PXS Kopieret'!F708,\"\")","v":""},{"$f":"'PXS Kopieret'!G708","v":0},{"$f":"'PXS Kopieret'!H708","v":0},{"$f":"IF($A708=\"PhD Student\",'PXS Kopieret'!I708,\"\")","v":""},{"$f":"'PXS Kopieret'!J708","v":0},{"$f":"'PXS Kopieret'!K708","v":0},{"$f":"'PXS Kopieret'!L708","v":0}]
["",{"$f":"IF('PXS Kopieret'!N709<>\"\",HYPERLINK(\"https://ssl1.peoplexs.com/Peoplexs22/eFormportal/eForm.cfm?CandidateUpdateID=\"&'PXS Kopieret'!M709&\"&CandidateUpdateCode=\"&'PXS Kopieret'!N709&\"&Locale=en&CustomFormID=11612\",\"Docs\"),\"\")","v":""},{"$f":"'PXS Kopieret'!A709","v":0},{"$f":"'PXS Kopieret'!B709","v":0},{"$f":"'PXS Kopieret'!C709","v":0},{"$f":"'PXS Kopieret'!D709","v":0},{"$f":"IF($A709<>\"PhD Student\",'PXS Kopieret'!E709,\"\")","v":0},{"$f":"IF($A709=\"PhD Student\",'PXS Kopieret'!F709,\"\")","v":""},{"$f":"'PXS Kopieret'!G709","v":0},{"$f":"'PXS Kopieret'!H709","v":0},{"$f":"IF($A709=\"PhD Student\",'PXS Kopieret'!I709,\"\")","v":""},{"$f":"'PXS Kopieret'!J709","v":0},{"$f":"'PXS Kopieret'!K709","v":0},{"$f":"'PXS Kopieret'!L709","v":0}]
["",{"$f":"IF('PXS Kopieret'!N710<>\"\",HYPERLINK(\"https://ssl1.peoplexs.com/Peoplexs22/eFormportal/eForm.cfm?CandidateUpdateID=\"&'PXS Kopieret'!M710&\"&CandidateUpdateCode=\"&'PXS Kopieret'!N710&\"&Locale=en&CustomFormID=11612\",\"Docs\"),\"\")","v":""},{"$f":"'PXS Kopieret'!A710","v":0},{"$f":"'PXS Kopieret'!B710","v":0},{"$f":"'PXS Kopieret'!C710","v":0},{"$f":"'PXS Kopieret'!D710","v":0},{"$f":"IF($A710<>\"PhD Student\",'PXS Kopieret'!E710,\"\")","v":0},{"$f":"IF($A710=\"PhD Student\",'PXS Kopieret'!F710,\"\")","v":""},{"$f":"'PXS Kopieret'!G710","v":0},{"$f":"'PXS Kopieret'!H710","v":0},{"$f":"IF($A710=\"PhD Student\",'PXS Kopieret'!I710,\"\")","v":""},{"$f":"'PXS Kopieret'!J710","v":0},{"$f":"'PXS Kopieret'!K710","v":0},{"$f":"'PXS Kopieret'!L710","v":0}]
["",{"$f":"IF('PXS Kopieret'!N711<>\"\",HYPERLINK(\"https://ssl1.peoplexs.com/Peoplexs22/eFormportal/eForm.cfm?CandidateUpdateID=\"&'PXS Kopieret'!M711&\"&CandidateUpdateCode=\"&'PXS Kopieret'!N711&\"&Locale=en&CustomFormID=11612\",\"Docs\"),\"\")","v":""},{"$f":"'PXS Kopieret'!A711","v":0},{"$f":"'PXS Kopieret'!B711","v":0},{"$f":"'PXS Kopieret'!C711","v":0},{"$f":"'PXS Kopieret'!D711","v":0},{"$f":"IF($A711<>\"PhD Student\",'PXS Kopieret'!E711,\"\")","v":0},{"$f":"IF($A711=\"PhD Student\",'PXS Kopieret'!F711,\"\")","v":""},{"$f":"'PXS Kopieret'!G711","v":0},{"$f":"'PXS Kopieret'!H711","v":0},{"$f":"IF($A711=\"PhD Student\",'PXS Kopieret'!I711,\"\")","v":""},{"$f":"'PXS Kopieret'!J711","v":0},{"$f":"'PXS Kopieret'!K711","v":0},{"$f":"'PXS Kopieret'!L711","v":0}]
["",{"$f":"IF('PXS Kopieret'!N712<>\"\",HYPERLINK(\"https://ssl1.peoplexs.com/Peoplexs22/eFormportal/eForm.cfm?CandidateUpdateID=\"&'PXS Kopieret'!M712&\"&CandidateUpdateCode=\"&'PXS Kopieret'!N712&\"&Locale=en&CustomFormID=11612\",\"Docs\"),\"\")","v":""},{"$f":"'PXS Kopieret'!A712","v":0},{"$f":"'PXS Kopieret'!B712","v":0},{"$f":"'PXS Kopieret'!C712","v":0},{"$f":"'PXS Kopieret'!D712","v":0},{"$f":"IF($A712<>\"PhD Student\",'PXS Kopieret'!E712,\"\")","v":0},{"$f":"IF($A712=\"PhD Student\",'PXS Kopieret'!F712,\"\")","v":""},{"$f":"'PXS Kopieret'!G712","v":0},{"$f":"'PXS Kopieret'!H712","v":0},{"$f":"IF($A712=\"PhD Student\",'PXS Kopieret'!I712,\"\")","v":""},{"$f":"'PXS Kopieret'!J712","v":0},{"$f":"'PXS Kopieret'!K712","v":0},{"$f":"'PXS Kopieret'!L712","v":0}]
["",{"$f":"IF('PXS Kopieret'!N713<>\"\",HYPERLINK(\"https://ssl1.peoplexs.com/Peoplexs22/eFormportal/eForm.cfm?CandidateUpdateID=\"&'PXS Kopieret'!M713&\"&CandidateUpdateCode=\"&'PXS Kopieret'!N713&\"&Locale=en&CustomFormID=11612\",\"Docs\"),\"\")","v":""},{"$f":"'PXS Kopieret'!A713","v":0},{"$f":"'PXS Kopieret'!B713","v":0},{"$f":"'PXS Kopieret'!C713","v":0},{"$f":"'PXS Kopieret'!D713","v":0},{"$f":"IF($A713<>\"PhD Student\",'PXS Kopieret'!E713,\"\")","v":0},{"$f":"IF($A713=\"PhD Student\",'PXS Kopieret'!F713,\"\")","v":""},{"$f":"'PXS Kopieret'!G713","v":0},{"$f":"'PXS Kopieret'!H713","v":0},{"$f":"IF($A713=\"PhD Student\",'PXS Kopieret'!I713,\"\")","v":""},{"$f":"'PXS Kopieret'!J713","v":0},{"$f":"'PXS Kopieret'!K713","v":0},{"$f":"'PXS Kopieret'!L713","v":0}]
["",{"$f":"IF('PXS Kopieret'!N714<>\"\",HYPERLINK(\"https://ssl1.peoplexs.com/Peoplexs22/eFormportal/eForm.cfm?CandidateUpdateID=\"&'PXS Kopieret'!M714&\"&CandidateUpdateCode=\"&'PXS Kopieret'!N714&\"&Locale=en&CustomFormID=11612\",\"Docs\"),\"\")","v":""},{"$f":"'PXS Kopieret'!A714","v":0},{"$f":"'PXS Kopieret'!B714","v":0},{"$f":"'PXS Kopieret'!C714","v":0},{"$f":"'PXS Kopieret'!D714","v":0},{"$f":"IF($A714<>\"PhD Student\",'PXS Kopieret'!E714,\"\")","v":0},{"$f":"IF($A714=\"PhD Student\",'PXS Kopieret'!F714,\"\")","v":""},{"$f":"'PXS Kopieret'!G714","v":0},{"$f":"'PXS Kopieret'!H714","v":0},{"$f":"IF($A714=\"PhD Student\",'PXS Kopieret'!I714,\"\")","v":""},{"$f":"'PXS Kopieret'!J714","v":0},{"$f":"'PXS Kopieret'!K714","v":0},{"$f":"'PXS Kopieret'!L714","v":0}]
["",{"$f":"IF('PXS Kopieret'!N715<>\"\",HYPERLINK(\"https://ssl1.peoplexs.com/Peoplexs22/eFormportal/eForm.cfm?CandidateUpdateID=\"&'PXS Kopieret'!M715&\"&CandidateUpdateCode=\"&'PXS Kopieret'!N715&\"&Locale=en&CustomFormID=11612\",\"Docs\"),\"\")","v":""},{"$f":"'PXS Kopieret'!A715","v":0},{"$f":"'PXS Kopieret'!B715","v":0},{"$f":"'PXS Kopieret'!C715","v":0},{"$f":"'PXS Kopieret'!D715","v":0},{"$f":"IF($A715<>\"PhD Student\",'PXS Kopieret'!E715,\"\")","v":0},{"$f":"IF($A715=\"PhD Student\",'PXS Kopieret'!F715,\"\")","v":""},{"$f":"'PXS Kopieret'!G715","v":0},{"$f":"'PXS Kopieret'!H715","v":0},{"$f":"IF($A715=\"PhD Student\",'PXS Kopieret'!I715,\"\")","v":""},{"$f":"'PXS Kopieret'!J715","v":0},{"$f":"'PXS Kopieret'!K715","v":0},{"$f":"'PXS Kopieret'!L715","v":0}]
["",{"$f":"IF('PXS Kopieret'!N716<>\"\",HYPERLINK(\"https://ssl1.peoplexs.com/Peoplexs22/eFormportal/eForm.cfm?CandidateUpdateID=\"&'PXS Kopieret'!M716&\"&CandidateUpdateCode=\"&'PXS Kopieret'!N716&\"&Locale=en&CustomFormID=11612\",\"Docs\"),\"\")","v":""},{"$f":"'PXS Kopieret'!A716","v":0},{"$f":"'PXS Kopieret'!B716","v":0},{"$f":"'PXS Kopieret'!C716","v":0},{"$f":"'PXS Kopieret'!D716","v":0},{"$f":"IF($A716<>\"PhD Student\",'PXS Kopieret'!E716,\"\")","v":0},{"$f":"IF($A716=\"PhD Student\",'PXS Kopieret'!F716,\"\")","v":""},{"$f":"'PXS Kopieret'!G716","v":0},{"$f":"'PXS Kopieret'!H716","v":0},{"$f":"IF($A716=\"PhD Student\",'PXS Kopieret'!I716,\"\")","v":""},{"$f":"'PXS Kopieret'!J716","v":0},{"$f":"'PXS Kopieret'!K716","v":0},{"$f":"'PXS Kopieret'!L716","v":0}]
["",{"$f":"IF('PXS Kopieret'!N717<>\"\",HYPERLINK(\"https://ssl1.peoplexs.com/Peoplexs22/eFormportal/eForm.cfm?CandidateUpdateID=\"&'PXS Kopieret'!M717&\"&CandidateUpdateCode=\"&'PXS Kopieret'!N717&\"&Locale=en&CustomFormID=11612\",\"Docs\"),\"\")","v":""},{"$f":"'PXS Kopieret'!A717","v":0},{"$f":"'PXS Kopieret'!B717","v":0},{"$f":"'PXS Kopieret'!C717","v":0},{"$f":"'PXS Kopieret'!D717","v":0},{"$f":"IF($A717<>\"PhD Student\",'PXS Kopieret'!E717,\"\")","v":0},{"$f":"IF($A717=\"PhD Student\",'PXS Kopieret'!F717,\"\")","v":""},{"$f":"'PXS Kopieret'!G717","v":0},{"$f":"'PXS Kopieret'!H717","v":0},{"$f":"IF($A717=\"PhD Student\",'PXS Kopieret'!I717,\"\")","v":""},{"$f":"'PXS Kopieret'!J717","v":0},{"$f":"'PXS Kopieret'!K717","v":0},{"$f":"'PXS Kopieret'!L717","v":0}]
["",{"$f":"IF('PXS Kopieret'!N718<>\"\",HYPERLINK(\"https://ssl1.peoplexs.com/Peoplexs22/eFormportal/eForm.cfm?CandidateUpdateID=\"&'PXS Kopieret'!M718&\"&CandidateUpdateCode=\"&'PXS Kopieret'!N718&\"&Locale=en&CustomFormID=11612\",\"Docs\"),\"\")","v":""},{"$f":"'PXS Kopieret'!A718","v":0},{"$f":"'PXS Kopieret'!B718","v":0},{"$f":"'PXS Kopieret'!C718","v":0},{"$f":"'PXS Kopieret'!D718","v":0},{"$f":"IF($A718<>\"PhD Student\",'PXS Kopieret'!E718,\"\")","v":0},{"$f":"IF($A718=\"PhD Student\",'PXS Kopieret'!F718,\"\")","v":""},{"$f":"'PXS Kopieret'!G718","v":0},{"$f":"'PXS Kopieret'!H718","v":0},{"$f":"IF($A718=\"PhD Student\",'PXS Kopieret'!I718,\"\")","v":""},{"$f":"'PXS Kopieret'!J718","v":0},{"$f":"'PXS Kopieret'!K718","v":0},{"$f":"'PXS Kopieret'!L718","v":0}]
["",{"$f":"IF('PXS Kopieret'!N719<>\"\",HYPERLINK(\"https://ssl1.peoplexs.com/Peoplexs22/eFormportal/eForm.cfm?CandidateUpdateID=\"&'PXS Kopieret'!M719&\"&CandidateUpdateCode=\"&'PXS Kopieret'!N719&\"&Locale=en&CustomFormID=11612\",\"Docs\"),\"\")","v":""},{"$f":"'PXS Kopieret'!A719","v":0},{"$f":"'PXS Kopieret'!B719","v":0},{"$f":"'PXS Kopieret'!C719","v":0},{"$f":"'PXS Kopieret'!D719","v":0},{"$f":"IF($A719<>\"PhD Student\",'PXS Kopieret'!E719,\"\")","v":0},{"$f":"IF($A719=\"PhD Student\",'PXS Kopieret'!F719,\"\")","v":""},{"$f":"'PXS Kopieret'!G719","v":0},{"$f":"'PXS Kopieret'!H719","v":0},{"$f":"IF($A719=\"PhD Student\",'PXS Kopieret'!I719,\"\")","v":""},{"$f":"'PXS Kopieret'!J719","v":0},{"$f":"'PXS Kopieret'!K719","v":0},{"$f":"'PXS Kopieret'!L719","v":0}]
["",{"$f":"IF('PXS Kopieret'!N720<>\"\",HYPERLINK(\"https://ssl1.peoplexs.com/Peoplexs22/eFormportal/eForm.cfm?CandidateUpdateID=\"&'PXS Kopieret'!M720&\"&CandidateUpdateCode=\"&'PXS Kopieret'!N720&\"&Locale=en&CustomFormID=11612\",\"Docs\"),\"\")","v":""},{"$f":"'PXS Kopieret'!A720","v":0},{"$f":"'PXS Kopieret'!B720","v":0},{"$f":"'PXS Kopieret'!C720","v":0},{"$f":"'PXS Kopieret'!D720","v":0},{"$f":"IF($A720<>\"PhD Student\",'PXS Kopieret'!E720,\"\")","v":0},{"$f":"IF($A720=\"PhD Student\",'PXS Kopieret'!F720,\"\")","v":""},{"$f":"'PXS Kopieret'!G720","v":0},{"$f":"'PXS Kopieret'!H720","v":0},{"$f":"IF($A720=\"PhD Student\",'PXS Kopieret'!I720,\"\")","v":""},{"$f":"'PXS Kopieret'!J720","v":0},{"$f":"'PXS Kopieret'!K720","v":0},{"$f":"'PXS Kopieret'!L720","v":0}]
["",{"$f":"IF('PXS Kopieret'!N721<>\"\",HYPERLINK(\"https://ssl1.peoplexs.com/Peoplexs22/eFormportal/eForm.cfm?CandidateUpdateID=\"&'PXS Kopieret'!M721&\"&CandidateUpdateCode=\"&'PXS Kopieret'!N721&\"&Locale=en&CustomFormID=11612\",\"Docs\"),\"\")","v":""},{"$f":"'PXS Kopieret'!A721","v":0},{"$f":"'PXS Kopieret'!B721","v":0},{"$f":"'PXS Kopieret'!C721","v":0},{"$f":"'PXS Kopieret'!D721","v":0},{"$f":"IF($A721<>\"PhD Student\",'PXS Kopieret'!E721,\"\")","v":0},{"$f":"IF($A721=\"PhD Student\",'PXS Kopieret'!F721,\"\")","v":""},{"$f":"'PXS Kopieret'!G721","v":0},{"$f":"'PXS Kopieret'!H721","v":0},{"$f":"IF($A721=\"PhD Student\",'PXS Kopieret'!I721,\"\")","v":""},{"$f":"'PXS Kopieret'!J721","v":0},{"$f":"'PXS Kopieret'!K721","v":0},{"$f":"'PXS Kopieret'!L721","v":0}]
["",{"$f":"IF('PXS Kopieret'!N722<>\"\",HYPERLINK(\"https://ssl1.peoplexs.com/Peoplexs22/eFormportal/eForm.cfm?CandidateUpdateID=\"&'PXS Kopieret'!M722&\"&CandidateUpdateCode=\"&'PXS Kopieret'!N722&\"&Locale=en&CustomFormID=11612\",\"Docs\"),\"\")","v":""},{"$f":"'PXS Kopieret'!A722","v":0},{"$f":"'PXS Kopieret'!B722","v":0},{"$f":"'PXS Kopieret'!C722","v":0},{"$f":"'PXS Kopieret'!D722","v":0},{"$f":"IF($A722<>\"PhD Student\",'PXS Kopieret'!E722,\"\")","v":0},{"$f":"IF($A722=\"PhD Student\",'PXS Kopieret'!F722,\"\")","v":""},{"$f":"'PXS Kopieret'!G722","v":0},{"$f":"'PXS Kopieret'!H722","v":0},{"$f":"IF($A722=\"PhD Student\",'PXS Kopieret'!I722,\"\")","v":""},{"$f":"'PXS Kopieret'!J722","v":0},{"$f":"'PXS Kopieret'!K722","v":0},{"$f":"'PXS Kopieret'!L722","v":0}]
["",{"$f":"IF('PXS Kopieret'!N723<>\"\",HYPERLINK(\"https://ssl1.peoplexs.com/Peoplexs22/eFormportal/eForm.cfm?CandidateUpdateID=\"&'PXS Kopieret'!M723&\"&CandidateUpdateCode=\"&'PXS Kopieret'!N723&\"&Locale=en&CustomFormID=11612\",\"Docs\"),\"\")","v":""},{"$f":"'PXS Kopieret'!A723","v":0},{"$f":"'PXS Kopieret'!B723","v":0},{"$f":"'PXS Kopieret'!C723","v":0},{"$f":"'PXS Kopieret'!D723","v":0},{"$f":"IF($A723<>\"PhD Student\",'PXS Kopieret'!E723,\"\")","v":0},{"$f":"IF($A723=\"PhD Student\",'PXS Kopieret'!F723,\"\")","v":""},{"$f":"'PXS Kopieret'!G723","v":0},{"$f":"'PXS Kopieret'!H723","v":0},{"$f":"IF($A723=\"PhD Student\",'PXS Kopieret'!I723,\"\")","v":""},{"$f":"'PXS Kopieret'!J723","v":0},{"$f":"'PXS Kopieret'!K723","v":0},{"$f":"'PXS Kopieret'!L723","v":0}]
["",{"$f":"IF('PXS Kopieret'!N724<>\"\",HYPERLINK(\"https://ssl1.peoplexs.com/Peoplexs22/eFormportal/eForm.cfm?CandidateUpdateID=\"&'PXS Kopieret'!M724&\"&CandidateUpdateCode=\"&'PXS Kopieret'!N724&\"&Locale=en&CustomFormID=11612\",\"Docs\"),\"\")","v":""},{"$f":"'PXS Kopieret'!A724","v":0},{"$f":"'PXS Kopieret'!B724","v":0},{"$f":"'PXS Kopieret'!C724","v":0},{"$f":"'PXS Kopieret'!D724","v":0},{"$f":"IF($A724<>\"PhD Student\",'PXS Kopieret'!E724,\"\")","v":0},{"$f":"IF($A724=\"PhD Student\",'PXS Kopieret'!F724,\"\")","v":""},{"$f":"'PXS Kopieret'!G724","v":0},{"$f":"'PXS Kopieret'!H724","v":0},{"$f":"IF($A724=\"PhD Student\",'PXS Kopieret'!I724,\"\")","v":""},{"$f":"'PXS Kopieret'!J724","v":0},{"$f":"'PXS Kopieret'!K724","v":0},{"$f":"'PXS Kopieret'!L724","v":0}]
["",{"$f":"IF('PXS Kopieret'!N725<>\"\",HYPERLINK(\"https://ssl1.peoplexs.com/Peoplexs22/eFormportal/eForm.cfm?CandidateUpdateID=\"&'PXS Kopieret'!M725&\"&CandidateUpdateCode=\"&'PXS Kopieret'!N725&\"&Locale=en&CustomFormID=11612\",\"Docs\"),\"\")","v":""},{"$f":"'PXS Kopieret'!A725","v":0},{"$f":"'PXS Kopieret'!B725","v":0},{"$f":"'PXS Kopieret'!C725","v":0},{"$f":"'PXS Kopieret'!D725","v":0},{"$f":"IF($A725<>\"PhD Student\",'PXS Kopieret'!E725,\"\")","v":0},{"$f":"IF($A725=\"PhD Student\",'PXS Kopieret'!F725,\"\")","v":""},{"$f":"'PXS Kopieret'!G725","v":0},{"$f":"'PXS Kopieret'!H725","v":0},{"$f":"IF($A725=\"PhD Student\",'PXS Kopieret'!I725,\"\")","v":""},{"$f":"'PXS Kopieret'!J725","v":0},{"$f":"'PXS Kopieret'!K725","v":0},{"$f":"'PXS Kopieret'!L725","v":0}]
["",{"$f":"IF('PXS Kopieret'!N726<>\"\",HYPERLINK(\"https://ssl1.peoplexs.com/Peoplexs22/eFormportal/eForm.cfm?CandidateUpdateID=\"&'PXS Kopieret'!M726&\"&CandidateUpdateCode=\"&'PXS Kopieret'!N726&\"&Locale=en&CustomFormID=11612\",\"Docs\"),\"\")","v":""},{"$f":"'PXS Kopieret'!A726","v":0},{"$f":"'PXS Kopieret'!B726","v":0},{"$f":"'PXS Kopieret'!C726","v":0},{"$f":"'PXS Kopieret'!D726","v":0},{"$f":"IF($A726<>\"PhD Student\",'PXS Kopieret'!E726,\"\")","v":0},{"$f":"IF($A726=\"PhD Student\",'PXS Kopieret'!F726,\"\")","v":""},{"$f":"'PXS Kopieret'!G726","v":0},{"$f":"'PXS Kopieret'!H726","v":0},{"$f":"IF($A726=\"PhD Student\",'PXS Kopieret'!I726,\"\")","v":""},{"$f":"'PXS Kopieret'!J726","v":0},{"$f":"'PXS Kopieret'!K726","v":0},{"$f":"'PXS Kopieret'!L726","v":0}]
["",{"$f":"IF('PXS Kopieret'!N727<>\"\",HYPERLINK(\"https://ssl1.peoplexs.com/Peoplexs22/eFormportal/eForm.cfm?CandidateUpdateID=\"&'PXS Kopieret'!M727&\"&CandidateUpdateCode=\"&'PXS Kopieret'!N727&\"&Locale=en&CustomFormID=11612\",\"Docs\"),\"\")","v":""},{"$f":"'PXS Kopieret'!A727","v":0},{"$f":"'PXS Kopieret'!B727","v":0},{"$f":"'PXS Kopieret'!C727","v":0},{"$f":"'PXS Kopieret'!D727","v":0},{"$f":"IF($A727<>\"PhD Student\",'PXS Kopieret'!E727,\"\")","v":0},{"$f":"IF($A727=\"PhD Student\",'PXS Kopieret'!F727,\"\")","v":""},{"$f":"'PXS Kopieret'!G727","v":0},{"$f":"'PXS Kopieret'!H727","v":0},{"$f":"IF($A727=\"PhD Student\",'PXS Kopieret'!I727,\"\")","v":""},{"$f":"'PXS Kopieret'!J727","v":0},{"$f":"'PXS Kopieret'!K727","v":0},{"$f":"'PXS Kopieret'!L727","v":0}]
["",{"$f":"IF('PXS Kopieret'!N728<>\"\",HYPERLINK(\"https://ssl1.peoplexs.com/Peoplexs22/eFormportal/eForm.cfm?CandidateUpdateID=\"&'PXS Kopieret'!M728&\"&CandidateUpdateCode=\"&'PXS Kopieret'!N728&\"&Locale=en&CustomFormID=11612\",\"Docs\"),\"\")","v":""},{"$f":"'PXS Kopieret'!A728","v":0},{"$f":"'PXS Kopieret'!B728","v":0},{"$f":"'PXS Kopieret'!C728","v":0},{"$f":"'PXS Kopieret'!D728","v":0},{"$f":"IF($A728<>\"PhD Student\",'PXS Kopieret'!E728,\"\")","v":0},{"$f":"IF($A728=\"PhD Student\",'PXS Kopieret'!F728,\"\")","v":""},{"$f":"'PXS Kopieret'!G728","v":0},{"$f":"'PXS Kopieret'!H728","v":0},{"$f":"IF($A728=\"PhD Student\",'PXS Kopieret'!I728,\"\")","v":""},{"$f":"'PXS Kopieret'!J728","v":0},{"$f":"'PXS Kopieret'!K728","v":0},{"$f":"'PXS Kopieret'!L728","v":0}]
["",{"$f":"IF('PXS Kopieret'!N729<>\"\",HYPERLINK(\"https://ssl1.peoplexs.com/Peoplexs22/eFormportal/eForm.cfm?CandidateUpdateID=\"&'PXS Kopieret'!M729&\"&CandidateUpdateCode=\"&'PXS Kopieret'!N729&\"&Locale=en&CustomFormID=11612\",\"Docs\"),\"\")","v":""},{"$f":"'PXS Kopieret'!A729","v":0},{"$f":"'PXS Kopieret'!B729","v":0},{"$f":"'PXS Kopieret'!C729","v":0},{"$f":"'PXS Kopieret'!D729","v":0},{"$f":"IF($A729<>\"PhD Student\",'PXS Kopieret'!E729,\"\")","v":0},{"$f":"IF($A729=\"PhD Student\",'PXS Kopieret'!F729,\"\")","v":""},{"$f":"'PXS Kopieret'!G729","v":0},{"$f":"'PXS Kopieret'!H729","v":0},{"$f":"IF($A729=\"PhD Student\",'PXS Kopieret'!I729,\"\")","v":""},{"$f":"'PXS Kopieret'!J729","v":0},{"$f":"'PXS Kopieret'!K729","v":0},{"$f":"'PXS Kopieret'!L729","v":0}]
["",{"$f":"IF('PXS Kopieret'!N730<>\"\",HYPERLINK(\"https://ssl1.peoplexs.com/Peoplexs22/eFormportal/eForm.cfm?CandidateUpdateID=\"&'PXS Kopieret'!M730&\"&CandidateUpdateCode=\"&'PXS Kopieret'!N730&\"&Locale=en&CustomFormID=11612\",\"Docs\"),\"\")","v":""},{"$f":"'PXS Kopieret'!A730","v":0},{"$f":"'PXS Kopieret'!B730","v":0},{"$f":"'PXS Kopieret'!C730","v":0},{"$f":"'PXS Kopieret'!D730","v":0},{"$f":"IF($A730<>\"PhD Student\",'PXS Kopieret'!E730,\"\")","v":0},{"$f":"IF($A730=\"PhD Student\",'PXS Kopieret'!F730,\"\")","v":""},{"$f":"'PXS Kopieret'!G730","v":0},{"$f":"'PXS Kopieret'!H730","v":0},{"$f":"IF($A730=\"PhD Student\",'PXS Kopieret'!I730,\"\")","v":""},{"$f":"'PXS Kopieret'!J730","v":0},{"$f":"'PXS Kopieret'!K730","v":0},{"$f":"'PXS Kopieret'!L730","v":0}]
["",{"$f":"IF('PXS Kopieret'!N731<>\"\",HYPERLINK(\"https://ssl1.peoplexs.com/Peoplexs22/eFormportal/eForm.cfm?CandidateUpdateID=\"&'PXS Kopieret'!M731&\"&CandidateUpdateCode=\"&'PXS Kopieret'!N731&\"&Locale=en&CustomFormID=11612\",\"Docs\"),\"\")","v":""},{"$f":"'PXS Kopieret'!A731","v":0},{"$f":"'PXS Kopieret'!B731","v":0},{"$f":"'PXS Kopieret'!C731","v":0},{"$f":"'PXS Kopieret'!D731","v":0},{"$f":"IF($A731<>\"PhD Student\",'PXS Kopieret'!E731,\"\")","v":0},{"$f":"IF($A731=\"PhD Student\",'PXS Kopieret'!F731,\"\")","v":""},{"$f":"'PXS Kopieret'!G731","v":0},{"$f":"'PXS Kopieret'!H731","v":0},{"$f":"IF($A731=\"PhD Student\",'PXS Kopieret'!I731,\"\")","v":""},{"$f":"'PXS Kopieret'!J731","v":0},{"$f":"'PXS Kopieret'!K731","v":0},{"$f":"'PXS Kopieret'!L731","v":0}]
["",{"$f":"IF('PXS Kopieret'!N732<>\"\",HYPERLINK(\"https://ssl1.peoplexs.com/Peoplexs22/eFormportal/eForm.cfm?CandidateUpdateID=\"&'PXS Kopieret'!M732&\"&CandidateUpdateCode=\"&'PXS Kopieret'!N732&\"&Locale=en&CustomFormID=11612\",\"Docs\"),\"\")","v":""},{"$f":"'PXS Kopieret'!A732","v":0},{"$f":"'PXS Kopieret'!B732","v":0},{"$f":"'PXS Kopieret'!C732","v":0},{"$f":"'PXS Kopieret'!D732","v":0},{"$f":"IF($A732<>\"PhD Student\",'PXS Kopieret'!E732,\"\")","v":0},{"$f":"IF($A732=\"PhD Student\",'PXS Kopieret'!F732,\"\")","v":""},{"$f":"'PXS Kopieret'!G732","v":0},{"$f":"'PXS Kopieret'!H732","v":0},{"$f":"IF($A732=\"PhD Student\",'PXS Kopieret'!I732,\"\")","v":""},{"$f":"'PXS Kopieret'!J732","v":0},{"$f":"'PXS Kopieret'!K732","v":0},{"$f":"'PXS Kopieret'!L732","v":0}]
["",{"$f":"IF('PXS Kopieret'!N733<>\"\",HYPERLINK(\"https://ssl1.peoplexs.com/Peoplexs22/eFormportal/eForm.cfm?CandidateUpdateID=\"&'PXS Kopieret'!M733&\"&CandidateUpdateCode=\"&'PXS Kopieret'!N733&\"&Locale=en&CustomFormID=11612\",\"Docs\"),\"\")","v":""},{"$f":"'PXS Kopieret'!A733","v":0},{"$f":"'PXS Kopieret'!B733","v":0},{"$f":"'PXS Kopieret'!C733","v":0},{"$f":"'PXS Kopieret'!D733","v":0},{"$f":"IF($A733<>\"PhD Student\",'PXS Kopieret'!E733,\"\")","v":0},{"$f":"IF($A733=\"PhD Student\",'PXS Kopieret'!F733,\"\")","v":""},{"$f":"'PXS Kopieret'!G733","v":0},{"$f":"'PXS Kopieret'!H733","v":0},{"$f":"IF($A733=\"PhD Student\",'PXS Kopieret'!I733,\"\")","v":""},{"$f":"'PXS Kopieret'!J733","v":0},{"$f":"'PXS Kopieret'!K733","v":0},{"$f":"'PXS Kopieret'!L733","v":0}]
["",{"$f":"IF('PXS Kopieret'!N734<>\"\",HYPERLINK(\"https://ssl1.peoplexs.com/Peoplexs22/eFormportal/eForm.cfm?CandidateUpdateID=\"&'PXS Kopieret'!M734&\"&CandidateUpdateCode=\"&'PXS Kopieret'!N734&\"&Locale=en&CustomFormID=11612\",\"Docs\"),\"\")","v":""},{"$f":"'PXS Kopieret'!A734","v":0},{"$f":"'PXS Kopieret'!B734","v":0},{"$f":"'PXS Kopieret'!C734","v":0},{"$f":"'PXS Kopieret'!D734","v":0},{"$f":"IF($A734<>\"PhD Student\",'PXS Kopieret'!E734,\"\")","v":0},{"$f":"IF($A734=\"PhD Student\",'PXS Kopieret'!F734,\"\")","v":""},{"$f":"'PXS Kopieret'!G734","v":0},{"$f":"'PXS Kopieret'!H734","v":0},{"$f":"IF($A734=\"PhD Student\",'PXS Kopieret'!I734,\"\")","v":""},{"$f":"'PXS Kopieret'!J734","v":0},{"$f":"'PXS Kopieret'!K734","v":0},{"$f":"'PXS Kopieret'!L734","v":0}]
["",{"$f":"IF('PXS Kopieret'!N735<>\"\",HYPERLINK(\"https://ssl1.peoplexs.com/Peoplexs22/eFormportal/eForm.cfm?CandidateUpdateID=\"&'PXS Kopieret'!M735&\"&CandidateUpdateCode=\"&'PXS Kopieret'!N735&\"&Locale=en&CustomFormID=11612\",\"Docs\"),\"\")","v":""},{"$f":"'PXS Kopieret'!A735","v":0},{"$f":"'PXS Kopieret'!B735","v":0},{"$f":"'PXS Kopieret'!C735","v":0},{"$f":"'PXS Kopieret'!D735","v":0},{"$f":"IF($A735<>\"PhD Student\",'PXS Kopieret'!E735,\"\")","v":0},{"$f":"IF($A735=\"PhD Student\",'PXS Kopieret'!F735,\"\")","v":""},{"$f":"'PXS Kopieret'!G735","v":0},{"$f":"'PXS Kopieret'!H735","v":0},{"$f":"IF($A735=\"PhD Student\",'PXS Kopieret'!I735,\"\")","v":""},{"$f":"'PXS Kopieret'!J735","v":0},{"$f":"'PXS Kopieret'!K735","v":0},{"$f":"'PXS Kopieret'!L735","v":0}]
["",{"$f":"IF('PXS Kopieret'!N736<>\"\",HYPERLINK(\"https://ssl1.peoplexs.com/Peoplexs22/eFormportal/eForm.cfm?CandidateUpdateID=\"&'PXS Kopieret'!M736&\"&CandidateUpdateCode=\"&'PXS Kopieret'!N736&\"&Locale=en&CustomFormID=11612\",\"Docs\"),\"\")","v":""},{"$f":"'PXS Kopieret'!A736","v":0},{"$f":"'PXS Kopieret'!B736","v":0},{"$f":"'PXS Kopieret'!C736","v":0},{"$f":"'PXS Kopieret'!D736","v":0},{"$f":"IF($A736<>\"PhD Student\",'PXS Kopieret'!E736,\"\")","v":0},{"$f":"IF($A736=\"PhD Student\",'PXS Kopieret'!F736,\"\")","v":""},{"$f":"'PXS Kopieret'!G736","v":0},{"$f":"'PXS Kopieret'!H736","v":0},{"$f":"IF($A736=\"PhD Student\",'PXS Kopieret'!I736,\"\")","v":""},{"$f":"'PXS Kopieret'!J736","v":0},{"$f":"'PXS Kopieret'!K736","v":0},{"$f":"'PXS Kopieret'!L736","v":0}]
["",{"$f":"IF('PXS Kopieret'!N737<>\"\",HYPERLINK(\"https://ssl1.peoplexs.com/Peoplexs22/eFormportal/eForm.cfm?CandidateUpdateID=\"&'PXS Kopieret'!M737&\"&CandidateUpdateCode=\"&'PXS Kopieret'!N737&\"&Locale=en&CustomFormID=11612\",\"Docs\"),\"\")","v":""},{"$f":"'PXS Kopieret'!A737","v":0},{"$f":"'PXS Kopieret'!B737","v":0},{"$f":"'PXS Kopieret'!C737","v":0},{"$f":"'PXS Kopieret'!D737","v":0},{"$f":"IF($A737<>\"PhD Student\",'PXS Kopieret'!E737,\"\")","v":0},{"$f":"IF($A737=\"PhD Student\",'PXS Kopieret'!F737,\"\")","v":""},{"$f":"'PXS Kopieret'!G737","v":0},{"$f":"'PXS Kopieret'!H737","v":0},{"$f":"IF($A737=\"PhD Student\",'PXS Kopieret'!I737,\"\")","v":""},{"$f":"'PXS Kopieret'!J737","v":0},{"$f":"'PXS Kopieret'!K737","v":0},{"$f":"'PXS Kopieret'!L737","v":0}]
["",{"$f":"IF('PXS Kopieret'!N738<>\"\",HYPERLINK(\"https://ssl1.peoplexs.com/Peoplexs22/eFormportal/eForm.cfm?CandidateUpdateID=\"&'PXS Kopieret'!M738&\"&CandidateUpdateCode=\"&'PXS Kopieret'!N738&\"&Locale=en&CustomFormID=11612\",\"Docs\"),\"\")","v":""},{"$f":"'PXS Kopieret'!A738","v":0},{"$f":"'PXS Kopieret'!B738","v":0},{"$f":"'PXS Kopieret'!C738","v":0},{"$f":"'PXS Kopieret'!D738","v":0},{"$f":"IF($A738<>\"PhD Student\",'PXS Kopieret'!E738,\"\")","v":0},{"$f":"IF($A738=\"PhD Student\",'PXS Kopieret'!F738,\"\")","v":""},{"$f":"'PXS Kopieret'!G738","v":0},{"$f":"'PXS Kopieret'!H738","v":0},{"$f":"IF($A738=\"PhD Student\",'PXS Kopieret'!I738,\"\")","v":""},{"$f":"'PXS Kopieret'!J738","v":0},{"$f":"'PXS Kopieret'!K738","v":0},{"$f":"'PXS Kopieret'!L738","v":0}]
["",{"$f":"IF('PXS Kopieret'!N739<>\"\",HYPERLINK(\"https://ssl1.peoplexs.com/Peoplexs22/eFormportal/eForm.cfm?CandidateUpdateID=\"&'PXS Kopieret'!M739&\"&CandidateUpdateCode=\"&'PXS Kopieret'!N739&\"&Locale=en&CustomFormID=11612\",\"Docs\"),\"\")","v":""},{"$f":"'PXS Kopieret'!A739","v":0},{"$f":"'PXS Kopieret'!B739","v":0},{"$f":"'PXS Kopieret'!C739","v":0},{"$f":"'PXS Kopieret'!D739","v":0},{"$f":"IF($A739<>\"PhD Student\",'PXS Kopieret'!E739,\"\")","v":0},{"$f":"IF($A739=\"PhD Student\",'PXS Kopieret'!F739,\"\")","v":""},{"$f":"'PXS Kopieret'!G739","v":0},{"$f":"'PXS Kopieret'!H739","v":0},{"$f":"IF($A739=\"PhD Student\",'PXS Kopieret'!I739,\"\")","v":""},{"$f":"'PXS Kopieret'!J739","v":0},{"$f":"'PXS Kopieret'!K739","v":0},{"$f":"'PXS Kopieret'!L739","v":0}]
["",{"$f":"IF('PXS Kopieret'!N740<>\"\",HYPERLINK(\"https://ssl1.peoplexs.com/Peoplexs22/eFormportal/eForm.cfm?CandidateUpdateID=\"&'PXS Kopieret'!M740&\"&CandidateUpdateCode=\"&'PXS Kopieret'!N740&\"&Locale=en&CustomFormID=11612\",\"Docs\"),\"\")","v":""},{"$f":"'PXS Kopieret'!A740","v":0},{"$f":"'PXS Kopieret'!B740","v":0},{"$f":"'PXS Kopieret'!C740","v":0},{"$f":"'PXS Kopieret'!D740","v":0},{"$f":"IF($A740<>\"PhD Student\",'PXS Kopieret'!E740,\"\")","v":0},{"$f":"IF($A740=\"PhD Student\",'PXS Kopieret'!F740,\"\")","v":""},{"$f":"'PXS Kopieret'!G740","v":0},{"$f":"'PXS Kopieret'!H740","v":0},{"$f":"IF($A740=\"PhD Student\",'PXS Kopieret'!I740,\"\")","v":""},{"$f":"'PXS Kopieret'!J740","v":0},{"$f":"'PXS Kopieret'!K740","v":0},{"$f":"'PXS Kopieret'!L740","v":0}]
["",{"$f":"IF('PXS Kopieret'!N741<>\"\",HYPERLINK(\"https://ssl1.peoplexs.com/Peoplexs22/eFormportal/eForm.cfm?CandidateUpdateID=\"&'PXS Kopieret'!M741&\"&CandidateUpdateCode=\"&'PXS Kopieret'!N741&\"&Locale=en&CustomFormID=11612\",\"Docs\"),\"\")","v":""},{"$f":"'PXS Kopieret'!A741","v":0},{"$f":"'PXS Kopieret'!B741","v":0},{"$f":"'PXS Kopieret'!C741","v":0},{"$f":"'PXS Kopieret'!D741","v":0},{"$f":"IF($A741<>\"PhD Student\",'PXS Kopieret'!E741,\"\")","v":0},{"$f":"IF($A741=\"PhD Student\",'PXS Kopieret'!F741,\"\")","v":""},{"$f":"'PXS Kopieret'!G741","v":0},{"$f":"'PXS Kopieret'!H741","v":0},{"$f":"IF($A741=\"PhD Student\",'PXS Kopieret'!I741,\"\")","v":""},{"$f":"'PXS Kopieret'!J741","v":0},{"$f":"'PXS Kopieret'!K741","v":0},{"$f":"'PXS Kopieret'!L741","v":0}]
["",{"$f":"IF('PXS Kopieret'!N742<>\"\",HYPERLINK(\"https://ssl1.peoplexs.com/Peoplexs22/eFormportal/eForm.cfm?CandidateUpdateID=\"&'PXS Kopieret'!M742&\"&CandidateUpdateCode=\"&'PXS Kopieret'!N742&\"&Locale=en&CustomFormID=11612\",\"Docs\"),\"\")","v":""},{"$f":"'PXS Kopieret'!A742","v":0},{"$f":"'PXS Kopieret'!B742","v":0},{"$f":"'PXS Kopieret'!C742","v":0},{"$f":"'PXS Kopieret'!D742","v":0},{"$f":"IF($A742<>\"PhD Student\",'PXS Kopieret'!E742,\"\")","v":0},{"$f":"IF($A742=\"PhD Student\",'PXS Kopieret'!F742,\"\")","v":""},{"$f":"'PXS Kopieret'!G742","v":0},{"$f":"'PXS Kopieret'!H742","v":0},{"$f":"IF($A742=\"PhD Student\",'PXS Kopieret'!I742,\"\")","v":""},{"$f":"'PXS Kopieret'!J742","v":0},{"$f":"'PXS Kopieret'!K742","v":0},{"$f":"'PXS Kopieret'!L742","v":0}]
["",{"$f":"IF('PXS Kopieret'!N743<>\"\",HYPERLINK(\"https://ssl1.peoplexs.com/Peoplexs22/eFormportal/eForm.cfm?CandidateUpdateID=\"&'PXS Kopieret'!M743&\"&CandidateUpdateCode=\"&'PXS Kopieret'!N743&\"&Locale=en&CustomFormID=11612\",\"Docs\"),\"\")","v":""},{"$f":"'PXS Kopieret'!A743","v":0},{"$f":"'PXS Kopieret'!B743","v":0},{"$f":"'PXS Kopieret'!C743","v":0},{"$f":"'PXS Kopieret'!D743","v":0},{"$f":"IF($A743<>\"PhD Student\",'PXS Kopieret'!E743,\"\")","v":0},{"$f":"IF($A743=\"PhD Student\",'PXS Kopieret'!F743,\"\")","v":""},{"$f":"'PXS Kopieret'!G743","v":0},{"$f":"'PXS Kopieret'!H743","v":0},{"$f":"IF($A743=\"PhD Student\",'PXS Kopieret'!I743,\"\")","v":""},{"$f":"'PXS Kopieret'!J743","v":0},{"$f":"'PXS Kopieret'!K743","v":0},{"$f":"'PXS Kopieret'!L743","v":0}]
["",{"$f":"IF('PXS Kopieret'!N744<>\"\",HYPERLINK(\"https://ssl1.peoplexs.com/Peoplexs22/eFormportal/eForm.cfm?CandidateUpdateID=\"&'PXS Kopieret'!M744&\"&CandidateUpdateCode=\"&'PXS Kopieret'!N744&\"&Locale=en&CustomFormID=11612\",\"Docs\"),\"\")","v":""},{"$f":"'PXS Kopieret'!A744","v":0},{"$f":"'PXS Kopieret'!B744","v":0},{"$f":"'PXS Kopieret'!C744","v":0},{"$f":"'PXS Kopieret'!D744","v":0},{"$f":"IF($A744<>\"PhD Student\",'PXS Kopieret'!E744,\"\")","v":0},{"$f":"IF($A744=\"PhD Student\",'PXS Kopieret'!F744,\"\")","v":""},{"$f":"'PXS Kopieret'!G744","v":0},{"$f":"'PXS Kopieret'!H744","v":0},{"$f":"IF($A744=\"PhD Student\",'PXS Kopieret'!I744,\"\")","v":""},{"$f":"'PXS Kopieret'!J744","v":0},{"$f":"'PXS Kopieret'!K744","v":0},{"$f":"'PXS Kopieret'!L744","v":0}]
["",{"$f":"IF('PXS Kopieret'!N745<>\"\",HYPERLINK(\"https://ssl1.peoplexs.com/Peoplexs22/eFormportal/eForm.cfm?CandidateUpdateID=\"&'PXS Kopieret'!M745&\"&CandidateUpdateCode=\"&'PXS Kopieret'!N745&\"&Locale=en&CustomFormID=11612\",\"Docs\"),\"\")","v":""},{"$f":"'PXS Kopieret'!A745","v":0},{"$f":"'PXS Kopieret'!B745","v":0},{"$f":"'PXS Kopieret'!C745","v":0},{"$f":"'PXS Kopieret'!D745","v":0},{"$f":"IF($A745<>\"PhD Student\",'PXS Kopieret'!E745,\"\")","v":0},{"$f":"IF($A745=\"PhD Student\",'PXS Kopieret'!F745,\"\")","v":""},{"$f":"'PXS Kopieret'!G745","v":0},{"$f":"'PXS Kopieret'!H745","v":0},{"$f":"IF($A745=\"PhD Student\",'PXS Kopieret'!I745,\"\")","v":""},{"$f":"'PXS Kopieret'!J745","v":0},{"$f":"'PXS Kopieret'!K745","v":0},{"$f":"'PXS Kopieret'!L745","v":0}]
["",{"$f":"IF('PXS Kopieret'!N746<>\"\",HYPERLINK(\"https://ssl1.peoplexs.com/Peoplexs22/eFormportal/eForm.cfm?CandidateUpdateID=\"&'PXS Kopieret'!M746&\"&CandidateUpdateCode=\"&'PXS Kopieret'!N746&\"&Locale=en&CustomFormID=11612\",\"Docs\"),\"\")","v":""},{"$f":"'PXS Kopieret'!A746","v":0},{"$f":"'PXS Kopieret'!B746","v":0},{"$f":"'PXS Kopieret'!C746","v":0},{"$f":"'PXS Kopieret'!D746","v":0},{"$f":"IF($A746<>\"PhD Student\",'PXS Kopieret'!E746,\"\")","v":0},{"$f":"IF($A746=\"PhD Student\",'PXS Kopieret'!F746,\"\")","v":""},{"$f":"'PXS Kopieret'!G746","v":0},{"$f":"'PXS Kopieret'!H746","v":0},{"$f":"IF($A746=\"PhD Student\",'PXS Kopieret'!I746,\"\")","v":""},{"$f":"'PXS Kopieret'!J746","v":0},{"$f":"'PXS Kopieret'!K746","v":0},{"$f":"'PXS Kopieret'!L746","v":0}]
["",{"$f":"IF('PXS Kopieret'!N747<>\"\",HYPERLINK(\"https://ssl1.peoplexs.com/Peoplexs22/eFormportal/eForm.cfm?CandidateUpdateID=\"&'PXS Kopieret'!M747&\"&CandidateUpdateCode=\"&'PXS Kopieret'!N747&\"&Locale=en&CustomFormID=11612\",\"Docs\"),\"\")","v":""},{"$f":"'PXS Kopieret'!A747","v":0},{"$f":"'PXS Kopieret'!B747","v":0},{"$f":"'PXS Kopieret'!C747","v":0},{"$f":"'PXS Kopieret'!D747","v":0},{"$f":"IF($A747<>\"PhD Student\",'PXS Kopieret'!E747,\"\")","v":0},{"$f":"IF($A747=\"PhD Student\",'PXS Kopieret'!F747,\"\")","v":""},{"$f":"'PXS Kopieret'!G747","v":0},{"$f":"'PXS Kopieret'!H747","v":0},{"$f":"IF($A747=\"PhD Student\",'PXS Kopieret'!I747,\"\")","v":""},{"$f":"'PXS Kopieret'!J747","v":0},{"$f":"'PXS Kopieret'!K747","v":0},{"$f":"'PXS Kopieret'!L747","v":0}]
["",{"$f":"IF('PXS Kopieret'!N748<>\"\",HYPERLINK(\"https://ssl1.peoplexs.com/Peoplexs22/eFormportal/eForm.cfm?CandidateUpdateID=\"&'PXS Kopieret'!M748&\"&CandidateUpdateCode=\"&'PXS Kopieret'!N748&\"&Locale=en&CustomFormID=11612\",\"Docs\"),\"\")","v":""},{"$f":"'PXS Kopieret'!A748","v":0},{"$f":"'PXS Kopieret'!B748","v":0},{"$f":"'PXS Kopieret'!C748","v":0},{"$f":"'PXS Kopieret'!D748","v":0},{"$f":"IF($A748<>\"PhD Student\",'PXS Kopieret'!E748,\"\")","v":0},{"$f":"IF($A748=\"PhD Student\",'PXS Kopieret'!F748,\"\")","v":""},{"$f":"'PXS Kopieret'!G748","v":0},{"$f":"'PXS Kopieret'!H748","v":0},{"$f":"IF($A748=\"PhD Student\",'PXS Kopieret'!I748,\"\")","v":""},{"$f":"'PXS Kopieret'!J748","v":0},{"$f":"'PXS Kopieret'!K748","v":0},{"$f":"'PXS Kopieret'!L748","v":0}]
["",{"$f":"IF('PXS Kopieret'!N749<>\"\",HYPERLINK(\"https://ssl1.peoplexs.com/Peoplexs22/eFormportal/eForm.cfm?CandidateUpdateID=\"&'PXS Kopieret'!M749&\"&CandidateUpdateCode=\"&'PXS Kopieret'!N749&\"&Locale=en&CustomFormID=11612\",\"Docs\"),\"\")","v":""},{"$f":"'PXS Kopieret'!A749","v":0},{"$f":"'PXS Kopieret'!B749","v":0},{"$f":"'PXS Kopieret'!C749","v":0},{"$f":"'PXS Kopieret'!D749","v":0},{"$f":"IF($A749<>\"PhD Student\",'PXS Kopieret'!E749,\"\")","v":0},{"$f":"IF($A749=\"PhD Student\",'PXS Kopieret'!F749,\"\")","v":""},{"$f":"'PXS Kopieret'!G749","v":0},{"$f":"'PXS Kopieret'!H749","v":0},{"$f":"IF($A749=\"PhD Student\",'PXS Kopieret'!I749,\"\")","v":""},{"$f":"'PXS Kopieret'!J749","v":0},{"$f":"'PXS Kopieret'!K749","v":0},{"$f":"'PXS Kopieret'!L749","v":0}]
["",{"$f":"IF('PXS Kopieret'!N750<>\"\",HYPERLINK(\"https://ssl1.peoplexs.com/Peoplexs22/eFormportal/eForm.cfm?CandidateUpdateID=\"&'PXS Kopieret'!M750&\"&CandidateUpdateCode=\"&'PXS Kopieret'!N750&\"&Locale=en&CustomFormID=11612\",\"Docs\"),\"\")","v":""},{"$f":"'PXS Kopieret'!A750","v":0},{"$f":"'PXS Kopieret'!B750","v":0},{"$f":"'PXS Kopieret'!C750","v":0},{"$f":"'PXS Kopieret'!D750","v":0},{"$f":"IF($A750<>\"PhD Student\",'PXS Kopieret'!E750,\"\")","v":0},{"$f":"IF($A750=\"PhD Student\",'PXS Kopieret'!F750,\"\")","v":""},{"$f":"'PXS Kopieret'!G750","v":0},{"$f":"'PXS Kopieret'!H750","v":0},{"$f":"IF($A750=\"PhD Student\",'PXS Kopieret'!I750,\"\")","v":""},{"$f":"'PXS Kopieret'!J750","v":0},{"$f":"'PXS Kopieret'!K750","v":0},{"$f":"'PXS Kopieret'!L750","v":0}]
["",{"$f":"IF('PXS Kopieret'!N751<>\"\",HYPERLINK(\"https://ssl1.peoplexs.com/Peoplexs22/eFormportal/eForm.cfm?CandidateUpdateID=\"&'PXS Kopieret'!M751&\"&CandidateUpdateCode=\"&'PXS Kopieret'!N751&\"&Locale=en&CustomFormID=11612\",\"Docs\"),\"\")","v":""},{"$f":"'PXS Kopieret'!A751","v":0},{"$f":"'PXS Kopieret'!B751","v":0},{"$f":"'PXS Kopieret'!C751","v":0},{"$f":"'PXS Kopieret'!D751","v":0},{"$f":"IF($A751<>\"PhD Student\",'PXS Kopieret'!E751,\"\")","v":0},{"$f":"IF($A751=\"PhD Student\",'PXS Kopieret'!F751,\"\")","v":""},{"$f":"'PXS Kopieret'!G751","v":0},{"$f":"'PXS Kopieret'!H751","v":0},{"$f":"IF($A751=\"PhD Student\",'PXS Kopieret'!I751,\"\")","v":""},{"$f":"'PXS Kopieret'!J751","v":0},{"$f":"'PXS Kopieret'!K751","v":0},{"$f":"'PXS Kopieret'!L751","v":0}]
["",{"$f":"IF('PXS Kopieret'!N752<>\"\",HYPERLINK(\"https://ssl1.peoplexs.com/Peoplexs22/eFormportal/eForm.cfm?CandidateUpdateID=\"&'PXS Kopieret'!M752&\"&CandidateUpdateCode=\"&'PXS Kopieret'!N752&\"&Locale=en&CustomFormID=11612\",\"Docs\"),\"\")","v":""},{"$f":"'PXS Kopieret'!A752","v":0},{"$f":"'PXS Kopieret'!B752","v":0},{"$f":"'PXS Kopieret'!C752","v":0},{"$f":"'PXS Kopieret'!D752","v":0},{"$f":"IF($A752<>\"PhD Student\",'PXS Kopieret'!E752,\"\")","v":0},{"$f":"IF($A752=\"PhD Student\",'PXS Kopieret'!F752,\"\")","v":""},{"$f":"'PXS Kopieret'!G752","v":0},{"$f":"'PXS Kopieret'!H752","v":0},{"$f":"IF($A752=\"PhD Student\",'PXS Kopieret'!I752,\"\")","v":""},{"$f":"'PXS Kopieret'!J752","v":0},{"$f":"'PXS Kopieret'!K752","v":0},{"$f":"'PXS Kopieret'!L752","v":0}]
["",{"$f":"IF('PXS Kopieret'!N753<>\"\",HYPERLINK(\"https://ssl1.peoplexs.com/Peoplexs22/eFormportal/eForm.cfm?CandidateUpdateID=\"&'PXS Kopieret'!M753&\"&CandidateUpdateCode=\"&'PXS Kopieret'!N753&\"&Locale=en&CustomFormID=11612\",\"Docs\"),\"\")","v":""},{"$f":"'PXS Kopieret'!A753","v":0},{"$f":"'PXS Kopieret'!B753","v":0},{"$f":"'PXS Kopieret'!C753","v":0},{"$f":"'PXS Kopieret'!D753","v":0},{"$f":"IF($A753<>\"PhD Student\",'PXS Kopieret'!E753,\"\")","v":0},{"$f":"IF($A753=\"PhD Student\",'PXS Kopieret'!F753,\"\")","v":""},{"$f":"'PXS Kopieret'!G753","v":0},{"$f":"'PXS Kopieret'!H753","v":0},{"$f":"IF($A753=\"PhD Student\",'PXS Kopieret'!I753,\"\")","v":""},{"$f":"'PXS Kopieret'!J753","v":0},{"$f":"'PXS Kopieret'!K753","v":0},{"$f":"'PXS Kopieret'!L753","v":0}]
["",{"$f":"IF('PXS Kopieret'!N754<>\"\",HYPERLINK(\"https://ssl1.peoplexs.com/Peoplexs22/eFormportal/eForm.cfm?CandidateUpdateID=\"&'PXS Kopieret'!M754&\"&CandidateUpdateCode=\"&'PXS Kopieret'!N754&\"&Locale=en&CustomFormID=11612\",\"Docs\"),\"\")","v":""},{"$f":"'PXS Kopieret'!A754","v":0},{"$f":"'PXS Kopieret'!B754","v":0},{"$f":"'PXS Kopieret'!C754","v":0},{"$f":"'PXS Kopieret'!D754","v":0},{"$f":"IF($A754<>\"PhD Student\",'PXS Kopieret'!E754,\"\")","v":0},{"$f":"IF($A754=\"PhD Student\",'PXS Kopieret'!F754,\"\")","v":""},{"$f":"'PXS Kopieret'!G754","v":0},{"$f":"'PXS Kopieret'!H754","v":0},{"$f":"IF($A754=\"PhD Student\",'PXS Kopieret'!I754,\"\")","v":""},{"$f":"'PXS Kopieret'!J754","v":0},{"$f":"'PXS Kopieret'!K754","v":0},{"$f":"'PXS Kopieret'!L754","v":0}]
["",{"$f":"IF('PXS Kopieret'!N755<>\"\",HYPERLINK(\"https://ssl1.peoplexs.com/Peoplexs22/eFormportal/eForm.cfm?CandidateUpdateID=\"&'PXS Kopieret'!M755&\"&CandidateUpdateCode=\"&'PXS Kopieret'!N755&\"&Locale=en&CustomFormID=11612\",\"Docs\"),\"\")","v":""},{"$f":"'PXS Kopieret'!A755","v":0},{"$f":"'PXS Kopieret'!B755","v":0},{"$f":"'PXS Kopieret'!C755","v":0},{"$f":"'PXS Kopieret'!D755","v":0},{"$f":"IF($A755<>\"PhD Student\",'PXS Kopieret'!E755,\"\")","v":0},{"$f":"IF($A755=\"PhD Student\",'PXS Kopieret'!F755,\"\")","v":""},{"$f":"'PXS Kopieret'!G755","v":0},{"$f":"'PXS Kopieret'!H755","v":0},{"$f":"IF($A755=\"PhD Student\",'PXS Kopieret'!I755,\"\")","v":""},{"$f":"'PXS Kopieret'!J755","v":0},{"$f":"'PXS Kopieret'!K755","v":0},{"$f":"'PXS Kopieret'!L755","v":0}]
["",{"$f":"IF('PXS Kopieret'!N756<>\"\",HYPERLINK(\"https://ssl1.peoplexs.com/Peoplexs22/eFormportal/eForm.cfm?CandidateUpdateID=\"&'PXS Kopieret'!M756&\"&CandidateUpdateCode=\"&'PXS Kopieret'!N756&\"&Locale=en&CustomFormID=11612\",\"Docs\"),\"\")","v":""},{"$f":"'PXS Kopieret'!A756","v":0},{"$f":"'PXS Kopieret'!B756","v":0},{"$f":"'PXS Kopieret'!C756","v":0},{"$f":"'PXS Kopieret'!D756","v":0},{"$f":"IF($A756<>\"PhD Student\",'PXS Kopieret'!E756,\"\")","v":0},{"$f":"IF($A756=\"PhD Student\",'PXS Kopieret'!F756,\"\")","v":""},{"$f":"'PXS Kopieret'!G756","v":0},{"$f":"'PXS Kopieret'!H756","v":0},{"$f":"IF($A756=\"PhD Student\",'PXS Kopieret'!I756,\"\")","v":""},{"$f":"'PXS Kopieret'!J756","v":0},{"$f":"'PXS Kopieret'!K756","v":0},{"$f":"'PXS Kopieret'!L756","v":0}]
["",{"$f":"IF('PXS Kopieret'!N757<>\"\",HYPERLINK(\"https://ssl1.peoplexs.com/Peoplexs22/eFormportal/eForm.cfm?CandidateUpdateID=\"&'PXS Kopieret'!M757&\"&CandidateUpdateCode=\"&'PXS Kopieret'!N757&\"&Locale=en&CustomFormID=11612\",\"Docs\"),\"\")","v":""},{"$f":"'PXS Kopieret'!A757","v":0},{"$f":"'PXS Kopieret'!B757","v":0},{"$f":"'PXS Kopieret'!C757","v":0},{"$f":"'PXS Kopieret'!D757","v":0},{"$f":"IF($A757<>\"PhD Student\",'PXS Kopieret'!E757,\"\")","v":0},{"$f":"IF($A757=\"PhD Student\",'PXS Kopieret'!F757,\"\")","v":""},{"$f":"'PXS Kopieret'!G757","v":0},{"$f":"'PXS Kopieret'!H757","v":0},{"$f":"IF($A757=\"PhD Student\",'PXS Kopieret'!I757,\"\")","v":""},{"$f":"'PXS Kopieret'!J757","v":0},{"$f":"'PXS Kopieret'!K757","v":0},{"$f":"'PXS Kopieret'!L757","v":0}]
["",{"$f":"IF('PXS Kopieret'!N758<>\"\",HYPERLINK(\"https://ssl1.peoplexs.com/Peoplexs22/eFormportal/eForm.cfm?CandidateUpdateID=\"&'PXS Kopieret'!M758&\"&CandidateUpdateCode=\"&'PXS Kopieret'!N758&\"&Locale=en&CustomFormID=11612\",\"Docs\"),\"\")","v":""},{"$f":"'PXS Kopieret'!A758","v":0},{"$f":"'PXS Kopieret'!B758","v":0},{"$f":"'PXS Kopieret'!C758","v":0},{"$f":"'PXS Kopieret'!D758","v":0},{"$f":"IF($A758<>\"PhD Student\",'PXS Kopieret'!E758,\"\")","v":0},{"$f":"IF($A758=\"PhD Student\",'PXS Kopieret'!F758,\"\")","v":""},{"$f":"'PXS Kopieret'!G758","v":0},{"$f":"'PXS Kopieret'!H758","v":0},{"$f":"IF($A758=\"PhD Student\",'PXS Kopieret'!I758,\"\")","v":""},{"$f":"'PXS Kopieret'!J758","v":0},{"$f":"'PXS Kopieret'!K758","v":0},{"$f":"'PXS Kopieret'!L758","v":0}]
["",{"$f":"IF('PXS Kopieret'!N759<>\"\",HYPERLINK(\"https://ssl1.peoplexs.com/Peoplexs22/eFormportal/eForm.cfm?CandidateUpdateID=\"&'PXS Kopieret'!M759&\"&CandidateUpdateCode=\"&'PXS Kopieret'!N759&\"&Locale=en&CustomFormID=11612\",\"Docs\"),\"\")","v":""},{"$f":"'PXS Kopieret'!A759","v":0},{"$f":"'PXS Kopieret'!B759","v":0},{"$f":"'PXS Kopieret'!C759","v":0},{"$f":"'PXS Kopieret'!D759","v":0},{"$f":"IF($A759<>\"PhD Student\",'PXS Kopieret'!E759,\"\")","v":0},{"$f":"IF($A759=\"PhD Student\",'PXS Kopieret'!F759,\"\")","v":""},{"$f":"'PXS Kopieret'!G759","v":0},{"$f":"'PXS Kopieret'!H759","v":0},{"$f":"IF($A759=\"PhD Student\",'PXS Kopieret'!I759,\"\")","v":""},{"$f":"'PXS Kopieret'!J759","v":0},{"$f":"'PXS Kopieret'!K759","v":0},{"$f":"'PXS Kopieret'!L759","v":0}]
["",{"$f":"IF('PXS Kopieret'!N760<>\"\",HYPERLINK(\"https://ssl1.peoplexs.com/Peoplexs22/eFormportal/eForm.cfm?CandidateUpdateID=\"&'PXS Kopieret'!M760&\"&CandidateUpdateCode=\"&'PXS Kopieret'!N760&\"&Locale=en&CustomFormID=11612\",\"Docs\"),\"\")","v":""},{"$f":"'PXS Kopieret'!A760","v":0},{"$f":"'PXS Kopieret'!B760","v":0},{"$f":"'PXS Kopieret'!C760","v":0},{"$f":"'PXS Kopieret'!D760","v":0},{"$f":"IF($A760<>\"PhD Student\",'PXS Kopieret'!E760,\"\")","v":0},{"$f":"IF($A760=\"PhD Student\",'PXS Kopieret'!F760,\"\")","v":""},{"$f":"'PXS Kopieret'!G760","v":0},{"$f":"'PXS Kopieret'!H760","v":0},{"$f":"IF($A760=\"PhD Student\",'PXS Kopieret'!I760,\"\")","v":""},{"$f":"'PXS Kopieret'!J760","v":0},{"$f":"'PXS Kopieret'!K760","v":0},{"$f":"'PXS Kopieret'!L760","v":0}]
["",{"$f":"IF('PXS Kopieret'!N761<>\"\",HYPERLINK(\"https://ssl1.peoplexs.com/Peoplexs22/eFormportal/eForm.cfm?CandidateUpdateID=\"&'PXS Kopieret'!M761&\"&CandidateUpdateCode=\"&'PXS Kopieret'!N761&\"&Locale=en&CustomFormID=11612\",\"Docs\"),\"\")","v":""},{"$f":"'PXS Kopieret'!A761","v":0},{"$f":"'PXS Kopieret'!B761","v":0},{"$f":"'PXS Kopieret'!C761","v":0},{"$f":"'PXS Kopieret'!D761","v":0},{"$f":"IF($A761<>\"PhD Student\",'PXS Kopieret'!E761,\"\")","v":0},{"$f":"IF($A761=\"PhD Student\",'PXS Kopieret'!F761,\"\")","v":""},{"$f":"'PXS Kopieret'!G761","v":0},{"$f":"'PXS Kopieret'!H761","v":0},{"$f":"IF($A761=\"PhD Student\",'PXS Kopieret'!I761,\"\")","v":""},{"$f":"'PXS Kopieret'!J761","v":0},{"$f":"'PXS Kopieret'!K761","v":0},{"$f":"'PXS Kopieret'!L761","v":0}]
["",{"$f":"IF('PXS Kopieret'!N762<>\"\",HYPERLINK(\"https://ssl1.peoplexs.com/Peoplexs22/eFormportal/eForm.cfm?CandidateUpdateID=\"&'PXS Kopieret'!M762&\"&CandidateUpdateCode=\"&'PXS Kopieret'!N762&\"&Locale=en&CustomFormID=11612\",\"Docs\"),\"\")","v":""},{"$f":"'PXS Kopieret'!A762","v":0},{"$f":"'PXS Kopieret'!B762","v":0},{"$f":"'PXS Kopieret'!C762","v":0},{"$f":"'PXS Kopieret'!D762","v":0},{"$f":"IF($A762<>\"PhD Student\",'PXS Kopieret'!E762,\"\")","v":0},{"$f":"IF($A762=\"PhD Student\",'PXS Kopieret'!F762,\"\")","v":""},{"$f":"'PXS Kopieret'!G762","v":0},{"$f":"'PXS Kopieret'!H762","v":0},{"$f":"IF($A762=\"PhD Student\",'PXS Kopieret'!I762,\"\")","v":""},{"$f":"'PXS Kopieret'!J762","v":0},{"$f":"'PXS Kopieret'!K762","v":0},{"$f":"'PXS Kopieret'!L762","v":0}]
["",{"$f":"IF('PXS Kopieret'!N763<>\"\",HYPERLINK(\"https://ssl1.peoplexs.com/Peoplexs22/eFormportal/eForm.cfm?CandidateUpdateID=\"&'PXS Kopieret'!M763&\"&CandidateUpdateCode=\"&'PXS Kopieret'!N763&\"&Locale=en&CustomFormID=11612\",\"Docs\"),\"\")","v":""},{"$f":"'PXS Kopieret'!A763","v":0},{"$f":"'PXS Kopieret'!B763","v":0},{"$f":"'PXS Kopieret'!C763","v":0},{"$f":"'PXS Kopieret'!D763","v":0},{"$f":"IF($A763<>\"PhD Student\",'PXS Kopieret'!E763,\"\")","v":0},{"$f":"IF($A763=\"PhD Student\",'PXS Kopieret'!F763,\"\")","v":""},{"$f":"'PXS Kopieret'!G763","v":0},{"$f":"'PXS Kopieret'!H763","v":0},{"$f":"IF($A763=\"PhD Student\",'PXS Kopieret'!I763,\"\")","v":""},{"$f":"'PXS Kopieret'!J763","v":0},{"$f":"'PXS Kopieret'!K763","v":0},{"$f":"'PXS Kopieret'!L763","v":0}]
["",{"$f":"IF('PXS Kopieret'!N764<>\"\",HYPERLINK(\"https://ssl1.peoplexs.com/Peoplexs22/eFormportal/eForm.cfm?CandidateUpdateID=\"&'PXS Kopieret'!M764&\"&CandidateUpdateCode=\"&'PXS Kopieret'!N764&\"&Locale=en&CustomFormID=11612\",\"Docs\"),\"\")","v":""},{"$f":"'PXS Kopieret'!A764","v":0},{"$f":"'PXS Kopieret'!B764","v":0},{"$f":"'PXS Kopieret'!C764","v":0},{"$f":"'PXS Kopieret'!D764","v":0},{"$f":"IF($A764<>\"PhD Student\",'PXS Kopieret'!E764,\"\")","v":0},{"$f":"IF($A764=\"PhD Student\",'PXS Kopieret'!F764,\"\")","v":""},{"$f":"'PXS Kopieret'!G764","v":0},{"$f":"'PXS Kopieret'!H764","v":0},{"$f":"IF($A764=\"PhD Student\",'PXS Kopieret'!I764,\"\")","v":""},{"$f":"'PXS Kopieret'!J764","v":0},{"$f":"'PXS Kopieret'!K764","v":0},{"$f":"'PXS Kopieret'!L764","v":0}]
["",{"$f":"IF('PXS Kopieret'!N765<>\"\",HYPERLINK(\"https://ssl1.peoplexs.com/Peoplexs22/eFormportal/eForm.cfm?CandidateUpdateID=\"&'PXS Kopieret'!M765&\"&CandidateUpdateCode=\"&'PXS Kopieret'!N765&\"&Locale=en&CustomFormID=11612\",\"Docs\"),\"\")","v":""},{"$f":"'PXS Kopieret'!A765","v":0},{"$f":"'PXS Kopieret'!B765","v":0},{"$f":"'PXS Kopieret'!C765","v":0},{"$f":"'PXS Kopieret'!D765","v":0},{"$f":"IF($A765<>\"PhD Student\",'PXS Kopieret'!E765,\"\")","v":0},{"$f":"IF($A765=\"PhD Student\",'PXS Kopieret'!F765,\"\")","v":""},{"$f":"'PXS Kopieret'!G765","v":0},{"$f":"'PXS Kopieret'!H765","v":0},{"$f":"IF($A765=\"PhD Student\",'PXS Kopieret'!I765,\"\")","v":""},{"$f":"'PXS Kopieret'!J765","v":0},{"$f":"'PXS Kopieret'!K765","v":0},{"$f":"'PXS Kopieret'!L765","v":0}]
["",{"$f":"IF('PXS Kopieret'!N766<>\"\",HYPERLINK(\"https://ssl1.peoplexs.com/Peoplexs22/eFormportal/eForm.cfm?CandidateUpdateID=\"&'PXS Kopieret'!M766&\"&CandidateUpdateCode=\"&'PXS Kopieret'!N766&\"&Locale=en&CustomFormID=11612\",\"Docs\"),\"\")","v":""},{"$f":"'PXS Kopieret'!A766","v":0},{"$f":"'PXS Kopieret'!B766","v":0},{"$f":"'PXS Kopieret'!C766","v":0},{"$f":"'PXS Kopieret'!D766","v":0},{"$f":"IF($A766<>\"PhD Student\",'PXS Kopieret'!E766,\"\")","v":0},{"$f":"IF($A766=\"PhD Student\",'PXS Kopieret'!F766,\"\")","v":""},{"$f":"'PXS Kopieret'!G766","v":0},{"$f":"'PXS Kopieret'!H766","v":0},{"$f":"IF($A766=\"PhD Student\",'PXS Kopieret'!I766,\"\")","v":""},{"$f":"'PXS Kopieret'!J766","v":0},{"$f":"'PXS Kopieret'!K766","v":0},{"$f":"'PXS Kopieret'!L766","v":0}]
["",{"$f":"IF('PXS Kopieret'!N767<>\"\",HYPERLINK(\"https://ssl1.peoplexs.com/Peoplexs22/eFormportal/eForm.cfm?CandidateUpdateID=\"&'PXS Kopieret'!M767&\"&CandidateUpdateCode=\"&'PXS Kopieret'!N767&\"&Locale=en&CustomFormID=11612\",\"Docs\"),\"\")","v":""},{"$f":"'PXS Kopieret'!A767","v":0},{"$f":"'PXS Kopieret'!B767","v":0},{"$f":"'PXS Kopieret'!C767","v":0},{"$f":"'PXS Kopieret'!D767","v":0},{"$f":"IF($A767<>\"PhD Student\",'PXS Kopieret'!E767,\"\")","v":0},{"$f":"IF($A767=\"PhD Student\",'PXS Kopieret'!F767,\"\")","v":""},{"$f":"'PXS Kopieret'!G767","v":0},{"$f":"'PXS Kopieret'!H767","v":0},{"$f":"IF($A767=\"PhD Student\",'PXS Kopieret'!I767,\"\")","v":""},{"$f":"'PXS Kopieret'!J767","v":0},{"$f":"'PXS Kopieret'!K767","v":0},{"$f":"'PXS Kopieret'!L767","v":0}]
["",{"$f":"IF('PXS Kopieret'!N768<>\"\",HYPERLINK(\"https://ssl1.peoplexs.com/Peoplexs22/eFormportal/eForm.cfm?CandidateUpdateID=\"&'PXS Kopieret'!M768&\"&CandidateUpdateCode=\"&'PXS Kopieret'!N768&\"&Locale=en&CustomFormID=11612\",\"Docs\"),\"\")","v":""},{"$f":"'PXS Kopieret'!A768","v":0},{"$f":"'PXS Kopieret'!B768","v":0},{"$f":"'PXS Kopieret'!C768","v":0},{"$f":"'PXS Kopieret'!D768","v":0},{"$f":"IF($A768<>\"PhD Student\",'PXS Kopieret'!E768,\"\")","v":0},{"$f":"IF($A768=\"PhD Student\",'PXS Kopieret'!F768,\"\")","v":""},{"$f":"'PXS Kopieret'!G768","v":0},{"$f":"'PXS Kopieret'!H768","v":0},{"$f":"IF($A768=\"PhD Student\",'PXS Kopieret'!I768,\"\")","v":""},{"$f":"'PXS Kopieret'!J768","v":0},{"$f":"'PXS Kopieret'!K768","v":0},{"$f":"'PXS Kopieret'!L768","v":0}]
["",{"$f":"IF('PXS Kopieret'!N769<>\"\",HYPERLINK(\"https://ssl1.peoplexs.com/Peoplexs22/eFormportal/eForm.cfm?CandidateUpdateID=\"&'PXS Kopieret'!M769&\"&CandidateUpdateCode=\"&'PXS Kopieret'!N769&\"&Locale=en&CustomFormID=11612\",\"Docs\"),\"\")","v":""},{"$f":"'PXS Kopieret'!A769","v":0},{"$f":"'PXS Kopieret'!B769","v":0},{"$f":"'PXS Kopieret'!C769","v":0},{"$f":"'PXS Kopieret'!D769","v":0},{"$f":"IF($A769<>\"PhD Student\",'PXS Kopieret'!E769,\"\")","v":0},{"$f":"IF($A769=\"PhD Student\",'PXS Kopieret'!F769,\"\")","v":""},{"$f":"'PXS Kopieret'!G769","v":0},{"$f":"'PXS Kopieret'!H769","v":0},{"$f":"IF($A769=\"PhD Student\",'PXS Kopieret'!I769,\"\")","v":""},{"$f":"'PXS Kopieret'!J769","v":0},{"$f":"'PXS Kopieret'!K769","v":0},{"$f":"'PXS Kopieret'!L769","v":0}]
["",{"$f":"IF('PXS Kopieret'!N770<>\"\",HYPERLINK(\"https://ssl1.peoplexs.com/Peoplexs22/eFormportal/eForm.cfm?CandidateUpdateID=\"&'PXS Kopieret'!M770&\"&CandidateUpdateCode=\"&'PXS Kopieret'!N770&\"&Locale=en&CustomFormID=11612\",\"Docs\"),\"\")","v":""},{"$f":"'PXS Kopieret'!A770","v":0},{"$f":"'PXS Kopieret'!B770","v":0},{"$f":"'PXS Kopieret'!C770","v":0},{"$f":"'PXS Kopieret'!D770","v":0},{"$f":"IF($A770<>\"PhD Student\",'PXS Kopieret'!E770,\"\")","v":0},{"$f":"IF($A770=\"PhD Student\",'PXS Kopieret'!F770,\"\")","v":""},{"$f":"'PXS Kopieret'!G770","v":0},{"$f":"'PXS Kopieret'!H770","v":0},{"$f":"IF($A770=\"PhD Student\",'PXS Kopieret'!I770,\"\")","v":""},{"$f":"'PXS Kopieret'!J770","v":0},{"$f":"'PXS Kopieret'!K770","v":0},{"$f":"'PXS Kopieret'!L770","v":0}]
[{"$f":"IF(LEFT(C771,2)=\"RY\", \"Research Year Student\", IF(C771=0,\"\",\"PhD Student\"))","v":""},{"$f":"IF('PXS Kopieret'!N771<>\"\",HYPERLINK(\"https://ssl1.peoplexs.com/Peoplexs22/eFormportal/eForm.cfm?CandidateUpdateID=\"&'PXS Kopieret'!M771&\"&CandidateUpdateCode=\"&'PXS Kopieret'!N771&\"&Locale=en&CustomFormID=11612\",\"Docs\"),\"\")","v":""},{"$f":"'PXS Kopieret'!A771","v":0},{"$f":"'PXS Kopieret'!B771","v":0},{"$f":"'PXS Kopieret'!C771","v":0},{"$f":"'PXS Kopieret'!D771","v":0},{"$f":"IF($A771<>\"PhD Student\",'PXS Kopieret'!E771,\"\")","v":0},{"$f":"IF($A771=\"PhD Student\",'PXS Kopieret'!F771,\"\")","v":""},{"$f":"'PXS Kopieret'!G771","v":0},{"$f":"'PXS Kopieret'!H771","v":0},{"$f":"IF($A771=\"PhD Student\",'PXS Kopieret'!I771,\"\")","v":""},{"$f":"'PXS Kopieret'!J771","v":0},{"$f":"'PXS Kopieret'!K771","v":0},{"$f":"'PXS Kopieret'!L771","v":0}]
["",{"$f":"IF('PXS Kopieret'!N772<>\"\",HYPERLINK(\"https://ssl1.peoplexs.com/Peoplexs22/eFormportal/eForm.cfm?CandidateUpdateID=\"&'PXS Kopieret'!M772&\"&CandidateUpdateCode=\"&'PXS Kopieret'!N772&\"&Locale=en&CustomFormID=11612\",\"Docs\"),\"\")","v":""},{"$f":"'PXS Kopieret'!A772","v":0},{"$f":"'PXS Kopieret'!B772","v":0},{"$f":"'PXS Kopieret'!C772","v":0},{"$f":"'PXS Kopieret'!D772","v":0},{"$f":"IF($A772<>\"PhD Student\",'PXS Kopieret'!E772,\"\")","v":0},{"$f":"IF($A772=\"PhD Student\",'PXS Kopieret'!F772,\"\")","v":""},{"$f":"'PXS Kopieret'!G772","v":0},{"$f":"'PXS Kopieret'!H772","v":0},{"$f":"IF($A772=\"PhD Student\",'PXS Kopieret'!I772,\"\")","v":""},{"$f":"'PXS Kopieret'!J772","v":0},{"$f":"'PXS Kopieret'!K772","v":0},{"$f":"'PXS Kopieret'!L772","v":0}]
["",{"$f":"IF('PXS Kopieret'!N773<>\"\",HYPERLINK(\"https://ssl1.peoplexs.com/Peoplexs22/eFormportal/eForm.cfm?CandidateUpdateID=\"&'PXS Kopieret'!M773&\"&CandidateUpdateCode=\"&'PXS Kopieret'!N773&\"&Locale=en&CustomFormID=11612\",\"Docs\"),\"\")","v":""},{"$f":"'PXS Kopieret'!A773","v":0},{"$f":"'PXS Kopieret'!B773","v":0},{"$f":"'PXS Kopieret'!C773","v":0},{"$f":"'PXS Kopieret'!D773","v":0},{"$f":"IF($A773<>\"PhD Student\",'PXS Kopieret'!E773,\"\")","v":0},{"$f":"IF($A773=\"PhD Student\",'PXS Kopieret'!F773,\"\")","v":""},{"$f":"'PXS Kopieret'!G773","v":0},{"$f":"'PXS Kopieret'!H773","v":0},{"$f":"IF($A773=\"PhD Student\",'PXS Kopieret'!I773,\"\")","v":""},{"$f":"'PXS Kopieret'!J773","v":0},{"$f":"'PXS Kopieret'!K773","v":0},{"$f":"'PXS Kopieret'!L773","v":0}]
["",{"$f":"IF('PXS Kopieret'!N774<>\"\",HYPERLINK(\"https://ssl1.peoplexs.com/Peoplexs22/eFormportal/eForm.cfm?CandidateUpdateID=\"&'PXS Kopieret'!M774&\"&CandidateUpdateCode=\"&'PXS Kopieret'!N774&\"&Locale=en&CustomFormID=11612\",\"Docs\"),\"\")","v":""},{"$f":"'PXS Kopieret'!A774","v":0},{"$f":"'PXS Kopieret'!B774","v":0},{"$f":"'PXS Kopieret'!C774","v":0},{"$f":"'PXS Kopieret'!D774","v":0},{"$f":"IF($A774<>\"PhD Student\",'PXS Kopieret'!E774,\"\")","v":0},{"$f":"IF($A774=\"PhD Student\",'PXS Kopieret'!F774,\"\")","v":""},{"$f":"'PXS Kopieret'!G774","v":0},{"$f":"'PXS Kopieret'!H774","v":0},{"$f":"IF($A774=\"PhD Student\",'PXS Kopieret'!I774,\"\")","v":""},{"$f":"'PXS Kopieret'!J774","v":0},{"$f":"'PXS Kopieret'!K774","v":0},{"$f":"'PXS Kopieret'!L774","v":0}]
["",{"$f":"IF('PXS Kopieret'!N775<>\"\",HYPERLINK(\"https://ssl1.peoplexs.com/Peoplexs22/eFormportal/eForm.cfm?CandidateUpdateID=\"&'PXS Kopieret'!M775&\"&CandidateUpdateCode=\"&'PXS Kopieret'!N775&\"&Locale=en&CustomFormID=11612\",\"Docs\"),\"\")","v":""},{"$f":"'PXS Kopieret'!A775","v":0},{"$f":"'PXS Kopieret'!B775","v":0},{"$f":"'PXS Kopieret'!C775","v":0},{"$f":"'PXS Kopieret'!D775","v":0},{"$f":"IF($A775<>\"PhD Student\",'PXS Kopieret'!E775,\"\")","v":0},{"$f":"IF($A775=\"PhD Student\",'PXS Kopieret'!F775,\"\")","v":""},{"$f":"'PXS Kopieret'!G775","v":0},{"$f":"'PXS Kopieret'!H775","v":0},{"$f":"IF($A775=\"PhD Student\",'PXS Kopieret'!I775,\"\")","v":""},{"$f":"'PXS Kopieret'!J775","v":0},{"$f":"'PXS Kopieret'!K775","v":0},{"$f":"'PXS Kopieret'!L775","v":0}]
["",{"$f":"IF('PXS Kopieret'!N776<>\"\",HYPERLINK(\"https://ssl1.peoplexs.com/Peoplexs22/eFormportal/eForm.cfm?CandidateUpdateID=\"&'PXS Kopieret'!M776&\"&CandidateUpdateCode=\"&'PXS Kopieret'!N776&\"&Locale=en&CustomFormID=11612\",\"Docs\"),\"\")","v":""},{"$f":"'PXS Kopieret'!A776","v":0},{"$f":"'PXS Kopieret'!B776","v":0},{"$f":"'PXS Kopieret'!C776","v":0},{"$f":"'PXS Kopieret'!D776","v":0},{"$f":"IF($A776<>\"PhD Student\",'PXS Kopieret'!E776,\"\")","v":0},{"$f":"IF($A776=\"PhD Student\",'PXS Kopieret'!F776,\"\")","v":""},{"$f":"'PXS Kopieret'!G776","v":0},{"$f":"'PXS Kopieret'!H776","v":0},{"$f":"IF($A776=\"PhD Student\",'PXS Kopieret'!I776,\"\")","v":""},{"$f":"'PXS Kopieret'!J776","v":0},{"$f":"'PXS Kopieret'!K776","v":0},{"$f":"'PXS Kopieret'!L776","v":0}]
["",{"$f":"IF('PXS Kopieret'!N777<>\"\",HYPERLINK(\"https://ssl1.peoplexs.com/Peoplexs22/eFormportal/eForm.cfm?CandidateUpdateID=\"&'PXS Kopieret'!M777&\"&CandidateUpdateCode=\"&'PXS Kopieret'!N777&\"&Locale=en&CustomFormID=11612\",\"Docs\"),\"\")","v":""},{"$f":"'PXS Kopieret'!A777","v":0},{"$f":"'PXS Kopieret'!B777","v":0},{"$f":"'PXS Kopieret'!C777","v":0},{"$f":"'PXS Kopieret'!D777","v":0},{"$f":"IF($A777<>\"PhD Student\",'PXS Kopieret'!E777,\"\")","v":0},{"$f":"IF($A777=\"PhD Student\",'PXS Kopieret'!F777,\"\")","v":""},{"$f":"'PXS Kopieret'!G777","v":0},{"$f":"'PXS Kopieret'!H777","v":0},{"$f":"IF($A777=\"PhD Student\",'PXS Kopieret'!I777,\"\")","v":""},{"$f":"'PXS Kopieret'!J777","v":0},{"$f":"'PXS Kopieret'!K777","v":0},{"$f":"'PXS Kopieret'!L777","v":0}]
["",{"$f":"IF('PXS Kopieret'!N778<>\"\",HYPERLINK(\"https://ssl1.peoplexs.com/Peoplexs22/eFormportal/eForm.cfm?CandidateUpdateID=\"&'PXS Kopieret'!M778&\"&CandidateUpdateCode=\"&'PXS Kopieret'!N778&\"&Locale=en&CustomFormID=11612\",\"Docs\"),\"\")","v":""},{"$f":"'PXS Kopieret'!A778","v":0},{"$f":"'PXS Kopieret'!B778","v":0},{"$f":"'PXS Kopieret'!C778","v":0},{"$f":"'PXS Kopieret'!D778","v":0},{"$f":"IF($A778<>\"PhD Student\",'PXS Kopieret'!E778,\"\")","v":0},{"$f":"IF($A778=\"PhD Student\",'PXS Kopieret'!F778,\"\")","v":""},{"$f":"'PXS Kopieret'!G778","v":0},{"$f":"'PXS Kopieret'!H778","v":0},{"$f":"IF($A778=\"PhD Student\",'PXS Kopieret'!I778,\"\")","v":""},{"$f":"'PXS Kopieret'!J778","v":0},{"$f":"'PXS Kopieret'!K778","v":0},{"$f":"'PXS Kopieret'!L778","v":0}]
["",{"$f":"IF('PXS Kopieret'!N779<>\"\",HYPERLINK(\"https://ssl1.peoplexs.com/Peoplexs22/eFormportal/eForm.cfm?CandidateUpdateID=\"&'PXS Kopieret'!M779&\"&CandidateUpdateCode=\"&'PXS Kopieret'!N779&\"&Locale=en&CustomFormID=11612\",\"Docs\"),\"\")","v":""},{"$f":"'PXS Kopieret'!A779","v":0},{"$f":"'PXS Kopieret'!B779","v":0},{"$f":"'PXS Kopieret'!C779","v":0},{"$f":"'PXS Kopieret'!D779","v":0},{"$f":"IF($A779<>\"PhD Student\",'PXS Kopieret'!E779,\"\")","v":0},{"$f":"IF($A779=\"PhD Student\",'PXS Kopieret'!F779,\"\")","v":""},{"$f":"'PXS Kopieret'!G779","v":0},{"$f":"'PXS Kopieret'!H779","v":0},{"$f":"IF($A779=\"PhD Student\",'PXS Kopieret'!I779,\"\")","v":""},{"$f":"'PXS Kopieret'!J779","v":0},{"$f":"'PXS Kopieret'!K779","v":0},{"$f":"'PXS Kopieret'!L779","v":0}]
["",{"$f":"IF('PXS Kopieret'!N780<>\"\",HYPERLINK(\"https://ssl1.peoplexs.com/Peoplexs22/eFormportal/eForm.cfm?CandidateUpdateID=\"&'PXS Kopieret'!M780&\"&CandidateUpdateCode=\"&'PXS Kopieret'!N780&\"&Locale=en&CustomFormID=11612\",\"Docs\"),\"\")","v":""},{"$f":"'PXS Kopieret'!A780","v":0},{"$f":"'PXS Kopieret'!B780","v":0},{"$f":"'PXS Kopieret'!C780","v":0},{"$f":"'PXS Kopieret'!D780","v":0},{"$f":"IF($A780<>\"PhD Student\",'PXS Kopieret'!E780,\"\")","v":0},{"$f":"IF($A780=\"PhD Student\",'PXS Kopieret'!F780,\"\")","v":""},{"$f":"'PXS Kopieret'!G780","v":0},{"$f":"'PXS Kopieret'!H780","v":0},{"$f":"IF($A780=\"PhD Student\",'PXS Kopieret'!I780,\"\")","v":""},{"$f":"'PXS Kopieret'!J780","v":0},{"$f":"'PXS Kopieret'!K780","v":0},{"$f":"'PXS Kopieret'!L780","v":0}]
["",{"$f":"IF('PXS Kopieret'!N781<>\"\",HYPERLINK(\"https://ssl1.peoplexs.com/Peoplexs22/eFormportal/eForm.cfm?CandidateUpdateID=\"&'PXS Kopieret'!M781&\"&CandidateUpdateCode=\"&'PXS Kopieret'!N781&\"&Locale=en&CustomFormID=11612\",\"Docs\"),\"\")","v":""},{"$f":"'PXS Kopieret'!A781","v":0},{"$f":"'PXS Kopieret'!B781","v":0},{"$f":"'PXS Kopieret'!C781","v":0},{"$f":"'PXS Kopieret'!D781","v":0},{"$f":"IF($A781<>\"PhD Student\",'PXS Kopieret'!E781,\"\")","v":0},{"$f":"IF($A781=\"PhD Student\",'PXS Kopieret'!F781,\"\")","v":""},{"$f":"'PXS Kopieret'!G781","v":0},{"$f":"'PXS Kopieret'!H781","v":0},{"$f":"IF($A781=\"PhD Student\",'PXS Kopieret'!I781,\"\")","v":""},{"$f":"'PXS Kopieret'!J781","v":0},{"$f":"'PXS Kopieret'!K781","v":0},{"$f":"'PXS Kopieret'!L781","v":0}]
["",{"$f":"IF('PXS Kopieret'!N782<>\"\",HYPERLINK(\"https://ssl1.peoplexs.com/Peoplexs22/eFormportal/eForm.cfm?CandidateUpdateID=\"&'PXS Kopieret'!M782&\"&CandidateUpdateCode=\"&'PXS Kopieret'!N782&\"&Locale=en&CustomFormID=11612\",\"Docs\"),\"\")","v":""},{"$f":"'PXS Kopieret'!A782","v":0},{"$f":"'PXS Kopieret'!B782","v":0},{"$f":"'PXS Kopieret'!C782","v":0},{"$f":"'PXS Kopieret'!D782","v":0},{"$f":"IF($A782<>\"PhD Student\",'PXS Kopieret'!E782,\"\")","v":0},{"$f":"IF($A782=\"PhD Student\",'PXS Kopieret'!F782,\"\")","v":""},{"$f":"'PXS Kopieret'!G782","v":0},{"$f":"'PXS Kopieret'!H782","v":0},{"$f":"IF($A782=\"PhD Student\",'PXS Kopieret'!I782,\"\")","v":""},{"$f":"'PXS Kopieret'!J782","v":0},{"$f":"'PXS Kopieret'!K782","v":0},{"$f":"'PXS Kopieret'!L782","v":0}]
["",{"$f":"IF('PXS Kopieret'!N783<>\"\",HYPERLINK(\"https://ssl1.peoplexs.com/Peoplexs22/eFormportal/eForm.cfm?CandidateUpdateID=\"&'PXS Kopieret'!M783&\"&CandidateUpdateCode=\"&'PXS Kopieret'!N783&\"&Locale=en&CustomFormID=11612\",\"Docs\"),\"\")","v":""},{"$f":"'PXS Kopieret'!A783","v":0},{"$f":"'PXS Kopieret'!B783","v":0},{"$f":"'PXS Kopieret'!C783","v":0},{"$f":"'PXS Kopieret'!D783","v":0},{"$f":"IF($A783<>\"PhD Student\",'PXS Kopieret'!E783,\"\")","v":0},{"$f":"IF($A783=\"PhD Student\",'PXS Kopieret'!F783,\"\")","v":""},{"$f":"'PXS Kopieret'!G783","v":0},{"$f":"'PXS Kopieret'!H783","v":0},{"$f":"IF($A783=\"PhD Student\",'PXS Kopieret'!I783,\"\")","v":""},{"$f":"'PXS Kopieret'!J783","v":0},{"$f":"'PXS Kopieret'!K783","v":0},{"$f":"'PXS Kopieret'!L783","v":0}]
["",{"$f":"IF('PXS Kopieret'!N784<>\"\",HYPERLINK(\"https://ssl1.peoplexs.com/Peoplexs22/eFormportal/eForm.cfm?CandidateUpdateID=\"&'PXS Kopieret'!M784&\"&CandidateUpdateCode=\"&'PXS Kopieret'!N784&\"&Locale=en&CustomFormID=11612\",\"Docs\"),\"\")","v":""},{"$f":"'PXS Kopieret'!A784","v":0},{"$f":"'PXS Kopieret'!B784","v":0},{"$f":"'PXS Kopieret'!C784","v":0},{"$f":"'PXS Kopieret'!D784","v":0},{"$f":"IF($A784<>\"PhD Student\",'PXS Kopieret'!E784,\"\")","v":0},{"$f":"IF($A784=\"PhD Student\",'PXS Kopieret'!F784,\"\")","v":""},{"$f":"'PXS Kopieret'!G784","v":0},{"$f":"'PXS Kopieret'!H784","v":0},{"$f":"IF($A784=\"PhD Student\",'PXS Kopieret'!I784,\"\")","v":""},{"$f":"'PXS Kopieret'!J784","v":0},{"$f":"'PXS Kopieret'!K784","v":0},{"$f":"'PXS Kopieret'!L784","v":0}]
["",{"$f":"IF('PXS Kopieret'!N785<>\"\",HYPERLINK(\"https://ssl1.peoplexs.com/Peoplexs22/eFormportal/eForm.cfm?CandidateUpdateID=\"&'PXS Kopieret'!M785&\"&CandidateUpdateCode=\"&'PXS Kopieret'!N785&\"&Locale=en&CustomFormID=11612\",\"Docs\"),\"\")","v":""},{"$f":"'PXS Kopieret'!A785","v":0},{"$f":"'PXS Kopieret'!B785","v":0},{"$f":"'PXS Kopieret'!C785","v":0},{"$f":"'PXS Kopieret'!D785","v":0},{"$f":"IF($A785<>\"PhD Student\",'PXS Kopieret'!E785,\"\")","v":0},{"$f":"IF($A785=\"PhD Student\",'PXS Kopieret'!F785,\"\")","v":""},{"$f":"'PXS Kopieret'!G785","v":0},{"$f":"'PXS Kopieret'!H785","v":0},{"$f":"IF($A785=\"PhD Student\",'PXS Kopieret'!I785,\"\")","v":""},{"$f":"'PXS Kopieret'!J785","v":0},{"$f":"'PXS Kopieret'!K785","v":0},{"$f":"'PXS Kopieret'!L785","v":0}]
["",{"$f":"IF('PXS Kopieret'!N786<>\"\",HYPERLINK(\"https://ssl1.peoplexs.com/Peoplexs22/eFormportal/eForm.cfm?CandidateUpdateID=\"&'PXS Kopieret'!M786&\"&CandidateUpdateCode=\"&'PXS Kopieret'!N786&\"&Locale=en&CustomFormID=11612\",\"Docs\"),\"\")","v":""},{"$f":"'PXS Kopieret'!A786","v":0},{"$f":"'PXS Kopieret'!B786","v":0},{"$f":"'PXS Kopieret'!C786","v":0},{"$f":"'PXS Kopieret'!D786","v":0},{"$f":"IF($A786<>\"PhD Student\",'PXS Kopieret'!E786,\"\")","v":0},{"$f":"IF($A786=\"PhD Student\",'PXS Kopieret'!F786,\"\")","v":""},{"$f":"'PXS Kopieret'!G786","v":0},{"$f":"'PXS Kopieret'!H786","v":0},{"$f":"IF($A786=\"PhD Student\",'PXS Kopieret'!I786,\"\")","v":""},{"$f":"'PXS Kopieret'!J786","v":0},{"$f":"'PXS Kopieret'!K786","v":0},{"$f":"'PXS Kopieret'!L786","v":0}]
["",{"$f":"IF('PXS Kopieret'!N787<>\"\",HYPERLINK(\"https://ssl1.peoplexs.com/Peoplexs22/eFormportal/eForm.cfm?CandidateUpdateID=\"&'PXS Kopieret'!M787&\"&CandidateUpdateCode=\"&'PXS Kopieret'!N787&\"&Locale=en&CustomFormID=11612\",\"Docs\"),\"\")","v":""},{"$f":"'PXS Kopieret'!A787","v":0},{"$f":"'PXS Kopieret'!B787","v":0},{"$f":"'PXS Kopieret'!C787","v":0},{"$f":"'PXS Kopieret'!D787","v":0},{"$f":"IF($A787<>\"PhD Student\",'PXS Kopieret'!E787,\"\")","v":0},{"$f":"IF($A787=\"PhD Student\",'PXS Kopieret'!F787,\"\")","v":""},{"$f":"'PXS Kopieret'!G787","v":0},{"$f":"'PXS Kopieret'!H787","v":0},{"$f":"IF($A787=\"PhD Student\",'PXS Kopieret'!I787,\"\")","v":""},{"$f":"'PXS Kopieret'!J787","v":0},{"$f":"'PXS Kopieret'!K787","v":0},{"$f":"'PXS Kopieret'!L787","v":0}]
["",{"$f":"IF('PXS Kopieret'!N788<>\"\",HYPERLINK(\"https://ssl1.peoplexs.com/Peoplexs22/eFormportal/eForm.cfm?CandidateUpdateID=\"&'PXS Kopieret'!M788&\"&CandidateUpdateCode=\"&'PXS Kopieret'!N788&\"&Locale=en&CustomFormID=11612\",\"Docs\"),\"\")","v":""},{"$f":"'PXS Kopieret'!A788","v":0},{"$f":"'PXS Kopieret'!B788","v":0},{"$f":"'PXS Kopieret'!C788","v":0},{"$f":"'PXS Kopieret'!D788","v":0},{"$f":"IF($A788<>\"PhD Student\",'PXS Kopieret'!E788,\"\")","v":0},{"$f":"IF($A788=\"PhD Student\",'PXS Kopieret'!F788,\"\")","v":""},{"$f":"'PXS Kopieret'!G788","v":0},{"$f":"'PXS Kopieret'!H788","v":0},{"$f":"IF($A788=\"PhD Student\",'PXS Kopieret'!I788,\"\")","v":""},{"$f":"'PXS Kopieret'!J788","v":0},{"$f":"'PXS Kopieret'!K788","v":0},{"$f":"'PXS Kopieret'!L788","v":0}]
["",{"$f":"IF('PXS Kopieret'!N789<>\"\",HYPERLINK(\"https://ssl1.peoplexs.com/Peoplexs22/eFormportal/eForm.cfm?CandidateUpdateID=\"&'PXS Kopieret'!M789&\"&CandidateUpdateCode=\"&'PXS Kopieret'!N789&\"&Locale=en&CustomFormID=11612\",\"Docs\"),\"\")","v":""},{"$f":"'PXS Kopieret'!A789","v":0},{"$f":"'PXS Kopieret'!B789","v":0},{"$f":"'PXS Kopieret'!C789","v":0},{"$f":"'PXS Kopieret'!D789","v":0},{"$f":"IF($A789<>\"PhD Student\",'PXS Kopieret'!E789,\"\")","v":0},{"$f":"IF($A789=\"PhD Student\",'PXS Kopieret'!F789,\"\")","v":""},{"$f":"'PXS Kopieret'!G789","v":0},{"$f":"'PXS Kopieret'!H789","v":0},{"$f":"IF($A789=\"PhD Student\",'PXS Kopieret'!I789,\"\")","v":""},{"$f":"'PXS Kopieret'!J789","v":0},{"$f":"'PXS Kopieret'!K789","v":0},{"$f":"'PXS Kopieret'!L789","v":0}]
["",{"$f":"IF('PXS Kopieret'!N790<>\"\",HYPERLINK(\"https://ssl1.peoplexs.com/Peoplexs22/eFormportal/eForm.cfm?CandidateUpdateID=\"&'PXS Kopieret'!M790&\"&CandidateUpdateCode=\"&'PXS Kopieret'!N790&\"&Locale=en&CustomFormID=11612\",\"Docs\"),\"\")","v":""},{"$f":"'PXS Kopieret'!A790","v":0},{"$f":"'PXS Kopieret'!B790","v":0},{"$f":"'PXS Kopieret'!C790","v":0},{"$f":"'PXS Kopieret'!D790","v":0},{"$f":"IF($A790<>\"PhD Student\",'PXS Kopieret'!E790,\"\")","v":0},{"$f":"IF($A790=\"PhD Student\",'PXS Kopieret'!F790,\"\")","v":""},{"$f":"'PXS Kopieret'!G790","v":0},{"$f":"'PXS Kopieret'!H790","v":0},{"$f":"IF($A790=\"PhD Student\",'PXS Kopieret'!I790,\"\")","v":""},{"$f":"'PXS Kopieret'!J790","v":0},{"$f":"'PXS Kopieret'!K790","v":0},{"$f":"'PXS Kopieret'!L790","v":0}]
["",{"$f":"IF('PXS Kopieret'!N791<>\"\",HYPERLINK(\"https://ssl1.peoplexs.com/Peoplexs22/eFormportal/eForm.cfm?CandidateUpdateID=\"&'PXS Kopieret'!M791&\"&CandidateUpdateCode=\"&'PXS Kopieret'!N791&\"&Locale=en&CustomFormID=11612\",\"Docs\"),\"\")","v":""},{"$f":"'PXS Kopieret'!A791","v":0},{"$f":"'PXS Kopieret'!B791","v":0},{"$f":"'PXS Kopieret'!C791","v":0},{"$f":"'PXS Kopieret'!D791","v":0},{"$f":"IF($A791<>\"PhD Student\",'PXS Kopieret'!E791,\"\")","v":0},{"$f":"IF($A791=\"PhD Student\",'PXS Kopieret'!F791,\"\")","v":""},{"$f":"'PXS Kopieret'!G791","v":0},{"$f":"'PXS Kopieret'!H791","v":0},{"$f":"IF($A791=\"PhD Student\",'PXS Kopieret'!I791,\"\")","v":""},{"$f":"'PXS Kopieret'!J791","v":0},{"$f":"'PXS Kopieret'!K791","v":0},{"$f":"'PXS Kopieret'!L791","v":0}]
["",{"$f":"IF('PXS Kopieret'!N792<>\"\",HYPERLINK(\"https://ssl1.peoplexs.com/Peoplexs22/eFormportal/eForm.cfm?CandidateUpdateID=\"&'PXS Kopieret'!M792&\"&CandidateUpdateCode=\"&'PXS Kopieret'!N792&\"&Locale=en&CustomFormID=11612\",\"Docs\"),\"\")","v":""},{"$f":"'PXS Kopieret'!A792","v":0},{"$f":"'PXS Kopieret'!B792","v":0},{"$f":"'PXS Kopieret'!C792","v":0},{"$f":"'PXS Kopieret'!D792","v":0},{"$f":"IF($A792<>\"PhD Student\",'PXS Kopieret'!E792,\"\")","v":0},{"$f":"IF($A792=\"PhD Student\",'PXS Kopieret'!F792,\"\")","v":""},{"$f":"'PXS Kopieret'!G792","v":0},{"$f":"'PXS Kopieret'!H792","v":0},{"$f":"IF($A792=\"PhD Student\",'PXS Kopieret'!I792,\"\")","v":""},{"$f":"'PXS Kopieret'!J792","v":0},{"$f":"'PXS Kopieret'!K792","v":0},{"$f":"'PXS Kopieret'!L792","v":0}]
["",{"$f":"IF('PXS Kopieret'!N793<>\"\",HYPERLINK(\"https://ssl1.peoplexs.com/Peoplexs22/eFormportal/eForm.cfm?CandidateUpdateID=\"&'PXS Kopieret'!M793&\"&CandidateUpdateCode=\"&'PXS Kopieret'!N793&\"&Locale=en&CustomFormID=11612\",\"Docs\"),\"\")","v":""},{"$f":"'PXS Kopieret'!A793","v":0},{"$f":"'PXS Kopieret'!B793","v":0},{"$f":"'PXS Kopieret'!C793","v":0},{"$f":"'PXS Kopieret'!D793","v":0},{"$f":"IF($A793<>\"PhD Student\",'PXS Kopieret'!E793,\"\")","v":0},{"$f":"IF($A793=\"PhD Student\",'PXS Kopieret'!F793,\"\")","v":""},{"$f":"'PXS Kopieret'!G793","v":0},{"$f":"'PXS Kopieret'!H793","v":0},{"$f":"IF($A793=\"PhD Student\",'PXS Kopieret'!I793,\"\")","v":""},{"$f":"'PXS Kopieret'!J793","v":0},{"$f":"'PXS Kopieret'!K793","v":0},{"$f":"'PXS Kopieret'!L793","v":0}]
["",{"$f":"IF('PXS Kopieret'!N794<>\"\",HYPERLINK(\"https://ssl1.peoplexs.com/Peoplexs22/eFormportal/eForm.cfm?CandidateUpdateID=\"&'PXS Kopieret'!M794&\"&CandidateUpdateCode=\"&'PXS Kopieret'!N794&\"&Locale=en&CustomFormID=11612\",\"Docs\"),\"\")","v":""},{"$f":"'PXS Kopieret'!A794","v":0},{"$f":"'PXS Kopieret'!B794","v":0},{"$f":"'PXS Kopieret'!C794","v":0},{"$f":"'PXS Kopieret'!D794","v":0},{"$f":"IF($A794<>\"PhD Student\",'PXS Kopieret'!E794,\"\")","v":0},{"$f":"IF($A794=\"PhD Student\",'PXS Kopieret'!F794,\"\")","v":""},{"$f":"'PXS Kopieret'!G794","v":0},{"$f":"'PXS Kopieret'!H794","v":0},{"$f":"IF($A794=\"PhD Student\",'PXS Kopieret'!I794,\"\")","v":""},{"$f":"'PXS Kopieret'!J794","v":0},{"$f":"'PXS Kopieret'!K794","v":0},{"$f":"'PXS Kopieret'!L794","v":0}]
["",{"$f":"IF('PXS Kopieret'!N795<>\"\",HYPERLINK(\"https://ssl1.peoplexs.com/Peoplexs22/eFormportal/eForm.cfm?CandidateUpdateID=\"&'PXS Kopieret'!M795&\"&CandidateUpdateCode=\"&'PXS Kopieret'!N795&\"&Locale=en&CustomFormID=11612\",\"Docs\"),\"\")","v":""},{"$f":"'PXS Kopieret'!A795","v":0},{"$f":"'PXS Kopieret'!B795","v":0},{"$f":"'PXS Kopieret'!C795","v":0},{"$f":"'PXS Kopieret'!D795","v":0},{"$f":"IF($A795<>\"PhD Student\",'PXS Kopieret'!E795,\"\")","v":0},{"$f":"IF($A795=\"PhD Student\",'PXS Kopieret'!F795,\"\")","v":""},{"$f":"'PXS Kopieret'!G795","v":0},{"$f":"'PXS Kopieret'!H795","v":0},{"$f":"IF($A795=\"PhD Student\",'PXS Kopieret'!I795,\"\")","v":""},{"$f":"'PXS Kopieret'!J795","v":0},{"$f":"'PXS Kopieret'!K795","v":0},{"$f":"'PXS Kopieret'!L795","v":0}]
["",{"$f":"IF('PXS Kopieret'!N796<>\"\",HYPERLINK(\"https://ssl1.peoplexs.com/Peoplexs22/eFormportal/eForm.cfm?CandidateUpdateID=\"&'PXS Kopieret'!M796&\"&CandidateUpdateCode=\"&'PXS Kopieret'!N796&\"&Locale=en&CustomFormID=11612\",\"Docs\"),\"\")","v":""},{"$f":"'PXS Kopieret'!A796","v":0},{"$f":"'PXS Kopieret'!B796","v":0},{"$f":"'PXS Kopieret'!C796","v":0},{"$f":"'PXS Kopieret'!D796","v":0},{"$f":"IF($A796<>\"PhD Student\",'PXS Kopieret'!E796,\"\")","v":0},{"$f":"IF($A796=\"PhD Student\",'PXS Kopieret'!F796,\"\")","v":""},{"$f":"'PXS Kopieret'!G796","v":0},{"$f":"'PXS Kopieret'!H796","v":0},{"$f":"IF($A796=\"PhD Student\",'PXS Kopieret'!I796,\"\")","v":""},{"$f":"'PXS Kopieret'!J796","v":0},{"$f":"'PXS Kopieret'!K796","v":0},{"$f":"'PXS Kopieret'!L796","v":0}]
["",{"$f":"IF('PXS Kopieret'!N797<>\"\",HYPERLINK(\"https://ssl1.peoplexs.com/Peoplexs22/eFormportal/eForm.cfm?CandidateUpdateID=\"&'PXS Kopieret'!M797&\"&CandidateUpdateCode=\"&'PXS Kopieret'!N797&\"&Locale=en&CustomFormID=11612\",\"Docs\"),\"\")","v":""},{"$f":"'PXS Kopieret'!A797","v":0},{"$f":"'PXS Kopieret'!B797","v":0},{"$f":"'PXS Kopieret'!C797","v":0},{"$f":"'PXS Kopieret'!D797","v":0},{"$f":"IF($A797<>\"PhD Student\",'PXS Kopieret'!E797,\"\")","v":0},{"$f":"IF($A797=\"PhD Student\",'PXS Kopieret'!F797,\"\")","v":""},{"$f":"'PXS Kopieret'!G797","v":0},{"$f":"'PXS Kopieret'!H797","v":0},{"$f":"IF($A797=\"PhD Student\",'PXS Kopieret'!I797,\"\")","v":""},{"$f":"'PXS Kopieret'!J797","v":0},{"$f":"'PXS Kopieret'!K797","v":0},{"$f":"'PXS Kopieret'!L797","v":0}]
["",{"$f":"IF('PXS Kopieret'!N798<>\"\",HYPERLINK(\"https://ssl1.peoplexs.com/Peoplexs22/eFormportal/eForm.cfm?CandidateUpdateID=\"&'PXS Kopieret'!M798&\"&CandidateUpdateCode=\"&'PXS Kopieret'!N798&\"&Locale=en&CustomFormID=11612\",\"Docs\"),\"\")","v":""},{"$f":"'PXS Kopieret'!A798","v":0},{"$f":"'PXS Kopieret'!B798","v":0},{"$f":"'PXS Kopieret'!C798","v":0},{"$f":"'PXS Kopieret'!D798","v":0},{"$f":"IF($A798<>\"PhD Student\",'PXS Kopieret'!E798,\"\")","v":0},{"$f":"IF($A798=\"PhD Student\",'PXS Kopieret'!F798,\"\")","v":""},{"$f":"'PXS Kopieret'!G798","v":0},{"$f":"'PXS Kopieret'!H798","v":0},{"$f":"IF($A798=\"PhD Student\",'PXS Kopieret'!I798,\"\")","v":""},{"$f":"'PXS Kopieret'!J798","v":0},{"$f":"'PXS Kopieret'!K798","v":0},{"$f":"'PXS Kopieret'!L798","v":0}]
["",{"$f":"IF('PXS Kopieret'!N799<>\"\",HYPERLINK(\"https://ssl1.peoplexs.com/Peoplexs22/eFormportal/eForm.cfm?CandidateUpdateID=\"&'PXS Kopieret'!M799&\"&CandidateUpdateCode=\"&'PXS Kopieret'!N799&\"&Locale=en&CustomFormID=11612\",\"Docs\"),\"\")","v":""},{"$f":"'PXS Kopieret'!A799","v":0},{"$f":"'PXS Kopieret'!B799","v":0},{"$f":"'PXS Kopieret'!C799","v":0},{"$f":"'PXS Kopieret'!D799","v":0},{"$f":"IF($A799<>\"PhD Student\",'PXS Kopieret'!E799,\"\")","v":0},{"$f":"IF($A799=\"PhD Student\",'PXS Kopieret'!F799,\"\")","v":""},{"$f":"'PXS Kopieret'!G799","v":0},{"$f":"'PXS Kopieret'!H799","v":0},{"$f":"IF($A799=\"PhD Student\",'PXS Kopieret'!I799,\"\")","v":""},{"$f":"'PXS Kopieret'!J799","v":0},{"$f":"'PXS Kopieret'!K799","v":0},{"$f":"'PXS Kopieret'!L799","v":0}]
["",{"$f":"IF('PXS Kopieret'!N800<>\"\",HYPERLINK(\"https://ssl1.peoplexs.com/Peoplexs22/eFormportal/eForm.cfm?CandidateUpdateID=\"&'PXS Kopieret'!M800&\"&CandidateUpdateCode=\"&'PXS Kopieret'!N800&\"&Locale=en&CustomFormID=11612\",\"Docs\"),\"\")","v":""},{"$f":"'PXS Kopieret'!A800","v":0},{"$f":"'PXS Kopieret'!B800","v":0},{"$f":"'PXS Kopieret'!C800","v":0},{"$f":"'PXS Kopieret'!D800","v":0},{"$f":"IF($A800<>\"PhD Student\",'PXS Kopieret'!E800,\"\")","v":0},{"$f":"IF($A800=\"PhD Student\",'PXS Kopieret'!F800,\"\")","v":""},{"$f":"'PXS Kopieret'!G800","v":0},{"$f":"'PXS Kopieret'!H800","v":0},{"$f":"IF($A800=\"PhD Student\",'PXS Kopieret'!I800,\"\")","v":""},{"$f":"'PXS Kopieret'!J800","v":0},{"$f":"'PXS Kopieret'!K800","v":0},{"$f":"'PXS Kopieret'!L800","v":0}]
["",{"$f":"IF('PXS Kopieret'!N801<>\"\",HYPERLINK(\"https://ssl1.peoplexs.com/Peoplexs22/eFormportal/eForm.cfm?CandidateUpdateID=\"&'PXS Kopieret'!M801&\"&CandidateUpdateCode=\"&'PXS Kopieret'!N801&\"&Locale=en&CustomFormID=11612\",\"Docs\"),\"\")","v":""},{"$f":"'PXS Kopieret'!A801","v":0},{"$f":"'PXS Kopieret'!B801","v":0},{"$f":"'PXS Kopieret'!C801","v":0},{"$f":"'PXS Kopieret'!D801","v":0},{"$f":"IF($A801<>\"PhD Student\",'PXS Kopieret'!E801,\"\")","v":0},{"$f":"IF($A801=\"PhD Student\",'PXS Kopieret'!F801,\"\")","v":""},{"$f":"'PXS Kopieret'!G801","v":0},{"$f":"'PXS Kopieret'!H801","v":0},{"$f":"IF($A801=\"PhD Student\",'PXS Kopieret'!I801,\"\")","v":""},{"$f":"'PXS Kopieret'!J801","v":0},{"$f":"'PXS Kopieret'!K801","v":0},{"$f":"'PXS Kopieret'!L801","v":0}]
["",{"$f":"IF('PXS Kopieret'!N802<>\"\",HYPERLINK(\"https://ssl1.peoplexs.com/Peoplexs22/eFormportal/eForm.cfm?CandidateUpdateID=\"&'PXS Kopieret'!M802&\"&CandidateUpdateCode=\"&'PXS Kopieret'!N802&\"&Locale=en&CustomFormID=11612\",\"Docs\"),\"\")","v":""},{"$f":"'PXS Kopieret'!A802","v":0},{"$f":"'PXS Kopieret'!B802","v":0},{"$f":"'PXS Kopieret'!C802","v":0},{"$f":"'PXS Kopieret'!D802","v":0},{"$f":"IF($A802<>\"PhD Student\",'PXS Kopieret'!E802,\"\")","v":0},{"$f":"IF($A802=\"PhD Student\",'PXS Kopieret'!F802,\"\")","v":""},{"$f":"'PXS Kopieret'!G802","v":0},{"$f":"'PXS Kopieret'!H802","v":0},{"$f":"IF($A802=\"PhD Student\",'PXS Kopieret'!I802,\"\")","v":""},{"$f":"'PXS Kopieret'!J802","v":0},{"$f":"'PXS Kopieret'!K802","v":0},{"$f":"'PXS Kopieret'!L802","v":0}]
["",{"$f":"IF('PXS Kopieret'!N803<>\"\",HYPERLINK(\"https://ssl1.peoplexs.com/Peoplexs22/eFormportal/eForm.cfm?CandidateUpdateID=\"&'PXS Kopieret'!M803&\"&CandidateUpdateCode=\"&'PXS Kopieret'!N803&\"&Locale=en&CustomFormID=11612\",\"Docs\"),\"\")","v":""},{"$f":"'PXS Kopieret'!A803","v":0},{"$f":"'PXS Kopieret'!B803","v":0},{"$f":"'PXS Kopieret'!C803","v":0},{"$f":"'PXS Kopieret'!D803","v":0},{"$f":"IF($A803<>\"PhD Student\",'PXS Kopieret'!E803,\"\")","v":0},{"$f":"IF($A803=\"PhD Student\",'PXS Kopieret'!F803,\"\")","v":""},{"$f":"'PXS Kopieret'!G803","v":0},{"$f":"'PXS Kopieret'!H803","v":0},{"$f":"IF($A803=\"PhD Student\",'PXS Kopieret'!I803,\"\")","v":""},{"$f":"'PXS Kopieret'!J803","v":0},{"$f":"'PXS Kopieret'!K803","v":0},{"$f":"'PXS Kopieret'!L803","v":0}]
["",{"$f":"IF('PXS Kopieret'!N804<>\"\",HYPERLINK(\"https://ssl1.peoplexs.com/Peoplexs22/eFormportal/eForm.cfm?CandidateUpdateID=\"&'PXS Kopieret'!M804&\"&CandidateUpdateCode=\"&'PXS Kopieret'!N804&\"&Locale=en&CustomFormID=11612\",\"Docs\"),\"\")","v":""},{"$f":"'PXS Kopieret'!A804","v":0},{"$f":"'PXS Kopieret'!B804","v":0},{"$f":"'PXS Kopieret'!C804","v":0},{"$f":"'PXS Kopieret'!D804","v":0},{"$f":"IF($A804<>\"PhD Student\",'PXS Kopieret'!E804,\"\")","v":0},{"$f":"IF($A804=\"PhD Student\",'PXS Kopieret'!F804,\"\")","v":""},{"$f":"'PXS Kopieret'!G804","v":0},{"$f":"'PXS Kopieret'!H804","v":0},{"$f":"IF($A804=\"PhD Student\",'PXS Kopieret'!I804,\"\")","v":""},{"$f":"'PXS Kopieret'!J804","v":0},{"$f":"'PXS Kopieret'!K804","v":0},{"$f":"'PXS Kopieret'!L804","v":0}]
["",{"$f":"IF('PXS Kopieret'!N805<>\"\",HYPERLINK(\"https://ssl1.peoplexs.com/Peoplexs22/eFormportal/eForm.cfm?CandidateUpdateID=\"&'PXS Kopieret'!M805&\"&CandidateUpdateCode=\"&'PXS Kopieret'!N805&\"&Locale=en&CustomFormID=11612\",\"Docs\"),\"\")","v":""},{"$f":"'PXS Kopieret'!A805","v":0},{"$f":"'PXS Kopieret'!B805","v":0},{"$f":"'PXS Kopieret'!C805","v":0},{"$f":"'PXS Kopieret'!D805","v":0},{"$f":"IF($A805<>\"PhD Student\",'PXS Kopieret'!E805,\"\")","v":0},{"$f":"IF($A805=\"PhD Student\",'PXS Kopieret'!F805,\"\")","v":""},{"$f":"'PXS Kopieret'!G805","v":0},{"$f":"'PXS Kopieret'!H805","v":0},{"$f":"IF($A805=\"PhD Student\",'PXS Kopieret'!I805,\"\")","v":""},{"$f":"'PXS Kopieret'!J805","v":0},{"$f":"'PXS Kopieret'!K805","v":0},{"$f":"'PXS Kopieret'!L805","v":0}]
["",{"$f":"IF('PXS Kopieret'!N806<>\"\",HYPERLINK(\"https://ssl1.peoplexs.com/Peoplexs22/eFormportal/eForm.cfm?CandidateUpdateID=\"&'PXS Kopieret'!M806&\"&CandidateUpdateCode=\"&'PXS Kopieret'!N806&\"&Locale=en&CustomFormID=11612\",\"Docs\"),\"\")","v":""},{"$f":"'PXS Kopieret'!A806","v":0},{"$f":"'PXS Kopieret'!B806","v":0},{"$f":"'PXS Kopieret'!C806","v":0},{"$f":"'PXS Kopieret'!D806","v":0},{"$f":"IF($A806<>\"PhD Student\",'PXS Kopieret'!E806,\"\")","v":0},{"$f":"IF($A806=\"PhD Student\",'PXS Kopieret'!F806,\"\")","v":""},{"$f":"'PXS Kopieret'!G806","v":0},{"$f":"'PXS Kopieret'!H806","v":0},{"$f":"IF($A806=\"PhD Student\",'PXS Kopieret'!I806,\"\")","v":""},{"$f":"'PXS Kopieret'!J806","v":0},{"$f":"'PXS Kopieret'!K806","v":0},{"$f":"'PXS Kopieret'!L806","v":0}]
["",{"$f":"IF('PXS Kopieret'!N807<>\"\",HYPERLINK(\"https://ssl1.peoplexs.com/Peoplexs22/eFormportal/eForm.cfm?CandidateUpdateID=\"&'PXS Kopieret'!M807&\"&CandidateUpdateCode=\"&'PXS Kopieret'!N807&\"&Locale=en&CustomFormID=11612\",\"Docs\"),\"\")","v":""},{"$f":"'PXS Kopieret'!A807","v":0},{"$f":"'PXS Kopieret'!B807","v":0},{"$f":"'PXS Kopieret'!C807","v":0},{"$f":"'PXS Kopieret'!D807","v":0},{"$f":"IF($A807<>\"PhD Student\",'PXS Kopieret'!E807,\"\")","v":0},{"$f":"IF($A807=\"PhD Student\",'PXS Kopieret'!F807,\"\")","v":""},{"$f":"'PXS Kopieret'!G807","v":0},{"$f":"'PXS Kopieret'!H807","v":0},{"$f":"IF($A807=\"PhD Student\",'PXS Kopieret'!I807,\"\")","v":""},{"$f":"'PXS Kopieret'!J807","v":0},{"$f":"'PXS Kopieret'!K807","v":0},{"$f":"'PXS Kopieret'!L807","v":0}]
["",{"$f":"IF('PXS Kopieret'!N808<>\"\",HYPERLINK(\"https://ssl1.peoplexs.com/Peoplexs22/eFormportal/eForm.cfm?CandidateUpdateID=\"&'PXS Kopieret'!M808&\"&CandidateUpdateCode=\"&'PXS Kopieret'!N808&\"&Locale=en&CustomFormID=11612\",\"Docs\"),\"\")","v":""},{"$f":"'PXS Kopieret'!A808","v":0},{"$f":"'PXS Kopieret'!B808","v":0},{"$f":"'PXS Kopieret'!C808","v":0},{"$f":"'PXS Kopieret'!D808","v":0},{"$f":"IF($A808<>\"PhD Student\",'PXS Kopieret'!E808,\"\")","v":0},{"$f":"IF($A808=\"PhD Student\",'PXS Kopieret'!F808,\"\")","v":""},{"$f":"'PXS Kopieret'!G808","v":0},{"$f":"'PXS Kopieret'!H808","v":0},{"$f":"IF($A808=\"PhD Student\",'PXS Kopieret'!I808,\"\")","v":""},{"$f":"'PXS Kopieret'!J808","v":0},{"$f":"'PXS Kopieret'!K808","v":0},{"$f":"'PXS Kopieret'!L808","v":0}]
["",{"$f":"IF('PXS Kopieret'!N809<>\"\",HYPERLINK(\"https://ssl1.peoplexs.com/Peoplexs22/eFormportal/eForm.cfm?CandidateUpdateID=\"&'PXS Kopieret'!M809&\"&CandidateUpdateCode=\"&'PXS Kopieret'!N809&\"&Locale=en&CustomFormID=11612\",\"Docs\"),\"\")","v":""},{"$f":"'PXS Kopieret'!A809","v":0},{"$f":"'PXS Kopieret'!B809","v":0},{"$f":"'PXS Kopieret'!C809","v":0},{"$f":"'PXS Kopieret'!D809","v":0},{"$f":"IF($A809<>\"PhD Student\",'PXS Kopieret'!E809,\"\")","v":0},{"$f":"IF($A809=\"PhD Student\",'PXS Kopieret'!F809,\"\")","v":""},{"$f":"'PXS Kopieret'!G809","v":0},{"$f":"'PXS Kopieret'!H809","v":0},{"$f":"IF($A809=\"PhD Student\",'PXS Kopieret'!I809,\"\")","v":""},{"$f":"'PXS Kopieret'!J809","v":0},{"$f":"'PXS Kopieret'!K809","v":0},{"$f":"'PXS Kopieret'!L809","v":0}]
["",{"$f":"IF('PXS Kopieret'!N810<>\"\",HYPERLINK(\"https://ssl1.peoplexs.com/Peoplexs22/eFormportal/eForm.cfm?CandidateUpdateID=\"&'PXS Kopieret'!M810&\"&CandidateUpdateCode=\"&'PXS Kopieret'!N810&\"&Locale=en&CustomFormID=11612\",\"Docs\"),\"\")","v":""},{"$f":"'PXS Kopieret'!A810","v":0},{"$f":"'PXS Kopieret'!B810","v":0},{"$f":"'PXS Kopieret'!C810","v":0},{"$f":"'PXS Kopieret'!D810","v":0},{"$f":"IF($A810<>\"PhD Student\",'PXS Kopieret'!E810,\"\")","v":0},{"$f":"IF($A810=\"PhD Student\",'PXS Kopieret'!F810,\"\")","v":""},{"$f":"'PXS Kopieret'!G810","v":0},{"$f":"'PXS Kopieret'!H810","v":0},{"$f":"IF($A810=\"PhD Student\",'PXS Kopieret'!I810,\"\")","v":""},{"$f":"'PXS Kopieret'!J810","v":0},{"$f":"'PXS Kopieret'!K810","v":0},{"$f":"'PXS Kopieret'!L810","v":0}]
["",{"$f":"IF('PXS Kopieret'!N811<>\"\",HYPERLINK(\"https://ssl1.peoplexs.com/Peoplexs22/eFormportal/eForm.cfm?CandidateUpdateID=\"&'PXS Kopieret'!M811&\"&CandidateUpdateCode=\"&'PXS Kopieret'!N811&\"&Locale=en&CustomFormID=11612\",\"Docs\"),\"\")","v":""},{"$f":"'PXS Kopieret'!A811","v":0},{"$f":"'PXS Kopieret'!B811","v":0},{"$f":"'PXS Kopieret'!C811","v":0},{"$f":"'PXS Kopieret'!D811","v":0},{"$f":"IF($A811<>\"PhD Student\",'PXS Kopieret'!E811,\"\")","v":0},{"$f":"IF($A811=\"PhD Student\",'PXS Kopieret'!F811,\"\")","v":""},{"$f":"'PXS Kopieret'!G811","v":0},{"$f":"'PXS Kopieret'!H811","v":0},{"$f":"IF($A811=\"PhD Student\",'PXS Kopieret'!I811,\"\")","v":""},{"$f":"'PXS Kopieret'!J811","v":0},{"$f":"'PXS Kopieret'!K811","v":0},{"$f":"'PXS Kopieret'!L811","v":0}]
["",{"$f":"IF('PXS Kopieret'!N812<>\"\",HYPERLINK(\"https://ssl1.peoplexs.com/Peoplexs22/eFormportal/eForm.cfm?CandidateUpdateID=\"&'PXS Kopieret'!M812&\"&CandidateUpdateCode=\"&'PXS Kopieret'!N812&\"&Locale=en&CustomFormID=11612\",\"Docs\"),\"\")","v":""},{"$f":"'PXS Kopieret'!A812","v":0},{"$f":"'PXS Kopieret'!B812","v":0},{"$f":"'PXS Kopieret'!C812","v":0},{"$f":"'PXS Kopieret'!D812","v":0},{"$f":"IF($A812<>\"PhD Student\",'PXS Kopieret'!E812,\"\")","v":0},{"$f":"IF($A812=\"PhD Student\",'PXS Kopieret'!F812,\"\")","v":""},{"$f":"'PXS Kopieret'!G812","v":0},{"$f":"'PXS Kopieret'!H812","v":0},{"$f":"IF($A812=\"PhD Student\",'PXS Kopieret'!I812,\"\")","v":""},{"$f":"'PXS Kopieret'!J812","v":0},{"$f":"'PXS Kopieret'!K812","v":0},{"$f":"'PXS Kopieret'!L812","v":0}]
["",{"$f":"IF('PXS Kopieret'!N813<>\"\",HYPERLINK(\"https://ssl1.peoplexs.com/Peoplexs22/eFormportal/eForm.cfm?CandidateUpdateID=\"&'PXS Kopieret'!M813&\"&CandidateUpdateCode=\"&'PXS Kopieret'!N813&\"&Locale=en&CustomFormID=11612\",\"Docs\"),\"\")","v":""},{"$f":"'PXS Kopieret'!A813","v":0},{"$f":"'PXS Kopieret'!B813","v":0},{"$f":"'PXS Kopieret'!C813","v":0},{"$f":"'PXS Kopieret'!D813","v":0},{"$f":"IF($A813<>\"PhD Student\",'PXS Kopieret'!E813,\"\")","v":0},{"$f":"IF($A813=\"PhD Student\",'PXS Kopieret'!F813,\"\")","v":""},{"$f":"'PXS Kopieret'!G813","v":0},{"$f":"'PXS Kopieret'!H813","v":0},{"$f":"IF($A813=\"PhD Student\",'PXS Kopieret'!I813,\"\")","v":""},{"$f":"'PXS Kopieret'!J813","v":0},{"$f":"'PXS Kopieret'!K813","v":0},{"$f":"'PXS Kopieret'!L813","v":0}]
["",{"$f":"IF('PXS Kopieret'!N814<>\"\",HYPERLINK(\"https://ssl1.peoplexs.com/Peoplexs22/eFormportal/eForm.cfm?CandidateUpdateID=\"&'PXS Kopieret'!M814&\"&CandidateUpdateCode=\"&'PXS Kopieret'!N814&\"&Locale=en&CustomFormID=11612\",\"Docs\"),\"\")","v":""},{"$f":"'PXS Kopieret'!A814","v":0},{"$f":"'PXS Kopieret'!B814","v":0},{"$f":"'PXS Kopieret'!C814","v":0},{"$f":"'PXS Kopieret'!D814","v":0},{"$f":"IF($A814<>\"PhD Student\",'PXS Kopieret'!E814,\"\")","v":0},{"$f":"IF($A814=\"PhD Student\",'PXS Kopieret'!F814,\"\")","v":""},{"$f":"'PXS Kopieret'!G814","v":0},{"$f":"'PXS Kopieret'!H814","v":0},{"$f":"IF($A814=\"PhD Student\",'PXS Kopieret'!I814,\"\")","v":""},{"$f":"'PXS Kopieret'!J814","v":0},{"$f":"'PXS Kopieret'!K814","v":0},{"$f":"'PXS Kopieret'!L814","v":0}]
["",{"$f":"IF('PXS Kopieret'!N815<>\"\",HYPERLINK(\"https://ssl1.peoplexs.com/Peoplexs22/eFormportal/eForm.cfm?CandidateUpdateID=\"&'PXS Kopieret'!M815&\"&CandidateUpdateCode=\"&'PXS Kopieret'!N815&\"&Locale=en&CustomFormID=11612\",\"Docs\"),\"\")","v":""},{"$f":"'PXS Kopieret'!A815","v":0},{"$f":"'PXS Kopieret'!B815","v":0},{"$f":"'PXS Kopieret'!C815","v":0},{"$f":"'PXS Kopieret'!D815","v":0},{"$f":"IF($A815<>\"PhD Student\",'PXS Kopieret'!E815,\"\")","v":0},{"$f":"IF($A815=\"PhD Student\",'PXS Kopieret'!F815,\"\")","v":""},{"$f":"'PXS Kopieret'!G815","v":0},{"$f":"'PXS Kopieret'!H815","v":0},{"$f":"IF($A815=\"PhD Student\",'PXS Kopieret'!I815,\"\")","v":""},{"$f":"'PXS Kopieret'!J815","v":0},{"$f":"'PXS Kopieret'!K815","v":0},{"$f":"'PXS Kopieret'!L815","v":0}]
["",{"$f":"IF('PXS Kopieret'!N816<>\"\",HYPERLINK(\"https://ssl1.peoplexs.com/Peoplexs22/eFormportal/eForm.cfm?CandidateUpdateID=\"&'PXS Kopieret'!M816&\"&CandidateUpdateCode=\"&'PXS Kopieret'!N816&\"&Locale=en&CustomFormID=11612\",\"Docs\"),\"\")","v":""},{"$f":"'PXS Kopieret'!A816","v":0},{"$f":"'PXS Kopieret'!B816","v":0},{"$f":"'PXS Kopieret'!C816","v":0},{"$f":"'PXS Kopieret'!D816","v":0},{"$f":"IF($A816<>\"PhD Student\",'PXS Kopieret'!E816,\"\")","v":0},{"$f":"IF($A816=\"PhD Student\",'PXS Kopieret'!F816,\"\")","v":""},{"$f":"'PXS Kopieret'!G816","v":0},{"$f":"'PXS Kopieret'!H816","v":0},{"$f":"IF($A816=\"PhD Student\",'PXS Kopieret'!I816,\"\")","v":""},{"$f":"'PXS Kopieret'!J816","v":0},{"$f":"'PXS Kopieret'!K816","v":0},{"$f":"'PXS Kopieret'!L816","v":0}]
["",{"$f":"IF('PXS Kopieret'!N817<>\"\",HYPERLINK(\"https://ssl1.peoplexs.com/Peoplexs22/eFormportal/eForm.cfm?CandidateUpdateID=\"&'PXS Kopieret'!M817&\"&CandidateUpdateCode=\"&'PXS Kopieret'!N817&\"&Locale=en&CustomFormID=11612\",\"Docs\"),\"\")","v":""},{"$f":"'PXS Kopieret'!A817","v":0},{"$f":"'PXS Kopieret'!B817","v":0},{"$f":"'PXS Kopieret'!C817","v":0},{"$f":"'PXS Kopieret'!D817","v":0},{"$f":"IF($A817<>\"PhD Student\",'PXS Kopieret'!E817,\"\")","v":0},{"$f":"IF($A817=\"PhD Student\",'PXS Kopieret'!F817,\"\")","v":""},{"$f":"'PXS Kopieret'!G817","v":0},{"$f":"'PXS Kopieret'!H817","v":0},{"$f":"IF($A817=\"PhD Student\",'PXS Kopieret'!I817,\"\")","v":""},{"$f":"'PXS Kopieret'!J817","v":0},{"$f":"'PXS Kopieret'!K817","v":0},{"$f":"'PXS Kopieret'!L817","v":0}]
["",{"$f":"IF('PXS Kopieret'!N818<>\"\",HYPERLINK(\"https://ssl1.peoplexs.com/Peoplexs22/eFormportal/eForm.cfm?CandidateUpdateID=\"&'PXS Kopieret'!M818&\"&CandidateUpdateCode=\"&'PXS Kopieret'!N818&\"&Locale=en&CustomFormID=11612\",\"Docs\"),\"\")","v":""},{"$f":"'PXS Kopieret'!A818","v":0},{"$f":"'PXS Kopieret'!B818","v":0},{"$f":"'PXS Kopieret'!C818","v":0},{"$f":"'PXS Kopieret'!D818","v":0},{"$f":"IF($A818<>\"PhD Student\",'PXS Kopieret'!E818,\"\")","v":0},{"$f":"IF($A818=\"PhD Student\",'PXS Kopieret'!F818,\"\")","v":""},{"$f":"'PXS Kopieret'!G818","v":0},{"$f":"'PXS Kopieret'!H818","v":0},{"$f":"IF($A818=\"PhD Student\",'PXS Kopieret'!I818,\"\")","v":""},{"$f":"'PXS Kopieret'!J818","v":0},{"$f":"'PXS Kopieret'!K818","v":0},{"$f":"'PXS Kopieret'!L818","v":0}]
["",{"$f":"IF('PXS Kopieret'!N819<>\"\",HYPERLINK(\"https://ssl1.peoplexs.com/Peoplexs22/eFormportal/eForm.cfm?CandidateUpdateID=\"&'PXS Kopieret'!M819&\"&CandidateUpdateCode=\"&'PXS Kopieret'!N819&\"&Locale=en&CustomFormID=11612\",\"Docs\"),\"\")","v":""},{"$f":"'PXS Kopieret'!A819","v":0},{"$f":"'PXS Kopieret'!B819","v":0},{"$f":"'PXS Kopieret'!C819","v":0},{"$f":"'PXS Kopieret'!D819","v":0},{"$f":"IF($A819<>\"PhD Student\",'PXS Kopieret'!E819,\"\")","v":0},{"$f":"IF($A819=\"PhD Student\",'PXS Kopieret'!F819,\"\")","v":""},{"$f":"'PXS Kopieret'!G819","v":0},{"$f":"'PXS Kopieret'!H819","v":0},{"$f":"IF($A819=\"PhD Student\",'PXS Kopieret'!I819,\"\")","v":""},{"$f":"'PXS Kopieret'!J819","v":0},{"$f":"'PXS Kopieret'!K819","v":0},{"$f":"'PXS Kopieret'!L819","v":0}]
["",{"$f":"IF('PXS Kopieret'!N820<>\"\",HYPERLINK(\"https://ssl1.peoplexs.com/Peoplexs22/eFormportal/eForm.cfm?CandidateUpdateID=\"&'PXS Kopieret'!M820&\"&CandidateUpdateCode=\"&'PXS Kopieret'!N820&\"&Locale=en&CustomFormID=11612\",\"Docs\"),\"\")","v":""},{"$f":"'PXS Kopieret'!A820","v":0},{"$f":"'PXS Kopieret'!B820","v":0},{"$f":"'PXS Kopieret'!C820","v":0},{"$f":"'PXS Kopieret'!D820","v":0},{"$f":"IF($A820<>\"PhD Student\",'PXS Kopieret'!E820,\"\")","v":0},{"$f":"IF($A820=\"PhD Student\",'PXS Kopieret'!F820,\"\")","v":""},{"$f":"'PXS Kopieret'!G820","v":0},{"$f":"'PXS Kopieret'!H820","v":0},{"$f":"IF($A820=\"PhD Student\",'PXS Kopieret'!I820,\"\")","v":""},{"$f":"'PXS Kopieret'!J820","v":0},{"$f":"'PXS Kopieret'!K820","v":0},{"$f":"'PXS Kopieret'!L820","v":0}]
["",{"$f":"IF('PXS Kopieret'!N821<>\"\",HYPERLINK(\"https://ssl1.peoplexs.com/Peoplexs22/eFormportal/eForm.cfm?CandidateUpdateID=\"&'PXS Kopieret'!M821&\"&CandidateUpdateCode=\"&'PXS Kopieret'!N821&\"&Locale=en&CustomFormID=11612\",\"Docs\"),\"\")","v":""},{"$f":"'PXS Kopieret'!A821","v":0},{"$f":"'PXS Kopieret'!B821","v":0},{"$f":"'PXS Kopieret'!C821","v":0},{"$f":"'PXS Kopieret'!D821","v":0},{"$f":"IF($A821<>\"PhD Student\",'PXS Kopieret'!E821,\"\")","v":0},{"$f":"IF($A821=\"PhD Student\",'PXS Kopieret'!F821,\"\")","v":""},{"$f":"'PXS Kopieret'!G821","v":0},{"$f":"'PXS Kopieret'!H821","v":0},{"$f":"IF($A821=\"PhD Student\",'PXS Kopieret'!I821,\"\")","v":""},{"$f":"'PXS Kopieret'!J821","v":0},{"$f":"'PXS Kopieret'!K821","v":0},{"$f":"'PXS Kopieret'!L821","v":0}]
["",{"$f":"IF('PXS Kopieret'!N822<>\"\",HYPERLINK(\"https://ssl1.peoplexs.com/Peoplexs22/eFormportal/eForm.cfm?CandidateUpdateID=\"&'PXS Kopieret'!M822&\"&CandidateUpdateCode=\"&'PXS Kopieret'!N822&\"&Locale=en&CustomFormID=11612\",\"Docs\"),\"\")","v":""},{"$f":"'PXS Kopieret'!A822","v":0},{"$f":"'PXS Kopieret'!B822","v":0},{"$f":"'PXS Kopieret'!C822","v":0},{"$f":"'PXS Kopieret'!D822","v":0},{"$f":"IF($A822<>\"PhD Student\",'PXS Kopieret'!E822,\"\")","v":0},{"$f":"IF($A822=\"PhD Student\",'PXS Kopieret'!F822,\"\")","v":""},{"$f":"'PXS Kopieret'!G822","v":0},{"$f":"'PXS Kopieret'!H822","v":0},{"$f":"IF($A822=\"PhD Student\",'PXS Kopieret'!I822,\"\")","v":""},{"$f":"'PXS Kopieret'!J822","v":0},{"$f":"'PXS Kopieret'!K822","v":0},{"$f":"'PXS Kopieret'!L822","v":0}]
["",{"$f":"IF('PXS Kopieret'!N823<>\"\",HYPERLINK(\"https://ssl1.peoplexs.com/Peoplexs22/eFormportal/eForm.cfm?CandidateUpdateID=\"&'PXS Kopieret'!M823&\"&CandidateUpdateCode=\"&'PXS Kopieret'!N823&\"&Locale=en&CustomFormID=11612\",\"Docs\"),\"\")","v":""},{"$f":"'PXS Kopieret'!A823","v":0},{"$f":"'PXS Kopieret'!B823","v":0},{"$f":"'PXS Kopieret'!C823","v":0},{"$f":"'PXS Kopieret'!D823","v":0},{"$f":"IF($A823<>\"PhD Student\",'PXS Kopieret'!E823,\"\")","v":0},{"$f":"IF($A823=\"PhD Student\",'PXS Kopieret'!F823,\"\")","v":""},{"$f":"'PXS Kopieret'!G823","v":0},{"$f":"'PXS Kopieret'!H823","v":0},{"$f":"IF($A823=\"PhD Student\",'PXS Kopieret'!I823,\"\")","v":""},{"$f":"'PXS Kopieret'!J823","v":0},{"$f":"'PXS Kopieret'!K823","v":0},{"$f":"'PXS Kopieret'!L823","v":0}]
["",{"$f":"IF('PXS Kopieret'!N824<>\"\",HYPERLINK(\"https://ssl1.peoplexs.com/Peoplexs22/eFormportal/eForm.cfm?CandidateUpdateID=\"&'PXS Kopieret'!M824&\"&CandidateUpdateCode=\"&'PXS Kopieret'!N824&\"&Locale=en&CustomFormID=11612\",\"Docs\"),\"\")","v":""},{"$f":"'PXS Kopieret'!A824","v":0},{"$f":"'PXS Kopieret'!B824","v":0},{"$f":"'PXS Kopieret'!C824","v":0},{"$f":"'PXS Kopieret'!D824","v":0},{"$f":"IF($A824<>\"PhD Student\",'PXS Kopieret'!E824,\"\")","v":0},{"$f":"IF($A824=\"PhD Student\",'PXS Kopieret'!F824,\"\")","v":""},{"$f":"'PXS Kopieret'!G824","v":0},{"$f":"'PXS Kopieret'!H824","v":0},{"$f":"IF($A824=\"PhD Student\",'PXS Kopieret'!I824,\"\")","v":""},{"$f":"'PXS Kopieret'!J824","v":0},{"$f":"'PXS Kopieret'!K824","v":0},{"$f":"'PXS Kopieret'!L824","v":0}]
["",{"$f":"IF('PXS Kopieret'!N825<>\"\",HYPERLINK(\"https://ssl1.peoplexs.com/Peoplexs22/eFormportal/eForm.cfm?CandidateUpdateID=\"&'PXS Kopieret'!M825&\"&CandidateUpdateCode=\"&'PXS Kopieret'!N825&\"&Locale=en&CustomFormID=11612\",\"Docs\"),\"\")","v":""},{"$f":"'PXS Kopieret'!A825","v":0},{"$f":"'PXS Kopieret'!B825","v":0},{"$f":"'PXS Kopieret'!C825","v":0},{"$f":"'PXS Kopieret'!D825","v":0},{"$f":"IF($A825<>\"PhD Student\",'PXS Kopieret'!E825,\"\")","v":0},{"$f":"IF($A825=\"PhD Student\",'PXS Kopieret'!F825,\"\")","v":""},{"$f":"'PXS Kopieret'!G825","v":0},{"$f":"'PXS Kopieret'!H825","v":0},{"$f":"IF($A825=\"PhD Student\",'PXS Kopieret'!I825,\"\")","v":""},{"$f":"'PXS Kopieret'!J825","v":0},{"$f":"'PXS Kopieret'!K825","v":0},{"$f":"'PXS Kopieret'!L825","v":0}]
["",{"$f":"IF('PXS Kopieret'!N826<>\"\",HYPERLINK(\"https://ssl1.peoplexs.com/Peoplexs22/eFormportal/eForm.cfm?CandidateUpdateID=\"&'PXS Kopieret'!M826&\"&CandidateUpdateCode=\"&'PXS Kopieret'!N826&\"&Locale=en&CustomFormID=11612\",\"Docs\"),\"\")","v":""},{"$f":"'PXS Kopieret'!A826","v":0},{"$f":"'PXS Kopieret'!B826","v":0},{"$f":"'PXS Kopieret'!C826","v":0},{"$f":"'PXS Kopieret'!D826","v":0},{"$f":"IF($A826<>\"PhD Student\",'PXS Kopieret'!E826,\"\")","v":0},{"$f":"IF($A826=\"PhD Student\",'PXS Kopieret'!F826,\"\")","v":""},{"$f":"'PXS Kopieret'!G826","v":0},{"$f":"'PXS Kopieret'!H826","v":0},{"$f":"IF($A826=\"PhD Student\",'PXS Kopieret'!I826,\"\")","v":""},{"$f":"'PXS Kopieret'!J826","v":0},{"$f":"'PXS Kopieret'!K826","v":0},{"$f":"'PXS Kopieret'!L826","v":0}]
["",{"$f":"IF('PXS Kopieret'!N827<>\"\",HYPERLINK(\"https://ssl1.peoplexs.com/Peoplexs22/eFormportal/eForm.cfm?CandidateUpdateID=\"&'PXS Kopieret'!M827&\"&CandidateUpdateCode=\"&'PXS Kopieret'!N827&\"&Locale=en&CustomFormID=11612\",\"Docs\"),\"\")","v":""},{"$f":"'PXS Kopieret'!A827","v":0},{"$f":"'PXS Kopieret'!B827","v":0},{"$f":"'PXS Kopieret'!C827","v":0},{"$f":"'PXS Kopieret'!D827","v":0},{"$f":"IF($A827<>\"PhD Student\",'PXS Kopieret'!E827,\"\")","v":0},{"$f":"IF($A827=\"PhD Student\",'PXS Kopieret'!F827,\"\")","v":""},{"$f":"'PXS Kopieret'!G827","v":0},{"$f":"'PXS Kopieret'!H827","v":0},{"$f":"IF($A827=\"PhD Student\",'PXS Kopieret'!I827,\"\")","v":""},{"$f":"'PXS Kopieret'!J827","v":0},{"$f":"'PXS Kopieret'!K827","v":0},{"$f":"'PXS Kopieret'!L827","v":0}]
["",{"$f":"IF('PXS Kopieret'!N828<>\"\",HYPERLINK(\"https://ssl1.peoplexs.com/Peoplexs22/eFormportal/eForm.cfm?CandidateUpdateID=\"&'PXS Kopieret'!M828&\"&CandidateUpdateCode=\"&'PXS Kopieret'!N828&\"&Locale=en&CustomFormID=11612\",\"Docs\"),\"\")","v":""},{"$f":"'PXS Kopieret'!A828","v":0},{"$f":"'PXS Kopieret'!B828","v":0},{"$f":"'PXS Kopieret'!C828","v":0},{"$f":"'PXS Kopieret'!D828","v":0},{"$f":"IF($A828<>\"PhD Student\",'PXS Kopieret'!E828,\"\")","v":0},{"$f":"IF($A828=\"PhD Student\",'PXS Kopieret'!F828,\"\")","v":""},{"$f":"'PXS Kopieret'!G828","v":0},{"$f":"'PXS Kopieret'!H828","v":0},{"$f":"IF($A828=\"PhD Student\",'PXS Kopieret'!I828,\"\")","v":""},{"$f":"'PXS Kopieret'!J828","v":0},{"$f":"'PXS Kopieret'!K828","v":0},{"$f":"'PXS Kopieret'!L828","v":0}]
["",{"$f":"IF('PXS Kopieret'!N829<>\"\",HYPERLINK(\"https://ssl1.peoplexs.com/Peoplexs22/eFormportal/eForm.cfm?CandidateUpdateID=\"&'PXS Kopieret'!M829&\"&CandidateUpdateCode=\"&'PXS Kopieret'!N829&\"&Locale=en&CustomFormID=11612\",\"Docs\"),\"\")","v":""},{"$f":"'PXS Kopieret'!A829","v":0},{"$f":"'PXS Kopieret'!B829","v":0},{"$f":"'PXS Kopieret'!C829","v":0},{"$f":"'PXS Kopieret'!D829","v":0},{"$f":"IF($A829<>\"PhD Student\",'PXS Kopieret'!E829,\"\")","v":0},{"$f":"IF($A829=\"PhD Student\",'PXS Kopieret'!F829,\"\")","v":""},{"$f":"'PXS Kopieret'!G829","v":0},{"$f":"'PXS Kopieret'!H829","v":0},{"$f":"IF($A829=\"PhD Student\",'PXS Kopieret'!I829,\"\")","v":""},{"$f":"'PXS Kopieret'!J829","v":0},{"$f":"'PXS Kopieret'!K829","v":0},{"$f":"'PXS Kopieret'!L829","v":0}]
["",{"$f":"IF('PXS Kopieret'!N830<>\"\",HYPERLINK(\"https://ssl1.peoplexs.com/Peoplexs22/eFormportal/eForm.cfm?CandidateUpdateID=\"&'PXS Kopieret'!M830&\"&CandidateUpdateCode=\"&'PXS Kopieret'!N830&\"&Locale=en&CustomFormID=11612\",\"Docs\"),\"\")","v":""},{"$f":"'PXS Kopieret'!A830","v":0},{"$f":"'PXS Kopieret'!B830","v":0},{"$f":"'PXS Kopieret'!C830","v":0},{"$f":"'PXS Kopieret'!D830","v":0},{"$f":"IF($A830<>\"PhD Student\",'PXS Kopieret'!E830,\"\")","v":0},{"$f":"IF($A830=\"PhD Student\",'PXS Kopieret'!F830,\"\")","v":""},{"$f":"'PXS Kopieret'!G830","v":0},{"$f":"'PXS Kopieret'!H830","v":0},{"$f":"IF($A830=\"PhD Student\",'PXS Kopieret'!I830,\"\")","v":""},{"$f":"'PXS Kopieret'!J830","v":0},{"$f":"'PXS Kopieret'!K830","v":0},{"$f":"'PXS Kopieret'!L830","v":0}]
["",{"$f":"IF('PXS Kopieret'!N831<>\"\",HYPERLINK(\"https://ssl1.peoplexs.com/Peoplexs22/eFormportal/eForm.cfm?CandidateUpdateID=\"&'PXS Kopieret'!M831&\"&CandidateUpdateCode=\"&'PXS Kopieret'!N831&\"&Locale=en&CustomFormID=11612\",\"Docs\"),\"\")","v":""},{"$f":"'PXS Kopieret'!A831","v":0},{"$f":"'PXS Kopieret'!B831","v":0},{"$f":"'PXS Kopieret'!C831","v":0},{"$f":"'PXS Kopieret'!D831","v":0},{"$f":"IF($A831<>\"PhD Student\",'PXS Kopieret'!E831,\"\")","v":0},{"$f":"IF($A831=\"PhD Student\",'PXS Kopieret'!F831,\"\")","v":""},{"$f":"'PXS Kopieret'!G831","v":0},{"$f":"'PXS Kopieret'!H831","v":0},{"$f":"IF($A831=\"PhD Student\",'PXS Kopieret'!I831,\"\")","v":""},{"$f":"'PXS Kopieret'!J831","v":0},{"$f":"'PXS Kopieret'!K831","v":0},{"$f":"'PXS Kopieret'!L831","v":0}]
["",{"$f":"IF('PXS Kopieret'!N832<>\"\",HYPERLINK(\"https://ssl1.peoplexs.com/Peoplexs22/eFormportal/eForm.cfm?CandidateUpdateID=\"&'PXS Kopieret'!M832&\"&CandidateUpdateCode=\"&'PXS Kopieret'!N832&\"&Locale=en&CustomFormID=11612\",\"Docs\"),\"\")","v":""},{"$f":"'PXS Kopieret'!A832","v":0},{"$f":"'PXS Kopieret'!B832","v":0},{"$f":"'PXS Kopieret'!C832","v":0},{"$f":"'PXS Kopieret'!D832","v":0},{"$f":"IF($A832<>\"PhD Student\",'PXS Kopieret'!E832,\"\")","v":0},{"$f":"IF($A832=\"PhD Student\",'PXS Kopieret'!F832,\"\")","v":""},{"$f":"'PXS Kopieret'!G832","v":0},{"$f":"'PXS Kopieret'!H832","v":0},{"$f":"IF($A832=\"PhD Student\",'PXS Kopieret'!I832,\"\")","v":""},{"$f":"'PXS Kopieret'!J832","v":0},{"$f":"'PXS Kopieret'!K832","v":0},{"$f":"'PXS Kopieret'!L832","v":0}]
["",{"$f":"IF('PXS Kopieret'!N833<>\"\",HYPERLINK(\"https://ssl1.peoplexs.com/Peoplexs22/eFormportal/eForm.cfm?CandidateUpdateID=\"&'PXS Kopieret'!M833&\"&CandidateUpdateCode=\"&'PXS Kopieret'!N833&\"&Locale=en&CustomFormID=11612\",\"Docs\"),\"\")","v":""},{"$f":"'PXS Kopieret'!A833","v":0},{"$f":"'PXS Kopieret'!B833","v":0},{"$f":"'PXS Kopieret'!C833","v":0},{"$f":"'PXS Kopieret'!D833","v":0},{"$f":"IF($A833<>\"PhD Student\",'PXS Kopieret'!E833,\"\")","v":0},{"$f":"IF($A833=\"PhD Student\",'PXS Kopieret'!F833,\"\")","v":""},{"$f":"'PXS Kopieret'!G833","v":0},{"$f":"'PXS Kopieret'!H833","v":0},{"$f":"IF($A833=\"PhD Student\",'PXS Kopieret'!I833,\"\")","v":""},{"$f":"'PXS Kopieret'!J833","v":0},{"$f":"'PXS Kopieret'!K833","v":0},{"$f":"'PXS Kopieret'!L833","v":0}]
["",{"$f":"IF('PXS Kopieret'!N834<>\"\",HYPERLINK(\"https://ssl1.peoplexs.com/Peoplexs22/eFormportal/eForm.cfm?CandidateUpdateID=\"&'PXS Kopieret'!M834&\"&CandidateUpdateCode=\"&'PXS Kopieret'!N834&\"&Locale=en&CustomFormID=11612\",\"Docs\"),\"\")","v":""},{"$f":"'PXS Kopieret'!A834","v":0},{"$f":"'PXS Kopieret'!B834","v":0},{"$f":"'PXS Kopieret'!C834","v":0},{"$f":"'PXS Kopieret'!D834","v":0},{"$f":"IF($A834<>\"PhD Student\",'PXS Kopieret'!E834,\"\")","v":0},{"$f":"IF($A834=\"PhD Student\",'PXS Kopieret'!F834,\"\")","v":""},{"$f":"'PXS Kopieret'!G834","v":0},{"$f":"'PXS Kopieret'!H834","v":0},{"$f":"IF($A834=\"PhD Student\",'PXS Kopieret'!I834,\"\")","v":""},{"$f":"'PXS Kopieret'!J834","v":0},{"$f":"'PXS Kopieret'!K834","v":0},{"$f":"'PXS Kopieret'!L834","v":0}]
[{"$f":"IF(LEFT(C835,2)=\"RY\", \"Research Year Student\", IF(C835=0,\"\",\"PhD Student\"))","v":""},{"$f":"IF('PXS Kopieret'!N835<>\"\",HYPERLINK(\"https://ssl1.peoplexs.com/Peoplexs22/eFormportal/eForm.cfm?CandidateUpdateID=\"&'PXS Kopieret'!M835&\"&CandidateUpdateCode=\"&'PXS Kopieret'!N835&\"&Locale=en&CustomFormID=11612\",\"Docs\"),\"\")","v":""},{"$f":"'PXS Kopieret'!A835","v":0},{"$f":"'PXS Kopieret'!B835","v":0},{"$f":"'PXS Kopieret'!C835","v":0},{"$f":"'PXS Kopieret'!D835","v":0},{"$f":"IF($A835<>\"PhD Student\",'PXS Kopieret'!E835,\"\")","v":0},{"$f":"IF($A835=\"PhD Student\",'PXS Kopieret'!F835,\"\")","v":""},{"$f":"'PXS Kopieret'!G835","v":0},{"$f":"'PXS Kopieret'!H835","v":0},{"$f":"IF($A835=\"PhD Student\",'PXS Kopieret'!I835,\"\")","v":""},{"$f":"'PXS Kopieret'!J835","v":0},{"$f":"'PXS Kopieret'!K835","v":0},{"$f":"'PXS Kopieret'!L835","v":0}]
["",{"$f":"IF('PXS Kopieret'!N836<>\"\",HYPERLINK(\"https://ssl1.peoplexs.com/Peoplexs22/eFormportal/eForm.cfm?CandidateUpdateID=\"&'PXS Kopieret'!M836&\"&CandidateUpdateCode=\"&'PXS Kopieret'!N836&\"&Locale=en&CustomFormID=11612\",\"Docs\"),\"\")","v":""},{"$f":"'PXS Kopieret'!A836","v":0},{"$f":"'PXS Kopieret'!B836","v":0},{"$f":"'PXS Kopieret'!C836","v":0},{"$f":"'PXS Kopieret'!D836","v":0},{"$f":"IF($A836<>\"PhD Student\",'PXS Kopieret'!E836,\"\")","v":0},{"$f":"IF($A836=\"PhD Student\",'PXS Kopieret'!F836,\"\")","v":""},{"$f":"'PXS Kopieret'!G836","v":0},{"$f":"'PXS Kopieret'!H836","v":0},{"$f":"IF($A836=\"PhD Student\",'PXS Kopieret'!I836,\"\")","v":""},{"$f":"'PXS Kopieret'!J836","v":0},{"$f":"'PXS Kopieret'!K836","v":0},{"$f":"'PXS Kopieret'!L836","v":0}]
["",{"$f":"IF('PXS Kopieret'!N837<>\"\",HYPERLINK(\"https://ssl1.peoplexs.com/Peoplexs22/eFormportal/eForm.cfm?CandidateUpdateID=\"&'PXS Kopieret'!M837&\"&CandidateUpdateCode=\"&'PXS Kopieret'!N837&\"&Locale=en&CustomFormID=11612\",\"Docs\"),\"\")","v":""},{"$f":"'PXS Kopieret'!A837","v":0},{"$f":"'PXS Kopieret'!B837","v":0},{"$f":"'PXS Kopieret'!C837","v":0},{"$f":"'PXS Kopieret'!D837","v":0},{"$f":"IF($A837<>\"PhD Student\",'PXS Kopieret'!E837,\"\")","v":0},{"$f":"IF($A837=\"PhD Student\",'PXS Kopieret'!F837,\"\")","v":""},{"$f":"'PXS Kopieret'!G837","v":0},{"$f":"'PXS Kopieret'!H837","v":0},{"$f":"IF($A837=\"PhD Student\",'PXS Kopieret'!I837,\"\")","v":""},{"$f":"'PXS Kopieret'!J837","v":0},{"$f":"'PXS Kopieret'!K837","v":0},{"$f":"'PXS Kopieret'!L837","v":0}]
["",{"$f":"IF('PXS Kopieret'!N838<>\"\",HYPERLINK(\"https://ssl1.peoplexs.com/Peoplexs22/eFormportal/eForm.cfm?CandidateUpdateID=\"&'PXS Kopieret'!M838&\"&CandidateUpdateCode=\"&'PXS Kopieret'!N838&\"&Locale=en&CustomFormID=11612\",\"Docs\"),\"\")","v":""},{"$f":"'PXS Kopieret'!A838","v":0},{"$f":"'PXS Kopieret'!B838","v":0},{"$f":"'PXS Kopieret'!C838","v":0},{"$f":"'PXS Kopieret'!D838","v":0},{"$f":"IF($A838<>\"PhD Student\",'PXS Kopieret'!E838,\"\")","v":0},{"$f":"IF($A838=\"PhD Student\",'PXS Kopieret'!F838,\"\")","v":""},{"$f":"'PXS Kopieret'!G838","v":0},{"$f":"'PXS Kopieret'!H838","v":0},{"$f":"IF($A838=\"PhD Student\",'PXS Kopieret'!I838,\"\")","v":""},{"$f":"'PXS Kopieret'!J838","v":0},{"$f":"'PXS Kopieret'!K838","v":0},{"$f":"'PXS Kopieret'!L838","v":0}]
["",{"$f":"IF('PXS Kopieret'!N839<>\"\",HYPERLINK(\"https://ssl1.peoplexs.com/Peoplexs22/eFormportal/eForm.cfm?CandidateUpdateID=\"&'PXS Kopieret'!M839&\"&CandidateUpdateCode=\"&'PXS Kopieret'!N839&\"&Locale=en&CustomFormID=11612\",\"Docs\"),\"\")","v":""},{"$f":"'PXS Kopieret'!A839","v":0},{"$f":"'PXS Kopieret'!B839","v":0},{"$f":"'PXS Kopieret'!C839","v":0},{"$f":"'PXS Kopieret'!D839","v":0},{"$f":"IF($A839<>\"PhD Student\",'PXS Kopieret'!E839,\"\")","v":0},{"$f":"IF($A839=\"PhD Student\",'PXS Kopieret'!F839,\"\")","v":""},{"$f":"'PXS Kopieret'!G839","v":0},{"$f":"'PXS Kopieret'!H839","v":0},{"$f":"IF($A839=\"PhD Student\",'PXS Kopieret'!I839,\"\")","v":""},{"$f":"'PXS Kopieret'!J839","v":0},{"$f":"'PXS Kopieret'!K839","v":0},{"$f":"'PXS Kopieret'!L839","v":0}]
["",{"$f":"IF('PXS Kopieret'!N840<>\"\",HYPERLINK(\"https://ssl1.peoplexs.com/Peoplexs22/eFormportal/eForm.cfm?CandidateUpdateID=\"&'PXS Kopieret'!M840&\"&CandidateUpdateCode=\"&'PXS Kopieret'!N840&\"&Locale=en&CustomFormID=11612\",\"Docs\"),\"\")","v":""},{"$f":"'PXS Kopieret'!A840","v":0},{"$f":"'PXS Kopieret'!B840","v":0},{"$f":"'PXS Kopieret'!C840","v":0},{"$f":"'PXS Kopieret'!D840","v":0},{"$f":"IF($A840<>\"PhD Student\",'PXS Kopieret'!E840,\"\")","v":0},{"$f":"IF($A840=\"PhD Student\",'PXS Kopieret'!F840,\"\")","v":""},{"$f":"'PXS Kopieret'!G840","v":0},{"$f":"'PXS Kopieret'!H840","v":0},{"$f":"IF($A840=\"PhD Student\",'PXS Kopieret'!I840,\"\")","v":""},{"$f":"'PXS Kopieret'!J840","v":0},{"$f":"'PXS Kopieret'!K840","v":0},{"$f":"'PXS Kopieret'!L840","v":0}]
["",{"$f":"IF('PXS Kopieret'!N841<>\"\",HYPERLINK(\"https://ssl1.peoplexs.com/Peoplexs22/eFormportal/eForm.cfm?CandidateUpdateID=\"&'PXS Kopieret'!M841&\"&CandidateUpdateCode=\"&'PXS Kopieret'!N841&\"&Locale=en&CustomFormID=11612\",\"Docs\"),\"\")","v":""},{"$f":"'PXS Kopieret'!A841","v":0},{"$f":"'PXS Kopieret'!B841","v":0},{"$f":"'PXS Kopieret'!C841","v":0},{"$f":"'PXS Kopieret'!D841","v":0},{"$f":"IF($A841<>\"PhD Student\",'PXS Kopieret'!E841,\"\")","v":0},{"$f":"IF($A841=\"PhD Student\",'PXS Kopieret'!F841,\"\")","v":""},{"$f":"'PXS Kopieret'!G841","v":0},{"$f":"'PXS Kopieret'!H841","v":0},{"$f":"IF($A841=\"PhD Student\",'PXS Kopieret'!I841,\"\")","v":""},{"$f":"'PXS Kopieret'!J841","v":0},{"$f":"'PXS Kopieret'!K841","v":0},{"$f":"'PXS Kopieret'!L841","v":0}]
["",{"$f":"IF('PXS Kopieret'!N842<>\"\",HYPERLINK(\"https://ssl1.peoplexs.com/Peoplexs22/eFormportal/eForm.cfm?CandidateUpdateID=\"&'PXS Kopieret'!M842&\"&CandidateUpdateCode=\"&'PXS Kopieret'!N842&\"&Locale=en&CustomFormID=11612\",\"Docs\"),\"\")","v":""},{"$f":"'PXS Kopieret'!A842","v":0},{"$f":"'PXS Kopieret'!B842","v":0},{"$f":"'PXS Kopieret'!C842","v":0},{"$f":"'PXS Kopieret'!D842","v":0},{"$f":"IF($A842<>\"PhD Student\",'PXS Kopieret'!E842,\"\")","v":0},{"$f":"IF($A842=\"PhD Student\",'PXS Kopieret'!F842,\"\")","v":""},{"$f":"'PXS Kopieret'!G842","v":0},{"$f":"'PXS Kopieret'!H842","v":0},{"$f":"IF($A842=\"PhD Student\",'PXS Kopieret'!I842,\"\")","v":""},{"$f":"'PXS Kopieret'!J842","v":0},{"$f":"'PXS Kopieret'!K842","v":0},{"$f":"'PXS Kopieret'!L842","v":0}]
["",{"$f":"IF('PXS Kopieret'!N843<>\"\",HYPERLINK(\"https://ssl1.peoplexs.com/Peoplexs22/eFormportal/eForm.cfm?CandidateUpdateID=\"&'PXS Kopieret'!M843&\"&CandidateUpdateCode=\"&'PXS Kopieret'!N843&\"&Locale=en&CustomFormID=11612\",\"Docs\"),\"\")","v":""},{"$f":"'PXS Kopieret'!A843","v":0},{"$f":"'PXS Kopieret'!B843","v":0},{"$f":"'PXS Kopieret'!C843","v":0},{"$f":"'PXS Kopieret'!D843","v":0},{"$f":"IF($A843<>\"PhD Student\",'PXS Kopieret'!E843,\"\")","v":0},{"$f":"IF($A843=\"PhD Student\",'PXS Kopieret'!F843,\"\")","v":""},{"$f":"'PXS Kopieret'!G843","v":0},{"$f":"'PXS Kopieret'!H843","v":0},{"$f":"IF($A843=\"PhD Student\",'PXS Kopieret'!I843,\"\")","v":""},{"$f":"'PXS Kopieret'!J843","v":0},{"$f":"'PXS Kopieret'!K843","v":0},{"$f":"'PXS Kopieret'!L843","v":0}]
["",{"$f":"IF('PXS Kopieret'!N844<>\"\",HYPERLINK(\"https://ssl1.peoplexs.com/Peoplexs22/eFormportal/eForm.cfm?CandidateUpdateID=\"&'PXS Kopieret'!M844&\"&CandidateUpdateCode=\"&'PXS Kopieret'!N844&\"&Locale=en&CustomFormID=11612\",\"Docs\"),\"\")","v":""},{"$f":"'PXS Kopieret'!A844","v":0},{"$f":"'PXS Kopieret'!B844","v":0},{"$f":"'PXS Kopieret'!C844","v":0},{"$f":"'PXS Kopieret'!D844","v":0},{"$f":"IF($A844<>\"PhD Student\",'PXS Kopieret'!E844,\"\")","v":0},{"$f":"IF($A844=\"PhD Student\",'PXS Kopieret'!F844,\"\")","v":""},{"$f":"'PXS Kopieret'!G844","v":0},{"$f":"'PXS Kopieret'!H844","v":0},{"$f":"IF($A844=\"PhD Student\",'PXS Kopieret'!I844,\"\")","v":""},{"$f":"'PXS Kopieret'!J844","v":0},{"$f":"'PXS Kopieret'!K844","v":0},{"$f":"'PXS Kopieret'!L844","v":0}]
["",{"$f":"IF('PXS Kopieret'!N845<>\"\",HYPERLINK(\"https://ssl1.peoplexs.com/Peoplexs22/eFormportal/eForm.cfm?CandidateUpdateID=\"&'PXS Kopieret'!M845&\"&CandidateUpdateCode=\"&'PXS Kopieret'!N845&\"&Locale=en&CustomFormID=11612\",\"Docs\"),\"\")","v":""},{"$f":"'PXS Kopieret'!A845","v":0},{"$f":"'PXS Kopieret'!B845","v":0},{"$f":"'PXS Kopieret'!C845","v":0},{"$f":"'PXS Kopieret'!D845","v":0},{"$f":"IF($A845<>\"PhD Student\",'PXS Kopieret'!E845,\"\")","v":0},{"$f":"IF($A845=\"PhD Student\",'PXS Kopieret'!F845,\"\")","v":""},{"$f":"'PXS Kopieret'!G845","v":0},{"$f":"'PXS Kopieret'!H845","v":0},{"$f":"IF($A845=\"PhD Student\",'PXS Kopieret'!I845,\"\")","v":""},{"$f":"'PXS Kopieret'!J845","v":0},{"$f":"'PXS Kopieret'!K845","v":0},{"$f":"'PXS Kopieret'!L845","v":0}]
["",{"$f":"IF('PXS Kopieret'!N846<>\"\",HYPERLINK(\"https://ssl1.peoplexs.com/Peoplexs22/eFormportal/eForm.cfm?CandidateUpdateID=\"&'PXS Kopieret'!M846&\"&CandidateUpdateCode=\"&'PXS Kopieret'!N846&\"&Locale=en&CustomFormID=11612\",\"Docs\"),\"\")","v":""},{"$f":"'PXS Kopieret'!A846","v":0},{"$f":"'PXS Kopieret'!B846","v":0},{"$f":"'PXS Kopieret'!C846","v":0},{"$f":"'PXS Kopieret'!D846","v":0},{"$f":"IF($A846<>\"PhD Student\",'PXS Kopieret'!E846,\"\")","v":0},{"$f":"IF($A846=\"PhD Student\",'PXS Kopieret'!F846,\"\")","v":""},{"$f":"'PXS Kopieret'!G846","v":0},{"$f":"'PXS Kopieret'!H846","v":0},{"$f":"IF($A846=\"PhD Student\",'PXS Kopieret'!I846,\"\")","v":""},{"$f":"'PXS Kopieret'!J846","v":0},{"$f":"'PXS Kopieret'!K846","v":0},{"$f":"'PXS Kopieret'!L846","v":0}]
["",{"$f":"IF('PXS Kopieret'!N847<>\"\",HYPERLINK(\"https://ssl1.peoplexs.com/Peoplexs22/eFormportal/eForm.cfm?CandidateUpdateID=\"&'PXS Kopieret'!M847&\"&CandidateUpdateCode=\"&'PXS Kopieret'!N847&\"&Locale=en&CustomFormID=11612\",\"Docs\"),\"\")","v":""},{"$f":"'PXS Kopieret'!A847","v":0},{"$f":"'PXS Kopieret'!B847","v":0},{"$f":"'PXS Kopieret'!C847","v":0},{"$f":"'PXS Kopieret'!D847","v":0},{"$f":"IF($A847<>\"PhD Student\",'PXS Kopieret'!E847,\"\")","v":0},{"$f":"IF($A847=\"PhD Student\",'PXS Kopieret'!F847,\"\")","v":""},{"$f":"'PXS Kopieret'!G847","v":0},{"$f":"'PXS Kopieret'!H847","v":0},{"$f":"IF($A847=\"PhD Student\",'PXS Kopieret'!I847,\"\")","v":""},{"$f":"'PXS Kopieret'!J847","v":0},{"$f":"'PXS Kopieret'!K847","v":0},{"$f":"'PXS Kopieret'!L847","v":0}]
["",{"$f":"IF('PXS Kopieret'!N848<>\"\",HYPERLINK(\"https://ssl1.peoplexs.com/Peoplexs22/eFormportal/eForm.cfm?CandidateUpdateID=\"&'PXS Kopieret'!M848&\"&CandidateUpdateCode=\"&'PXS Kopieret'!N848&\"&Locale=en&CustomFormID=11612\",\"Docs\"),\"\")","v":""},{"$f":"'PXS Kopieret'!A848","v":0},{"$f":"'PXS Kopieret'!B848","v":0},{"$f":"'PXS Kopieret'!C848","v":0},{"$f":"'PXS Kopieret'!D848","v":0},{"$f":"IF($A848<>\"PhD Student\",'PXS Kopieret'!E848,\"\")","v":0},{"$f":"IF($A848=\"PhD Student\",'PXS Kopieret'!F848,\"\")","v":""},{"$f":"'PXS Kopieret'!G848","v":0},{"$f":"'PXS Kopieret'!H848","v":0},{"$f":"IF($A848=\"PhD Student\",'PXS Kopieret'!I848,\"\")","v":""},{"$f":"'PXS Kopieret'!J848","v":0},{"$f":"'PXS Kopieret'!K848","v":0},{"$f":"'PXS Kopieret'!L848","v":0}]
["",{"$f":"IF('PXS Kopieret'!N849<>\"\",HYPERLINK(\"https://ssl1.peoplexs.com/Peoplexs22/eFormportal/eForm.cfm?CandidateUpdateID=\"&'PXS Kopieret'!M849&\"&CandidateUpdateCode=\"&'PXS Kopieret'!N849&\"&Locale=en&CustomFormID=11612\",\"Docs\"),\"\")","v":""},{"$f":"'PXS Kopieret'!A849","v":0},{"$f":"'PXS Kopieret'!B849","v":0},{"$f":"'PXS Kopieret'!C849","v":0},{"$f":"'PXS Kopieret'!D849","v":0},{"$f":"IF($A849<>\"PhD Student\",'PXS Kopieret'!E849,\"\")","v":0},{"$f":"IF($A849=\"PhD Student\",'PXS Kopieret'!F849,\"\")","v":""},{"$f":"'PXS Kopieret'!G849","v":0},{"$f":"'PXS Kopieret'!H849","v":0},{"$f":"IF($A849=\"PhD Student\",'PXS Kopieret'!I849,\"\")","v":""},{"$f":"'PXS Kopieret'!J849","v":0},{"$f":"'PXS Kopieret'!K849","v":0},{"$f":"'PXS Kopieret'!L849","v":0}]
["",{"$f":"IF('PXS Kopieret'!N850<>\"\",HYPERLINK(\"https://ssl1.peoplexs.com/Peoplexs22/eFormportal/eForm.cfm?CandidateUpdateID=\"&'PXS Kopieret'!M850&\"&CandidateUpdateCode=\"&'PXS Kopieret'!N850&\"&Locale=en&CustomFormID=11612\",\"Docs\"),\"\")","v":""},{"$f":"'PXS Kopieret'!A850","v":0},{"$f":"'PXS Kopieret'!B850","v":0},{"$f":"'PXS Kopieret'!C850","v":0},{"$f":"'PXS Kopieret'!D850","v":0},{"$f":"IF($A850<>\"PhD Student\",'PXS Kopieret'!E850,\"\")","v":0},{"$f":"IF($A850=\"PhD Student\",'PXS Kopieret'!F850,\"\")","v":""},{"$f":"'PXS Kopieret'!G850","v":0},{"$f":"'PXS Kopieret'!H850","v":0},{"$f":"IF($A850=\"PhD Student\",'PXS Kopieret'!I850,\"\")","v":""},{"$f":"'PXS Kopieret'!J850","v":0},{"$f":"'PXS Kopieret'!K850","v":0},{"$f":"'PXS Kopieret'!L850","v":0}]
["",{"$f":"IF('PXS Kopieret'!N851<>\"\",HYPERLINK(\"https://ssl1.peoplexs.com/Peoplexs22/eFormportal/eForm.cfm?CandidateUpdateID=\"&'PXS Kopieret'!M851&\"&CandidateUpdateCode=\"&'PXS Kopieret'!N851&\"&Locale=en&CustomFormID=11612\",\"Docs\"),\"\")","v":""},{"$f":"'PXS Kopieret'!A851","v":0},{"$f":"'PXS Kopieret'!B851","v":0},{"$f":"'PXS Kopieret'!C851","v":0},{"$f":"'PXS Kopieret'!D851","v":0},{"$f":"IF($A851<>\"PhD Student\",'PXS Kopieret'!E851,\"\")","v":0},{"$f":"IF($A851=\"PhD Student\",'PXS Kopieret'!F851,\"\")","v":""},{"$f":"'PXS Kopieret'!G851","v":0},{"$f":"'PXS Kopieret'!H851","v":0},{"$f":"IF($A851=\"PhD Student\",'PXS Kopieret'!I851,\"\")","v":""},{"$f":"'PXS Kopieret'!J851","v":0},{"$f":"'PXS Kopieret'!K851","v":0},{"$f":"'PXS Kopieret'!L851","v":0}]
["",{"$f":"IF('PXS Kopieret'!N852<>\"\",HYPERLINK(\"https://ssl1.peoplexs.com/Peoplexs22/eFormportal/eForm.cfm?CandidateUpdateID=\"&'PXS Kopieret'!M852&\"&CandidateUpdateCode=\"&'PXS Kopieret'!N852&\"&Locale=en&CustomFormID=11612\",\"Docs\"),\"\")","v":""},{"$f":"'PXS Kopieret'!A852","v":0},{"$f":"'PXS Kopieret'!B852","v":0},{"$f":"'PXS Kopieret'!C852","v":0},{"$f":"'PXS Kopieret'!D852","v":0},{"$f":"IF($A852<>\"PhD Student\",'PXS Kopieret'!E852,\"\")","v":0},{"$f":"IF($A852=\"PhD Student\",'PXS Kopieret'!F852,\"\")","v":""},{"$f":"'PXS Kopieret'!G852","v":0},{"$f":"'PXS Kopieret'!H852","v":0},{"$f":"IF($A852=\"PhD Student\",'PXS Kopieret'!I852,\"\")","v":""},{"$f":"'PXS Kopieret'!J852","v":0},{"$f":"'PXS Kopieret'!K852","v":0},{"$f":"'PXS Kopieret'!L852","v":0}]
["",{"$f":"IF('PXS Kopieret'!N853<>\"\",HYPERLINK(\"https://ssl1.peoplexs.com/Peoplexs22/eFormportal/eForm.cfm?CandidateUpdateID=\"&'PXS Kopieret'!M853&\"&CandidateUpdateCode=\"&'PXS Kopieret'!N853&\"&Locale=en&CustomFormID=11612\",\"Docs\"),\"\")","v":""},{"$f":"'PXS Kopieret'!A853","v":0},{"$f":"'PXS Kopieret'!B853","v":0},{"$f":"'PXS Kopieret'!C853","v":0},{"$f":"'PXS Kopieret'!D853","v":0},{"$f":"IF($A853<>\"PhD Student\",'PXS Kopieret'!E853,\"\")","v":0},{"$f":"IF($A853=\"PhD Student\",'PXS Kopieret'!F853,\"\")","v":""},{"$f":"'PXS Kopieret'!G853","v":0},{"$f":"'PXS Kopieret'!H853","v":0},{"$f":"IF($A853=\"PhD Student\",'PXS Kopieret'!I853,\"\")","v":""},{"$f":"'PXS Kopieret'!J853","v":0},{"$f":"'PXS Kopieret'!K853","v":0},{"$f":"'PXS Kopieret'!L853","v":0}]
["",{"$f":"IF('PXS Kopieret'!N854<>\"\",HYPERLINK(\"https://ssl1.peoplexs.com/Peoplexs22/eFormportal/eForm.cfm?CandidateUpdateID=\"&'PXS Kopieret'!M854&\"&CandidateUpdateCode=\"&'PXS Kopieret'!N854&\"&Locale=en&CustomFormID=11612\",\"Docs\"),\"\")","v":""},{"$f":"'PXS Kopieret'!A854","v":0},{"$f":"'PXS Kopieret'!B854","v":0},{"$f":"'PXS Kopieret'!C854","v":0},{"$f":"'PXS Kopieret'!D854","v":0},{"$f":"IF($A854<>\"PhD Student\",'PXS Kopieret'!E854,\"\")","v":0},{"$f":"IF($A854=\"PhD Student\",'PXS Kopieret'!F854,\"\")","v":""},{"$f":"'PXS Kopieret'!G854","v":0},{"$f":"'PXS Kopieret'!H854","v":0},{"$f":"IF($A854=\"PhD Student\",'PXS Kopieret'!I854,\"\")","v":""},{"$f":"'PXS Kopieret'!J854","v":0},{"$f":"'PXS Kopieret'!K854","v":0},{"$f":"'PXS Kopieret'!L854","v":0}]
["",{"$f":"IF('PXS Kopieret'!N855<>\"\",HYPERLINK(\"https://ssl1.peoplexs.com/Peoplexs22/eFormportal/eForm.cfm?CandidateUpdateID=\"&'PXS Kopieret'!M855&\"&CandidateUpdateCode=\"&'PXS Kopieret'!N855&\"&Locale=en&CustomFormID=11612\",\"Docs\"),\"\")","v":""},{"$f":"'PXS Kopieret'!A855","v":0},{"$f":"'PXS Kopieret'!B855","v":0},{"$f":"'PXS Kopieret'!C855","v":0},{"$f":"'PXS Kopieret'!D855","v":0},{"$f":"IF($A855<>\"PhD Student\",'PXS Kopieret'!E855,\"\")","v":0},{"$f":"IF($A855=\"PhD Student\",'PXS Kopieret'!F855,\"\")","v":""},{"$f":"'PXS Kopieret'!G855","v":0},{"$f":"'PXS Kopieret'!H855","v":0},{"$f":"IF($A855=\"PhD Student\",'PXS Kopieret'!I855,\"\")","v":""},{"$f":"'PXS Kopieret'!J855","v":0},{"$f":"'PXS Kopieret'!K855","v":0},{"$f":"'PXS Kopieret'!L855","v":0}]
["",{"$f":"IF('PXS Kopieret'!N856<>\"\",HYPERLINK(\"https://ssl1.peoplexs.com/Peoplexs22/eFormportal/eForm.cfm?CandidateUpdateID=\"&'PXS Kopieret'!M856&\"&CandidateUpdateCode=\"&'PXS Kopieret'!N856&\"&Locale=en&CustomFormID=11612\",\"Docs\"),\"\")","v":""},{"$f":"'PXS Kopieret'!A856","v":0},{"$f":"'PXS Kopieret'!B856","v":0},{"$f":"'PXS Kopieret'!C856","v":0},{"$f":"'PXS Kopieret'!D856","v":0},{"$f":"IF($A856<>\"PhD Student\",'PXS Kopieret'!E856,\"\")","v":0},{"$f":"IF($A856=\"PhD Student\",'PXS Kopieret'!F856,\"\")","v":""},{"$f":"'PXS Kopieret'!G856","v":0},{"$f":"'PXS Kopieret'!H856","v":0},{"$f":"IF($A856=\"PhD Student\",'PXS Kopieret'!I856,\"\")","v":""},{"$f":"'PXS Kopieret'!J856","v":0},{"$f":"'PXS Kopieret'!K856","v":0},{"$f":"'PXS Kopieret'!L856","v":0}]
["",{"$f":"IF('PXS Kopieret'!N857<>\"\",HYPERLINK(\"https://ssl1.peoplexs.com/Peoplexs22/eFormportal/eForm.cfm?CandidateUpdateID=\"&'PXS Kopieret'!M857&\"&CandidateUpdateCode=\"&'PXS Kopieret'!N857&\"&Locale=en&CustomFormID=11612\",\"Docs\"),\"\")","v":""},{"$f":"'PXS Kopieret'!A857","v":0},{"$f":"'PXS Kopieret'!B857","v":0},{"$f":"'PXS Kopieret'!C857","v":0},{"$f":"'PXS Kopieret'!D857","v":0},{"$f":"IF($A857<>\"PhD Student\",'PXS Kopieret'!E857,\"\")","v":0},{"$f":"IF($A857=\"PhD Student\",'PXS Kopieret'!F857,\"\")","v":""},{"$f":"'PXS Kopieret'!G857","v":0},{"$f":"'PXS Kopieret'!H857","v":0},{"$f":"IF($A857=\"PhD Student\",'PXS Kopieret'!I857,\"\")","v":""},{"$f":"'PXS Kopieret'!J857","v":0},{"$f":"'PXS Kopieret'!K857","v":0},{"$f":"'PXS Kopieret'!L857","v":0}]
["",{"$f":"IF('PXS Kopieret'!N858<>\"\",HYPERLINK(\"https://ssl1.peoplexs.com/Peoplexs22/eFormportal/eForm.cfm?CandidateUpdateID=\"&'PXS Kopieret'!M858&\"&CandidateUpdateCode=\"&'PXS Kopieret'!N858&\"&Locale=en&CustomFormID=11612\",\"Docs\"),\"\")","v":""},{"$f":"'PXS Kopieret'!A858","v":0},{"$f":"'PXS Kopieret'!B858","v":0},{"$f":"'PXS Kopieret'!C858","v":0},{"$f":"'PXS Kopieret'!D858","v":0},{"$f":"IF($A858<>\"PhD Student\",'PXS Kopieret'!E858,\"\")","v":0},{"$f":"IF($A858=\"PhD Student\",'PXS Kopieret'!F858,\"\")","v":""},{"$f":"'PXS Kopieret'!G858","v":0},{"$f":"'PXS Kopieret'!H858","v":0},{"$f":"IF($A858=\"PhD Student\",'PXS Kopieret'!I858,\"\")","v":""},{"$f":"'PXS Kopieret'!J858","v":0},{"$f":"'PXS Kopieret'!K858","v":0},{"$f":"'PXS Kopieret'!L858","v":0}]
["",{"$f":"IF('PXS Kopieret'!N859<>\"\",HYPERLINK(\"https://ssl1.peoplexs.com/Peoplexs22/eFormportal/eForm.cfm?CandidateUpdateID=\"&'PXS Kopieret'!M859&\"&CandidateUpdateCode=\"&'PXS Kopieret'!N859&\"&Locale=en&CustomFormID=11612\",\"Docs\"),\"\")","v":""},{"$f":"'PXS Kopieret'!A859","v":0},{"$f":"'PXS Kopieret'!B859","v":0},{"$f":"'PXS Kopieret'!C859","v":0},{"$f":"'PXS Kopieret'!D859","v":0},{"$f":"IF($A859<>\"PhD Student\",'PXS Kopieret'!E859,\"\")","v":0},{"$f":"IF($A859=\"PhD Student\",'PXS Kopieret'!F859,\"\")","v":""},{"$f":"'PXS Kopieret'!G859","v":0},{"$f":"'PXS Kopieret'!H859","v":0},{"$f":"IF($A859=\"PhD Student\",'PXS Kopieret'!I859,\"\")","v":""},{"$f":"'PXS Kopieret'!J859","v":0},{"$f":"'PXS Kopieret'!K859","v":0},{"$f":"'PXS Kopieret'!L859","v":0}]
["",{"$f":"IF('PXS Kopieret'!N860<>\"\",HYPERLINK(\"https://ssl1.peoplexs.com/Peoplexs22/eFormportal/eForm.cfm?CandidateUpdateID=\"&'PXS Kopieret'!M860&\"&CandidateUpdateCode=\"&'PXS Kopieret'!N860&\"&Locale=en&CustomFormID=11612\",\"Docs\"),\"\")","v":""},{"$f":"'PXS Kopieret'!A860","v":0},{"$f":"'PXS Kopieret'!B860","v":0},{"$f":"'PXS Kopieret'!C860","v":0},{"$f":"'PXS Kopieret'!D860","v":0},{"$f":"IF($A860<>\"PhD Student\",'PXS Kopieret'!E860,\"\")","v":0},{"$f":"IF($A860=\"PhD Student\",'PXS Kopieret'!F860,\"\")","v":""},{"$f":"'PXS Kopieret'!G860","v":0},{"$f":"'PXS Kopieret'!H860","v":0},{"$f":"IF($A860=\"PhD Student\",'PXS Kopieret'!I860,\"\")","v":""},{"$f":"'PXS Kopieret'!J860","v":0},{"$f":"'PXS Kopieret'!K860","v":0},{"$f":"'PXS Kopieret'!L860","v":0}]
["",{"$f":"IF('PXS Kopieret'!N861<>\"\",HYPERLINK(\"https://ssl1.peoplexs.com/Peoplexs22/eFormportal/eForm.cfm?CandidateUpdateID=\"&'PXS Kopieret'!M861&\"&CandidateUpdateCode=\"&'PXS Kopieret'!N861&\"&Locale=en&CustomFormID=11612\",\"Docs\"),\"\")","v":""},{"$f":"'PXS Kopieret'!A861","v":0},{"$f":"'PXS Kopieret'!B861","v":0},{"$f":"'PXS Kopieret'!C861","v":0},{"$f":"'PXS Kopieret'!D861","v":0},{"$f":"IF($A861<>\"PhD Student\",'PXS Kopieret'!E861,\"\")","v":0},{"$f":"IF($A861=\"PhD Student\",'PXS Kopieret'!F861,\"\")","v":""},{"$f":"'PXS Kopieret'!G861","v":0},{"$f":"'PXS Kopieret'!H861","v":0},{"$f":"IF($A861=\"PhD Student\",'PXS Kopieret'!I861,\"\")","v":""},{"$f":"'PXS Kopieret'!J861","v":0},{"$f":"'PXS Kopieret'!K861","v":0},{"$f":"'PXS Kopieret'!L861","v":0}]
["",{"$f":"IF('PXS Kopieret'!N862<>\"\",HYPERLINK(\"https://ssl1.peoplexs.com/Peoplexs22/eFormportal/eForm.cfm?CandidateUpdateID=\"&'PXS Kopieret'!M862&\"&CandidateUpdateCode=\"&'PXS Kopieret'!N862&\"&Locale=en&CustomFormID=11612\",\"Docs\"),\"\")","v":""},{"$f":"'PXS Kopieret'!A862","v":0},{"$f":"'PXS Kopieret'!B862","v":0},{"$f":"'PXS Kopieret'!C862","v":0},{"$f":"'PXS Kopieret'!D862","v":0},{"$f":"IF($A862<>\"PhD Student\",'PXS Kopieret'!E862,\"\")","v":0},{"$f":"IF($A862=\"PhD Student\",'PXS Kopieret'!F862,\"\")","v":""},{"$f":"'PXS Kopieret'!G862","v":0},{"$f":"'PXS Kopieret'!H862","v":0},{"$f":"IF($A862=\"PhD Student\",'PXS Kopieret'!I862,\"\")","v":""},{"$f":"'PXS Kopieret'!J862","v":0},{"$f":"'PXS Kopieret'!K862","v":0},{"$f":"'PXS Kopieret'!L862","v":0}]
["",{"$f":"IF('PXS Kopieret'!N863<>\"\",HYPERLINK(\"https://ssl1.peoplexs.com/Peoplexs22/eFormportal/eForm.cfm?CandidateUpdateID=\"&'PXS Kopieret'!M863&\"&CandidateUpdateCode=\"&'PXS Kopieret'!N863&\"&Locale=en&CustomFormID=11612\",\"Docs\"),\"\")","v":""},{"$f":"'PXS Kopieret'!A863","v":0},{"$f":"'PXS Kopieret'!B863","v":0},{"$f":"'PXS Kopieret'!C863","v":0},{"$f":"'PXS Kopieret'!D863","v":0},{"$f":"IF($A863<>\"PhD Student\",'PXS Kopieret'!E863,\"\")","v":0},{"$f":"IF($A863=\"PhD Student\",'PXS Kopieret'!F863,\"\")","v":""},{"$f":"'PXS Kopieret'!G863","v":0},{"$f":"'PXS Kopieret'!H863","v":0},{"$f":"IF($A863=\"PhD Student\",'PXS Kopieret'!I863,\"\")","v":""},{"$f":"'PXS Kopieret'!J863","v":0},{"$f":"'PXS Kopieret'!K863","v":0},{"$f":"'PXS Kopieret'!L863","v":0}]
["",{"$f":"IF('PXS Kopieret'!N864<>\"\",HYPERLINK(\"https://ssl1.peoplexs.com/Peoplexs22/eFormportal/eForm.cfm?CandidateUpdateID=\"&'PXS Kopieret'!M864&\"&CandidateUpdateCode=\"&'PXS Kopieret'!N864&\"&Locale=en&CustomFormID=11612\",\"Docs\"),\"\")","v":""},{"$f":"'PXS Kopieret'!A864","v":0},{"$f":"'PXS Kopieret'!B864","v":0},{"$f":"'PXS Kopieret'!C864","v":0},{"$f":"'PXS Kopieret'!D864","v":0},{"$f":"IF($A864<>\"PhD Student\",'PXS Kopieret'!E864,\"\")","v":0},{"$f":"IF($A864=\"PhD Student\",'PXS Kopieret'!F864,\"\")","v":""},{"$f":"'PXS Kopieret'!G864","v":0},{"$f":"'PXS Kopieret'!H864","v":0},{"$f":"IF($A864=\"PhD Student\",'PXS Kopieret'!I864,\"\")","v":""},{"$f":"'PXS Kopieret'!J864","v":0},{"$f":"'PXS Kopieret'!K864","v":0},{"$f":"'PXS Kopieret'!L864","v":0}]
["",{"$f":"IF('PXS Kopieret'!N865<>\"\",HYPERLINK(\"https://ssl1.peoplexs.com/Peoplexs22/eFormportal/eForm.cfm?CandidateUpdateID=\"&'PXS Kopieret'!M865&\"&CandidateUpdateCode=\"&'PXS Kopieret'!N865&\"&Locale=en&CustomFormID=11612\",\"Docs\"),\"\")","v":""},{"$f":"'PXS Kopieret'!A865","v":0},{"$f":"'PXS Kopieret'!B865","v":0},{"$f":"'PXS Kopieret'!C865","v":0},{"$f":"'PXS Kopieret'!D865","v":0},{"$f":"IF($A865<>\"PhD Student\",'PXS Kopieret'!E865,\"\")","v":0},{"$f":"IF($A865=\"PhD Student\",'PXS Kopieret'!F865,\"\")","v":""},{"$f":"'PXS Kopieret'!G865","v":0},{"$f":"'PXS Kopieret'!H865","v":0},{"$f":"IF($A865=\"PhD Student\",'PXS Kopieret'!I865,\"\")","v":""},{"$f":"'PXS Kopieret'!J865","v":0},{"$f":"'PXS Kopieret'!K865","v":0},{"$f":"'PXS Kopieret'!L865","v":0}]
["",{"$f":"IF('PXS Kopieret'!N866<>\"\",HYPERLINK(\"https://ssl1.peoplexs.com/Peoplexs22/eFormportal/eForm.cfm?CandidateUpdateID=\"&'PXS Kopieret'!M866&\"&CandidateUpdateCode=\"&'PXS Kopieret'!N866&\"&Locale=en&CustomFormID=11612\",\"Docs\"),\"\")","v":""},{"$f":"'PXS Kopieret'!A866","v":0},{"$f":"'PXS Kopieret'!B866","v":0},{"$f":"'PXS Kopieret'!C866","v":0},{"$f":"'PXS Kopieret'!D866","v":0},{"$f":"IF($A866<>\"PhD Student\",'PXS Kopieret'!E866,\"\")","v":0},{"$f":"IF($A866=\"PhD Student\",'PXS Kopieret'!F866,\"\")","v":""},{"$f":"'PXS Kopieret'!G866","v":0},{"$f":"'PXS Kopieret'!H866","v":0},{"$f":"IF($A866=\"PhD Student\",'PXS Kopieret'!I866,\"\")","v":""},{"$f":"'PXS Kopieret'!J866","v":0},{"$f":"'PXS Kopieret'!K866","v":0},{"$f":"'PXS Kopieret'!L866","v":0}]
["",{"$f":"IF('PXS Kopieret'!N867<>\"\",HYPERLINK(\"https://ssl1.peoplexs.com/Peoplexs22/eFormportal/eForm.cfm?CandidateUpdateID=\"&'PXS Kopieret'!M867&\"&CandidateUpdateCode=\"&'PXS Kopieret'!N867&\"&Locale=en&CustomFormID=11612\",\"Docs\"),\"\")","v":""},{"$f":"'PXS Kopieret'!A867","v":0},{"$f":"'PXS Kopieret'!B867","v":0},{"$f":"'PXS Kopieret'!C867","v":0},{"$f":"'PXS Kopieret'!D867","v":0},{"$f":"IF($A867<>\"PhD Student\",'PXS Kopieret'!E867,\"\")","v":0},{"$f":"IF($A867=\"PhD Student\",'PXS Kopieret'!F867,\"\")","v":""},{"$f":"'PXS Kopieret'!G867","v":0},{"$f":"'PXS Kopieret'!H867","v":0},{"$f":"IF($A867=\"PhD Student\",'PXS Kopieret'!I867,\"\")","v":""},{"$f":"'PXS Kopieret'!J867","v":0},{"$f":"'PXS Kopieret'!K867","v":0},{"$f":"'PXS Kopieret'!L867","v":0}]
["",{"$f":"IF('PXS Kopieret'!N868<>\"\",HYPERLINK(\"https://ssl1.peoplexs.com/Peoplexs22/eFormportal/eForm.cfm?CandidateUpdateID=\"&'PXS Kopieret'!M868&\"&CandidateUpdateCode=\"&'PXS Kopieret'!N868&\"&Locale=en&CustomFormID=11612\",\"Docs\"),\"\")","v":""},{"$f":"'PXS Kopieret'!A868","v":0},{"$f":"'PXS Kopieret'!B868","v":0},{"$f":"'PXS Kopieret'!C868","v":0},{"$f":"'PXS Kopieret'!D868","v":0},{"$f":"IF($A868<>\"PhD Student\",'PXS Kopieret'!E868,\"\")","v":0},{"$f":"IF($A868=\"PhD Student\",'PXS Kopieret'!F868,\"\")","v":""},{"$f":"'PXS Kopieret'!G868","v":0},{"$f":"'PXS Kopieret'!H868","v":0},{"$f":"IF($A868=\"PhD Student\",'PXS Kopieret'!I868,\"\")","v":""},{"$f":"'PXS Kopieret'!J868","v":0},{"$f":"'PXS Kopieret'!K868","v":0},{"$f":"'PXS Kopieret'!L868","v":0}]
["",{"$f":"IF('PXS Kopieret'!N869<>\"\",HYPERLINK(\"https://ssl1.peoplexs.com/Peoplexs22/eFormportal/eForm.cfm?CandidateUpdateID=\"&'PXS Kopieret'!M869&\"&CandidateUpdateCode=\"&'PXS Kopieret'!N869&\"&Locale=en&CustomFormID=11612\",\"Docs\"),\"\")","v":""},{"$f":"'PXS Kopieret'!A869","v":0},{"$f":"'PXS Kopieret'!B869","v":0},{"$f":"'PXS Kopieret'!C869","v":0},{"$f":"'PXS Kopieret'!D869","v":0},{"$f":"IF($A869<>\"PhD Student\",'PXS Kopieret'!E869,\"\")","v":0},{"$f":"IF($A869=\"PhD Student\",'PXS Kopieret'!F869,\"\")","v":""},{"$f":"'PXS Kopieret'!G869","v":0},{"$f":"'PXS Kopieret'!H869","v":0},{"$f":"IF($A869=\"PhD Student\",'PXS Kopieret'!I869,\"\")","v":""},{"$f":"'PXS Kopieret'!J869","v":0},{"$f":"'PXS Kopieret'!K869","v":0},{"$f":"'PXS Kopieret'!L869","v":0}]
["",{"$f":"IF('PXS Kopieret'!N870<>\"\",HYPERLINK(\"https://ssl1.peoplexs.com/Peoplexs22/eFormportal/eForm.cfm?CandidateUpdateID=\"&'PXS Kopieret'!M870&\"&CandidateUpdateCode=\"&'PXS Kopieret'!N870&\"&Locale=en&CustomFormID=11612\",\"Docs\"),\"\")","v":""},{"$f":"'PXS Kopieret'!A870","v":0},{"$f":"'PXS Kopieret'!B870","v":0},{"$f":"'PXS Kopieret'!C870","v":0},{"$f":"'PXS Kopieret'!D870","v":0},{"$f":"IF($A870<>\"PhD Student\",'PXS Kopieret'!E870,\"\")","v":0},{"$f":"IF($A870=\"PhD Student\",'PXS Kopieret'!F870,\"\")","v":""},{"$f":"'PXS Kopieret'!G870","v":0},{"$f":"'PXS Kopieret'!H870","v":0},{"$f":"IF($A870=\"PhD Student\",'PXS Kopieret'!I870,\"\")","v":""},{"$f":"'PXS Kopieret'!J870","v":0},{"$f":"'PXS Kopieret'!K870","v":0},{"$f":"'PXS Kopieret'!L870","v":0}]
["",{"$f":"IF('PXS Kopieret'!N871<>\"\",HYPERLINK(\"https://ssl1.peoplexs.com/Peoplexs22/eFormportal/eForm.cfm?CandidateUpdateID=\"&'PXS Kopieret'!M871&\"&CandidateUpdateCode=\"&'PXS Kopieret'!N871&\"&Locale=en&CustomFormID=11612\",\"Docs\"),\"\")","v":""},{"$f":"'PXS Kopieret'!A871","v":0},{"$f":"'PXS Kopieret'!B871","v":0},{"$f":"'PXS Kopieret'!C871","v":0},{"$f":"'PXS Kopieret'!D871","v":0},{"$f":"IF($A871<>\"PhD Student\",'PXS Kopieret'!E871,\"\")","v":0},{"$f":"IF($A871=\"PhD Student\",'PXS Kopieret'!F871,\"\")","v":""},{"$f":"'PXS Kopieret'!G871","v":0},{"$f":"'PXS Kopieret'!H871","v":0},{"$f":"IF($A871=\"PhD Student\",'PXS Kopieret'!I871,\"\")","v":""},{"$f":"'PXS Kopieret'!J871","v":0},{"$f":"'PXS Kopieret'!K871","v":0},{"$f":"'PXS Kopieret'!L871","v":0}]
["",{"$f":"IF('PXS Kopieret'!N872<>\"\",HYPERLINK(\"https://ssl1.peoplexs.com/Peoplexs22/eFormportal/eForm.cfm?CandidateUpdateID=\"&'PXS Kopieret'!M872&\"&CandidateUpdateCode=\"&'PXS Kopieret'!N872&\"&Locale=en&CustomFormID=11612\",\"Docs\"),\"\")","v":""},{"$f":"'PXS Kopieret'!A872","v":0},{"$f":"'PXS Kopieret'!B872","v":0},{"$f":"'PXS Kopieret'!C872","v":0},{"$f":"'PXS Kopieret'!D872","v":0},{"$f":"IF($A872<>\"PhD Student\",'PXS Kopieret'!E872,\"\")","v":0},{"$f":"IF($A872=\"PhD Student\",'PXS Kopieret'!F872,\"\")","v":""},{"$f":"'PXS Kopieret'!G872","v":0},{"$f":"'PXS Kopieret'!H872","v":0},{"$f":"IF($A872=\"PhD Student\",'PXS Kopieret'!I872,\"\")","v":""},{"$f":"'PXS Kopieret'!J872","v":0},{"$f":"'PXS Kopieret'!K872","v":0},{"$f":"'PXS Kopieret'!L872","v":0}]
["",{"$f":"IF('PXS Kopieret'!N873<>\"\",HYPERLINK(\"https://ssl1.peoplexs.com/Peoplexs22/eFormportal/eForm.cfm?CandidateUpdateID=\"&'PXS Kopieret'!M873&\"&CandidateUpdateCode=\"&'PXS Kopieret'!N873&\"&Locale=en&CustomFormID=11612\",\"Docs\"),\"\")","v":""},{"$f":"'PXS Kopieret'!A873","v":0},{"$f":"'PXS Kopieret'!B873","v":0},{"$f":"'PXS Kopieret'!C873","v":0},{"$f":"'PXS Kopieret'!D873","v":0},{"$f":"IF($A873<>\"PhD Student\",'PXS Kopieret'!E873,\"\")","v":0},{"$f":"IF($A873=\"PhD Student\",'PXS Kopieret'!F873,\"\")","v":""},{"$f":"'PXS Kopieret'!G873","v":0},{"$f":"'PXS Kopieret'!H873","v":0},{"$f":"IF($A873=\"PhD Student\",'PXS Kopieret'!I873,\"\")","v":""},{"$f":"'PXS Kopieret'!J873","v":0},{"$f":"'PXS Kopieret'!K873","v":0},{"$f":"'PXS Kopieret'!L873","v":0}]
["",{"$f":"IF('PXS Kopieret'!N874<>\"\",HYPERLINK(\"https://ssl1.peoplexs.com/Peoplexs22/eFormportal/eForm.cfm?CandidateUpdateID=\"&'PXS Kopieret'!M874&\"&CandidateUpdateCode=\"&'PXS Kopieret'!N874&\"&Locale=en&CustomFormID=11612\",\"Docs\"),\"\")","v":""},{"$f":"'PXS Kopieret'!A874","v":0},{"$f":"'PXS Kopieret'!B874","v":0},{"$f":"'PXS Kopieret'!C874","v":0},{"$f":"'PXS Kopieret'!D874","v":0},{"$f":"IF($A874<>\"PhD Student\",'PXS Kopieret'!E874,\"\")","v":0},{"$f":"IF($A874=\"PhD Student\",'PXS Kopieret'!F874,\"\")","v":""},{"$f":"'PXS Kopieret'!G874","v":0},{"$f":"'PXS Kopieret'!H874","v":0},{"$f":"IF($A874=\"PhD Student\",'PXS Kopieret'!I874,\"\")","v":""},{"$f":"'PXS Kopieret'!J874","v":0},{"$f":"'PXS Kopieret'!K874","v":0},{"$f":"'PXS Kopieret'!L874","v":0}]
["",{"$f":"IF('PXS Kopieret'!N875<>\"\",HYPERLINK(\"https://ssl1.peoplexs.com/Peoplexs22/eFormportal/eForm.cfm?CandidateUpdateID=\"&'PXS Kopieret'!M875&\"&CandidateUpdateCode=\"&'PXS Kopieret'!N875&\"&Locale=en&CustomFormID=11612\",\"Docs\"),\"\")","v":""},{"$f":"'PXS Kopieret'!A875","v":0},{"$f":"'PXS Kopieret'!B875","v":0},{"$f":"'PXS Kopieret'!C875","v":0},{"$f":"'PXS Kopieret'!D875","v":0},{"$f":"IF($A875<>\"PhD Student\",'PXS Kopieret'!E875,\"\")","v":0},{"$f":"IF($A875=\"PhD Student\",'PXS Kopieret'!F875,\"\")","v":""},{"$f":"'PXS Kopieret'!G875","v":0},{"$f":"'PXS Kopieret'!H875","v":0},{"$f":"IF($A875=\"PhD Student\",'PXS Kopieret'!I875,\"\")","v":""},{"$f":"'PXS Kopieret'!J875","v":0},{"$f":"'PXS Kopieret'!K875","v":0},{"$f":"'PXS Kopieret'!L875","v":0}]
["",{"$f":"IF('PXS Kopieret'!N876<>\"\",HYPERLINK(\"https://ssl1.peoplexs.com/Peoplexs22/eFormportal/eForm.cfm?CandidateUpdateID=\"&'PXS Kopieret'!M876&\"&CandidateUpdateCode=\"&'PXS Kopieret'!N876&\"&Locale=en&CustomFormID=11612\",\"Docs\"),\"\")","v":""},{"$f":"'PXS Kopieret'!A876","v":0},{"$f":"'PXS Kopieret'!B876","v":0},{"$f":"'PXS Kopieret'!C876","v":0},{"$f":"'PXS Kopieret'!D876","v":0},{"$f":"IF($A876<>\"PhD Student\",'PXS Kopieret'!E876,\"\")","v":0},{"$f":"IF($A876=\"PhD Student\",'PXS Kopieret'!F876,\"\")","v":""},{"$f":"'PXS Kopieret'!G876","v":0},{"$f":"'PXS Kopieret'!H876","v":0},{"$f":"IF($A876=\"PhD Student\",'PXS Kopieret'!I876,\"\")","v":""},{"$f":"'PXS Kopieret'!J876","v":0},{"$f":"'PXS Kopieret'!K876","v":0},{"$f":"'PXS Kopieret'!L876","v":0}]
["",{"$f":"IF('PXS Kopieret'!N877<>\"\",HYPERLINK(\"https://ssl1.peoplexs.com/Peoplexs22/eFormportal/eForm.cfm?CandidateUpdateID=\"&'PXS Kopieret'!M877&\"&CandidateUpdateCode=\"&'PXS Kopieret'!N877&\"&Locale=en&CustomFormID=11612\",\"Docs\"),\"\")","v":""},{"$f":"'PXS Kopieret'!A877","v":0},{"$f":"'PXS Kopieret'!B877","v":0},{"$f":"'PXS Kopieret'!C877","v":0},{"$f":"'PXS Kopieret'!D877","v":0},{"$f":"IF($A877<>\"PhD Student\",'PXS Kopieret'!E877,\"\")","v":0},{"$f":"IF($A877=\"PhD Student\",'PXS Kopieret'!F877,\"\")","v":""},{"$f":"'PXS Kopieret'!G877","v":0},{"$f":"'PXS Kopieret'!H877","v":0},{"$f":"IF($A877=\"PhD Student\",'PXS Kopieret'!I877,\"\")","v":""},{"$f":"'PXS Kopieret'!J877","v":0},{"$f":"'PXS Kopieret'!K877","v":0},{"$f":"'PXS Kopieret'!L877","v":0}]
["",{"$f":"IF('PXS Kopieret'!N878<>\"\",HYPERLINK(\"https://ssl1.peoplexs.com/Peoplexs22/eFormportal/eForm.cfm?CandidateUpdateID=\"&'PXS Kopieret'!M878&\"&CandidateUpdateCode=\"&'PXS Kopieret'!N878&\"&Locale=en&CustomFormID=11612\",\"Docs\"),\"\")","v":""},{"$f":"'PXS Kopieret'!A878","v":0},{"$f":"'PXS Kopieret'!B878","v":0},{"$f":"'PXS Kopieret'!C878","v":0},{"$f":"'PXS Kopieret'!D878","v":0},{"$f":"IF($A878<>\"PhD Student\",'PXS Kopieret'!E878,\"\")","v":0},{"$f":"IF($A878=\"PhD Student\",'PXS Kopieret'!F878,\"\")","v":""},{"$f":"'PXS Kopieret'!G878","v":0},{"$f":"'PXS Kopieret'!H878","v":0},{"$f":"IF($A878=\"PhD Student\",'PXS Kopieret'!I878,\"\")","v":""},{"$f":"'PXS Kopieret'!J878","v":0},{"$f":"'PXS Kopieret'!K878","v":0},{"$f":"'PXS Kopieret'!L878","v":0}]
["",{"$f":"IF('PXS Kopieret'!N879<>\"\",HYPERLINK(\"https://ssl1.peoplexs.com/Peoplexs22/eFormportal/eForm.cfm?CandidateUpdateID=\"&'PXS Kopieret'!M879&\"&CandidateUpdateCode=\"&'PXS Kopieret'!N879&\"&Locale=en&CustomFormID=11612\",\"Docs\"),\"\")","v":""},{"$f":"'PXS Kopieret'!A879","v":0},{"$f":"'PXS Kopieret'!B879","v":0},{"$f":"'PXS Kopieret'!C879","v":0},{"$f":"'PXS Kopieret'!D879","v":0},{"$f":"IF($A879<>\"PhD Student\",'PXS Kopieret'!E879,\"\")","v":0},{"$f":"IF($A879=\"PhD Student\",'PXS Kopieret'!F879,\"\")","v":""},{"$f":"'PXS Kopieret'!G879","v":0},{"$f":"'PXS Kopieret'!H879","v":0},{"$f":"IF($A879=\"PhD Student\",'PXS Kopieret'!I879,\"\")","v":""},{"$f":"'PXS Kopieret'!J879","v":0},{"$f":"'PXS Kopieret'!K879","v":0},{"$f":"'PXS Kopieret'!L879","v":0}]
["",{"$f":"IF('PXS Kopieret'!N880<>\"\",HYPERLINK(\"https://ssl1.peoplexs.com/Peoplexs22/eFormportal/eForm.cfm?CandidateUpdateID=\"&'PXS Kopieret'!M880&\"&CandidateUpdateCode=\"&'PXS Kopieret'!N880&\"&Locale=en&CustomFormID=11612\",\"Docs\"),\"\")","v":""},{"$f":"'PXS Kopieret'!A880","v":0},{"$f":"'PXS Kopieret'!B880","v":0},{"$f":"'PXS Kopieret'!C880","v":0},{"$f":"'PXS Kopieret'!D880","v":0},{"$f":"IF($A880<>\"PhD Student\",'PXS Kopieret'!E880,\"\")","v":0},{"$f":"IF($A880=\"PhD Student\",'PXS Kopieret'!F880,\"\")","v":""},{"$f":"'PXS Kopieret'!G880","v":0},{"$f":"'PXS Kopieret'!H880","v":0},{"$f":"IF($A880=\"PhD Student\",'PXS Kopieret'!I880,\"\")","v":""},{"$f":"'PXS Kopieret'!J880","v":0},{"$f":"'PXS Kopieret'!K880","v":0},{"$f":"'PXS Kopieret'!L880","v":0}]
["",{"$f":"IF('PXS Kopieret'!N881<>\"\",HYPERLINK(\"https://ssl1.peoplexs.com/Peoplexs22/eFormportal/eForm.cfm?CandidateUpdateID=\"&'PXS Kopieret'!M881&\"&CandidateUpdateCode=\"&'PXS Kopieret'!N881&\"&Locale=en&CustomFormID=11612\",\"Docs\"),\"\")","v":""},{"$f":"'PXS Kopieret'!A881","v":0},{"$f":"'PXS Kopieret'!B881","v":0},{"$f":"'PXS Kopieret'!C881","v":0},{"$f":"'PXS Kopieret'!D881","v":0},{"$f":"IF($A881<>\"PhD Student\",'PXS Kopieret'!E881,\"\")","v":0},{"$f":"IF($A881=\"PhD Student\",'PXS Kopieret'!F881,\"\")","v":""},{"$f":"'PXS Kopieret'!G881","v":0},{"$f":"'PXS Kopieret'!H881","v":0},{"$f":"IF($A881=\"PhD Student\",'PXS Kopieret'!I881,\"\")","v":""},{"$f":"'PXS Kopieret'!J881","v":0},{"$f":"'PXS Kopieret'!K881","v":0},{"$f":"'PXS Kopieret'!L881","v":0}]
["",{"$f":"IF('PXS Kopieret'!N882<>\"\",HYPERLINK(\"https://ssl1.peoplexs.com/Peoplexs22/eFormportal/eForm.cfm?CandidateUpdateID=\"&'PXS Kopieret'!M882&\"&CandidateUpdateCode=\"&'PXS Kopieret'!N882&\"&Locale=en&CustomFormID=11612\",\"Docs\"),\"\")","v":""},{"$f":"'PXS Kopieret'!A882","v":0},{"$f":"'PXS Kopieret'!B882","v":0},{"$f":"'PXS Kopieret'!C882","v":0},{"$f":"'PXS Kopieret'!D882","v":0},{"$f":"IF($A882<>\"PhD Student\",'PXS Kopieret'!E882,\"\")","v":0},{"$f":"IF($A882=\"PhD Student\",'PXS Kopieret'!F882,\"\")","v":""},{"$f":"'PXS Kopieret'!G882","v":0},{"$f":"'PXS Kopieret'!H882","v":0},{"$f":"IF($A882=\"PhD Student\",'PXS Kopieret'!I882,\"\")","v":""},{"$f":"'PXS Kopieret'!J882","v":0},{"$f":"'PXS Kopieret'!K882","v":0},{"$f":"'PXS Kopieret'!L882","v":0}]
["",{"$f":"IF('PXS Kopieret'!N883<>\"\",HYPERLINK(\"https://ssl1.peoplexs.com/Peoplexs22/eFormportal/eForm.cfm?CandidateUpdateID=\"&'PXS Kopieret'!M883&\"&CandidateUpdateCode=\"&'PXS Kopieret'!N883&\"&Locale=en&CustomFormID=11612\",\"Docs\"),\"\")","v":""},{"$f":"'PXS Kopieret'!A883","v":0},{"$f":"'PXS Kopieret'!B883","v":0},{"$f":"'PXS Kopieret'!C883","v":0},{"$f":"'PXS Kopieret'!D883","v":0},{"$f":"IF($A883<>\"PhD Student\",'PXS Kopieret'!E883,\"\")","v":0},{"$f":"IF($A883=\"PhD Student\",'PXS Kopieret'!F883,\"\")","v":""},{"$f":"'PXS Kopieret'!G883","v":0},{"$f":"'PXS Kopieret'!H883","v":0},{"$f":"IF($A883=\"PhD Student\",'PXS Kopieret'!I883,\"\")","v":""},{"$f":"'PXS Kopieret'!J883","v":0},{"$f":"'PXS Kopieret'!K883","v":0},{"$f":"'PXS Kopieret'!L883","v":0}]
["",{"$f":"IF('PXS Kopieret'!N884<>\"\",HYPERLINK(\"https://ssl1.peoplexs.com/Peoplexs22/eFormportal/eForm.cfm?CandidateUpdateID=\"&'PXS Kopieret'!M884&\"&CandidateUpdateCode=\"&'PXS Kopieret'!N884&\"&Locale=en&CustomFormID=11612\",\"Docs\"),\"\")","v":""},{"$f":"'PXS Kopieret'!A884","v":0},{"$f":"'PXS Kopieret'!B884","v":0},{"$f":"'PXS Kopieret'!C884","v":0},{"$f":"'PXS Kopieret'!D884","v":0},{"$f":"IF($A884<>\"PhD Student\",'PXS Kopieret'!E884,\"\")","v":0},{"$f":"IF($A884=\"PhD Student\",'PXS Kopieret'!F884,\"\")","v":""},{"$f":"'PXS Kopieret'!G884","v":0},{"$f":"'PXS Kopieret'!H884","v":0},{"$f":"IF($A884=\"PhD Student\",'PXS Kopieret'!I884,\"\")","v":""},{"$f":"'PXS Kopieret'!J884","v":0},{"$f":"'PXS Kopieret'!K884","v":0},{"$f":"'PXS Kopieret'!L884","v":0}]
["",{"$f":"IF('PXS Kopieret'!N885<>\"\",HYPERLINK(\"https://ssl1.peoplexs.com/Peoplexs22/eFormportal/eForm.cfm?CandidateUpdateID=\"&'PXS Kopieret'!M885&\"&CandidateUpdateCode=\"&'PXS Kopieret'!N885&\"&Locale=en&CustomFormID=11612\",\"Docs\"),\"\")","v":""},{"$f":"'PXS Kopieret'!A885","v":0},{"$f":"'PXS Kopieret'!B885","v":0},{"$f":"'PXS Kopieret'!C885","v":0},{"$f":"'PXS Kopieret'!D885","v":0},{"$f":"IF($A885<>\"PhD Student\",'PXS Kopieret'!E885,\"\")","v":0},{"$f":"IF($A885=\"PhD Student\",'PXS Kopieret'!F885,\"\")","v":""},{"$f":"'PXS Kopieret'!G885","v":0},{"$f":"'PXS Kopieret'!H885","v":0},{"$f":"IF($A885=\"PhD Student\",'PXS Kopieret'!I885,\"\")","v":""},{"$f":"'PXS Kopieret'!J885","v":0},{"$f":"'PXS Kopieret'!K885","v":0},{"$f":"'PXS Kopieret'!L885","v":0}]
["",{"$f":"IF('PXS Kopieret'!N886<>\"\",HYPERLINK(\"https://ssl1.peoplexs.com/Peoplexs22/eFormportal/eForm.cfm?CandidateUpdateID=\"&'PXS Kopieret'!M886&\"&CandidateUpdateCode=\"&'PXS Kopieret'!N886&\"&Locale=en&CustomFormID=11612\",\"Docs\"),\"\")","v":""},{"$f":"'PXS Kopieret'!A886","v":0},{"$f":"'PXS Kopieret'!B886","v":0},{"$f":"'PXS Kopieret'!C886","v":0},{"$f":"'PXS Kopieret'!D886","v":0},{"$f":"IF($A886<>\"PhD Student\",'PXS Kopieret'!E886,\"\")","v":0},{"$f":"IF($A886=\"PhD Student\",'PXS Kopieret'!F886,\"\")","v":""},{"$f":"'PXS Kopieret'!G886","v":0},{"$f":"'PXS Kopieret'!H886","v":0},{"$f":"IF($A886=\"PhD Student\",'PXS Kopieret'!I886,\"\")","v":""},{"$f":"'PXS Kopieret'!J886","v":0},{"$f":"'PXS Kopieret'!K886","v":0},{"$f":"'PXS Kopieret'!L886","v":0}]
["",{"$f":"IF('PXS Kopieret'!N887<>\"\",HYPERLINK(\"https://ssl1.peoplexs.com/Peoplexs22/eFormportal/eForm.cfm?CandidateUpdateID=\"&'PXS Kopieret'!M887&\"&CandidateUpdateCode=\"&'PXS Kopieret'!N887&\"&Locale=en&CustomFormID=11612\",\"Docs\"),\"\")","v":""},{"$f":"'PXS Kopieret'!A887","v":0},{"$f":"'PXS Kopieret'!B887","v":0},{"$f":"'PXS Kopieret'!C887","v":0},{"$f":"'PXS Kopieret'!D887","v":0},{"$f":"IF($A887<>\"PhD Student\",'PXS Kopieret'!E887,\"\")","v":0},{"$f":"IF($A887=\"PhD Student\",'PXS Kopieret'!F887,\"\")","v":""},{"$f":"'PXS Kopieret'!G887","v":0},{"$f":"'PXS Kopieret'!H887","v":0},{"$f":"IF($A887=\"PhD Student\",'PXS Kopieret'!I887,\"\")","v":""},{"$f":"'PXS Kopieret'!J887","v":0},{"$f":"'PXS Kopieret'!K887","v":0},{"$f":"'PXS Kopieret'!L887","v":0}]
["",{"$f":"IF('PXS Kopieret'!N888<>\"\",HYPERLINK(\"https://ssl1.peoplexs.com/Peoplexs22/eFormportal/eForm.cfm?CandidateUpdateID=\"&'PXS Kopieret'!M888&\"&CandidateUpdateCode=\"&'PXS Kopieret'!N888&\"&Locale=en&CustomFormID=11612\",\"Docs\"),\"\")","v":""},{"$f":"'PXS Kopieret'!A888","v":0},{"$f":"'PXS Kopieret'!B888","v":0},{"$f":"'PXS Kopieret'!C888","v":0},{"$f":"'PXS Kopieret'!D888","v":0},{"$f":"IF($A888<>\"PhD Student\",'PXS Kopieret'!E888,\"\")","v":0},{"$f":"IF($A888=\"PhD Student\",'PXS Kopieret'!F888,\"\")","v":""},{"$f":"'PXS Kopieret'!G888","v":0},{"$f":"'PXS Kopieret'!H888","v":0},{"$f":"IF($A888=\"PhD Student\",'PXS Kopieret'!I888,\"\")","v":""},{"$f":"'PXS Kopieret'!J888","v":0},{"$f":"'PXS Kopieret'!K888","v":0},{"$f":"'PXS Kopieret'!L888","v":0}]
["",{"$f":"IF('PXS Kopieret'!N889<>\"\",HYPERLINK(\"https://ssl1.peoplexs.com/Peoplexs22/eFormportal/eForm.cfm?CandidateUpdateID=\"&'PXS Kopieret'!M889&\"&CandidateUpdateCode=\"&'PXS Kopieret'!N889&\"&Locale=en&CustomFormID=11612\",\"Docs\"),\"\")","v":""},{"$f":"'PXS Kopieret'!A889","v":0},{"$f":"'PXS Kopieret'!B889","v":0},{"$f":"'PXS Kopieret'!C889","v":0},{"$f":"'PXS Kopieret'!D889","v":0},{"$f":"IF($A889<>\"PhD Student\",'PXS Kopieret'!E889,\"\")","v":0},{"$f":"IF($A889=\"PhD Student\",'PXS Kopieret'!F889,\"\")","v":""},{"$f":"'PXS Kopieret'!G889","v":0},{"$f":"'PXS Kopieret'!H889","v":0},{"$f":"IF($A889=\"PhD Student\",'PXS Kopieret'!I889,\"\")","v":""},{"$f":"'PXS Kopieret'!J889","v":0},{"$f":"'PXS Kopieret'!K889","v":0},{"$f":"'PXS Kopieret'!L889","v":0}]
["",{"$f":"IF('PXS Kopieret'!N890<>\"\",HYPERLINK(\"https://ssl1.peoplexs.com/Peoplexs22/eFormportal/eForm.cfm?CandidateUpdateID=\"&'PXS Kopieret'!M890&\"&CandidateUpdateCode=\"&'PXS Kopieret'!N890&\"&Locale=en&CustomFormID=11612\",\"Docs\"),\"\")","v":""},{"$f":"'PXS Kopieret'!A890","v":0},{"$f":"'PXS Kopieret'!B890","v":0},{"$f":"'PXS Kopieret'!C890","v":0},{"$f":"'PXS Kopieret'!D890","v":0},{"$f":"IF($A890<>\"PhD Student\",'PXS Kopieret'!E890,\"\")","v":0},{"$f":"IF($A890=\"PhD Student\",'PXS Kopieret'!F890,\"\")","v":""},{"$f":"'PXS Kopieret'!G890","v":0},{"$f":"'PXS Kopieret'!H890","v":0},{"$f":"IF($A890=\"PhD Student\",'PXS Kopieret'!I890,\"\")","v":""},{"$f":"'PXS Kopieret'!J890","v":0},{"$f":"'PXS Kopieret'!K890","v":0},{"$f":"'PXS Kopieret'!L890","v":0}]
["",{"$f":"IF('PXS Kopieret'!N891<>\"\",HYPERLINK(\"https://ssl1.peoplexs.com/Peoplexs22/eFormportal/eForm.cfm?CandidateUpdateID=\"&'PXS Kopieret'!M891&\"&CandidateUpdateCode=\"&'PXS Kopieret'!N891&\"&Locale=en&CustomFormID=11612\",\"Docs\"),\"\")","v":""},{"$f":"'PXS Kopieret'!A891","v":0},{"$f":"'PXS Kopieret'!B891","v":0},{"$f":"'PXS Kopieret'!C891","v":0},{"$f":"'PXS Kopieret'!D891","v":0},{"$f":"IF($A891<>\"PhD Student\",'PXS Kopieret'!E891,\"\")","v":0},{"$f":"IF($A891=\"PhD Student\",'PXS Kopieret'!F891,\"\")","v":""},{"$f":"'PXS Kopieret'!G891","v":0},{"$f":"'PXS Kopieret'!H891","v":0},{"$f":"IF($A891=\"PhD Student\",'PXS Kopieret'!I891,\"\")","v":""},{"$f":"'PXS Kopieret'!J891","v":0},{"$f":"'PXS Kopieret'!K891","v":0},{"$f":"'PXS Kopieret'!L891","v":0}]
["",{"$f":"IF('PXS Kopieret'!N892<>\"\",HYPERLINK(\"https://ssl1.peoplexs.com/Peoplexs22/eFormportal/eForm.cfm?CandidateUpdateID=\"&'PXS Kopieret'!M892&\"&CandidateUpdateCode=\"&'PXS Kopieret'!N892&\"&Locale=en&CustomFormID=11612\",\"Docs\"),\"\")","v":""},{"$f":"'PXS Kopieret'!A892","v":0},{"$f":"'PXS Kopieret'!B892","v":0},{"$f":"'PXS Kopieret'!C892","v":0},{"$f":"'PXS Kopieret'!D892","v":0},{"$f":"IF($A892<>\"PhD Student\",'PXS Kopieret'!E892,\"\")","v":0},{"$f":"IF($A892=\"PhD Student\",'PXS Kopieret'!F892,\"\")","v":""},{"$f":"'PXS Kopieret'!G892","v":0},{"$f":"'PXS Kopieret'!H892","v":0},{"$f":"IF($A892=\"PhD Student\",'PXS Kopieret'!I892,\"\")","v":""},{"$f":"'PXS Kopieret'!J892","v":0},{"$f":"'PXS Kopieret'!K892","v":0},{"$f":"'PXS Kopieret'!L892","v":0}]
["",{"$f":"IF('PXS Kopieret'!N893<>\"\",HYPERLINK(\"https://ssl1.peoplexs.com/Peoplexs22/eFormportal/eForm.cfm?CandidateUpdateID=\"&'PXS Kopieret'!M893&\"&CandidateUpdateCode=\"&'PXS Kopieret'!N893&\"&Locale=en&CustomFormID=11612\",\"Docs\"),\"\")","v":""},{"$f":"'PXS Kopieret'!A893","v":0},{"$f":"'PXS Kopieret'!B893","v":0},{"$f":"'PXS Kopieret'!C893","v":0},{"$f":"'PXS Kopieret'!D893","v":0},{"$f":"IF($A893<>\"PhD Student\",'PXS Kopieret'!E893,\"\")","v":0},{"$f":"IF($A893=\"PhD Student\",'PXS Kopieret'!F893,\"\")","v":""},{"$f":"'PXS Kopieret'!G893","v":0},{"$f":"'PXS Kopieret'!H893","v":0},{"$f":"IF($A893=\"PhD Student\",'PXS Kopieret'!I893,\"\")","v":""},{"$f":"'PXS Kopieret'!J893","v":0},{"$f":"'PXS Kopieret'!K893","v":0},{"$f":"'PXS Kopieret'!L893","v":0}]
["",{"$f":"IF('PXS Kopieret'!N894<>\"\",HYPERLINK(\"https://ssl1.peoplexs.com/Peoplexs22/eFormportal/eForm.cfm?CandidateUpdateID=\"&'PXS Kopieret'!M894&\"&CandidateUpdateCode=\"&'PXS Kopieret'!N894&\"&Locale=en&CustomFormID=11612\",\"Docs\"),\"\")","v":""},{"$f":"'PXS Kopieret'!A894","v":0},{"$f":"'PXS Kopieret'!B894","v":0},{"$f":"'PXS Kopieret'!C894","v":0},{"$f":"'PXS Kopieret'!D894","v":0},{"$f":"IF($A894<>\"PhD Student\",'PXS Kopieret'!E894,\"\")","v":0},{"$f":"IF($A894=\"PhD Student\",'PXS Kopieret'!F894,\"\")","v":""},{"$f":"'PXS Kopieret'!G894","v":0},{"$f":"'PXS Kopieret'!H894","v":0},{"$f":"IF($A894=\"PhD Student\",'PXS Kopieret'!I894,\"\")","v":""},{"$f":"'PXS Kopieret'!J894","v":0},{"$f":"'PXS Kopieret'!K894","v":0},{"$f":"'PXS Kopieret'!L894","v":0}]
["",{"$f":"IF('PXS Kopieret'!N895<>\"\",HYPERLINK(\"https://ssl1.peoplexs.com/Peoplexs22/eFormportal/eForm.cfm?CandidateUpdateID=\"&'PXS Kopieret'!M895&\"&CandidateUpdateCode=\"&'PXS Kopieret'!N895&\"&Locale=en&CustomFormID=11612\",\"Docs\"),\"\")","v":""},{"$f":"'PXS Kopieret'!A895","v":0},{"$f":"'PXS Kopieret'!B895","v":0},{"$f":"'PXS Kopieret'!C895","v":0},{"$f":"'PXS Kopieret'!D895","v":0},{"$f":"IF($A895<>\"PhD Student\",'PXS Kopieret'!E895,\"\")","v":0},{"$f":"IF($A895=\"PhD Student\",'PXS Kopieret'!F895,\"\")","v":""},{"$f":"'PXS Kopieret'!G895","v":0},{"$f":"'PXS Kopieret'!H895","v":0},{"$f":"IF($A895=\"PhD Student\",'PXS Kopieret'!I895,\"\")","v":""},{"$f":"'PXS Kopieret'!J895","v":0},{"$f":"'PXS Kopieret'!K895","v":0},{"$f":"'PXS Kopieret'!L895","v":0}]
["",{"$f":"IF('PXS Kopieret'!N896<>\"\",HYPERLINK(\"https://ssl1.peoplexs.com/Peoplexs22/eFormportal/eForm.cfm?CandidateUpdateID=\"&'PXS Kopieret'!M896&\"&CandidateUpdateCode=\"&'PXS Kopieret'!N896&\"&Locale=en&CustomFormID=11612\",\"Docs\"),\"\")","v":""},{"$f":"'PXS Kopieret'!A896","v":0},{"$f":"'PXS Kopieret'!B896","v":0},{"$f":"'PXS Kopieret'!C896","v":0},{"$f":"'PXS Kopieret'!D896","v":0},{"$f":"IF($A896<>\"PhD Student\",'PXS Kopieret'!E896,\"\")","v":0},{"$f":"IF($A896=\"PhD Student\",'PXS Kopieret'!F896,\"\")","v":""},{"$f":"'PXS Kopieret'!G896","v":0},{"$f":"'PXS Kopieret'!H896","v":0},{"$f":"IF($A896=\"PhD Student\",'PXS Kopieret'!I896,\"\")","v":""},{"$f":"'PXS Kopieret'!J896","v":0},{"$f":"'PXS Kopieret'!K896","v":0},{"$f":"'PXS Kopieret'!L896","v":0}]
["",{"$f":"IF('PXS Kopieret'!N897<>\"\",HYPERLINK(\"https://ssl1.peoplexs.com/Peoplexs22/eFormportal/eForm.cfm?CandidateUpdateID=\"&'PXS Kopieret'!M897&\"&CandidateUpdateCode=\"&'PXS Kopieret'!N897&\"&Locale=en&CustomFormID=11612\",\"Docs\"),\"\")","v":""},{"$f":"'PXS Kopieret'!A897","v":0},{"$f":"'PXS Kopieret'!B897","v":0},{"$f":"'PXS Kopieret'!C897","v":0},{"$f":"'PXS Kopieret'!D897","v":0},{"$f":"IF($A897<>\"PhD Student\",'PXS Kopieret'!E897,\"\")","v":0},{"$f":"IF($A897=\"PhD Student\",'PXS Kopieret'!F897,\"\")","v":""},{"$f":"'PXS Kopieret'!G897","v":0},{"$f":"'PXS Kopieret'!H897","v":0},{"$f":"IF($A897=\"PhD Student\",'PXS Kopieret'!I897,\"\")","v":""},{"$f":"'PXS Kopieret'!J897","v":0},{"$f":"'PXS Kopieret'!K897","v":0},{"$f":"'PXS Kopieret'!L897","v":0}]
["",{"$f":"IF('PXS Kopieret'!N898<>\"\",HYPERLINK(\"https://ssl1.peoplexs.com/Peoplexs22/eFormportal/eForm.cfm?CandidateUpdateID=\"&'PXS Kopieret'!M898&\"&CandidateUpdateCode=\"&'PXS Kopieret'!N898&\"&Locale=en&CustomFormID=11612\",\"Docs\"),\"\")","v":""},{"$f":"'PXS Kopieret'!A898","v":0},{"$f":"'PXS Kopieret'!B898","v":0},{"$f":"'PXS Kopieret'!C898","v":0},{"$f":"'PXS Kopieret'!D898","v":0},{"$f":"IF($A898<>\"PhD Student\",'PXS Kopieret'!E898,\"\")","v":0},{"$f":"IF($A898=\"PhD Student\",'PXS Kopieret'!F898,\"\")","v":""},{"$f":"'PXS Kopieret'!G898","v":0},{"$f":"'PXS Kopieret'!H898","v":0},{"$f":"IF($A898=\"PhD Student\",'PXS Kopieret'!I898,\"\")","v":""},{"$f":"'PXS Kopieret'!J898","v":0},{"$f":"'PXS Kopieret'!K898","v":0},{"$f":"'PXS Kopieret'!L898","v":0}]
[{"$f":"IF(LEFT(C899,2)=\"RY\", \"Research Year Student\", IF(C899=0,\"\",\"PhD Student\"))","v":""},{"$f":"IF('PXS Kopieret'!N899<>\"\",HYPERLINK(\"https://ssl1.peoplexs.com/Peoplexs22/eFormportal/eForm.cfm?CandidateUpdateID=\"&'PXS Kopieret'!M899&\"&CandidateUpdateCode=\"&'PXS Kopieret'!N899&\"&Locale=en&CustomFormID=11612\",\"Docs\"),\"\")","v":""},{"$f":"'PXS Kopieret'!A899","v":0},{"$f":"'PXS Kopieret'!B899","v":0},{"$f":"'PXS Kopieret'!C899","v":0},{"$f":"'PXS Kopieret'!D899","v":0},{"$f":"IF($A899<>\"PhD Student\",'PXS Kopieret'!E899,\"\")","v":0},{"$f":"IF($A899=\"PhD Student\",'PXS Kopieret'!F899,\"\")","v":""},{"$f":"'PXS Kopieret'!G899","v":0},{"$f":"'PXS Kopieret'!H899","v":0},{"$f":"IF($A899=\"PhD Student\",'PXS Kopieret'!I899,\"\")","v":""},{"$f":"'PXS Kopieret'!J899","v":0},{"$f":"'PXS Kopieret'!K899","v":0},{"$f":"'PXS Kopieret'!L899","v":0}]
["",{"$f":"IF('PXS Kopieret'!N900<>\"\",HYPERLINK(\"https://ssl1.peoplexs.com/Peoplexs22/eFormportal/eForm.cfm?CandidateUpdateID=\"&'PXS Kopieret'!M900&\"&CandidateUpdateCode=\"&'PXS Kopieret'!N900&\"&Locale=en&CustomFormID=11612\",\"Docs\"),\"\")","v":""},{"$f":"'PXS Kopieret'!A900","v":0},{"$f":"'PXS Kopieret'!B900","v":0},{"$f":"'PXS Kopieret'!C900","v":0},{"$f":"'PXS Kopieret'!D900","v":0},{"$f":"IF($A900<>\"PhD Student\",'PXS Kopieret'!E900,\"\")","v":0},{"$f":"IF($A900=\"PhD Student\",'PXS Kopieret'!F900,\"\")","v":""},{"$f":"'PXS Kopieret'!G900","v":0},{"$f":"'PXS Kopieret'!H900","v":0},{"$f":"IF($A900=\"PhD Student\",'PXS Kopieret'!I900,\"\")","v":""},{"$f":"'PXS Kopieret'!J900","v":0},{"$f":"'PXS Kopieret'!K900","v":0},{"$f":"'PXS Kopieret'!L900","v":0}]
["",{"$f":"IF('PXS Kopieret'!N901<>\"\",HYPERLINK(\"https://ssl1.peoplexs.com/Peoplexs22/eFormportal/eForm.cfm?CandidateUpdateID=\"&'PXS Kopieret'!M901&\"&CandidateUpdateCode=\"&'PXS Kopieret'!N901&\"&Locale=en&CustomFormID=11612\",\"Docs\"),\"\")","v":""},{"$f":"'PXS Kopieret'!A901","v":0},{"$f":"'PXS Kopieret'!B901","v":0},{"$f":"'PXS Kopieret'!C901","v":0},{"$f":"'PXS Kopieret'!D901","v":0},{"$f":"IF($A901<>\"PhD Student\",'PXS Kopieret'!E901,\"\")","v":0},{"$f":"IF($A901=\"PhD Student\",'PXS Kopieret'!F901,\"\")","v":""},{"$f":"'PXS Kopieret'!G901","v":0},{"$f":"'PXS Kopieret'!H901","v":0},{"$f":"IF($A901=\"PhD Student\",'PXS Kopieret'!I901,\"\")","v":""},{"$f":"'PXS Kopieret'!J901","v":0},{"$f":"'PXS Kopieret'!K901","v":0},{"$f":"'PXS Kopieret'!L901","v":0}]
["",{"$f":"IF('PXS Kopieret'!N902<>\"\",HYPERLINK(\"https://ssl1.peoplexs.com/Peoplexs22/eFormportal/eForm.cfm?CandidateUpdateID=\"&'PXS Kopieret'!M902&\"&CandidateUpdateCode=\"&'PXS Kopieret'!N902&\"&Locale=en&CustomFormID=11612\",\"Docs\"),\"\")","v":""},{"$f":"'PXS Kopieret'!A902","v":0},{"$f":"'PXS Kopieret'!B902","v":0},{"$f":"'PXS Kopieret'!C902","v":0},{"$f":"'PXS Kopieret'!D902","v":0},{"$f":"IF($A902<>\"PhD Student\",'PXS Kopieret'!E902,\"\")","v":0},{"$f":"IF($A902=\"PhD Student\",'PXS Kopieret'!F902,\"\")","v":""},{"$f":"'PXS Kopieret'!G902","v":0},{"$f":"'PXS Kopieret'!H902","v":0},{"$f":"IF($A902=\"PhD Student\",'PXS Kopieret'!I902,\"\")","v":""},{"$f":"'PXS Kopieret'!J902","v":0},{"$f":"'PXS Kopieret'!K902","v":0},{"$f":"'PXS Kopieret'!L902","v":0}]
["",{"$f":"IF('PXS Kopieret'!N903<>\"\",HYPERLINK(\"https://ssl1.peoplexs.com/Peoplexs22/eFormportal/eForm.cfm?CandidateUpdateID=\"&'PXS Kopieret'!M903&\"&CandidateUpdateCode=\"&'PXS Kopieret'!N903&\"&Locale=en&CustomFormID=11612\",\"Docs\"),\"\")","v":""},{"$f":"'PXS Kopieret'!A903","v":0},{"$f":"'PXS Kopieret'!B903","v":0},{"$f":"'PXS Kopieret'!C903","v":0},{"$f":"'PXS Kopieret'!D903","v":0},{"$f":"IF($A903<>\"PhD Student\",'PXS Kopieret'!E903,\"\")","v":0},{"$f":"IF($A903=\"PhD Student\",'PXS Kopieret'!F903,\"\")","v":""},{"$f":"'PXS Kopieret'!G903","v":0},{"$f":"'PXS Kopieret'!H903","v":0},{"$f":"IF($A903=\"PhD Student\",'PXS Kopieret'!I903,\"\")","v":""},{"$f":"'PXS Kopieret'!J903","v":0},{"$f":"'PXS Kopieret'!K903","v":0},{"$f":"'PXS Kopieret'!L903","v":0}]
["",{"$f":"IF('PXS Kopieret'!N904<>\"\",HYPERLINK(\"https://ssl1.peoplexs.com/Peoplexs22/eFormportal/eForm.cfm?CandidateUpdateID=\"&'PXS Kopieret'!M904&\"&CandidateUpdateCode=\"&'PXS Kopieret'!N904&\"&Locale=en&CustomFormID=11612\",\"Docs\"),\"\")","v":""},{"$f":"'PXS Kopieret'!A904","v":0},{"$f":"'PXS Kopieret'!B904","v":0},{"$f":"'PXS Kopieret'!C904","v":0},{"$f":"'PXS Kopieret'!D904","v":0},{"$f":"IF($A904<>\"PhD Student\",'PXS Kopieret'!E904,\"\")","v":0},{"$f":"IF($A904=\"PhD Student\",'PXS Kopieret'!F904,\"\")","v":""},{"$f":"'PXS Kopieret'!G904","v":0},{"$f":"'PXS Kopieret'!H904","v":0},{"$f":"IF($A904=\"PhD Student\",'PXS Kopieret'!I904,\"\")","v":""},{"$f":"'PXS Kopieret'!J904","v":0},{"$f":"'PXS Kopieret'!K904","v":0},{"$f":"'PXS Kopieret'!L904","v":0}]
["",{"$f":"IF('PXS Kopieret'!N905<>\"\",HYPERLINK(\"https://ssl1.peoplexs.com/Peoplexs22/eFormportal/eForm.cfm?CandidateUpdateID=\"&'PXS Kopieret'!M905&\"&CandidateUpdateCode=\"&'PXS Kopieret'!N905&\"&Locale=en&CustomFormID=11612\",\"Docs\"),\"\")","v":""},{"$f":"'PXS Kopieret'!A905","v":0},{"$f":"'PXS Kopieret'!B905","v":0},{"$f":"'PXS Kopieret'!C905","v":0},{"$f":"'PXS Kopieret'!D905","v":0},{"$f":"IF($A905<>\"PhD Student\",'PXS Kopieret'!E905,\"\")","v":0},{"$f":"IF($A905=\"PhD Student\",'PXS Kopieret'!F905,\"\")","v":""},{"$f":"'PXS Kopieret'!G905","v":0},{"$f":"'PXS Kopieret'!H905","v":0},{"$f":"IF($A905=\"PhD Student\",'PXS Kopieret'!I905,\"\")","v":""},{"$f":"'PXS Kopieret'!J905","v":0},{"$f":"'PXS Kopieret'!K905","v":0},{"$f":"'PXS Kopieret'!L905","v":0}]
["",{"$f":"IF('PXS Kopieret'!N906<>\"\",HYPERLINK(\"https://ssl1.peoplexs.com/Peoplexs22/eFormportal/eForm.cfm?CandidateUpdateID=\"&'PXS Kopieret'!M906&\"&CandidateUpdateCode=\"&'PXS Kopieret'!N906&\"&Locale=en&CustomFormID=11612\",\"Docs\"),\"\")","v":""},{"$f":"'PXS Kopieret'!A906","v":0},{"$f":"'PXS Kopieret'!B906","v":0},{"$f":"'PXS Kopieret'!C906","v":0},{"$f":"'PXS Kopieret'!D906","v":0},{"$f":"IF($A906<>\"PhD Student\",'PXS Kopieret'!E906,\"\")","v":0},{"$f":"IF($A906=\"PhD Student\",'PXS Kopieret'!F906,\"\")","v":""},{"$f":"'PXS Kopieret'!G906","v":0},{"$f":"'PXS Kopieret'!H906","v":0},{"$f":"IF($A906=\"PhD Student\",'PXS Kopieret'!I906,\"\")","v":""},{"$f":"'PXS Kopieret'!J906","v":0},{"$f":"'PXS Kopieret'!K906","v":0},{"$f":"'PXS Kopieret'!L906","v":0}]
["",{"$f":"IF('PXS Kopieret'!N907<>\"\",HYPERLINK(\"https://ssl1.peoplexs.com/Peoplexs22/eFormportal/eForm.cfm?CandidateUpdateID=\"&'PXS Kopieret'!M907&\"&CandidateUpdateCode=\"&'PXS Kopieret'!N907&\"&Locale=en&CustomFormID=11612\",\"Docs\"),\"\")","v":""},{"$f":"'PXS Kopieret'!A907","v":0},{"$f":"'PXS Kopieret'!B907","v":0},{"$f":"'PXS Kopieret'!C907","v":0},{"$f":"'PXS Kopieret'!D907","v":0},{"$f":"IF($A907<>\"PhD Student\",'PXS Kopieret'!E907,\"\")","v":0},{"$f":"IF($A907=\"PhD Student\",'PXS Kopieret'!F907,\"\")","v":""},{"$f":"'PXS Kopieret'!G907","v":0},{"$f":"'PXS Kopieret'!H907","v":0},{"$f":"IF($A907=\"PhD Student\",'PXS Kopieret'!I907,\"\")","v":""},{"$f":"'PXS Kopieret'!J907","v":0},{"$f":"'PXS Kopieret'!K907","v":0},{"$f":"'PXS Kopieret'!L907","v":0}]
["",{"$f":"IF('PXS Kopieret'!N908<>\"\",HYPERLINK(\"https://ssl1.peoplexs.com/Peoplexs22/eFormportal/eForm.cfm?CandidateUpdateID=\"&'PXS Kopieret'!M908&\"&CandidateUpdateCode=\"&'PXS Kopieret'!N908&\"&Locale=en&CustomFormID=11612\",\"Docs\"),\"\")","v":""},{"$f":"'PXS Kopieret'!A908","v":0},{"$f":"'PXS Kopieret'!B908","v":0},{"$f":"'PXS Kopieret'!C908","v":0},{"$f":"'PXS Kopieret'!D908","v":0},{"$f":"IF($A908<>\"PhD Student\",'PXS Kopieret'!E908,\"\")","v":0},{"$f":"IF($A908=\"PhD Student\",'PXS Kopieret'!F908,\"\")","v":""},{"$f":"'PXS Kopieret'!G908","v":0},{"$f":"'PXS Kopieret'!H908","v":0},{"$f":"IF($A908=\"PhD Student\",'PXS Kopieret'!I908,\"\")","v":""},{"$f":"'PXS Kopieret'!J908","v":0},{"$f":"'PXS Kopieret'!K908","v":0},{"$f":"'PXS Kopieret'!L908","v":0}]
["",{"$f":"IF('PXS Kopieret'!N909<>\"\",HYPERLINK(\"https://ssl1.peoplexs.com/Peoplexs22/eFormportal/eForm.cfm?CandidateUpdateID=\"&'PXS Kopieret'!M909&\"&CandidateUpdateCode=\"&'PXS Kopieret'!N909&\"&Locale=en&CustomFormID=11612\",\"Docs\"),\"\")","v":""},{"$f":"'PXS Kopieret'!A909","v":0},{"$f":"'PXS Kopieret'!B909","v":0},{"$f":"'PXS Kopieret'!C909","v":0},{"$f":"'PXS Kopieret'!D909","v":0},{"$f":"IF($A909<>\"PhD Student\",'PXS Kopieret'!E909,\"\")","v":0},{"$f":"IF($A909=\"PhD Student\",'PXS Kopieret'!F909,\"\")","v":""},{"$f":"'PXS Kopieret'!G909","v":0},{"$f":"'PXS Kopieret'!H909","v":0},{"$f":"IF($A909=\"PhD Student\",'PXS Kopieret'!I909,\"\")","v":""},{"$f":"'PXS Kopieret'!J909","v":0},{"$f":"'PXS Kopieret'!K909","v":0},{"$f":"'PXS Kopieret'!L909","v":0}]
["",{"$f":"IF('PXS Kopieret'!N910<>\"\",HYPERLINK(\"https://ssl1.peoplexs.com/Peoplexs22/eFormportal/eForm.cfm?CandidateUpdateID=\"&'PXS Kopieret'!M910&\"&CandidateUpdateCode=\"&'PXS Kopieret'!N910&\"&Locale=en&CustomFormID=11612\",\"Docs\"),\"\")","v":""},{"$f":"'PXS Kopieret'!A910","v":0},{"$f":"'PXS Kopieret'!B910","v":0},{"$f":"'PXS Kopieret'!C910","v":0},{"$f":"'PXS Kopieret'!D910","v":0},{"$f":"IF($A910<>\"PhD Student\",'PXS Kopieret'!E910,\"\")","v":0},{"$f":"IF($A910=\"PhD Student\",'PXS Kopieret'!F910,\"\")","v":""},{"$f":"'PXS Kopieret'!G910","v":0},{"$f":"'PXS Kopieret'!H910","v":0},{"$f":"IF($A910=\"PhD Student\",'PXS Kopieret'!I910,\"\")","v":""},{"$f":"'PXS Kopieret'!J910","v":0},{"$f":"'PXS Kopieret'!K910","v":0},{"$f":"'PXS Kopieret'!L910","v":0}]
["",{"$f":"IF('PXS Kopieret'!N911<>\"\",HYPERLINK(\"https://ssl1.peoplexs.com/Peoplexs22/eFormportal/eForm.cfm?CandidateUpdateID=\"&'PXS Kopieret'!M911&\"&CandidateUpdateCode=\"&'PXS Kopieret'!N911&\"&Locale=en&CustomFormID=11612\",\"Docs\"),\"\")","v":""},{"$f":"'PXS Kopieret'!A911","v":0},{"$f":"'PXS Kopieret'!B911","v":0},{"$f":"'PXS Kopieret'!C911","v":0},{"$f":"'PXS Kopieret'!D911","v":0},{"$f":"IF($A911<>\"PhD Student\",'PXS Kopieret'!E911,\"\")","v":0},{"$f":"IF($A911=\"PhD Student\",'PXS Kopieret'!F911,\"\")","v":""},{"$f":"'PXS Kopieret'!G911","v":0},{"$f":"'PXS Kopieret'!H911","v":0},{"$f":"IF($A911=\"PhD Student\",'PXS Kopieret'!I911,\"\")","v":""},{"$f":"'PXS Kopieret'!J911","v":0},{"$f":"'PXS Kopieret'!K911","v":0},{"$f":"'PXS Kopieret'!L911","v":0}]
["",{"$f":"IF('PXS Kopieret'!N912<>\"\",HYPERLINK(\"https://ssl1.peoplexs.com/Peoplexs22/eFormportal/eForm.cfm?CandidateUpdateID=\"&'PXS Kopieret'!M912&\"&CandidateUpdateCode=\"&'PXS Kopieret'!N912&\"&Locale=en&CustomFormID=11612\",\"Docs\"),\"\")","v":""},{"$f":"'PXS Kopieret'!A912","v":0},{"$f":"'PXS Kopieret'!B912","v":0},{"$f":"'PXS Kopieret'!C912","v":0},{"$f":"'PXS Kopieret'!D912","v":0},{"$f":"IF($A912<>\"PhD Student\",'PXS Kopieret'!E912,\"\")","v":0},{"$f":"IF($A912=\"PhD Student\",'PXS Kopieret'!F912,\"\")","v":""},{"$f":"'PXS Kopieret'!G912","v":0},{"$f":"'PXS Kopieret'!H912","v":0},{"$f":"IF($A912=\"PhD Student\",'PXS Kopieret'!I912,\"\")","v":""},{"$f":"'PXS Kopieret'!J912","v":0},{"$f":"'PXS Kopieret'!K912","v":0},{"$f":"'PXS Kopieret'!L912","v":0}]
["",{"$f":"IF('PXS Kopieret'!N913<>\"\",HYPERLINK(\"https://ssl1.peoplexs.com/Peoplexs22/eFormportal/eForm.cfm?CandidateUpdateID=\"&'PXS Kopieret'!M913&\"&CandidateUpdateCode=\"&'PXS Kopieret'!N913&\"&Locale=en&CustomFormID=11612\",\"Docs\"),\"\")","v":""},{"$f":"'PXS Kopieret'!A913","v":0},{"$f":"'PXS Kopieret'!B913","v":0},{"$f":"'PXS Kopieret'!C913","v":0},{"$f":"'PXS Kopieret'!D913","v":0},{"$f":"IF($A913<>\"PhD Student\",'PXS Kopieret'!E913,\"\")","v":0},{"$f":"IF($A913=\"PhD Student\",'PXS Kopieret'!F913,\"\")","v":""},{"$f":"'PXS Kopieret'!G913","v":0},{"$f":"'PXS Kopieret'!H913","v":0},{"$f":"IF($A913=\"PhD Student\",'PXS Kopieret'!I913,\"\")","v":""},{"$f":"'PXS Kopieret'!J913","v":0},{"$f":"'PXS Kopieret'!K913","v":0},{"$f":"'PXS Kopieret'!L913","v":0}]
["",{"$f":"IF('PXS Kopieret'!N914<>\"\",HYPERLINK(\"https://ssl1.peoplexs.com/Peoplexs22/eFormportal/eForm.cfm?CandidateUpdateID=\"&'PXS Kopieret'!M914&\"&CandidateUpdateCode=\"&'PXS Kopieret'!N914&\"&Locale=en&CustomFormID=11612\",\"Docs\"),\"\")","v":""},{"$f":"'PXS Kopieret'!A914","v":0},{"$f":"'PXS Kopieret'!B914","v":0},{"$f":"'PXS Kopieret'!C914","v":0},{"$f":"'PXS Kopieret'!D914","v":0},{"$f":"IF($A914<>\"PhD Student\",'PXS Kopieret'!E914,\"\")","v":0},{"$f":"IF($A914=\"PhD Student\",'PXS Kopieret'!F914,\"\")","v":""},{"$f":"'PXS Kopieret'!G914","v":0},{"$f":"'PXS Kopieret'!H914","v":0},{"$f":"IF($A914=\"PhD Student\",'PXS Kopieret'!I914,\"\")","v":""},{"$f":"'PXS Kopieret'!J914","v":0},{"$f":"'PXS Kopieret'!K914","v":0},{"$f":"'PXS Kopieret'!L914","v":0}]
["",{"$f":"IF('PXS Kopieret'!N915<>\"\",HYPERLINK(\"https://ssl1.peoplexs.com/Peoplexs22/eFormportal/eForm.cfm?CandidateUpdateID=\"&'PXS Kopieret'!M915&\"&CandidateUpdateCode=\"&'PXS Kopieret'!N915&\"&Locale=en&CustomFormID=11612\",\"Docs\"),\"\")","v":""},{"$f":"'PXS Kopieret'!A915","v":0},{"$f":"'PXS Kopieret'!B915","v":0},{"$f":"'PXS Kopieret'!C915","v":0},{"$f":"'PXS Kopieret'!D915","v":0},{"$f":"IF($A915<>\"PhD Student\",'PXS Kopieret'!E915,\"\")","v":0},{"$f":"IF($A915=\"PhD Student\",'PXS Kopieret'!F915,\"\")","v":""},{"$f":"'PXS Kopieret'!G915","v":0},{"$f":"'PXS Kopieret'!H915","v":0},{"$f":"IF($A915=\"PhD Student\",'PXS Kopieret'!I915,\"\")","v":""},{"$f":"'PXS Kopieret'!J915","v":0},{"$f":"'PXS Kopieret'!K915","v":0},{"$f":"'PXS Kopieret'!L915","v":0}]
["",{"$f":"IF('PXS Kopieret'!N916<>\"\",HYPERLINK(\"https://ssl1.peoplexs.com/Peoplexs22/eFormportal/eForm.cfm?CandidateUpdateID=\"&'PXS Kopieret'!M916&\"&CandidateUpdateCode=\"&'PXS Kopieret'!N916&\"&Locale=en&CustomFormID=11612\",\"Docs\"),\"\")","v":""},{"$f":"'PXS Kopieret'!A916","v":0},{"$f":"'PXS Kopieret'!B916","v":0},{"$f":"'PXS Kopieret'!C916","v":0},{"$f":"'PXS Kopieret'!D916","v":0},{"$f":"IF($A916<>\"PhD Student\",'PXS Kopieret'!E916,\"\")","v":0},{"$f":"IF($A916=\"PhD Student\",'PXS Kopieret'!F916,\"\")","v":""},{"$f":"'PXS Kopieret'!G916","v":0},{"$f":"'PXS Kopieret'!H916","v":0},{"$f":"IF($A916=\"PhD Student\",'PXS Kopieret'!I916,\"\")","v":""},{"$f":"'PXS Kopieret'!J916","v":0},{"$f":"'PXS Kopieret'!K916","v":0},{"$f":"'PXS Kopieret'!L916","v":0}]
["",{"$f":"IF('PXS Kopieret'!N917<>\"\",HYPERLINK(\"https://ssl1.peoplexs.com/Peoplexs22/eFormportal/eForm.cfm?CandidateUpdateID=\"&'PXS Kopieret'!M917&\"&CandidateUpdateCode=\"&'PXS Kopieret'!N917&\"&Locale=en&CustomFormID=11612\",\"Docs\"),\"\")","v":""},{"$f":"'PXS Kopieret'!A917","v":0},{"$f":"'PXS Kopieret'!B917","v":0},{"$f":"'PXS Kopieret'!C917","v":0},{"$f":"'PXS Kopieret'!D917","v":0},{"$f":"IF($A917<>\"PhD Student\",'PXS Kopieret'!E917,\"\")","v":0},{"$f":"IF($A917=\"PhD Student\",'PXS Kopieret'!F917,\"\")","v":""},{"$f":"'PXS Kopieret'!G917","v":0},{"$f":"'PXS Kopieret'!H917","v":0},{"$f":"IF($A917=\"PhD Student\",'PXS Kopieret'!I917,\"\")","v":""},{"$f":"'PXS Kopieret'!J917","v":0},{"$f":"'PXS Kopieret'!K917","v":0},{"$f":"'PXS Kopieret'!L917","v":0}]
["",{"$f":"IF('PXS Kopieret'!N918<>\"\",HYPERLINK(\"https://ssl1.peoplexs.com/Peoplexs22/eFormportal/eForm.cfm?CandidateUpdateID=\"&'PXS Kopieret'!M918&\"&CandidateUpdateCode=\"&'PXS Kopieret'!N918&\"&Locale=en&CustomFormID=11612\",\"Docs\"),\"\")","v":""},{"$f":"'PXS Kopieret'!A918","v":0},{"$f":"'PXS Kopieret'!B918","v":0},{"$f":"'PXS Kopieret'!C918","v":0},{"$f":"'PXS Kopieret'!D918","v":0},{"$f":"IF($A918<>\"PhD Student\",'PXS Kopieret'!E918,\"\")","v":0},{"$f":"IF($A918=\"PhD Student\",'PXS Kopieret'!F918,\"\")","v":""},{"$f":"'PXS Kopieret'!G918","v":0},{"$f":"'PXS Kopieret'!H918","v":0},{"$f":"IF($A918=\"PhD Student\",'PXS Kopieret'!I918,\"\")","v":""},{"$f":"'PXS Kopieret'!J918","v":0},{"$f":"'PXS Kopieret'!K918","v":0},{"$f":"'PXS Kopieret'!L918","v":0}]
["",{"$f":"IF('PXS Kopieret'!N919<>\"\",HYPERLINK(\"https://ssl1.peoplexs.com/Peoplexs22/eFormportal/eForm.cfm?CandidateUpdateID=\"&'PXS Kopieret'!M919&\"&CandidateUpdateCode=\"&'PXS Kopieret'!N919&\"&Locale=en&CustomFormID=11612\",\"Docs\"),\"\")","v":""},{"$f":"'PXS Kopieret'!A919","v":0},{"$f":"'PXS Kopieret'!B919","v":0},{"$f":"'PXS Kopieret'!C919","v":0},{"$f":"'PXS Kopieret'!D919","v":0},{"$f":"IF($A919<>\"PhD Student\",'PXS Kopieret'!E919,\"\")","v":0},{"$f":"IF($A919=\"PhD Student\",'PXS Kopieret'!F919,\"\")","v":""},{"$f":"'PXS Kopieret'!G919","v":0},{"$f":"'PXS Kopieret'!H919","v":0},{"$f":"IF($A919=\"PhD Student\",'PXS Kopieret'!I919,\"\")","v":""},{"$f":"'PXS Kopieret'!J919","v":0},{"$f":"'PXS Kopieret'!K919","v":0},{"$f":"'PXS Kopieret'!L919","v":0}]
["",{"$f":"IF('PXS Kopieret'!N920<>\"\",HYPERLINK(\"https://ssl1.peoplexs.com/Peoplexs22/eFormportal/eForm.cfm?CandidateUpdateID=\"&'PXS Kopieret'!M920&\"&CandidateUpdateCode=\"&'PXS Kopieret'!N920&\"&Locale=en&CustomFormID=11612\",\"Docs\"),\"\")","v":""},{"$f":"'PXS Kopieret'!A920","v":0},{"$f":"'PXS Kopieret'!B920","v":0},{"$f":"'PXS Kopieret'!C920","v":0},{"$f":"'PXS Kopieret'!D920","v":0},{"$f":"IF($A920<>\"PhD Student\",'PXS Kopieret'!E920,\"\")","v":0},{"$f":"IF($A920=\"PhD Student\",'PXS Kopieret'!F920,\"\")","v":""},{"$f":"'PXS Kopieret'!G920","v":0},{"$f":"'PXS Kopieret'!H920","v":0},{"$f":"IF($A920=\"PhD Student\",'PXS Kopieret'!I920,\"\")","v":""},{"$f":"'PXS Kopieret'!J920","v":0},{"$f":"'PXS Kopieret'!K920","v":0},{"$f":"'PXS Kopieret'!L920","v":0}]
["",{"$f":"IF('PXS Kopieret'!N921<>\"\",HYPERLINK(\"https://ssl1.peoplexs.com/Peoplexs22/eFormportal/eForm.cfm?CandidateUpdateID=\"&'PXS Kopieret'!M921&\"&CandidateUpdateCode=\"&'PXS Kopieret'!N921&\"&Locale=en&CustomFormID=11612\",\"Docs\"),\"\")","v":""},{"$f":"'PXS Kopieret'!A921","v":0},{"$f":"'PXS Kopieret'!B921","v":0},{"$f":"'PXS Kopieret'!C921","v":0},{"$f":"'PXS Kopieret'!D921","v":0},{"$f":"IF($A921<>\"PhD Student\",'PXS Kopieret'!E921,\"\")","v":0},{"$f":"IF($A921=\"PhD Student\",'PXS Kopieret'!F921,\"\")","v":""},{"$f":"'PXS Kopieret'!G921","v":0},{"$f":"'PXS Kopieret'!H921","v":0},{"$f":"IF($A921=\"PhD Student\",'PXS Kopieret'!I921,\"\")","v":""},{"$f":"'PXS Kopieret'!J921","v":0},{"$f":"'PXS Kopieret'!K921","v":0},{"$f":"'PXS Kopieret'!L921","v":0}]
["",{"$f":"IF('PXS Kopieret'!N922<>\"\",HYPERLINK(\"https://ssl1.peoplexs.com/Peoplexs22/eFormportal/eForm.cfm?CandidateUpdateID=\"&'PXS Kopieret'!M922&\"&CandidateUpdateCode=\"&'PXS Kopieret'!N922&\"&Locale=en&CustomFormID=11612\",\"Docs\"),\"\")","v":""},{"$f":"'PXS Kopieret'!A922","v":0},{"$f":"'PXS Kopieret'!B922","v":0},{"$f":"'PXS Kopieret'!C922","v":0},{"$f":"'PXS Kopieret'!D922","v":0},{"$f":"IF($A922<>\"PhD Student\",'PXS Kopieret'!E922,\"\")","v":0},{"$f":"IF($A922=\"PhD Student\",'PXS Kopieret'!F922,\"\")","v":""},{"$f":"'PXS Kopieret'!G922","v":0},{"$f":"'PXS Kopieret'!H922","v":0},{"$f":"IF($A922=\"PhD Student\",'PXS Kopieret'!I922,\"\")","v":""},{"$f":"'PXS Kopieret'!J922","v":0},{"$f":"'PXS Kopieret'!K922","v":0},{"$f":"'PXS Kopieret'!L922","v":0}]
["",{"$f":"IF('PXS Kopieret'!N923<>\"\",HYPERLINK(\"https://ssl1.peoplexs.com/Peoplexs22/eFormportal/eForm.cfm?CandidateUpdateID=\"&'PXS Kopieret'!M923&\"&CandidateUpdateCode=\"&'PXS Kopieret'!N923&\"&Locale=en&CustomFormID=11612\",\"Docs\"),\"\")","v":""},{"$f":"'PXS Kopieret'!A923","v":0},{"$f":"'PXS Kopieret'!B923","v":0},{"$f":"'PXS Kopieret'!C923","v":0},{"$f":"'PXS Kopieret'!D923","v":0},{"$f":"IF($A923<>\"PhD Student\",'PXS Kopieret'!E923,\"\")","v":0},{"$f":"IF($A923=\"PhD Student\",'PXS Kopieret'!F923,\"\")","v":""},{"$f":"'PXS Kopieret'!G923","v":0},{"$f":"'PXS Kopieret'!H923","v":0},{"$f":"IF($A923=\"PhD Student\",'PXS Kopieret'!I923,\"\")","v":""},{"$f":"'PXS Kopieret'!J923","v":0},{"$f":"'PXS Kopieret'!K923","v":0},{"$f":"'PXS Kopieret'!L923","v":0}]
["",{"$f":"IF('PXS Kopieret'!N924<>\"\",HYPERLINK(\"https://ssl1.peoplexs.com/Peoplexs22/eFormportal/eForm.cfm?CandidateUpdateID=\"&'PXS Kopieret'!M924&\"&CandidateUpdateCode=\"&'PXS Kopieret'!N924&\"&Locale=en&CustomFormID=11612\",\"Docs\"),\"\")","v":""},{"$f":"'PXS Kopieret'!A924","v":0},{"$f":"'PXS Kopieret'!B924","v":0},{"$f":"'PXS Kopieret'!C924","v":0},{"$f":"'PXS Kopieret'!D924","v":0},{"$f":"IF($A924<>\"PhD Student\",'PXS Kopieret'!E924,\"\")","v":0},{"$f":"IF($A924=\"PhD Student\",'PXS Kopieret'!F924,\"\")","v":""},{"$f":"'PXS Kopieret'!G924","v":0},{"$f":"'PXS Kopieret'!H924","v":0},{"$f":"IF($A924=\"PhD Student\",'PXS Kopieret'!I924,\"\")","v":""},{"$f":"'PXS Kopieret'!J924","v":0},{"$f":"'PXS Kopieret'!K924","v":0},{"$f":"'PXS Kopieret'!L924","v":0}]
["",{"$f":"IF('PXS Kopieret'!N925<>\"\",HYPERLINK(\"https://ssl1.peoplexs.com/Peoplexs22/eFormportal/eForm.cfm?CandidateUpdateID=\"&'PXS Kopieret'!M925&\"&CandidateUpdateCode=\"&'PXS Kopieret'!N925&\"&Locale=en&CustomFormID=11612\",\"Docs\"),\"\")","v":""},{"$f":"'PXS Kopieret'!A925","v":0},{"$f":"'PXS Kopieret'!B925","v":0},{"$f":"'PXS Kopieret'!C925","v":0},{"$f":"'PXS Kopieret'!D925","v":0},{"$f":"IF($A925<>\"PhD Student\",'PXS Kopieret'!E925,\"\")","v":0},{"$f":"IF($A925=\"PhD Student\",'PXS Kopieret'!F925,\"\")","v":""},{"$f":"'PXS Kopieret'!G925","v":0},{"$f":"'PXS Kopieret'!H925","v":0},{"$f":"IF($A925=\"PhD Student\",'PXS Kopieret'!I925,\"\")","v":""},{"$f":"'PXS Kopieret'!J925","v":0},{"$f":"'PXS Kopieret'!K925","v":0},{"$f":"'PXS Kopieret'!L925","v":0}]
["",{"$f":"IF('PXS Kopieret'!N926<>\"\",HYPERLINK(\"https://ssl1.peoplexs.com/Peoplexs22/eFormportal/eForm.cfm?CandidateUpdateID=\"&'PXS Kopieret'!M926&\"&CandidateUpdateCode=\"&'PXS Kopieret'!N926&\"&Locale=en&CustomFormID=11612\",\"Docs\"),\"\")","v":""},{"$f":"'PXS Kopieret'!A926","v":0},{"$f":"'PXS Kopieret'!B926","v":0},{"$f":"'PXS Kopieret'!C926","v":0},{"$f":"'PXS Kopieret'!D926","v":0},{"$f":"IF($A926<>\"PhD Student\",'PXS Kopieret'!E926,\"\")","v":0},{"$f":"IF($A926=\"PhD Student\",'PXS Kopieret'!F926,\"\")","v":""},{"$f":"'PXS Kopieret'!G926","v":0},{"$f":"'PXS Kopieret'!H926","v":0},{"$f":"IF($A926=\"PhD Student\",'PXS Kopieret'!I926,\"\")","v":""},{"$f":"'PXS Kopieret'!J926","v":0},{"$f":"'PXS Kopieret'!K926","v":0},{"$f":"'PXS Kopieret'!L926","v":0}]
["",{"$f":"IF('PXS Kopieret'!N927<>\"\",HYPERLINK(\"https://ssl1.peoplexs.com/Peoplexs22/eFormportal/eForm.cfm?CandidateUpdateID=\"&'PXS Kopieret'!M927&\"&CandidateUpdateCode=\"&'PXS Kopieret'!N927&\"&Locale=en&CustomFormID=11612\",\"Docs\"),\"\")","v":""},{"$f":"'PXS Kopieret'!A927","v":0},{"$f":"'PXS Kopieret'!B927","v":0},{"$f":"'PXS Kopieret'!C927","v":0},{"$f":"'PXS Kopieret'!D927","v":0},{"$f":"IF($A927<>\"PhD Student\",'PXS Kopieret'!E927,\"\")","v":0},{"$f":"IF($A927=\"PhD Student\",'PXS Kopieret'!F927,\"\")","v":""},{"$f":"'PXS Kopieret'!G927","v":0},{"$f":"'PXS Kopieret'!H927","v":0},{"$f":"IF($A927=\"PhD Student\",'PXS Kopieret'!I927,\"\")","v":""},{"$f":"'PXS Kopieret'!J927","v":0},{"$f":"'PXS Kopieret'!K927","v":0},{"$f":"'PXS Kopieret'!L927","v":0}]
["",{"$f":"IF('PXS Kopieret'!N928<>\"\",HYPERLINK(\"https://ssl1.peoplexs.com/Peoplexs22/eFormportal/eForm.cfm?CandidateUpdateID=\"&'PXS Kopieret'!M928&\"&CandidateUpdateCode=\"&'PXS Kopieret'!N928&\"&Locale=en&CustomFormID=11612\",\"Docs\"),\"\")","v":""},{"$f":"'PXS Kopieret'!A928","v":0},{"$f":"'PXS Kopieret'!B928","v":0},{"$f":"'PXS Kopieret'!C928","v":0},{"$f":"'PXS Kopieret'!D928","v":0},{"$f":"IF($A928<>\"PhD Student\",'PXS Kopieret'!E928,\"\")","v":0},{"$f":"IF($A928=\"PhD Student\",'PXS Kopieret'!F928,\"\")","v":""},{"$f":"'PXS Kopieret'!G928","v":0},{"$f":"'PXS Kopieret'!H928","v":0},{"$f":"IF($A928=\"PhD Student\",'PXS Kopieret'!I928,\"\")","v":""},{"$f":"'PXS Kopieret'!J928","v":0},{"$f":"'PXS Kopieret'!K928","v":0},{"$f":"'PXS Kopieret'!L928","v":0}]
["",{"$f":"IF('PXS Kopieret'!N929<>\"\",HYPERLINK(\"https://ssl1.peoplexs.com/Peoplexs22/eFormportal/eForm.cfm?CandidateUpdateID=\"&'PXS Kopieret'!M929&\"&CandidateUpdateCode=\"&'PXS Kopieret'!N929&\"&Locale=en&CustomFormID=11612\",\"Docs\"),\"\")","v":""},{"$f":"'PXS Kopieret'!A929","v":0},{"$f":"'PXS Kopieret'!B929","v":0},{"$f":"'PXS Kopieret'!C929","v":0},{"$f":"'PXS Kopieret'!D929","v":0},{"$f":"IF($A929<>\"PhD Student\",'PXS Kopieret'!E929,\"\")","v":0},{"$f":"IF($A929=\"PhD Student\",'PXS Kopieret'!F929,\"\")","v":""},{"$f":"'PXS Kopieret'!G929","v":0},{"$f":"'PXS Kopieret'!H929","v":0},{"$f":"IF($A929=\"PhD Student\",'PXS Kopieret'!I929,\"\")","v":""},{"$f":"'PXS Kopieret'!J929","v":0},{"$f":"'PXS Kopieret'!K929","v":0},{"$f":"'PXS Kopieret'!L929","v":0}]
["",{"$f":"IF('PXS Kopieret'!N930<>\"\",HYPERLINK(\"https://ssl1.peoplexs.com/Peoplexs22/eFormportal/eForm.cfm?CandidateUpdateID=\"&'PXS Kopieret'!M930&\"&CandidateUpdateCode=\"&'PXS Kopieret'!N930&\"&Locale=en&CustomFormID=11612\",\"Docs\"),\"\")","v":""},{"$f":"'PXS Kopieret'!A930","v":0},{"$f":"'PXS Kopieret'!B930","v":0},{"$f":"'PXS Kopieret'!C930","v":0},{"$f":"'PXS Kopieret'!D930","v":0},{"$f":"IF($A930<>\"PhD Student\",'PXS Kopieret'!E930,\"\")","v":0},{"$f":"IF($A930=\"PhD Student\",'PXS Kopieret'!F930,\"\")","v":""},{"$f":"'PXS Kopieret'!G930","v":0},{"$f":"'PXS Kopieret'!H930","v":0},{"$f":"IF($A930=\"PhD Student\",'PXS Kopieret'!I930,\"\")","v":""},{"$f":"'PXS Kopieret'!J930","v":0},{"$f":"'PXS Kopieret'!K930","v":0},{"$f":"'PXS Kopieret'!L930","v":0}]
["",{"$f":"IF('PXS Kopieret'!N931<>\"\",HYPERLINK(\"https://ssl1.peoplexs.com/Peoplexs22/eFormportal/eForm.cfm?CandidateUpdateID=\"&'PXS Kopieret'!M931&\"&CandidateUpdateCode=\"&'PXS Kopieret'!N931&\"&Locale=en&CustomFormID=11612\",\"Docs\"),\"\")","v":""},{"$f":"'PXS Kopieret'!A931","v":0},{"$f":"'PXS Kopieret'!B931","v":0},{"$f":"'PXS Kopieret'!C931","v":0},{"$f":"'PXS Kopieret'!D931","v":0},{"$f":"IF($A931<>\"PhD Student\",'PXS Kopieret'!E931,\"\")","v":0},{"$f":"IF($A931=\"PhD Student\",'PXS Kopieret'!F931,\"\")","v":""},{"$f":"'PXS Kopieret'!G931","v":0},{"$f":"'PXS Kopieret'!H931","v":0},{"$f":"IF($A931=\"PhD Student\",'PXS Kopieret'!I931,\"\")","v":""},{"$f":"'PXS Kopieret'!J931","v":0},{"$f":"'PXS Kopieret'!K931","v":0},{"$f":"'PXS Kopieret'!L931","v":0}]
["",{"$f":"IF('PXS Kopieret'!N932<>\"\",HYPERLINK(\"https://ssl1.peoplexs.com/Peoplexs22/eFormportal/eForm.cfm?CandidateUpdateID=\"&'PXS Kopieret'!M932&\"&CandidateUpdateCode=\"&'PXS Kopieret'!N932&\"&Locale=en&CustomFormID=11612\",\"Docs\"),\"\")","v":""},{"$f":"'PXS Kopieret'!A932","v":0},{"$f":"'PXS Kopieret'!B932","v":0},{"$f":"'PXS Kopieret'!C932","v":0},{"$f":"'PXS Kopieret'!D932","v":0},{"$f":"IF($A932<>\"PhD Student\",'PXS Kopieret'!E932,\"\")","v":0},{"$f":"IF($A932=\"PhD Student\",'PXS Kopieret'!F932,\"\")","v":""},{"$f":"'PXS Kopieret'!G932","v":0},{"$f":"'PXS Kopieret'!H932","v":0},{"$f":"IF($A932=\"PhD Student\",'PXS Kopieret'!I932,\"\")","v":""},{"$f":"'PXS Kopieret'!J932","v":0},{"$f":"'PXS Kopieret'!K932","v":0},{"$f":"'PXS Kopieret'!L932","v":0}]
["",{"$f":"IF('PXS Kopieret'!N933<>\"\",HYPERLINK(\"https://ssl1.peoplexs.com/Peoplexs22/eFormportal/eForm.cfm?CandidateUpdateID=\"&'PXS Kopieret'!M933&\"&CandidateUpdateCode=\"&'PXS Kopieret'!N933&\"&Locale=en&CustomFormID=11612\",\"Docs\"),\"\")","v":""},{"$f":"'PXS Kopieret'!A933","v":0},{"$f":"'PXS Kopieret'!B933","v":0},{"$f":"'PXS Kopieret'!C933","v":0},{"$f":"'PXS Kopieret'!D933","v":0},{"$f":"IF($A933<>\"PhD Student\",'PXS Kopieret'!E933,\"\")","v":0},{"$f":"IF($A933=\"PhD Student\",'PXS Kopieret'!F933,\"\")","v":""},{"$f":"'PXS Kopieret'!G933","v":0},{"$f":"'PXS Kopieret'!H933","v":0},{"$f":"IF($A933=\"PhD Student\",'PXS Kopieret'!I933,\"\")","v":""},{"$f":"'PXS Kopieret'!J933","v":0},{"$f":"'PXS Kopieret'!K933","v":0},{"$f":"'PXS Kopieret'!L933","v":0}]
["",{"$f":"IF('PXS Kopieret'!N934<>\"\",HYPERLINK(\"https://ssl1.peoplexs.com/Peoplexs22/eFormportal/eForm.cfm?CandidateUpdateID=\"&'PXS Kopieret'!M934&\"&CandidateUpdateCode=\"&'PXS Kopieret'!N934&\"&Locale=en&CustomFormID=11612\",\"Docs\"),\"\")","v":""},{"$f":"'PXS Kopieret'!A934","v":0},{"$f":"'PXS Kopieret'!B934","v":0},{"$f":"'PXS Kopieret'!C934","v":0},{"$f":"'PXS Kopieret'!D934","v":0},{"$f":"IF($A934<>\"PhD Student\",'PXS Kopieret'!E934,\"\")","v":0},{"$f":"IF($A934=\"PhD Student\",'PXS Kopieret'!F934,\"\")","v":""},{"$f":"'PXS Kopieret'!G934","v":0},{"$f":"'PXS Kopieret'!H934","v":0},{"$f":"IF($A934=\"PhD Student\",'PXS Kopieret'!I934,\"\")","v":""},{"$f":"'PXS Kopieret'!J934","v":0},{"$f":"'PXS Kopieret'!K934","v":0},{"$f":"'PXS Kopieret'!L934","v":0}]
["",{"$f":"IF('PXS Kopieret'!N935<>\"\",HYPERLINK(\"https://ssl1.peoplexs.com/Peoplexs22/eFormportal/eForm.cfm?CandidateUpdateID=\"&'PXS Kopieret'!M935&\"&CandidateUpdateCode=\"&'PXS Kopieret'!N935&\"&Locale=en&CustomFormID=11612\",\"Docs\"),\"\")","v":""},{"$f":"'PXS Kopieret'!A935","v":0},{"$f":"'PXS Kopieret'!B935","v":0},{"$f":"'PXS Kopieret'!C935","v":0},{"$f":"'PXS Kopieret'!D935","v":0},{"$f":"IF($A935<>\"PhD Student\",'PXS Kopieret'!E935,\"\")","v":0},{"$f":"IF($A935=\"PhD Student\",'PXS Kopieret'!F935,\"\")","v":""},{"$f":"'PXS Kopieret'!G935","v":0},{"$f":"'PXS Kopieret'!H935","v":0},{"$f":"IF($A935=\"PhD Student\",'PXS Kopieret'!I935,\"\")","v":""},{"$f":"'PXS Kopieret'!J935","v":0},{"$f":"'PXS Kopieret'!K935","v":0},{"$f":"'PXS Kopieret'!L935","v":0}]
["",{"$f":"IF('PXS Kopieret'!N936<>\"\",HYPERLINK(\"https://ssl1.peoplexs.com/Peoplexs22/eFormportal/eForm.cfm?CandidateUpdateID=\"&'PXS Kopieret'!M936&\"&CandidateUpdateCode=\"&'PXS Kopieret'!N936&\"&Locale=en&CustomFormID=11612\",\"Docs\"),\"\")","v":""},{"$f":"'PXS Kopieret'!A936","v":0},{"$f":"'PXS Kopieret'!B936","v":0},{"$f":"'PXS Kopieret'!C936","v":0},{"$f":"'PXS Kopieret'!D936","v":0},{"$f":"IF($A936<>\"PhD Student\",'PXS Kopieret'!E936,\"\")","v":0},{"$f":"IF($A936=\"PhD Student\",'PXS Kopieret'!F936,\"\")","v":""},{"$f":"'PXS Kopieret'!G936","v":0},{"$f":"'PXS Kopieret'!H936","v":0},{"$f":"IF($A936=\"PhD Student\",'PXS Kopieret'!I936,\"\")","v":""},{"$f":"'PXS Kopieret'!J936","v":0},{"$f":"'PXS Kopieret'!K936","v":0},{"$f":"'PXS Kopieret'!L936","v":0}]
["",{"$f":"IF('PXS Kopieret'!N937<>\"\",HYPERLINK(\"https://ssl1.peoplexs.com/Peoplexs22/eFormportal/eForm.cfm?CandidateUpdateID=\"&'PXS Kopieret'!M937&\"&CandidateUpdateCode=\"&'PXS Kopieret'!N937&\"&Locale=en&CustomFormID=11612\",\"Docs\"),\"\")","v":""},{"$f":"'PXS Kopieret'!A937","v":0},{"$f":"'PXS Kopieret'!B937","v":0},{"$f":"'PXS Kopieret'!C937","v":0},{"$f":"'PXS Kopieret'!D937","v":0},{"$f":"IF($A937<>\"PhD Student\",'PXS Kopieret'!E937,\"\")","v":0},{"$f":"IF($A937=\"PhD Student\",'PXS Kopieret'!F937,\"\")","v":""},{"$f":"'PXS Kopieret'!G937","v":0},{"$f":"'PXS Kopieret'!H937","v":0},{"$f":"IF($A937=\"PhD Student\",'PXS Kopieret'!I937,\"\")","v":""},{"$f":"'PXS Kopieret'!J937","v":0},{"$f":"'PXS Kopieret'!K937","v":0},{"$f":"'PXS Kopieret'!L937","v":0}]
["",{"$f":"IF('PXS Kopieret'!N938<>\"\",HYPERLINK(\"https://ssl1.peoplexs.com/Peoplexs22/eFormportal/eForm.cfm?CandidateUpdateID=\"&'PXS Kopieret'!M938&\"&CandidateUpdateCode=\"&'PXS Kopieret'!N938&\"&Locale=en&CustomFormID=11612\",\"Docs\"),\"\")","v":""},{"$f":"'PXS Kopieret'!A938","v":0},{"$f":"'PXS Kopieret'!B938","v":0},{"$f":"'PXS Kopieret'!C938","v":0},{"$f":"'PXS Kopieret'!D938","v":0},{"$f":"IF($A938<>\"PhD Student\",'PXS Kopieret'!E938,\"\")","v":0},{"$f":"IF($A938=\"PhD Student\",'PXS Kopieret'!F938,\"\")","v":""},{"$f":"'PXS Kopieret'!G938","v":0},{"$f":"'PXS Kopieret'!H938","v":0},{"$f":"IF($A938=\"PhD Student\",'PXS Kopieret'!I938,\"\")","v":""},{"$f":"'PXS Kopieret'!J938","v":0},{"$f":"'PXS Kopieret'!K938","v":0},{"$f":"'PXS Kopieret'!L938","v":0}]
["",{"$f":"IF('PXS Kopieret'!N939<>\"\",HYPERLINK(\"https://ssl1.peoplexs.com/Peoplexs22/eFormportal/eForm.cfm?CandidateUpdateID=\"&'PXS Kopieret'!M939&\"&CandidateUpdateCode=\"&'PXS Kopieret'!N939&\"&Locale=en&CustomFormID=11612\",\"Docs\"),\"\")","v":""},{"$f":"'PXS Kopieret'!A939","v":0},{"$f":"'PXS Kopieret'!B939","v":0},{"$f":"'PXS Kopieret'!C939","v":0},{"$f":"'PXS Kopieret'!D939","v":0},{"$f":"IF($A939<>\"PhD Student\",'PXS Kopieret'!E939,\"\")","v":0},{"$f":"IF($A939=\"PhD Student\",'PXS Kopieret'!F939,\"\")","v":""},{"$f":"'PXS Kopieret'!G939","v":0},{"$f":"'PXS Kopieret'!H939","v":0},{"$f":"IF($A939=\"PhD Student\",'PXS Kopieret'!I939,\"\")","v":""},{"$f":"'PXS Kopieret'!J939","v":0},{"$f":"'PXS Kopieret'!K939","v":0},{"$f":"'PXS Kopieret'!L939","v":0}]
["",{"$f":"IF('PXS Kopieret'!N940<>\"\",HYPERLINK(\"https://ssl1.peoplexs.com/Peoplexs22/eFormportal/eForm.cfm?CandidateUpdateID=\"&'PXS Kopieret'!M940&\"&CandidateUpdateCode=\"&'PXS Kopieret'!N940&\"&Locale=en&CustomFormID=11612\",\"Docs\"),\"\")","v":""},{"$f":"'PXS Kopieret'!A940","v":0},{"$f":"'PXS Kopieret'!B940","v":0},{"$f":"'PXS Kopieret'!C940","v":0},{"$f":"'PXS Kopieret'!D940","v":0},{"$f":"IF($A940<>\"PhD Student\",'PXS Kopieret'!E940,\"\")","v":0},{"$f":"IF($A940=\"PhD Student\",'PXS Kopieret'!F940,\"\")","v":""},{"$f":"'PXS Kopieret'!G940","v":0},{"$f":"'PXS Kopieret'!H940","v":0},{"$f":"IF($A940=\"PhD Student\",'PXS Kopieret'!I940,\"\")","v":""},{"$f":"'PXS Kopieret'!J940","v":0},{"$f":"'PXS Kopieret'!K940","v":0},{"$f":"'PXS Kopieret'!L940","v":0}]
["",{"$f":"IF('PXS Kopieret'!N941<>\"\",HYPERLINK(\"https://ssl1.peoplexs.com/Peoplexs22/eFormportal/eForm.cfm?CandidateUpdateID=\"&'PXS Kopieret'!M941&\"&CandidateUpdateCode=\"&'PXS Kopieret'!N941&\"&Locale=en&CustomFormID=11612\",\"Docs\"),\"\")","v":""},{"$f":"'PXS Kopieret'!A941","v":0},{"$f":"'PXS Kopieret'!B941","v":0},{"$f":"'PXS Kopieret'!C941","v":0},{"$f":"'PXS Kopieret'!D941","v":0},{"$f":"IF($A941<>\"PhD Student\",'PXS Kopieret'!E941,\"\")","v":0},{"$f":"IF($A941=\"PhD Student\",'PXS Kopieret'!F941,\"\")","v":""},{"$f":"'PXS Kopieret'!G941","v":0},{"$f":"'PXS Kopieret'!H941","v":0},{"$f":"IF($A941=\"PhD Student\",'PXS Kopieret'!I941,\"\")","v":""},{"$f":"'PXS Kopieret'!J941","v":0},{"$f":"'PXS Kopieret'!K941","v":0},{"$f":"'PXS Kopieret'!L941","v":0}]
["",{"$f":"IF('PXS Kopieret'!N942<>\"\",HYPERLINK(\"https://ssl1.peoplexs.com/Peoplexs22/eFormportal/eForm.cfm?CandidateUpdateID=\"&'PXS Kopieret'!M942&\"&CandidateUpdateCode=\"&'PXS Kopieret'!N942&\"&Locale=en&CustomFormID=11612\",\"Docs\"),\"\")","v":""},{"$f":"'PXS Kopieret'!A942","v":0},{"$f":"'PXS Kopieret'!B942","v":0},{"$f":"'PXS Kopieret'!C942","v":0},{"$f":"'PXS Kopieret'!D942","v":0},{"$f":"IF($A942<>\"PhD Student\",'PXS Kopieret'!E942,\"\")","v":0},{"$f":"IF($A942=\"PhD Student\",'PXS Kopieret'!F942,\"\")","v":""},{"$f":"'PXS Kopieret'!G942","v":0},{"$f":"'PXS Kopieret'!H942","v":0},{"$f":"IF($A942=\"PhD Student\",'PXS Kopieret'!I942,\"\")","v":""},{"$f":"'PXS Kopieret'!J942","v":0},{"$f":"'PXS Kopieret'!K942","v":0},{"$f":"'PXS Kopieret'!L942","v":0}]
["",{"$f":"IF('PXS Kopieret'!N943<>\"\",HYPERLINK(\"https://ssl1.peoplexs.com/Peoplexs22/eFormportal/eForm.cfm?CandidateUpdateID=\"&'PXS Kopieret'!M943&\"&CandidateUpdateCode=\"&'PXS Kopieret'!N943&\"&Locale=en&CustomFormID=11612\",\"Docs\"),\"\")","v":""},{"$f":"'PXS Kopieret'!A943","v":0},{"$f":"'PXS Kopieret'!B943","v":0},{"$f":"'PXS Kopieret'!C943","v":0},{"$f":"'PXS Kopieret'!D943","v":0},{"$f":"IF($A943<>\"PhD Student\",'PXS Kopieret'!E943,\"\")","v":0},{"$f":"IF($A943=\"PhD Student\",'PXS Kopieret'!F943,\"\")","v":""},{"$f":"'PXS Kopieret'!G943","v":0},{"$f":"'PXS Kopieret'!H943","v":0},{"$f":"IF($A943=\"PhD Student\",'PXS Kopieret'!I943,\"\")","v":""},{"$f":"'PXS Kopieret'!J943","v":0},{"$f":"'PXS Kopieret'!K943","v":0},{"$f":"'PXS Kopieret'!L943","v":0}]
["",{"$f":"IF('PXS Kopieret'!N944<>\"\",HYPERLINK(\"https://ssl1.peoplexs.com/Peoplexs22/eFormportal/eForm.cfm?CandidateUpdateID=\"&'PXS Kopieret'!M944&\"&CandidateUpdateCode=\"&'PXS Kopieret'!N944&\"&Locale=en&CustomFormID=11612\",\"Docs\"),\"\")","v":""},{"$f":"'PXS Kopieret'!A944","v":0},{"$f":"'PXS Kopieret'!B944","v":0},{"$f":"'PXS Kopieret'!C944","v":0},{"$f":"'PXS Kopieret'!D944","v":0},{"$f":"IF($A944<>\"PhD Student\",'PXS Kopieret'!E944,\"\")","v":0},{"$f":"IF($A944=\"PhD Student\",'PXS Kopieret'!F944,\"\")","v":""},{"$f":"'PXS Kopieret'!G944","v":0},{"$f":"'PXS Kopieret'!H944","v":0},{"$f":"IF($A944=\"PhD Student\",'PXS Kopieret'!I944,\"\")","v":""},{"$f":"'PXS Kopieret'!J944","v":0},{"$f":"'PXS Kopieret'!K944","v":0},{"$f":"'PXS Kopieret'!L944","v":0}]
["",{"$f":"IF('PXS Kopieret'!N945<>\"\",HYPERLINK(\"https://ssl1.peoplexs.com/Peoplexs22/eFormportal/eForm.cfm?CandidateUpdateID=\"&'PXS Kopieret'!M945&\"&CandidateUpdateCode=\"&'PXS Kopieret'!N945&\"&Locale=en&CustomFormID=11612\",\"Docs\"),\"\")","v":""},{"$f":"'PXS Kopieret'!A945","v":0},{"$f":"'PXS Kopieret'!B945","v":0},{"$f":"'PXS Kopieret'!C945","v":0},{"$f":"'PXS Kopieret'!D945","v":0},{"$f":"IF($A945<>\"PhD Student\",'PXS Kopieret'!E945,\"\")","v":0},{"$f":"IF($A945=\"PhD Student\",'PXS Kopieret'!F945,\"\")","v":""},{"$f":"'PXS Kopieret'!G945","v":0},{"$f":"'PXS Kopieret'!H945","v":0},{"$f":"IF($A945=\"PhD Student\",'PXS Kopieret'!I945,\"\")","v":""},{"$f":"'PXS Kopieret'!J945","v":0},{"$f":"'PXS Kopieret'!K945","v":0},{"$f":"'PXS Kopieret'!L945","v":0}]
["",{"$f":"IF('PXS Kopieret'!N946<>\"\",HYPERLINK(\"https://ssl1.peoplexs.com/Peoplexs22/eFormportal/eForm.cfm?CandidateUpdateID=\"&'PXS Kopieret'!M946&\"&CandidateUpdateCode=\"&'PXS Kopieret'!N946&\"&Locale=en&CustomFormID=11612\",\"Docs\"),\"\")","v":""},{"$f":"'PXS Kopieret'!A946","v":0},{"$f":"'PXS Kopieret'!B946","v":0},{"$f":"'PXS Kopieret'!C946","v":0},{"$f":"'PXS Kopieret'!D946","v":0},{"$f":"IF($A946<>\"PhD Student\",'PXS Kopieret'!E946,\"\")","v":0},{"$f":"IF($A946=\"PhD Student\",'PXS Kopieret'!F946,\"\")","v":""},{"$f":"'PXS Kopieret'!G946","v":0},{"$f":"'PXS Kopieret'!H946","v":0},{"$f":"IF($A946=\"PhD Student\",'PXS Kopieret'!I946,\"\")","v":""},{"$f":"'PXS Kopieret'!J946","v":0},{"$f":"'PXS Kopieret'!K946","v":0},{"$f":"'PXS Kopieret'!L946","v":0}]
["",{"$f":"IF('PXS Kopieret'!N947<>\"\",HYPERLINK(\"https://ssl1.peoplexs.com/Peoplexs22/eFormportal/eForm.cfm?CandidateUpdateID=\"&'PXS Kopieret'!M947&\"&CandidateUpdateCode=\"&'PXS Kopieret'!N947&\"&Locale=en&CustomFormID=11612\",\"Docs\"),\"\")","v":""},{"$f":"'PXS Kopieret'!A947","v":0},{"$f":"'PXS Kopieret'!B947","v":0},{"$f":"'PXS Kopieret'!C947","v":0},{"$f":"'PXS Kopieret'!D947","v":0},{"$f":"IF($A947<>\"PhD Student\",'PXS Kopieret'!E947,\"\")","v":0},{"$f":"IF($A947=\"PhD Student\",'PXS Kopieret'!F947,\"\")","v":""},{"$f":"'PXS Kopieret'!G947","v":0},{"$f":"'PXS Kopieret'!H947","v":0},{"$f":"IF($A947=\"PhD Student\",'PXS Kopieret'!I947,\"\")","v":""},{"$f":"'PXS Kopieret'!J947","v":0},{"$f":"'PXS Kopieret'!K947","v":0},{"$f":"'PXS Kopieret'!L947","v":0}]
["",{"$f":"IF('PXS Kopieret'!N948<>\"\",HYPERLINK(\"https://ssl1.peoplexs.com/Peoplexs22/eFormportal/eForm.cfm?CandidateUpdateID=\"&'PXS Kopieret'!M948&\"&CandidateUpdateCode=\"&'PXS Kopieret'!N948&\"&Locale=en&CustomFormID=11612\",\"Docs\"),\"\")","v":""},{"$f":"'PXS Kopieret'!A948","v":0},{"$f":"'PXS Kopieret'!B948","v":0},{"$f":"'PXS Kopieret'!C948","v":0},{"$f":"'PXS Kopieret'!D948","v":0},{"$f":"IF($A948<>\"PhD Student\",'PXS Kopieret'!E948,\"\")","v":0},{"$f":"IF($A948=\"PhD Student\",'PXS Kopieret'!F948,\"\")","v":""},{"$f":"'PXS Kopieret'!G948","v":0},{"$f":"'PXS Kopieret'!H948","v":0},{"$f":"IF($A948=\"PhD Student\",'PXS Kopieret'!I948,\"\")","v":""},{"$f":"'PXS Kopieret'!J948","v":0},{"$f":"'PXS Kopieret'!K948","v":0},{"$f":"'PXS Kopieret'!L948","v":0}]
["",{"$f":"IF('PXS Kopieret'!N949<>\"\",HYPERLINK(\"https://ssl1.peoplexs.com/Peoplexs22/eFormportal/eForm.cfm?CandidateUpdateID=\"&'PXS Kopieret'!M949&\"&CandidateUpdateCode=\"&'PXS Kopieret'!N949&\"&Locale=en&CustomFormID=11612\",\"Docs\"),\"\")","v":""},{"$f":"'PXS Kopieret'!A949","v":0},{"$f":"'PXS Kopieret'!B949","v":0},{"$f":"'PXS Kopieret'!C949","v":0},{"$f":"'PXS Kopieret'!D949","v":0},{"$f":"IF($A949<>\"PhD Student\",'PXS Kopieret'!E949,\"\")","v":0},{"$f":"IF($A949=\"PhD Student\",'PXS Kopieret'!F949,\"\")","v":""},{"$f":"'PXS Kopieret'!G949","v":0},{"$f":"'PXS Kopieret'!H949","v":0},{"$f":"IF($A949=\"PhD Student\",'PXS Kopieret'!I949,\"\")","v":""},{"$f":"'PXS Kopieret'!J949","v":0},{"$f":"'PXS Kopieret'!K949","v":0},{"$f":"'PXS Kopieret'!L949","v":0}]
["",{"$f":"IF('PXS Kopieret'!N950<>\"\",HYPERLINK(\"https://ssl1.peoplexs.com/Peoplexs22/eFormportal/eForm.cfm?CandidateUpdateID=\"&'PXS Kopieret'!M950&\"&CandidateUpdateCode=\"&'PXS Kopieret'!N950&\"&Locale=en&CustomFormID=11612\",\"Docs\"),\"\")","v":""},{"$f":"'PXS Kopieret'!A950","v":0},{"$f":"'PXS Kopieret'!B950","v":0},{"$f":"'PXS Kopieret'!C950","v":0},{"$f":"'PXS Kopieret'!D950","v":0},{"$f":"IF($A950<>\"PhD Student\",'PXS Kopieret'!E950,\"\")","v":0},{"$f":"IF($A950=\"PhD Student\",'PXS Kopieret'!F950,\"\")","v":""},{"$f":"'PXS Kopieret'!G950","v":0},{"$f":"'PXS Kopieret'!H950","v":0},{"$f":"IF($A950=\"PhD Student\",'PXS Kopieret'!I950,\"\")","v":""},{"$f":"'PXS Kopieret'!J950","v":0},{"$f":"'PXS Kopieret'!K950","v":0},{"$f":"'PXS Kopieret'!L950","v":0}]
["",{"$f":"IF('PXS Kopieret'!N951<>\"\",HYPERLINK(\"https://ssl1.peoplexs.com/Peoplexs22/eFormportal/eForm.cfm?CandidateUpdateID=\"&'PXS Kopieret'!M951&\"&CandidateUpdateCode=\"&'PXS Kopieret'!N951&\"&Locale=en&CustomFormID=11612\",\"Docs\"),\"\")","v":""},{"$f":"'PXS Kopieret'!A951","v":0},{"$f":"'PXS Kopieret'!B951","v":0},{"$f":"'PXS Kopieret'!C951","v":0},{"$f":"'PXS Kopieret'!D951","v":0},{"$f":"IF($A951<>\"PhD Student\",'PXS Kopieret'!E951,\"\")","v":0},{"$f":"IF($A951=\"PhD Student\",'PXS Kopieret'!F951,\"\")","v":""},{"$f":"'PXS Kopieret'!G951","v":0},{"$f":"'PXS Kopieret'!H951","v":0},{"$f":"IF($A951=\"PhD Student\",'PXS Kopieret'!I951,\"\")","v":""},{"$f":"'PXS Kopieret'!J951","v":0},{"$f":"'PXS Kopieret'!K951","v":0},{"$f":"'PXS Kopieret'!L951","v":0}]
["",{"$f":"IF('PXS Kopieret'!N952<>\"\",HYPERLINK(\"https://ssl1.peoplexs.com/Peoplexs22/eFormportal/eForm.cfm?CandidateUpdateID=\"&'PXS Kopieret'!M952&\"&CandidateUpdateCode=\"&'PXS Kopieret'!N952&\"&Locale=en&CustomFormID=11612\",\"Docs\"),\"\")","v":""},{"$f":"'PXS Kopieret'!A952","v":0},{"$f":"'PXS Kopieret'!B952","v":0},{"$f":"'PXS Kopieret'!C952","v":0},{"$f":"'PXS Kopieret'!D952","v":0},{"$f":"IF($A952<>\"PhD Student\",'PXS Kopieret'!E952,\"\")","v":0},{"$f":"IF($A952=\"PhD Student\",'PXS Kopieret'!F952,\"\")","v":""},{"$f":"'PXS Kopieret'!G952","v":0},{"$f":"'PXS Kopieret'!H952","v":0},{"$f":"IF($A952=\"PhD Student\",'PXS Kopieret'!I952,\"\")","v":""},{"$f":"'PXS Kopieret'!J952","v":0},{"$f":"'PXS Kopieret'!K952","v":0},{"$f":"'PXS Kopieret'!L952","v":0}]
["",{"$f":"IF('PXS Kopieret'!N953<>\"\",HYPERLINK(\"https://ssl1.peoplexs.com/Peoplexs22/eFormportal/eForm.cfm?CandidateUpdateID=\"&'PXS Kopieret'!M953&\"&CandidateUpdateCode=\"&'PXS Kopieret'!N953&\"&Locale=en&CustomFormID=11612\",\"Docs\"),\"\")","v":""},{"$f":"'PXS Kopieret'!A953","v":0},{"$f":"'PXS Kopieret'!B953","v":0},{"$f":"'PXS Kopieret'!C953","v":0},{"$f":"'PXS Kopieret'!D953","v":0},{"$f":"IF($A953<>\"PhD Student\",'PXS Kopieret'!E953,\"\")","v":0},{"$f":"IF($A953=\"PhD Student\",'PXS Kopieret'!F953,\"\")","v":""},{"$f":"'PXS Kopieret'!G953","v":0},{"$f":"'PXS Kopieret'!H953","v":0},{"$f":"IF($A953=\"PhD Student\",'PXS Kopieret'!I953,\"\")","v":""},{"$f":"'PXS Kopieret'!J953","v":0},{"$f":"'PXS Kopieret'!K953","v":0},{"$f":"'PXS Kopieret'!L953","v":0}]
["",{"$f":"IF('PXS Kopieret'!N954<>\"\",HYPERLINK(\"https://ssl1.peoplexs.com/Peoplexs22/eFormportal/eForm.cfm?CandidateUpdateID=\"&'PXS Kopieret'!M954&\"&CandidateUpdateCode=\"&'PXS Kopieret'!N954&\"&Locale=en&CustomFormID=11612\",\"Docs\"),\"\")","v":""},{"$f":"'PXS Kopieret'!A954","v":0},{"$f":"'PXS Kopieret'!B954","v":0},{"$f":"'PXS Kopieret'!C954","v":0},{"$f":"'PXS Kopieret'!D954","v":0},{"$f":"IF($A954<>\"PhD Student\",'PXS Kopieret'!E954,\"\")","v":0},{"$f":"IF($A954=\"PhD Student\",'PXS Kopieret'!F954,\"\")","v":""},{"$f":"'PXS Kopieret'!G954","v":0},{"$f":"'PXS Kopieret'!H954","v":0},{"$f":"IF($A954=\"PhD Student\",'PXS Kopieret'!I954,\"\")","v":""},{"$f":"'PXS Kopieret'!J954","v":0},{"$f":"'PXS Kopieret'!K954","v":0},{"$f":"'PXS Kopieret'!L954","v":0}]
["",{"$f":"IF('PXS Kopieret'!N955<>\"\",HYPERLINK(\"https://ssl1.peoplexs.com/Peoplexs22/eFormportal/eForm.cfm?CandidateUpdateID=\"&'PXS Kopieret'!M955&\"&CandidateUpdateCode=\"&'PXS Kopieret'!N955&\"&Locale=en&CustomFormID=11612\",\"Docs\"),\"\")","v":""},{"$f":"'PXS Kopieret'!A955","v":0},{"$f":"'PXS Kopieret'!B955","v":0},{"$f":"'PXS Kopieret'!C955","v":0},{"$f":"'PXS Kopieret'!D955","v":0},{"$f":"IF($A955<>\"PhD Student\",'PXS Kopieret'!E955,\"\")","v":0},{"$f":"IF($A955=\"PhD Student\",'PXS Kopieret'!F955,\"\")","v":""},{"$f":"'PXS Kopieret'!G955","v":0},{"$f":"'PXS Kopieret'!H955","v":0},{"$f":"IF($A955=\"PhD Student\",'PXS Kopieret'!I955,\"\")","v":""},{"$f":"'PXS Kopieret'!J955","v":0},{"$f":"'PXS Kopieret'!K955","v":0},{"$f":"'PXS Kopieret'!L955","v":0}]
["",{"$f":"IF('PXS Kopieret'!N956<>\"\",HYPERLINK(\"https://ssl1.peoplexs.com/Peoplexs22/eFormportal/eForm.cfm?CandidateUpdateID=\"&'PXS Kopieret'!M956&\"&CandidateUpdateCode=\"&'PXS Kopieret'!N956&\"&Locale=en&CustomFormID=11612\",\"Docs\"),\"\")","v":""},{"$f":"'PXS Kopieret'!A956","v":0},{"$f":"'PXS Kopieret'!B956","v":0},{"$f":"'PXS Kopieret'!C956","v":0},{"$f":"'PXS Kopieret'!D956","v":0},{"$f":"IF($A956<>\"PhD Student\",'PXS Kopieret'!E956,\"\")","v":0},{"$f":"IF($A956=\"PhD Student\",'PXS Kopieret'!F956,\"\")","v":""},{"$f":"'PXS Kopieret'!G956","v":0},{"$f":"'PXS Kopieret'!H956","v":0},{"$f":"IF($A956=\"PhD Student\",'PXS Kopieret'!I956,\"\")","v":""},{"$f":"'PXS Kopieret'!J956","v":0},{"$f":"'PXS Kopieret'!K956","v":0},{"$f":"'PXS Kopieret'!L956","v":0}]
["",{"$f":"IF('PXS Kopieret'!N957<>\"\",HYPERLINK(\"https://ssl1.peoplexs.com/Peoplexs22/eFormportal/eForm.cfm?CandidateUpdateID=\"&'PXS Kopieret'!M957&\"&CandidateUpdateCode=\"&'PXS Kopieret'!N957&\"&Locale=en&CustomFormID=11612\",\"Docs\"),\"\")","v":""},{"$f":"'PXS Kopieret'!A957","v":0},{"$f":"'PXS Kopieret'!B957","v":0},{"$f":"'PXS Kopieret'!C957","v":0},{"$f":"'PXS Kopieret'!D957","v":0},{"$f":"IF($A957<>\"PhD Student\",'PXS Kopieret'!E957,\"\")","v":0},{"$f":"IF($A957=\"PhD Student\",'PXS Kopieret'!F957,\"\")","v":""},{"$f":"'PXS Kopieret'!G957","v":0},{"$f":"'PXS Kopieret'!H957","v":0},{"$f":"IF($A957=\"PhD Student\",'PXS Kopieret'!I957,\"\")","v":""},{"$f":"'PXS Kopieret'!J957","v":0},{"$f":"'PXS Kopieret'!K957","v":0},{"$f":"'PXS Kopieret'!L957","v":0}]
["",{"$f":"IF('PXS Kopieret'!N958<>\"\",HYPERLINK(\"https://ssl1.peoplexs.com/Peoplexs22/eFormportal/eForm.cfm?CandidateUpdateID=\"&'PXS Kopieret'!M958&\"&CandidateUpdateCode=\"&'PXS Kopieret'!N958&\"&Locale=en&CustomFormID=11612\",\"Docs\"),\"\")","v":""},{"$f":"'PXS Kopieret'!A958","v":0},{"$f":"'PXS Kopieret'!B958","v":0},{"$f":"'PXS Kopieret'!C958","v":0},{"$f":"'PXS Kopieret'!D958","v":0},{"$f":"IF($A958<>\"PhD Student\",'PXS Kopieret'!E958,\"\")","v":0},{"$f":"IF($A958=\"PhD Student\",'PXS Kopieret'!F958,\"\")","v":""},{"$f":"'PXS Kopieret'!G958","v":0},{"$f":"'PXS Kopieret'!H958","v":0},{"$f":"IF($A958=\"PhD Student\",'PXS Kopieret'!I958,\"\")","v":""},{"$f":"'PXS Kopieret'!J958","v":0},{"$f":"'PXS Kopieret'!K958","v":0},{"$f":"'PXS Kopieret'!L958","v":0}]
["",{"$f":"IF('PXS Kopieret'!N959<>\"\",HYPERLINK(\"https://ssl1.peoplexs.com/Peoplexs22/eFormportal/eForm.cfm?CandidateUpdateID=\"&'PXS Kopieret'!M959&\"&CandidateUpdateCode=\"&'PXS Kopieret'!N959&\"&Locale=en&CustomFormID=11612\",\"Docs\"),\"\")","v":""},{"$f":"'PXS Kopieret'!A959","v":0},{"$f":"'PXS Kopieret'!B959","v":0},{"$f":"'PXS Kopieret'!C959","v":0},{"$f":"'PXS Kopieret'!D959","v":0},{"$f":"IF($A959<>\"PhD Student\",'PXS Kopieret'!E959,\"\")","v":0},{"$f":"IF($A959=\"PhD Student\",'PXS Kopieret'!F959,\"\")","v":""},{"$f":"'PXS Kopieret'!G959","v":0},{"$f":"'PXS Kopieret'!H959","v":0},{"$f":"IF($A959=\"PhD Student\",'PXS Kopieret'!I959,\"\")","v":""},{"$f":"'PXS Kopieret'!J959","v":0},{"$f":"'PXS Kopieret'!K959","v":0},{"$f":"'PXS Kopieret'!L959","v":0}]
["",{"$f":"IF('PXS Kopieret'!N960<>\"\",HYPERLINK(\"https://ssl1.peoplexs.com/Peoplexs22/eFormportal/eForm.cfm?CandidateUpdateID=\"&'PXS Kopieret'!M960&\"&CandidateUpdateCode=\"&'PXS Kopieret'!N960&\"&Locale=en&CustomFormID=11612\",\"Docs\"),\"\")","v":""},{"$f":"'PXS Kopieret'!A960","v":0},{"$f":"'PXS Kopieret'!B960","v":0},{"$f":"'PXS Kopieret'!C960","v":0},{"$f":"'PXS Kopieret'!D960","v":0},{"$f":"IF($A960<>\"PhD Student\",'PXS Kopieret'!E960,\"\")","v":0},{"$f":"IF($A960=\"PhD Student\",'PXS Kopieret'!F960,\"\")","v":""},{"$f":"'PXS Kopieret'!G960","v":0},{"$f":"'PXS Kopieret'!H960","v":0},{"$f":"IF($A960=\"PhD Student\",'PXS Kopieret'!I960,\"\")","v":""},{"$f":"'PXS Kopieret'!J960","v":0},{"$f":"'PXS Kopieret'!K960","v":0},{"$f":"'PXS Kopieret'!L960","v":0}]
["",{"$f":"IF('PXS Kopieret'!N961<>\"\",HYPERLINK(\"https://ssl1.peoplexs.com/Peoplexs22/eFormportal/eForm.cfm?CandidateUpdateID=\"&'PXS Kopieret'!M961&\"&CandidateUpdateCode=\"&'PXS Kopieret'!N961&\"&Locale=en&CustomFormID=11612\",\"Docs\"),\"\")","v":""},{"$f":"'PXS Kopieret'!A961","v":0},{"$f":"'PXS Kopieret'!B961","v":0},{"$f":"'PXS Kopieret'!C961","v":0},{"$f":"'PXS Kopieret'!D961","v":0},{"$f":"IF($A961<>\"PhD Student\",'PXS Kopieret'!E961,\"\")","v":0},{"$f":"IF($A961=\"PhD Student\",'PXS Kopieret'!F961,\"\")","v":""},{"$f":"'PXS Kopieret'!G961","v":0},{"$f":"'PXS Kopieret'!H961","v":0},{"$f":"IF($A961=\"PhD Student\",'PXS Kopieret'!I961,\"\")","v":""},{"$f":"'PXS Kopieret'!J961","v":0},{"$f":"'PXS Kopieret'!K961","v":0},{"$f":"'PXS Kopieret'!L961","v":0}]
["",{"$f":"IF('PXS Kopieret'!N962<>\"\",HYPERLINK(\"https://ssl1.peoplexs.com/Peoplexs22/eFormportal/eForm.cfm?CandidateUpdateID=\"&'PXS Kopieret'!M962&\"&CandidateUpdateCode=\"&'PXS Kopieret'!N962&\"&Locale=en&CustomFormID=11612\",\"Docs\"),\"\")","v":""},{"$f":"'PXS Kopieret'!A962","v":0},{"$f":"'PXS Kopieret'!B962","v":0},{"$f":"'PXS Kopieret'!C962","v":0},{"$f":"'PXS Kopieret'!D962","v":0},{"$f":"IF($A962<>\"PhD Student\",'PXS Kopieret'!E962,\"\")","v":0},{"$f":"IF($A962=\"PhD Student\",'PXS Kopieret'!F962,\"\")","v":""},{"$f":"'PXS Kopieret'!G962","v":0},{"$f":"'PXS Kopieret'!H962","v":0},{"$f":"IF($A962=\"PhD Student\",'PXS Kopieret'!I962,\"\")","v":""},{"$f":"'PXS Kopieret'!J962","v":0},{"$f":"'PXS Kopieret'!K962","v":0},{"$f":"'PXS Kopieret'!L962","v":0}]
[{"$f":"IF(LEFT(C963,2)=\"RY\", \"Research Year Student\", IF(C963=0,\"\",\"PhD Student\"))","v":""},{"$f":"IF('PXS Kopieret'!N963<>\"\",HYPERLINK(\"https://ssl1.peoplexs.com/Peoplexs22/eFormportal/eForm.cfm?CandidateUpdateID=\"&'PXS Kopieret'!M963&\"&CandidateUpdateCode=\"&'PXS Kopieret'!N963&\"&Locale=en&CustomFormID=11612\",\"Docs\"),\"\")","v":""},{"$f":"'PXS Kopieret'!A963","v":0},{"$f":"'PXS Kopieret'!B963","v":0},{"$f":"'PXS Kopieret'!C963","v":0},{"$f":"'PXS Kopieret'!D963","v":0},{"$f":"IF($A963<>\"PhD Student\",'PXS Kopieret'!E963,\"\")","v":0},{"$f":"IF($A963=\"PhD Student\",'PXS Kopieret'!F963,\"\")","v":""},{"$f":"'PXS Kopieret'!G963","v":0},{"$f":"'PXS Kopieret'!H963","v":0},{"$f":"IF($A963=\"PhD Student\",'PXS Kopieret'!I963,\"\")","v":""},{"$f":"'PXS Kopieret'!J963","v":0},{"$f":"'PXS Kopieret'!K963","v":0},{"$f":"'PXS Kopieret'!L963","v":0}]
["",{"$f":"IF('PXS Kopieret'!N964<>\"\",HYPERLINK(\"https://ssl1.peoplexs.com/Peoplexs22/eFormportal/eForm.cfm?CandidateUpdateID=\"&'PXS Kopieret'!M964&\"&CandidateUpdateCode=\"&'PXS Kopieret'!N964&\"&Locale=en&CustomFormID=11612\",\"Docs\"),\"\")","v":""},{"$f":"'PXS Kopieret'!A964","v":0},{"$f":"'PXS Kopieret'!B964","v":0},{"$f":"'PXS Kopieret'!C964","v":0},{"$f":"'PXS Kopieret'!D964","v":0},{"$f":"IF($A964<>\"PhD Student\",'PXS Kopieret'!E964,\"\")","v":0},{"$f":"IF($A964=\"PhD Student\",'PXS Kopieret'!F964,\"\")","v":""},{"$f":"'PXS Kopieret'!G964","v":0},{"$f":"'PXS Kopieret'!H964","v":0},{"$f":"IF($A964=\"PhD Student\",'PXS Kopieret'!I964,\"\")","v":""},{"$f":"'PXS Kopieret'!J964","v":0},{"$f":"'PXS Kopieret'!K964","v":0},{"$f":"'PXS Kopieret'!L964","v":0}]
["",{"$f":"IF('PXS Kopieret'!N965<>\"\",HYPERLINK(\"https://ssl1.peoplexs.com/Peoplexs22/eFormportal/eForm.cfm?CandidateUpdateID=\"&'PXS Kopieret'!M965&\"&CandidateUpdateCode=\"&'PXS Kopieret'!N965&\"&Locale=en&CustomFormID=11612\",\"Docs\"),\"\")","v":""},{"$f":"'PXS Kopieret'!A965","v":0},{"$f":"'PXS Kopieret'!B965","v":0},{"$f":"'PXS Kopieret'!C965","v":0},{"$f":"'PXS Kopieret'!D965","v":0},{"$f":"IF($A965<>\"PhD Student\",'PXS Kopieret'!E965,\"\")","v":0},{"$f":"IF($A965=\"PhD Student\",'PXS Kopieret'!F965,\"\")","v":""},{"$f":"'PXS Kopieret'!G965","v":0},{"$f":"'PXS Kopieret'!H965","v":0},{"$f":"IF($A965=\"PhD Student\",'PXS Kopieret'!I965,\"\")","v":""},{"$f":"'PXS Kopieret'!J965","v":0},{"$f":"'PXS Kopieret'!K965","v":0},{"$f":"'PXS Kopieret'!L965","v":0}]
["",{"$f":"IF('PXS Kopieret'!N966<>\"\",HYPERLINK(\"https://ssl1.peoplexs.com/Peoplexs22/eFormportal/eForm.cfm?CandidateUpdateID=\"&'PXS Kopieret'!M966&\"&CandidateUpdateCode=\"&'PXS Kopieret'!N966&\"&Locale=en&CustomFormID=11612\",\"Docs\"),\"\")","v":""},{"$f":"'PXS Kopieret'!A966","v":0},{"$f":"'PXS Kopieret'!B966","v":0},{"$f":"'PXS Kopieret'!C966","v":0},{"$f":"'PXS Kopieret'!D966","v":0},{"$f":"IF($A966<>\"PhD Student\",'PXS Kopieret'!E966,\"\")","v":0},{"$f":"IF($A966=\"PhD Student\",'PXS Kopieret'!F966,\"\")","v":""},{"$f":"'PXS Kopieret'!G966","v":0},{"$f":"'PXS Kopieret'!H966","v":0},{"$f":"IF($A966=\"PhD Student\",'PXS Kopieret'!I966,\"\")","v":""},{"$f":"'PXS Kopieret'!J966","v":0},{"$f":"'PXS Kopieret'!K966","v":0},{"$f":"'PXS Kopieret'!L966","v":0}]
["",{"$f":"IF('PXS Kopieret'!N967<>\"\",HYPERLINK(\"https://ssl1.peoplexs.com/Peoplexs22/eFormportal/eForm.cfm?CandidateUpdateID=\"&'PXS Kopieret'!M967&\"&CandidateUpdateCode=\"&'PXS Kopieret'!N967&\"&Locale=en&CustomFormID=11612\",\"Docs\"),\"\")","v":""},{"$f":"'PXS Kopieret'!A967","v":0},{"$f":"'PXS Kopieret'!B967","v":0},{"$f":"'PXS Kopieret'!C967","v":0},{"$f":"'PXS Kopieret'!D967","v":0},{"$f":"IF($A967<>\"PhD Student\",'PXS Kopieret'!E967,\"\")","v":0},{"$f":"IF($A967=\"PhD Student\",'PXS Kopieret'!F967,\"\")","v":""},{"$f":"'PXS Kopieret'!G967","v":0},{"$f":"'PXS Kopieret'!H967","v":0},{"$f":"IF($A967=\"PhD Student\",'PXS Kopieret'!I967,\"\")","v":""},{"$f":"'PXS Kopieret'!J967","v":0},{"$f":"'PXS Kopieret'!K967","v":0},{"$f":"'PXS Kopieret'!L967","v":0}]
["",{"$f":"IF('PXS Kopieret'!N968<>\"\",HYPERLINK(\"https://ssl1.peoplexs.com/Peoplexs22/eFormportal/eForm.cfm?CandidateUpdateID=\"&'PXS Kopieret'!M968&\"&CandidateUpdateCode=\"&'PXS Kopieret'!N968&\"&Locale=en&CustomFormID=11612\",\"Docs\"),\"\")","v":""},{"$f":"'PXS Kopieret'!A968","v":0},{"$f":"'PXS Kopieret'!B968","v":0},{"$f":"'PXS Kopieret'!C968","v":0},{"$f":"'PXS Kopieret'!D968","v":0},{"$f":"IF($A968<>\"PhD Student\",'PXS Kopieret'!E968,\"\")","v":0},{"$f":"IF($A968=\"PhD Student\",'PXS Kopieret'!F968,\"\")","v":""},{"$f":"'PXS Kopieret'!G968","v":0},{"$f":"'PXS Kopieret'!H968","v":0},{"$f":"IF($A968=\"PhD Student\",'PXS Kopieret'!I968,\"\")","v":""},{"$f":"'PXS Kopieret'!J968","v":0},{"$f":"'PXS Kopieret'!K968","v":0},{"$f":"'PXS Kopieret'!L968","v":0}]
["",{"$f":"IF('PXS Kopieret'!N969<>\"\",HYPERLINK(\"https://ssl1.peoplexs.com/Peoplexs22/eFormportal/eForm.cfm?CandidateUpdateID=\"&'PXS Kopieret'!M969&\"&CandidateUpdateCode=\"&'PXS Kopieret'!N969&\"&Locale=en&CustomFormID=11612\",\"Docs\"),\"\")","v":""},{"$f":"'PXS Kopieret'!A969","v":0},{"$f":"'PXS Kopieret'!B969","v":0},{"$f":"'PXS Kopieret'!C969","v":0},{"$f":"'PXS Kopieret'!D969","v":0},{"$f":"IF($A969<>\"PhD Student\",'PXS Kopieret'!E969,\"\")","v":0},{"$f":"IF($A969=\"PhD Student\",'PXS Kopieret'!F969,\"\")","v":""},{"$f":"'PXS Kopieret'!G969","v":0},{"$f":"'PXS Kopieret'!H969","v":0},{"$f":"IF($A969=\"PhD Student\",'PXS Kopieret'!I969,\"\")","v":""},{"$f":"'PXS Kopieret'!J969","v":0},{"$f":"'PXS Kopieret'!K969","v":0},{"$f":"'PXS Kopieret'!L969","v":0}]
["",{"$f":"IF('PXS Kopieret'!N970<>\"\",HYPERLINK(\"https://ssl1.peoplexs.com/Peoplexs22/eFormportal/eForm.cfm?CandidateUpdateID=\"&'PXS Kopieret'!M970&\"&CandidateUpdateCode=\"&'PXS Kopieret'!N970&\"&Locale=en&CustomFormID=11612\",\"Docs\"),\"\")","v":""},{"$f":"'PXS Kopieret'!A970","v":0},{"$f":"'PXS Kopieret'!B970","v":0},{"$f":"'PXS Kopieret'!C970","v":0},{"$f":"'PXS Kopieret'!D970","v":0},{"$f":"IF($A970<>\"PhD Student\",'PXS Kopieret'!E970,\"\")","v":0},{"$f":"IF($A970=\"PhD Student\",'PXS Kopieret'!F970,\"\")","v":""},{"$f":"'PXS Kopieret'!G970","v":0},{"$f":"'PXS Kopieret'!H970","v":0},{"$f":"IF($A970=\"PhD Student\",'PXS Kopieret'!I970,\"\")","v":""},{"$f":"'PXS Kopieret'!J970","v":0},{"$f":"'PXS Kopieret'!K970","v":0},{"$f":"'PXS Kopieret'!L970","v":0}]
["",{"$f":"IF('PXS Kopieret'!N971<>\"\",HYPERLINK(\"https://ssl1.peoplexs.com/Peoplexs22/eFormportal/eForm.cfm?CandidateUpdateID=\"&'PXS Kopieret'!M971&\"&CandidateUpdateCode=\"&'PXS Kopieret'!N971&\"&Locale=en&CustomFormID=11612\",\"Docs\"),\"\")","v":""},{"$f":"'PXS Kopieret'!A971","v":0},{"$f":"'PXS Kopieret'!B971","v":0},{"$f":"'PXS Kopieret'!C971","v":0},{"$f":"'PXS Kopieret'!D971","v":0},{"$f":"IF($A971<>\"PhD Student\",'PXS Kopieret'!E971,\"\")","v":0},{"$f":"IF($A971=\"PhD Student\",'PXS Kopieret'!F971,\"\")","v":""},{"$f":"'PXS Kopieret'!G971","v":0},{"$f":"'PXS Kopieret'!H971","v":0},{"$f":"IF($A971=\"PhD Student\",'PXS Kopieret'!I971,\"\")","v":""},{"$f":"'PXS Kopieret'!J971","v":0},{"$f":"'PXS Kopieret'!K971","v":0},{"$f":"'PXS Kopieret'!L971","v":0}]
["",{"$f":"IF('PXS Kopieret'!N972<>\"\",HYPERLINK(\"https://ssl1.peoplexs.com/Peoplexs22/eFormportal/eForm.cfm?CandidateUpdateID=\"&'PXS Kopieret'!M972&\"&CandidateUpdateCode=\"&'PXS Kopieret'!N972&\"&Locale=en&CustomFormID=11612\",\"Docs\"),\"\")","v":""},{"$f":"'PXS Kopieret'!A972","v":0},{"$f":"'PXS Kopieret'!B972","v":0},{"$f":"'PXS Kopieret'!C972","v":0},{"$f":"'PXS Kopieret'!D972","v":0},{"$f":"IF($A972<>\"PhD Student\",'PXS Kopieret'!E972,\"\")","v":0},{"$f":"IF($A972=\"PhD Student\",'PXS Kopieret'!F972,\"\")","v":""},{"$f":"'PXS Kopieret'!G972","v":0},{"$f":"'PXS Kopieret'!H972","v":0},{"$f":"IF($A972=\"PhD Student\",'PXS Kopieret'!I972,\"\")","v":""},{"$f":"'PXS Kopieret'!J972","v":0},{"$f":"'PXS Kopieret'!K972","v":0},{"$f":"'PXS Kopieret'!L972","v":0}]
["",{"$f":"IF('PXS Kopieret'!N973<>\"\",HYPERLINK(\"https://ssl1.peoplexs.com/Peoplexs22/eFormportal/eForm.cfm?CandidateUpdateID=\"&'PXS Kopieret'!M973&\"&CandidateUpdateCode=\"&'PXS Kopieret'!N973&\"&Locale=en&CustomFormID=11612\",\"Docs\"),\"\")","v":""},{"$f":"'PXS Kopieret'!A973","v":0},{"$f":"'PXS Kopieret'!B973","v":0},{"$f":"'PXS Kopieret'!C973","v":0},{"$f":"'PXS Kopieret'!D973","v":0},{"$f":"IF($A973<>\"PhD Student\",'PXS Kopieret'!E973,\"\")","v":0},{"$f":"IF($A973=\"PhD Student\",'PXS Kopieret'!F973,\"\")","v":""},{"$f":"'PXS Kopieret'!G973","v":0},{"$f":"'PXS Kopieret'!H973","v":0},{"$f":"IF($A973=\"PhD Student\",'PXS Kopieret'!I973,\"\")","v":""},{"$f":"'PXS Kopieret'!J973","v":0},{"$f":"'PXS Kopieret'!K973","v":0},{"$f":"'PXS Kopieret'!L973","v":0}]
["",{"$f":"IF('PXS Kopieret'!N974<>\"\",HYPERLINK(\"https://ssl1.peoplexs.com/Peoplexs22/eFormportal/eForm.cfm?CandidateUpdateID=\"&'PXS Kopieret'!M974&\"&CandidateUpdateCode=\"&'PXS Kopieret'!N974&\"&Locale=en&CustomFormID=11612\",\"Docs\"),\"\")","v":""},{"$f":"'PXS Kopieret'!A974","v":0},{"$f":"'PXS Kopieret'!B974","v":0},{"$f":"'PXS Kopieret'!C974","v":0},{"$f":"'PXS Kopieret'!D974","v":0},{"$f":"IF($A974<>\"PhD Student\",'PXS Kopieret'!E974,\"\")","v":0},{"$f":"IF($A974=\"PhD Student\",'PXS Kopieret'!F974,\"\")","v":""},{"$f":"'PXS Kopieret'!G974","v":0},{"$f":"'PXS Kopieret'!H974","v":0},{"$f":"IF($A974=\"PhD Student\",'PXS Kopieret'!I974,\"\")","v":""},{"$f":"'PXS Kopieret'!J974","v":0},{"$f":"'PXS Kopieret'!K974","v":0},{"$f":"'PXS Kopieret'!L974","v":0}]
["",{"$f":"IF('PXS Kopieret'!N975<>\"\",HYPERLINK(\"https://ssl1.peoplexs.com/Peoplexs22/eFormportal/eForm.cfm?CandidateUpdateID=\"&'PXS Kopieret'!M975&\"&CandidateUpdateCode=\"&'PXS Kopieret'!N975&\"&Locale=en&CustomFormID=11612\",\"Docs\"),\"\")","v":""},{"$f":"'PXS Kopieret'!A975","v":0},{"$f":"'PXS Kopieret'!B975","v":0},{"$f":"'PXS Kopieret'!C975","v":0},{"$f":"'PXS Kopieret'!D975","v":0},{"$f":"IF($A975<>\"PhD Student\",'PXS Kopieret'!E975,\"\")","v":0},{"$f":"IF($A975=\"PhD Student\",'PXS Kopieret'!F975,\"\")","v":""},{"$f":"'PXS Kopieret'!G975","v":0},{"$f":"'PXS Kopieret'!H975","v":0},{"$f":"IF($A975=\"PhD Student\",'PXS Kopieret'!I975,\"\")","v":""},{"$f":"'PXS Kopieret'!J975","v":0},{"$f":"'PXS Kopieret'!K975","v":0},{"$f":"'PXS Kopieret'!L975","v":0}]
["",{"$f":"IF('PXS Kopieret'!N976<>\"\",HYPERLINK(\"https://ssl1.peoplexs.com/Peoplexs22/eFormportal/eForm.cfm?CandidateUpdateID=\"&'PXS Kopieret'!M976&\"&CandidateUpdateCode=\"&'PXS Kopieret'!N976&\"&Locale=en&CustomFormID=11612\",\"Docs\"),\"\")","v":""},{"$f":"'PXS Kopieret'!A976","v":0},{"$f":"'PXS Kopieret'!B976","v":0},{"$f":"'PXS Kopieret'!C976","v":0},{"$f":"'PXS Kopieret'!D976","v":0},{"$f":"IF($A976<>\"PhD Student\",'PXS Kopieret'!E976,\"\")","v":0},{"$f":"IF($A976=\"PhD Student\",'PXS Kopieret'!F976,\"\")","v":""},{"$f":"'PXS Kopieret'!G976","v":0},{"$f":"'PXS Kopieret'!H976","v":0},{"$f":"IF($A976=\"PhD Student\",'PXS Kopieret'!I976,\"\")","v":""},{"$f":"'PXS Kopieret'!J976","v":0},{"$f":"'PXS Kopieret'!K976","v":0},{"$f":"'PXS Kopieret'!L976","v":0}]
["",{"$f":"IF('PXS Kopieret'!N977<>\"\",HYPERLINK(\"https://ssl1.peoplexs.com/Peoplexs22/eFormportal/eForm.cfm?CandidateUpdateID=\"&'PXS Kopieret'!M977&\"&CandidateUpdateCode=\"&'PXS Kopieret'!N977&\"&Locale=en&CustomFormID=11612\",\"Docs\"),\"\")","v":""},{"$f":"'PXS Kopieret'!A977","v":0},{"$f":"'PXS Kopieret'!B977","v":0},{"$f":"'PXS Kopieret'!C977","v":0},{"$f":"'PXS Kopieret'!D977","v":0},{"$f":"IF($A977<>\"PhD Student\",'PXS Kopieret'!E977,\"\")","v":0},{"$f":"IF($A977=\"PhD Student\",'PXS Kopieret'!F977,\"\")","v":""},{"$f":"'PXS Kopieret'!G977","v":0},{"$f":"'PXS Kopieret'!H977","v":0},{"$f":"IF($A977=\"PhD Student\",'PXS Kopieret'!I977,\"\")","v":""},{"$f":"'PXS Kopieret'!J977","v":0},{"$f":"'PXS Kopieret'!K977","v":0},{"$f":"'PXS Kopieret'!L977","v":0}]
["",{"$f":"IF('PXS Kopieret'!N978<>\"\",HYPERLINK(\"https://ssl1.peoplexs.com/Peoplexs22/eFormportal/eForm.cfm?CandidateUpdateID=\"&'PXS Kopieret'!M978&\"&CandidateUpdateCode=\"&'PXS Kopieret'!N978&\"&Locale=en&CustomFormID=11612\",\"Docs\"),\"\")","v":""},{"$f":"'PXS Kopieret'!A978","v":0},{"$f":"'PXS Kopieret'!B978","v":0},{"$f":"'PXS Kopieret'!C978","v":0},{"$f":"'PXS Kopieret'!D978","v":0},{"$f":"IF($A978<>\"PhD Student\",'PXS Kopieret'!E978,\"\")","v":0},{"$f":"IF($A978=\"PhD Student\",'PXS Kopieret'!F978,\"\")","v":""},{"$f":"'PXS Kopieret'!G978","v":0},{"$f":"'PXS Kopieret'!H978","v":0},{"$f":"IF($A978=\"PhD Student\",'PXS Kopieret'!I978,\"\")","v":""},{"$f":"'PXS Kopieret'!J978","v":0},{"$f":"'PXS Kopieret'!K978","v":0},{"$f":"'PXS Kopieret'!L978","v":0}]
["",{"$f":"IF('PXS Kopieret'!N979<>\"\",HYPERLINK(\"https://ssl1.peoplexs.com/Peoplexs22/eFormportal/eForm.cfm?CandidateUpdateID=\"&'PXS Kopieret'!M979&\"&CandidateUpdateCode=\"&'PXS Kopieret'!N979&\"&Locale=en&CustomFormID=11612\",\"Docs\"),\"\")","v":""},{"$f":"'PXS Kopieret'!A979","v":0},{"$f":"'PXS Kopieret'!B979","v":0},{"$f":"'PXS Kopieret'!C979","v":0},{"$f":"'PXS Kopieret'!D979","v":0},{"$f":"IF($A979<>\"PhD Student\",'PXS Kopieret'!E979,\"\")","v":0},{"$f":"IF($A979=\"PhD Student\",'PXS Kopieret'!F979,\"\")","v":""},{"$f":"'PXS Kopieret'!G979","v":0},{"$f":"'PXS Kopieret'!H979","v":0},{"$f":"IF($A979=\"PhD Student\",'PXS Kopieret'!I979,\"\")","v":""},{"$f":"'PXS Kopieret'!J979","v":0},{"$f":"'PXS Kopieret'!K979","v":0},{"$f":"'PXS Kopieret'!L979","v":0}]
["",{"$f":"IF('PXS Kopieret'!N980<>\"\",HYPERLINK(\"https://ssl1.peoplexs.com/Peoplexs22/eFormportal/eForm.cfm?CandidateUpdateID=\"&'PXS Kopieret'!M980&\"&CandidateUpdateCode=\"&'PXS Kopieret'!N980&\"&Locale=en&CustomFormID=11612\",\"Docs\"),\"\")","v":""},{"$f":"'PXS Kopieret'!A980","v":0},{"$f":"'PXS Kopieret'!B980","v":0},{"$f":"'PXS Kopieret'!C980","v":0},{"$f":"'PXS Kopieret'!D980","v":0},{"$f":"IF($A980<>\"PhD Student\",'PXS Kopieret'!E980,\"\")","v":0},{"$f":"IF($A980=\"PhD Student\",'PXS Kopieret'!F980,\"\")","v":""},{"$f":"'PXS Kopieret'!G980","v":0},{"$f":"'PXS Kopieret'!H980","v":0},{"$f":"IF($A980=\"PhD Student\",'PXS Kopieret'!I980,\"\")","v":""},{"$f":"'PXS Kopieret'!J980","v":0},{"$f":"'PXS Kopieret'!K980","v":0},{"$f":"'PXS Kopieret'!L980","v":0}]
["",{"$f":"IF('PXS Kopieret'!N981<>\"\",HYPERLINK(\"https://ssl1.peoplexs.com/Peoplexs22/eFormportal/eForm.cfm?CandidateUpdateID=\"&'PXS Kopieret'!M981&\"&CandidateUpdateCode=\"&'PXS Kopieret'!N981&\"&Locale=en&CustomFormID=11612\",\"Docs\"),\"\")","v":""},{"$f":"'PXS Kopieret'!A981","v":0},{"$f":"'PXS Kopieret'!B981","v":0},{"$f":"'PXS Kopieret'!C981","v":0},{"$f":"'PXS Kopieret'!D981","v":0},{"$f":"IF($A981<>\"PhD Student\",'PXS Kopieret'!E981,\"\")","v":0},{"$f":"IF($A981=\"PhD Student\",'PXS Kopieret'!F981,\"\")","v":""},{"$f":"'PXS Kopieret'!G981","v":0},{"$f":"'PXS Kopieret'!H981","v":0},{"$f":"IF($A981=\"PhD Student\",'PXS Kopieret'!I981,\"\")","v":""},{"$f":"'PXS Kopieret'!J981","v":0},{"$f":"'PXS Kopieret'!K981","v":0},{"$f":"'PXS Kopieret'!L981","v":0}]
["",{"$f":"IF('PXS Kopieret'!N982<>\"\",HYPERLINK(\"https://ssl1.peoplexs.com/Peoplexs22/eFormportal/eForm.cfm?CandidateUpdateID=\"&'PXS Kopieret'!M982&\"&CandidateUpdateCode=\"&'PXS Kopieret'!N982&\"&Locale=en&CustomFormID=11612\",\"Docs\"),\"\")","v":""},{"$f":"'PXS Kopieret'!A982","v":0},{"$f":"'PXS Kopieret'!B982","v":0},{"$f":"'PXS Kopieret'!C982","v":0},{"$f":"'PXS Kopieret'!D982","v":0},{"$f":"IF($A982<>\"PhD Student\",'PXS Kopieret'!E982,\"\")","v":0},{"$f":"IF($A982=\"PhD Student\",'PXS Kopieret'!F982,\"\")","v":""},{"$f":"'PXS Kopieret'!G982","v":0},{"$f":"'PXS Kopieret'!H982","v":0},{"$f":"IF($A982=\"PhD Student\",'PXS Kopieret'!I982,\"\")","v":""},{"$f":"'PXS Kopieret'!J982","v":0},{"$f":"'PXS Kopieret'!K982","v":0},{"$f":"'PXS Kopieret'!L982","v":0}]
["",{"$f":"IF('PXS Kopieret'!N983<>\"\",HYPERLINK(\"https://ssl1.peoplexs.com/Peoplexs22/eFormportal/eForm.cfm?CandidateUpdateID=\"&'PXS Kopieret'!M983&\"&CandidateUpdateCode=\"&'PXS Kopieret'!N983&\"&Locale=en&CustomFormID=11612\",\"Docs\"),\"\")","v":""},{"$f":"'PXS Kopieret'!A983","v":0},{"$f":"'PXS Kopieret'!B983","v":0},{"$f":"'PXS Kopieret'!C983","v":0},{"$f":"'PXS Kopieret'!D983","v":0},{"$f":"IF($A983<>\"PhD Student\",'PXS Kopieret'!E983,\"\")","v":0},{"$f":"IF($A983=\"PhD Student\",'PXS Kopieret'!F983,\"\")","v":""},{"$f":"'PXS Kopieret'!G983","v":0},{"$f":"'PXS Kopieret'!H983","v":0},{"$f":"IF($A983=\"PhD Student\",'PXS Kopieret'!I983,\"\")","v":""},{"$f":"'PXS Kopieret'!J983","v":0},{"$f":"'PXS Kopieret'!K983","v":0},{"$f":"'PXS Kopieret'!L983","v":0}]
["",{"$f":"IF('PXS Kopieret'!N984<>\"\",HYPERLINK(\"https://ssl1.peoplexs.com/Peoplexs22/eFormportal/eForm.cfm?CandidateUpdateID=\"&'PXS Kopieret'!M984&\"&CandidateUpdateCode=\"&'PXS Kopieret'!N984&\"&Locale=en&CustomFormID=11612\",\"Docs\"),\"\")","v":""},{"$f":"'PXS Kopieret'!A984","v":0},{"$f":"'PXS Kopieret'!B984","v":0},{"$f":"'PXS Kopieret'!C984","v":0},{"$f":"'PXS Kopieret'!D984","v":0},{"$f":"IF($A984<>\"PhD Student\",'PXS Kopieret'!E984,\"\")","v":0},{"$f":"IF($A984=\"PhD Student\",'PXS Kopieret'!F984,\"\")","v":""},{"$f":"'PXS Kopieret'!G984","v":0},{"$f":"'PXS Kopieret'!H984","v":0},{"$f":"IF($A984=\"PhD Student\",'PXS Kopieret'!I984,\"\")","v":""},{"$f":"'PXS Kopieret'!J984","v":0},{"$f":"'PXS Kopieret'!K984","v":0},{"$f":"'PXS Kopieret'!L984","v":0}]
["",{"$f":"IF('PXS Kopieret'!N985<>\"\",HYPERLINK(\"https://ssl1.peoplexs.com/Peoplexs22/eFormportal/eForm.cfm?CandidateUpdateID=\"&'PXS Kopieret'!M985&\"&CandidateUpdateCode=\"&'PXS Kopieret'!N985&\"&Locale=en&CustomFormID=11612\",\"Docs\"),\"\")","v":""},{"$f":"'PXS Kopieret'!A985","v":0},{"$f":"'PXS Kopieret'!B985","v":0},{"$f":"'PXS Kopieret'!C985","v":0},{"$f":"'PXS Kopieret'!D985","v":0},{"$f":"IF($A985<>\"PhD Student\",'PXS Kopieret'!E985,\"\")","v":0},{"$f":"IF($A985=\"PhD Student\",'PXS Kopieret'!F985,\"\")","v":""},{"$f":"'PXS Kopieret'!G985","v":0},{"$f":"'PXS Kopieret'!H985","v":0},{"$f":"IF($A985=\"PhD Student\",'PXS Kopieret'!I985,\"\")","v":""},{"$f":"'PXS Kopieret'!J985","v":0},{"$f":"'PXS Kopieret'!K985","v":0},{"$f":"'PXS Kopieret'!L985","v":0}]
["",{"$f":"IF('PXS Kopieret'!N986<>\"\",HYPERLINK(\"https://ssl1.peoplexs.com/Peoplexs22/eFormportal/eForm.cfm?CandidateUpdateID=\"&'PXS Kopieret'!M986&\"&CandidateUpdateCode=\"&'PXS Kopieret'!N986&\"&Locale=en&CustomFormID=11612\",\"Docs\"),\"\")","v":""},{"$f":"'PXS Kopieret'!A986","v":0},{"$f":"'PXS Kopieret'!B986","v":0},{"$f":"'PXS Kopieret'!C986","v":0},{"$f":"'PXS Kopieret'!D986","v":0},{"$f":"IF($A986<>\"PhD Student\",'PXS Kopieret'!E986,\"\")","v":0},{"$f":"IF($A986=\"PhD Student\",'PXS Kopieret'!F986,\"\")","v":""},{"$f":"'PXS Kopieret'!G986","v":0},{"$f":"'PXS Kopieret'!H986","v":0},{"$f":"IF($A986=\"PhD Student\",'PXS Kopieret'!I986,\"\")","v":""},{"$f":"'PXS Kopieret'!J986","v":0},{"$f":"'PXS Kopieret'!K986","v":0},{"$f":"'PXS Kopieret'!L986","v":0}]
["",{"$f":"IF('PXS Kopieret'!N987<>\"\",HYPERLINK(\"https://ssl1.peoplexs.com/Peoplexs22/eFormportal/eForm.cfm?CandidateUpdateID=\"&'PXS Kopieret'!M987&\"&CandidateUpdateCode=\"&'PXS Kopieret'!N987&\"&Locale=en&CustomFormID=11612\",\"Docs\"),\"\")","v":""},{"$f":"'PXS Kopieret'!A987","v":0},{"$f":"'PXS Kopieret'!B987","v":0},{"$f":"'PXS Kopieret'!C987","v":0},{"$f":"'PXS Kopieret'!D987","v":0},{"$f":"IF($A987<>\"PhD Student\",'PXS Kopieret'!E987,\"\")","v":0},{"$f":"IF($A987=\"PhD Student\",'PXS Kopieret'!F987,\"\")","v":""},{"$f":"'PXS Kopieret'!G987","v":0},{"$f":"'PXS Kopieret'!H987","v":0},{"$f":"IF($A987=\"PhD Student\",'PXS Kopieret'!I987,\"\")","v":""},{"$f":"'PXS Kopieret'!J987","v":0},{"$f":"'PXS Kopieret'!K987","v":0},{"$f":"'PXS Kopieret'!L987","v":0}]
["",{"$f":"IF('PXS Kopieret'!N988<>\"\",HYPERLINK(\"https://ssl1.peoplexs.com/Peoplexs22/eFormportal/eForm.cfm?CandidateUpdateID=\"&'PXS Kopieret'!M988&\"&CandidateUpdateCode=\"&'PXS Kopieret'!N988&\"&Locale=en&CustomFormID=11612\",\"Docs\"),\"\")","v":""},{"$f":"'PXS Kopieret'!A988","v":0},{"$f":"'PXS Kopieret'!B988","v":0},{"$f":"'PXS Kopieret'!C988","v":0},{"$f":"'PXS Kopieret'!D988","v":0},{"$f":"IF($A988<>\"PhD Student\",'PXS Kopieret'!E988,\"\")","v":0},{"$f":"IF($A988=\"PhD Student\",'PXS Kopieret'!F988,\"\")","v":""},{"$f":"'PXS Kopieret'!G988","v":0},{"$f":"'PXS Kopieret'!H988","v":0},{"$f":"IF($A988=\"PhD Student\",'PXS Kopieret'!I988,\"\")","v":""},{"$f":"'PXS Kopieret'!J988","v":0},{"$f":"'PXS Kopieret'!K988","v":0},{"$f":"'PXS Kopieret'!L988","v":0}]
["",{"$f":"IF('PXS Kopieret'!N989<>\"\",HYPERLINK(\"https://ssl1.peoplexs.com/Peoplexs22/eFormportal/eForm.cfm?CandidateUpdateID=\"&'PXS Kopieret'!M989&\"&CandidateUpdateCode=\"&'PXS Kopieret'!N989&\"&Locale=en&CustomFormID=11612\",\"Docs\"),\"\")","v":""},{"$f":"'PXS Kopieret'!A989","v":0},{"$f":"'PXS Kopieret'!B989","v":0},{"$f":"'PXS Kopieret'!C989","v":0},{"$f":"'PXS Kopieret'!D989","v":0},{"$f":"IF($A989<>\"PhD Student\",'PXS Kopieret'!E989,\"\")","v":0},{"$f":"IF($A989=\"PhD Student\",'PXS Kopieret'!F989,\"\")","v":""},{"$f":"'PXS Kopieret'!G989","v":0},{"$f":"'PXS Kopieret'!H989","v":0},{"$f":"IF($A989=\"PhD Student\",'PXS Kopieret'!I989,\"\")","v":""},{"$f":"'PXS Kopieret'!J989","v":0},{"$f":"'PXS Kopieret'!K989","v":0},{"$f":"'PXS Kopieret'!L989","v":0}]
["",{"$f":"IF('PXS Kopieret'!N990<>\"\",HYPERLINK(\"https://ssl1.peoplexs.com/Peoplexs22/eFormportal/eForm.cfm?CandidateUpdateID=\"&'PXS Kopieret'!M990&\"&CandidateUpdateCode=\"&'PXS Kopieret'!N990&\"&Locale=en&CustomFormID=11612\",\"Docs\"),\"\")","v":""},{"$f":"'PXS Kopieret'!A990","v":0},{"$f":"'PXS Kopieret'!B990","v":0},{"$f":"'PXS Kopieret'!C990","v":0},{"$f":"'PXS Kopieret'!D990","v":0},{"$f":"IF($A990<>\"PhD Student\",'PXS Kopieret'!E990,\"\")","v":0},{"$f":"IF($A990=\"PhD Student\",'PXS Kopieret'!F990,\"\")","v":""},{"$f":"'PXS Kopieret'!G990","v":0},{"$f":"'PXS Kopieret'!H990","v":0},{"$f":"IF($A990=\"PhD Student\",'PXS Kopieret'!I990,\"\")","v":""},{"$f":"'PXS Kopieret'!J990","v":0},{"$f":"'PXS Kopieret'!K990","v":0},{"$f":"'PXS Kopieret'!L990","v":0}]
["",{"$f":"IF('PXS Kopieret'!N991<>\"\",HYPERLINK(\"https://ssl1.peoplexs.com/Peoplexs22/eFormportal/eForm.cfm?CandidateUpdateID=\"&'PXS Kopieret'!M991&\"&CandidateUpdateCode=\"&'PXS Kopieret'!N991&\"&Locale=en&CustomFormID=11612\",\"Docs\"),\"\")","v":""},{"$f":"'PXS Kopieret'!A991","v":0},{"$f":"'PXS Kopieret'!B991","v":0},{"$f":"'PXS Kopieret'!C991","v":0},{"$f":"'PXS Kopieret'!D991","v":0},{"$f":"IF($A991<>\"PhD Student\",'PXS Kopieret'!E991,\"\")","v":0},{"$f":"IF($A991=\"PhD Student\",'PXS Kopieret'!F991,\"\")","v":""},{"$f":"'PXS Kopieret'!G991","v":0},{"$f":"'PXS Kopieret'!H991","v":0},{"$f":"IF($A991=\"PhD Student\",'PXS Kopieret'!I991,\"\")","v":""},{"$f":"'PXS Kopieret'!J991","v":0},{"$f":"'PXS Kopieret'!K991","v":0},{"$f":"'PXS Kopieret'!L991","v":0}]
["",{"$f":"IF('PXS Kopieret'!N992<>\"\",HYPERLINK(\"https://ssl1.peoplexs.com/Peoplexs22/eFormportal/eForm.cfm?CandidateUpdateID=\"&'PXS Kopieret'!M992&\"&CandidateUpdateCode=\"&'PXS Kopieret'!N992&\"&Locale=en&CustomFormID=11612\",\"Docs\"),\"\")","v":""},{"$f":"'PXS Kopieret'!A992","v":0},{"$f":"'PXS Kopieret'!B992","v":0},{"$f":"'PXS Kopieret'!C992","v":0},{"$f":"'PXS Kopieret'!D992","v":0},{"$f":"IF($A992<>\"PhD Student\",'PXS Kopieret'!E992,\"\")","v":0},{"$f":"IF($A992=\"PhD Student\",'PXS Kopieret'!F992,\"\")","v":""},{"$f":"'PXS Kopieret'!G992","v":0},{"$f":"'PXS Kopieret'!H992","v":0},{"$f":"IF($A992=\"PhD Student\",'PXS Kopieret'!I992,\"\")","v":""},{"$f":"'PXS Kopieret'!J992","v":0},{"$f":"'PXS Kopieret'!K992","v":0},{"$f":"'PXS Kopieret'!L992","v":0}]
["",{"$f":"IF('PXS Kopieret'!N993<>\"\",HYPERLINK(\"https://ssl1.peoplexs.com/Peoplexs22/eFormportal/eForm.cfm?CandidateUpdateID=\"&'PXS Kopieret'!M993&\"&CandidateUpdateCode=\"&'PXS Kopieret'!N993&\"&Locale=en&CustomFormID=11612\",\"Docs\"),\"\")","v":""},{"$f":"'PXS Kopieret'!A993","v":0},{"$f":"'PXS Kopieret'!B993","v":0},{"$f":"'PXS Kopieret'!C993","v":0},{"$f":"'PXS Kopieret'!D993","v":0},{"$f":"IF($A993<>\"PhD Student\",'PXS Kopieret'!E993,\"\")","v":0},{"$f":"IF($A993=\"PhD Student\",'PXS Kopieret'!F993,\"\")","v":""},{"$f":"'PXS Kopieret'!G993","v":0},{"$f":"'PXS Kopieret'!H993","v":0},{"$f":"IF($A993=\"PhD Student\",'PXS Kopieret'!I993,\"\")","v":""},{"$f":"'PXS Kopieret'!J993","v":0},{"$f":"'PXS Kopieret'!K993","v":0},{"$f":"'PXS Kopieret'!L993","v":0}]
["",{"$f":"IF('PXS Kopieret'!N994<>\"\",HYPERLINK(\"https://ssl1.peoplexs.com/Peoplexs22/eFormportal/eForm.cfm?CandidateUpdateID=\"&'PXS Kopieret'!M994&\"&CandidateUpdateCode=\"&'PXS Kopieret'!N994&\"&Locale=en&CustomFormID=11612\",\"Docs\"),\"\")","v":""},{"$f":"'PXS Kopieret'!A994","v":0},{"$f":"'PXS Kopieret'!B994","v":0},{"$f":"'PXS Kopieret'!C994","v":0},{"$f":"'PXS Kopieret'!D994","v":0},{"$f":"IF($A994<>\"PhD Student\",'PXS Kopieret'!E994,\"\")","v":0},{"$f":"IF($A994=\"PhD Student\",'PXS Kopieret'!F994,\"\")","v":""},{"$f":"'PXS Kopieret'!G994","v":0},{"$f":"'PXS Kopieret'!H994","v":0},{"$f":"IF($A994=\"PhD Student\",'PXS Kopieret'!I994,\"\")","v":""},{"$f":"'PXS Kopieret'!J994","v":0},{"$f":"'PXS Kopieret'!K994","v":0},{"$f":"'PXS Kopieret'!L994","v":0}]
["",{"$f":"IF('PXS Kopieret'!N995<>\"\",HYPERLINK(\"https://ssl1.peoplexs.com/Peoplexs22/eFormportal/eForm.cfm?CandidateUpdateID=\"&'PXS Kopieret'!M995&\"&CandidateUpdateCode=\"&'PXS Kopieret'!N995&\"&Locale=en&CustomFormID=11612\",\"Docs\"),\"\")","v":""},{"$f":"'PXS Kopieret'!A995","v":0},{"$f":"'PXS Kopieret'!B995","v":0},{"$f":"'PXS Kopieret'!C995","v":0},{"$f":"'PXS Kopieret'!D995","v":0},{"$f":"IF($A995<>\"PhD Student\",'PXS Kopieret'!E995,\"\")","v":0},{"$f":"IF($A995=\"PhD Student\",'PXS Kopieret'!F995,\"\")","v":""},{"$f":"'PXS Kopieret'!G995","v":0},{"$f":"'PXS Kopieret'!H995","v":0},{"$f":"IF($A995=\"PhD Student\",'PXS Kopieret'!I995,\"\")","v":""},{"$f":"'PXS Kopieret'!J995","v":0},{"$f":"'PXS Kopieret'!K995","v":0},{"$f":"'PXS Kopieret'!L995","v":0}]
["",{"$f":"IF('PXS Kopieret'!N996<>\"\",HYPERLINK(\"https://ssl1.peoplexs.com/Peoplexs22/eFormportal/eForm.cfm?CandidateUpdateID=\"&'PXS Kopieret'!M996&\"&CandidateUpdateCode=\"&'PXS Kopieret'!N996&\"&Locale=en&CustomFormID=11612\",\"Docs\"),\"\")","v":""},{"$f":"'PXS Kopieret'!A996","v":0},{"$f":"'PXS Kopieret'!B996","v":0},{"$f":"'PXS Kopieret'!C996","v":0},{"$f":"'PXS Kopieret'!D996","v":0},{"$f":"IF($A996<>\"PhD Student\",'PXS Kopieret'!E996,\"\")","v":0},{"$f":"IF($A996=\"PhD Student\",'PXS Kopieret'!F996,\"\")","v":""},{"$f":"'PXS Kopieret'!G996","v":0},{"$f":"'PXS Kopieret'!H996","v":0},{"$f":"IF($A996=\"PhD Student\",'PXS Kopieret'!I996,\"\")","v":""},{"$f":"'PXS Kopieret'!J996","v":0},{"$f":"'PXS Kopieret'!K996","v":0},{"$f":"'PXS Kopieret'!L996","v":0}]
["",{"$f":"IF('PXS Kopieret'!N997<>\"\",HYPERLINK(\"https://ssl1.peoplexs.com/Peoplexs22/eFormportal/eForm.cfm?CandidateUpdateID=\"&'PXS Kopieret'!M997&\"&CandidateUpdateCode=\"&'PXS Kopieret'!N997&\"&Locale=en&CustomFormID=11612\",\"Docs\"),\"\")","v":""},{"$f":"'PXS Kopieret'!A997","v":0},{"$f":"'PXS Kopieret'!B997","v":0},{"$f":"'PXS Kopieret'!C997","v":0},{"$f":"'PXS Kopieret'!D997","v":0},{"$f":"IF($A997<>\"PhD Student\",'PXS Kopieret'!E997,\"\")","v":0},{"$f":"IF($A997=\"PhD Student\",'PXS Kopieret'!F997,\"\")","v":""},{"$f":"'PXS Kopieret'!G997","v":0},{"$f":"'PXS Kopieret'!H997","v":0},{"$f":"IF($A997=\"PhD Student\",'PXS Kopieret'!I997,\"\")","v":""},{"$f":"'PXS Kopieret'!J997","v":0},{"$f":"'PXS Kopieret'!K997","v":0},{"$f":"'PXS Kopieret'!L997","v":0}]
["",{"$f":"IF('PXS Kopieret'!N998<>\"\",HYPERLINK(\"https://ssl1.peoplexs.com/Peoplexs22/eFormportal/eForm.cfm?CandidateUpdateID=\"&'PXS Kopieret'!M998&\"&CandidateUpdateCode=\"&'PXS Kopieret'!N998&\"&Locale=en&CustomFormID=11612\",\"Docs\"),\"\")","v":""},{"$f":"'PXS Kopieret'!A998","v":0},{"$f":"'PXS Kopieret'!B998","v":0},{"$f":"'PXS Kopieret'!C998","v":0},{"$f":"'PXS Kopieret'!D998","v":0},{"$f":"IF($A998<>\"PhD Student\",'PXS Kopieret'!E998,\"\")","v":0},{"$f":"IF($A998=\"PhD Student\",'PXS Kopieret'!F998,\"\")","v":""},{"$f":"'PXS Kopieret'!G998","v":0},{"$f":"'PXS Kopieret'!H998","v":0},{"$f":"IF($A998=\"PhD Student\",'PXS Kopieret'!I998,\"\")","v":""},{"$f":"'PXS Kopieret'!J998","v":0},{"$f":"'PXS Kopieret'!K998","v":0},{"$f":"'PXS Kopieret'!L998","v":0}]
["",{"$f":"IF('PXS Kopieret'!N999<>\"\",HYPERLINK(\"https://ssl1.peoplexs.com/Peoplexs22/eFormportal/eForm.cfm?CandidateUpdateID=\"&'PXS Kopieret'!M999&\"&CandidateUpdateCode=\"&'PXS Kopieret'!N999&\"&Locale=en&CustomFormID=11612\",\"Docs\"),\"\")","v":""},{"$f":"'PXS Kopieret'!A999","v":0},{"$f":"'PXS Kopieret'!B999","v":0},{"$f":"'PXS Kopieret'!C999","v":0},{"$f":"'PXS Kopieret'!D999","v":0},{"$f":"IF($A999<>\"PhD Student\",'PXS Kopieret'!E999,\"\")","v":0},{"$f":"IF($A999=\"PhD Student\",'PXS Kopieret'!F999,\"\")","v":""},{"$f":"'PXS Kopieret'!G999","v":0},{"$f":"'PXS Kopieret'!H999","v":0},{"$f":"IF($A999=\"PhD Student\",'PXS Kopieret'!I999,\"\")","v":""},{"$f":"'PXS Kopieret'!J999","v":0},{"$f":"'PXS Kopieret'!K999","v":0},{"$f":"'PXS Kopieret'!L999","v":0}]
["",{"$f":"IF('PXS Kopieret'!N1000<>\"\",HYPERLINK(\"https://ssl1.peoplexs.com/Peoplexs22/eFormportal/eForm.cfm?CandidateUpdateID=\"&'PXS Kopieret'!M1000&\"&CandidateUpdateCode=\"&'PXS Kopieret'!N1000&\"&Locale=en&CustomFormID=11612\",\"Docs\"),\"\")","v":""},{"$f":"'PXS Kopieret'!A1000","v":0},{"$f":"'PXS Kopieret'!B1000","v":0},{"$f":"'PXS Kopieret'!C1000","v":0},{"$f":"'PXS Kopieret'!D1000","v":0},{"$f":"IF($A1000<>\"PhD Student\",'PXS Kopieret'!E1000,\"\")","v":0},{"$f":"IF($A1000=\"PhD Student\",'PXS Kopieret'!F1000,\"\")","v":""},{"$f":"'PXS Kopieret'!G1000","v":0},{"$f":"'PXS Kopieret'!H1000","v":0},{"$f":"IF($A1000=\"PhD Student\",'PXS Kopieret'!I1000,\"\")","v":""},{"$f":"'PXS Kopieret'!J1000","v":0},{"$f":"'PXS Kopieret'!K1000","v":0},{"$f":"'PXS Kopieret'!L1000","v":0}]
["",{"$f":"IF('PXS Kopieret'!N1001<>\"\",HYPERLINK(\"https://ssl1.peoplexs.com/Peoplexs22/eFormportal/eForm.cfm?CandidateUpdateID=\"&'PXS Kopieret'!M1001&\"&CandidateUpdateCode=\"&'PXS Kopieret'!N1001&\"&Locale=en&CustomFormID=11612\",\"Docs\"),\"\")","v":""},{"$f":"'PXS Kopieret'!A1001","v":0},{"$f":"'PXS Kopieret'!B1001","v":0},{"$f":"'PXS Kopieret'!C1001","v":0},{"$f":"'PXS Kopieret'!D1001","v":0},{"$f":"IF($A1001<>\"PhD Student\",'PXS Kopieret'!E1001,\"\")","v":0},{"$f":"IF($A1001=\"PhD Student\",'PXS Kopieret'!F1001,\"\")","v":""},{"$f":"'PXS Kopieret'!G1001","v":0},{"$f":"'PXS Kopieret'!H1001","v":0},{"$f":"IF($A1001=\"PhD Student\",'PXS Kopieret'!I1001,\"\")","v":""},{"$f":"'PXS Kopieret'!J1001","v":0},{"$f":"'PXS Kopieret'!K1001","v":0},{"$f":"'PXS Kopieret'!L1001","v":0}]
["",{"$f":"IF('PXS Kopieret'!N1002<>\"\",HYPERLINK(\"https://ssl1.peoplexs.com/Peoplexs22/eFormportal/eForm.cfm?CandidateUpdateID=\"&'PXS Kopieret'!M1002&\"&CandidateUpdateCode=\"&'PXS Kopieret'!N1002&\"&Locale=en&CustomFormID=11612\",\"Docs\"),\"\")","v":""},{"$f":"'PXS Kopieret'!A1002","v":0},{"$f":"'PXS Kopieret'!B1002","v":0},{"$f":"'PXS Kopieret'!C1002","v":0},{"$f":"'PXS Kopieret'!D1002","v":0},{"$f":"IF($A1002<>\"PhD Student\",'PXS Kopieret'!E1002,\"\")","v":0},{"$f":"IF($A1002=\"PhD Student\",'PXS Kopieret'!F1002,\"\")","v":""},{"$f":"'PXS Kopieret'!G1002","v":0},{"$f":"'PXS Kopieret'!H1002","v":0},{"$f":"IF($A1002=\"PhD Student\",'PXS Kopieret'!I1002,\"\")","v":""},{"$f":"'PXS Kopieret'!J1002","v":0},{"$f":"'PXS Kopieret'!K1002","v":0},{"$f":"'PXS Kopieret'!L1002","v":0}]
["",{"$f":"IF('PXS Kopieret'!N1003<>\"\",HYPERLINK(\"https://ssl1.peoplexs.com/Peoplexs22/eFormportal/eForm.cfm?CandidateUpdateID=\"&'PXS Kopieret'!M1003&\"&CandidateUpdateCode=\"&'PXS Kopieret'!N1003&\"&Locale=en&CustomFormID=11612\",\"Docs\"),\"\")","v":""},{"$f":"'PXS Kopieret'!A1003","v":0},{"$f":"'PXS Kopieret'!B1003","v":0},{"$f":"'PXS Kopieret'!C1003","v":0},{"$f":"'PXS Kopieret'!D1003","v":0},{"$f":"IF($A1003<>\"PhD Student\",'PXS Kopieret'!E1003,\"\")","v":0},{"$f":"IF($A1003=\"PhD Student\",'PXS Kopieret'!F1003,\"\")","v":""},{"$f":"'PXS Kopieret'!G1003","v":0},{"$f":"'PXS Kopieret'!H1003","v":0},{"$f":"IF($A1003=\"PhD Student\",'PXS Kopieret'!I1003,\"\")","v":""},{"$f":"'PXS Kopieret'!J1003","v":0},{"$f":"'PXS Kopieret'!K1003","v":0},{"$f":"'PXS Kopieret'!L1003","v":0}]
["",{"$f":"IF('PXS Kopieret'!N1004<>\"\",HYPERLINK(\"https://ssl1.peoplexs.com/Peoplexs22/eFormportal/eForm.cfm?CandidateUpdateID=\"&'PXS Kopieret'!M1004&\"&CandidateUpdateCode=\"&'PXS Kopieret'!N1004&\"&Locale=en&CustomFormID=11612\",\"Docs\"),\"\")","v":""},{"$f":"'PXS Kopieret'!A1004","v":0},{"$f":"'PXS Kopieret'!B1004","v":0},{"$f":"'PXS Kopieret'!C1004","v":0},{"$f":"'PXS Kopieret'!D1004","v":0},{"$f":"IF($A1004<>\"PhD Student\",'PXS Kopieret'!E1004,\"\")","v":0},{"$f":"IF($A1004=\"PhD Student\",'PXS Kopieret'!F1004,\"\")","v":""},{"$f":"'PXS Kopieret'!G1004","v":0},{"$f":"'PXS Kopieret'!H1004","v":0},{"$f":"IF($A1004=\"PhD Student\",'PXS Kopieret'!I1004,\"\")","v":""},{"$f":"'PXS Kopieret'!J1004","v":0},{"$f":"'PXS Kopieret'!K1004","v":0},{"$f":"'PXS Kopieret'!L1004","v":0}]
["",{"$f":"IF('PXS Kopieret'!N1005<>\"\",HYPERLINK(\"https://ssl1.peoplexs.com/Peoplexs22/eFormportal/eForm.cfm?CandidateUpdateID=\"&'PXS Kopieret'!M1005&\"&CandidateUpdateCode=\"&'PXS Kopieret'!N1005&\"&Locale=en&CustomFormID=11612\",\"Docs\"),\"\")","v":""},{"$f":"'PXS Kopieret'!A1005","v":0},{"$f":"'PXS Kopieret'!B1005","v":0},{"$f":"'PXS Kopieret'!C1005","v":0},{"$f":"'PXS Kopieret'!D1005","v":0},{"$f":"IF($A1005<>\"PhD Student\",'PXS Kopieret'!E1005,\"\")","v":0},{"$f":"IF($A1005=\"PhD Student\",'PXS Kopieret'!F1005,\"\")","v":""},{"$f":"'PXS Kopieret'!G1005","v":0},{"$f":"'PXS Kopieret'!H1005","v":0},{"$f":"IF($A1005=\"PhD Student\",'PXS Kopieret'!I1005,\"\")","v":""},{"$f":"'PXS Kopieret'!J1005","v":0},{"$f":"'PXS Kopieret'!K1005","v":0},{"$f":"'PXS Kopieret'!L1005","v":0}]
["",{"$f":"IF('PXS Kopieret'!N1006<>\"\",HYPERLINK(\"https://ssl1.peoplexs.com/Peoplexs22/eFormportal/eForm.cfm?CandidateUpdateID=\"&'PXS Kopieret'!M1006&\"&CandidateUpdateCode=\"&'PXS Kopieret'!N1006&\"&Locale=en&CustomFormID=11612\",\"Docs\"),\"\")","v":""},{"$f":"'PXS Kopieret'!A1006","v":0},{"$f":"'PXS Kopieret'!B1006","v":0},{"$f":"'PXS Kopieret'!C1006","v":0},{"$f":"'PXS Kopieret'!D1006","v":0},{"$f":"IF($A1006<>\"PhD Student\",'PXS Kopieret'!E1006,\"\")","v":0},{"$f":"IF($A1006=\"PhD Student\",'PXS Kopieret'!F1006,\"\")","v":""},{"$f":"'PXS Kopieret'!G1006","v":0},{"$f":"'PXS Kopieret'!H1006","v":0},{"$f":"IF($A1006=\"PhD Student\",'PXS Kopieret'!I1006,\"\")","v":""},{"$f":"'PXS Kopieret'!J1006","v":0},{"$f":"'PXS Kopieret'!K1006","v":0},{"$f":"'PXS Kopieret'!L1006","v":0}]
["",{"$f":"IF('PXS Kopieret'!N1007<>\"\",HYPERLINK(\"https://ssl1.peoplexs.com/Peoplexs22/eFormportal/eForm.cfm?CandidateUpdateID=\"&'PXS Kopieret'!M1007&\"&CandidateUpdateCode=\"&'PXS Kopieret'!N1007&\"&Locale=en&CustomFormID=11612\",\"Docs\"),\"\")","v":""},{"$f":"'PXS Kopieret'!A1007","v":0},{"$f":"'PXS Kopieret'!B1007","v":0},{"$f":"'PXS Kopieret'!C1007","v":0},{"$f":"'PXS Kopieret'!D1007","v":0},{"$f":"IF($A1007<>\"PhD Student\",'PXS Kopieret'!E1007,\"\")","v":0},{"$f":"IF($A1007=\"PhD Student\",'PXS Kopieret'!F1007,\"\")","v":""},{"$f":"'PXS Kopieret'!G1007","v":0},{"$f":"'PXS Kopieret'!H1007","v":0},{"$f":"IF($A1007=\"PhD Student\",'PXS Kopieret'!I1007,\"\")","v":""},{"$f":"'PXS Kopieret'!J1007","v":0},{"$f":"'PXS Kopieret'!K1007","v":0},{"$f":"'PXS Kopieret'!L1007","v":0}]
["",{"$f":"IF('PXS Kopieret'!N1008<>\"\",HYPERLINK(\"https://ssl1.peoplexs.com/Peoplexs22/eFormportal/eForm.cfm?CandidateUpdateID=\"&'PXS Kopieret'!M1008&\"&CandidateUpdateCode=\"&'PXS Kopieret'!N1008&\"&Locale=en&CustomFormID=11612\",\"Docs\"),\"\")","v":""},{"$f":"'PXS Kopieret'!A1008","v":0},{"$f":"'PXS Kopieret'!B1008","v":0},{"$f":"'PXS Kopieret'!C1008","v":0},{"$f":"'PXS Kopieret'!D1008","v":0},{"$f":"IF($A1008<>\"PhD Student\",'PXS Kopieret'!E1008,\"\")","v":0},{"$f":"IF($A1008=\"PhD Student\",'PXS Kopieret'!F1008,\"\")","v":""},{"$f":"'PXS Kopieret'!G1008","v":0},{"$f":"'PXS Kopieret'!H1008","v":0},{"$f":"IF($A1008=\"PhD Student\",'PXS Kopieret'!I1008,\"\")","v":""},{"$f":"'PXS Kopieret'!J1008","v":0},{"$f":"'PXS Kopieret'!K1008","v":0},{"$f":"'PXS Kopieret'!L1008","v":0}]
["",{"$f":"IF('PXS Kopieret'!N1009<>\"\",HYPERLINK(\"https://ssl1.peoplexs.com/Peoplexs22/eFormportal/eForm.cfm?CandidateUpdateID=\"&'PXS Kopieret'!M1009&\"&CandidateUpdateCode=\"&'PXS Kopieret'!N1009&\"&Locale=en&CustomFormID=11612\",\"Docs\"),\"\")","v":""},{"$f":"'PXS Kopieret'!A1009","v":0},{"$f":"'PXS Kopieret'!B1009","v":0},{"$f":"'PXS Kopieret'!C1009","v":0},{"$f":"'PXS Kopieret'!D1009","v":0},{"$f":"IF($A1009<>\"PhD Student\",'PXS Kopieret'!E1009,\"\")","v":0},{"$f":"IF($A1009=\"PhD Student\",'PXS Kopieret'!F1009,\"\")","v":""},{"$f":"'PXS Kopieret'!G1009","v":0},{"$f":"'PXS Kopieret'!H1009","v":0},{"$f":"IF($A1009=\"PhD Student\",'PXS Kopieret'!I1009,\"\")","v":""},{"$f":"'PXS Kopieret'!J1009","v":0},{"$f":"'PXS Kopieret'!K1009","v":0},{"$f":"'PXS Kopieret'!L1009","v":0}]
["",{"$f":"IF('PXS Kopieret'!N1010<>\"\",HYPERLINK(\"https://ssl1.peoplexs.com/Peoplexs22/eFormportal/eForm.cfm?CandidateUpdateID=\"&'PXS Kopieret'!M1010&\"&CandidateUpdateCode=\"&'PXS Kopieret'!N1010&\"&Locale=en&CustomFormID=11612\",\"Docs\"),\"\")","v":""},{"$f":"'PXS Kopieret'!A1010","v":0},{"$f":"'PXS Kopieret'!B1010","v":0},{"$f":"'PXS Kopieret'!C1010","v":0},{"$f":"'PXS Kopieret'!D1010","v":0},{"$f":"IF($A1010<>\"PhD Student\",'PXS Kopieret'!E1010,\"\")","v":0},{"$f":"IF($A1010=\"PhD Student\",'PXS Kopieret'!F1010,\"\")","v":""},{"$f":"'PXS Kopieret'!G1010","v":0},{"$f":"'PXS Kopieret'!H1010","v":0},{"$f":"IF($A1010=\"PhD Student\",'PXS Kopieret'!I1010,\"\")","v":""},{"$f":"'PXS Kopieret'!J1010","v":0},{"$f":"'PXS Kopieret'!K1010","v":0},{"$f":"'PXS Kopieret'!L1010","v":0}]
["",{"$f":"IF('PXS Kopieret'!N1011<>\"\",HYPERLINK(\"https://ssl1.peoplexs.com/Peoplexs22/eFormportal/eForm.cfm?CandidateUpdateID=\"&'PXS Kopieret'!M1011&\"&CandidateUpdateCode=\"&'PXS Kopieret'!N1011&\"&Locale=en&CustomFormID=11612\",\"Docs\"),\"\")","v":""},{"$f":"'PXS Kopieret'!A1011","v":0},{"$f":"'PXS Kopieret'!B1011","v":0},{"$f":"'PXS Kopieret'!C1011","v":0},{"$f":"'PXS Kopieret'!D1011","v":0},{"$f":"IF($A1011<>\"PhD Student\",'PXS Kopieret'!E1011,\"\")","v":0},{"$f":"IF($A1011=\"PhD Student\",'PXS Kopieret'!F1011,\"\")","v":""},{"$f":"'PXS Kopieret'!G1011","v":0},{"$f":"'PXS Kopieret'!H1011","v":0},{"$f":"IF($A1011=\"PhD Student\",'PXS Kopieret'!I1011,\"\")","v":""},{"$f":"'PXS Kopieret'!J1011","v":0},{"$f":"'PXS Kopieret'!K1011","v":0},{"$f":"'PXS Kopieret'!L1011","v":0}]
["",{"$f":"IF('PXS Kopieret'!N1012<>\"\",HYPERLINK(\"https://ssl1.peoplexs.com/Peoplexs22/eFormportal/eForm.cfm?CandidateUpdateID=\"&'PXS Kopieret'!M1012&\"&CandidateUpdateCode=\"&'PXS Kopieret'!N1012&\"&Locale=en&CustomFormID=11612\",\"Docs\"),\"\")","v":""},{"$f":"'PXS Kopieret'!A1012","v":0},{"$f":"'PXS Kopieret'!B1012","v":0},{"$f":"'PXS Kopieret'!C1012","v":0},{"$f":"'PXS Kopieret'!D1012","v":0},{"$f":"IF($A1012<>\"PhD Student\",'PXS Kopieret'!E1012,\"\")","v":0},{"$f":"IF($A1012=\"PhD Student\",'PXS Kopieret'!F1012,\"\")","v":""},{"$f":"'PXS Kopieret'!G1012","v":0},{"$f":"'PXS Kopieret'!H1012","v":0},{"$f":"IF($A1012=\"PhD Student\",'PXS Kopieret'!I1012,\"\")","v":""},{"$f":"'PXS Kopieret'!J1012","v":0},{"$f":"'PXS Kopieret'!K1012","v":0},{"$f":"'PXS Kopieret'!L1012","v":0}]
["",{"$f":"IF('PXS Kopieret'!N1013<>\"\",HYPERLINK(\"https://ssl1.peoplexs.com/Peoplexs22/eFormportal/eForm.cfm?CandidateUpdateID=\"&'PXS Kopieret'!M1013&\"&CandidateUpdateCode=\"&'PXS Kopieret'!N1013&\"&Locale=en&CustomFormID=11612\",\"Docs\"),\"\")","v":""},{"$f":"'PXS Kopieret'!A1013","v":0},{"$f":"'PXS Kopieret'!B1013","v":0},{"$f":"'PXS Kopieret'!C1013","v":0},{"$f":"'PXS Kopieret'!D1013","v":0},{"$f":"IF($A1013<>\"PhD Student\",'PXS Kopieret'!E1013,\"\")","v":0},{"$f":"IF($A1013=\"PhD Student\",'PXS Kopieret'!F1013,\"\")","v":""},{"$f":"'PXS Kopieret'!G1013","v":0},{"$f":"'PXS Kopieret'!H1013","v":0},{"$f":"IF($A1013=\"PhD Student\",'PXS Kopieret'!I1013,\"\")","v":""},{"$f":"'PXS Kopieret'!J1013","v":0},{"$f":"'PXS Kopieret'!K1013","v":0},{"$f":"'PXS Kopieret'!L1013","v":0}]
["",{"$f":"IF('PXS Kopieret'!N1014<>\"\",HYPERLINK(\"https://ssl1.peoplexs.com/Peoplexs22/eFormportal/eForm.cfm?CandidateUpdateID=\"&'PXS Kopieret'!M1014&\"&CandidateUpdateCode=\"&'PXS Kopieret'!N1014&\"&Locale=en&CustomFormID=11612\",\"Docs\"),\"\")","v":""},{"$f":"'PXS Kopieret'!A1014","v":0},{"$f":"'PXS Kopieret'!B1014","v":0},{"$f":"'PXS Kopieret'!C1014","v":0},{"$f":"'PXS Kopieret'!D1014","v":0},{"$f":"IF($A1014<>\"PhD Student\",'PXS Kopieret'!E1014,\"\")","v":0},{"$f":"IF($A1014=\"PhD Student\",'PXS Kopieret'!F1014,\"\")","v":""},{"$f":"'PXS Kopieret'!G1014","v":0},{"$f":"'PXS Kopieret'!H1014","v":0},{"$f":"IF($A1014=\"PhD Student\",'PXS Kopieret'!I1014,\"\")","v":""},{"$f":"'PXS Kopieret'!J1014","v":0},{"$f":"'PXS Kopieret'!K1014","v":0},{"$f":"'PXS Kopieret'!L1014","v":0}]
["",{"$f":"IF('PXS Kopieret'!N1015<>\"\",HYPERLINK(\"https://ssl1.peoplexs.com/Peoplexs22/eFormportal/eForm.cfm?CandidateUpdateID=\"&'PXS Kopieret'!M1015&\"&CandidateUpdateCode=\"&'PXS Kopieret'!N1015&\"&Locale=en&CustomFormID=11612\",\"Docs\"),\"\")","v":""},{"$f":"'PXS Kopieret'!A1015","v":0},{"$f":"'PXS Kopieret'!B1015","v":0},{"$f":"'PXS Kopieret'!C1015","v":0},{"$f":"'PXS Kopieret'!D1015","v":0},{"$f":"IF($A1015<>\"PhD Student\",'PXS Kopieret'!E1015,\"\")","v":0},{"$f":"IF($A1015=\"PhD Student\",'PXS Kopieret'!F1015,\"\")","v":""},{"$f":"'PXS Kopieret'!G1015","v":0},{"$f":"'PXS Kopieret'!H1015","v":0},{"$f":"IF($A1015=\"PhD Student\",'PXS Kopieret'!I1015,\"\")","v":""},{"$f":"'PXS Kopieret'!J1015","v":0},{"$f":"'PXS Kopieret'!K1015","v":0},{"$f":"'PXS Kopieret'!L1015","v":0}]
["",{"$f":"IF('PXS Kopieret'!N1016<>\"\",HYPERLINK(\"https://ssl1.peoplexs.com/Peoplexs22/eFormportal/eForm.cfm?CandidateUpdateID=\"&'PXS Kopieret'!M1016&\"&CandidateUpdateCode=\"&'PXS Kopieret'!N1016&\"&Locale=en&CustomFormID=11612\",\"Docs\"),\"\")","v":""},{"$f":"'PXS Kopieret'!A1016","v":0},{"$f":"'PXS Kopieret'!B1016","v":0},{"$f":"'PXS Kopieret'!C1016","v":0},{"$f":"'PXS Kopieret'!D1016","v":0},{"$f":"IF($A1016<>\"PhD Student\",'PXS Kopieret'!E1016,\"\")","v":0},{"$f":"IF($A1016=\"PhD Student\",'PXS Kopieret'!F1016,\"\")","v":""},{"$f":"'PXS Kopieret'!G1016","v":0},{"$f":"'PXS Kopieret'!H1016","v":0},{"$f":"IF($A1016=\"PhD Student\",'PXS Kopieret'!I1016,\"\")","v":""},{"$f":"'PXS Kopieret'!J1016","v":0},{"$f":"'PXS Kopieret'!K1016","v":0},{"$f":"'PXS Kopieret'!L1016","v":0}]
["",{"$f":"IF('PXS Kopieret'!N1017<>\"\",HYPERLINK(\"https://ssl1.peoplexs.com/Peoplexs22/eFormportal/eForm.cfm?CandidateUpdateID=\"&'PXS Kopieret'!M1017&\"&CandidateUpdateCode=\"&'PXS Kopieret'!N1017&\"&Locale=en&CustomFormID=11612\",\"Docs\"),\"\")","v":""},{"$f":"'PXS Kopieret'!A1017","v":0},{"$f":"'PXS Kopieret'!B1017","v":0},{"$f":"'PXS Kopieret'!C1017","v":0},{"$f":"'PXS Kopieret'!D1017","v":0},{"$f":"IF($A1017<>\"PhD Student\",'PXS Kopieret'!E1017,\"\")","v":0},{"$f":"IF($A1017=\"PhD Student\",'PXS Kopieret'!F1017,\"\")","v":""},{"$f":"'PXS Kopieret'!G1017","v":0},{"$f":"'PXS Kopieret'!H1017","v":0},{"$f":"IF($A1017=\"PhD Student\",'PXS Kopieret'!I1017,\"\")","v":""},{"$f":"'PXS Kopieret'!J1017","v":0},{"$f":"'PXS Kopieret'!K1017","v":0},{"$f":"'PXS Kopieret'!L1017","v":0}]
["",{"$f":"IF('PXS Kopieret'!N1018<>\"\",HYPERLINK(\"https://ssl1.peoplexs.com/Peoplexs22/eFormportal/eForm.cfm?CandidateUpdateID=\"&'PXS Kopieret'!M1018&\"&CandidateUpdateCode=\"&'PXS Kopieret'!N1018&\"&Locale=en&CustomFormID=11612\",\"Docs\"),\"\")","v":""},{"$f":"'PXS Kopieret'!A1018","v":0},{"$f":"'PXS Kopieret'!B1018","v":0},{"$f":"'PXS Kopieret'!C1018","v":0},{"$f":"'PXS Kopieret'!D1018","v":0},{"$f":"IF($A1018<>\"PhD Student\",'PXS Kopieret'!E1018,\"\")","v":0},{"$f":"IF($A1018=\"PhD Student\",'PXS Kopieret'!F1018,\"\")","v":""},{"$f":"'PXS Kopieret'!G1018","v":0},{"$f":"'PXS Kopieret'!H1018","v":0},{"$f":"IF($A1018=\"PhD Student\",'PXS Kopieret'!I1018,\"\")","v":""},{"$f":"'PXS Kopieret'!J1018","v":0},{"$f":"'PXS Kopieret'!K1018","v":0},{"$f":"'PXS Kopieret'!L1018","v":0}]
["",{"$f":"IF('PXS Kopieret'!N1019<>\"\",HYPERLINK(\"https://ssl1.peoplexs.com/Peoplexs22/eFormportal/eForm.cfm?CandidateUpdateID=\"&'PXS Kopieret'!M1019&\"&CandidateUpdateCode=\"&'PXS Kopieret'!N1019&\"&Locale=en&CustomFormID=11612\",\"Docs\"),\"\")","v":""},{"$f":"'PXS Kopieret'!A1019","v":0},{"$f":"'PXS Kopieret'!B1019","v":0},{"$f":"'PXS Kopieret'!C1019","v":0},{"$f":"'PXS Kopieret'!D1019","v":0},{"$f":"IF($A1019<>\"PhD Student\",'PXS Kopieret'!E1019,\"\")","v":0},{"$f":"IF($A1019=\"PhD Student\",'PXS Kopieret'!F1019,\"\")","v":""},{"$f":"'PXS Kopieret'!G1019","v":0},{"$f":"'PXS Kopieret'!H1019","v":0},{"$f":"IF($A1019=\"PhD Student\",'PXS Kopieret'!I1019,\"\")","v":""},{"$f":"'PXS Kopieret'!J1019","v":0},{"$f":"'PXS Kopieret'!K1019","v":0},{"$f":"'PXS Kopieret'!L1019","v":0}]
["",{"$f":"IF('PXS Kopieret'!N1020<>\"\",HYPERLINK(\"https://ssl1.peoplexs.com/Peoplexs22/eFormportal/eForm.cfm?CandidateUpdateID=\"&'PXS Kopieret'!M1020&\"&CandidateUpdateCode=\"&'PXS Kopieret'!N1020&\"&Locale=en&CustomFormID=11612\",\"Docs\"),\"\")","v":""},{"$f":"'PXS Kopieret'!A1020","v":0},{"$f":"'PXS Kopieret'!B1020","v":0},{"$f":"'PXS Kopieret'!C1020","v":0},{"$f":"'PXS Kopieret'!D1020","v":0},{"$f":"IF($A1020<>\"PhD Student\",'PXS Kopieret'!E1020,\"\")","v":0},{"$f":"IF($A1020=\"PhD Student\",'PXS Kopieret'!F1020,\"\")","v":""},{"$f":"'PXS Kopieret'!G1020","v":0},{"$f":"'PXS Kopieret'!H1020","v":0},{"$f":"IF($A1020=\"PhD Student\",'PXS Kopieret'!I1020,\"\")","v":""},{"$f":"'PXS Kopieret'!J1020","v":0},{"$f":"'PXS Kopieret'!K1020","v":0},{"$f":"'PXS Kopieret'!L1020","v":0}]
["",{"$f":"IF('PXS Kopieret'!N1021<>\"\",HYPERLINK(\"https://ssl1.peoplexs.com/Peoplexs22/eFormportal/eForm.cfm?CandidateUpdateID=\"&'PXS Kopieret'!M1021&\"&CandidateUpdateCode=\"&'PXS Kopieret'!N1021&\"&Locale=en&CustomFormID=11612\",\"Docs\"),\"\")","v":""},{"$f":"'PXS Kopieret'!A1021","v":0},{"$f":"'PXS Kopieret'!B1021","v":0},{"$f":"'PXS Kopieret'!C1021","v":0},{"$f":"'PXS Kopieret'!D1021","v":0},{"$f":"IF($A1021<>\"PhD Student\",'PXS Kopieret'!E1021,\"\")","v":0},{"$f":"IF($A1021=\"PhD Student\",'PXS Kopieret'!F1021,\"\")","v":""},{"$f":"'PXS Kopieret'!G1021","v":0},{"$f":"'PXS Kopieret'!H1021","v":0},{"$f":"IF($A1021=\"PhD Student\",'PXS Kopieret'!I1021,\"\")","v":""},{"$f":"'PXS Kopieret'!J1021","v":0},{"$f":"'PXS Kopieret'!K1021","v":0},{"$f":"'PXS Kopieret'!L1021","v":0}]
["",{"$f":"IF('PXS Kopieret'!N1022<>\"\",HYPERLINK(\"https://ssl1.peoplexs.com/Peoplexs22/eFormportal/eForm.cfm?CandidateUpdateID=\"&'PXS Kopieret'!M1022&\"&CandidateUpdateCode=\"&'PXS Kopieret'!N1022&\"&Locale=en&CustomFormID=11612\",\"Docs\"),\"\")","v":""},{"$f":"'PXS Kopieret'!A1022","v":0},{"$f":"'PXS Kopieret'!B1022","v":0},{"$f":"'PXS Kopieret'!C1022","v":0},{"$f":"'PXS Kopieret'!D1022","v":0},{"$f":"IF($A1022<>\"PhD Student\",'PXS Kopieret'!E1022,\"\")","v":0},{"$f":"IF($A1022=\"PhD Student\",'PXS Kopieret'!F1022,\"\")","v":""},{"$f":"'PXS Kopieret'!G1022","v":0},{"$f":"'PXS Kopieret'!H1022","v":0},{"$f":"IF($A1022=\"PhD Student\",'PXS Kopieret'!I1022,\"\")","v":""},{"$f":"'PXS Kopieret'!J1022","v":0},{"$f":"'PXS Kopieret'!K1022","v":0},{"$f":"'PXS Kopieret'!L1022","v":0}]
["",{"$f":"IF('PXS Kopieret'!N1023<>\"\",HYPERLINK(\"https://ssl1.peoplexs.com/Peoplexs22/eFormportal/eForm.cfm?CandidateUpdateID=\"&'PXS Kopieret'!M1023&\"&CandidateUpdateCode=\"&'PXS Kopieret'!N1023&\"&Locale=en&CustomFormID=11612\",\"Docs\"),\"\")","v":""},{"$f":"'PXS Kopieret'!A1023","v":0},{"$f":"'PXS Kopieret'!B1023","v":0},{"$f":"'PXS Kopieret'!C1023","v":0},{"$f":"'PXS Kopieret'!D1023","v":0},{"$f":"IF($A1023<>\"PhD Student\",'PXS Kopieret'!E1023,\"\")","v":0},{"$f":"IF($A1023=\"PhD Student\",'PXS Kopieret'!F1023,\"\")","v":""},{"$f":"'PXS Kopieret'!G1023","v":0},{"$f":"'PXS Kopieret'!H1023","v":0},{"$f":"IF($A1023=\"PhD Student\",'PXS Kopieret'!I1023,\"\")","v":""},{"$f":"'PXS Kopieret'!J1023","v":0},{"$f":"'PXS Kopieret'!K1023","v":0},{"$f":"'PXS Kopieret'!L1023","v":0}]
["",{"$f":"IF('PXS Kopieret'!N1024<>\"\",HYPERLINK(\"https://ssl1.peoplexs.com/Peoplexs22/eFormportal/eForm.cfm?CandidateUpdateID=\"&'PXS Kopieret'!M1024&\"&CandidateUpdateCode=\"&'PXS Kopieret'!N1024&\"&Locale=en&CustomFormID=11612\",\"Docs\"),\"\")","v":""},{"$f":"'PXS Kopieret'!A1024","v":0},{"$f":"'PXS Kopieret'!B1024","v":0},{"$f":"'PXS Kopieret'!C1024","v":0},{"$f":"'PXS Kopieret'!D1024","v":0},{"$f":"IF($A1024<>\"PhD Student\",'PXS Kopieret'!E1024,\"\")","v":0},{"$f":"IF($A1024=\"PhD Student\",'PXS Kopieret'!F1024,\"\")","v":""},{"$f":"'PXS Kopieret'!G1024","v":0},{"$f":"'PXS Kopieret'!H1024","v":0},{"$f":"IF($A1024=\"PhD Student\",'PXS Kopieret'!I1024,\"\")","v":""},{"$f":"'PXS Kopieret'!J1024","v":0},{"$f":"'PXS Kopieret'!K1024","v":0},{"$f":"'PXS Kopieret'!L1024","v":0}]
["",{"$f":"IF('PXS Kopieret'!N1025<>\"\",HYPERLINK(\"https://ssl1.peoplexs.com/Peoplexs22/eFormportal/eForm.cfm?CandidateUpdateID=\"&'PXS Kopieret'!M1025&\"&CandidateUpdateCode=\"&'PXS Kopieret'!N1025&\"&Locale=en&CustomFormID=11612\",\"Docs\"),\"\")","v":""},{"$f":"'PXS Kopieret'!A1025","v":0},{"$f":"'PXS Kopieret'!B1025","v":0},{"$f":"'PXS Kopieret'!C1025","v":0},{"$f":"'PXS Kopieret'!D1025","v":0},{"$f":"IF($A1025<>\"PhD Student\",'PXS Kopieret'!E1025,\"\")","v":0},{"$f":"IF($A1025=\"PhD Student\",'PXS Kopieret'!F1025,\"\")","v":""},{"$f":"'PXS Kopieret'!G1025","v":0},{"$f":"'PXS Kopieret'!H1025","v":0},{"$f":"IF($A1025=\"PhD Student\",'PXS Kopieret'!I1025,\"\")","v":""},{"$f":"'PXS Kopieret'!J1025","v":0},{"$f":"'PXS Kopieret'!K1025","v":0},{"$f":"'PXS Kopieret'!L1025","v":0}]
["",{"$f":"IF('PXS Kopieret'!N1026<>\"\",HYPERLINK(\"https://ssl1.peoplexs.com/Peoplexs22/eFormportal/eForm.cfm?CandidateUpdateID=\"&'PXS Kopieret'!M1026&\"&CandidateUpdateCode=\"&'PXS Kopieret'!N1026&\"&Locale=en&CustomFormID=11612\",\"Docs\"),\"\")","v":""},{"$f":"'PXS Kopieret'!A1026","v":0},{"$f":"'PXS Kopieret'!B1026","v":0},{"$f":"'PXS Kopieret'!C1026","v":0},{"$f":"'PXS Kopieret'!D1026","v":0},{"$f":"IF($A1026<>\"PhD Student\",'PXS Kopieret'!E1026,\"\")","v":0},{"$f":"IF($A1026=\"PhD Student\",'PXS Kopieret'!F1026,\"\")","v":""},{"$f":"'PXS Kopieret'!G1026","v":0},{"$f":"'PXS Kopieret'!H1026","v":0},{"$f":"IF($A1026=\"PhD Student\",'PXS Kopieret'!I1026,\"\")","v":""},{"$f":"'PXS Kopieret'!J1026","v":0},{"$f":"'PXS Kopieret'!K1026","v":0},{"$f":"'PXS Kopieret'!L1026","v":0}]
[{"$f":"IF(LEFT(C1027,2)=\"RY\", \"Research Year Student\", IF(C1027=0,\"\",\"PhD Student\"))","v":""},{"$f":"IF('PXS Kopieret'!N1027<>\"\",HYPERLINK(\"https://ssl1.peoplexs.com/Peoplexs22/eFormportal/eForm.cfm?CandidateUpdateID=\"&'PXS Kopieret'!M1027&\"&CandidateUpdateCode=\"&'PXS Kopieret'!N1027&\"&Locale=en&CustomFormID=11612\",\"Docs\"),\"\")","v":""},{"$f":"'PXS Kopieret'!A1027","v":0},{"$f":"'PXS Kopieret'!B1027","v":0},{"$f":"'PXS Kopieret'!C1027","v":0},{"$f":"'PXS Kopieret'!D1027","v":0},{"$f":"IF($A1027<>\"PhD Student\",'PXS Kopieret'!E1027,\"\")","v":0},{"$f":"IF($A1027=\"PhD Student\",'PXS Kopieret'!F1027,\"\")","v":""},{"$f":"'PXS Kopieret'!G1027","v":0},{"$f":"'PXS Kopieret'!H1027","v":0},{"$f":"IF($A1027=\"PhD Student\",'PXS Kopieret'!I1027,\"\")","v":""},{"$f":"'PXS Kopieret'!J1027","v":0},{"$f":"'PXS Kopieret'!K1027","v":0},{"$f":"'PXS Kopieret'!L1027","v":0}]
["",{"$f":"IF('PXS Kopieret'!N1028<>\"\",HYPERLINK(\"https://ssl1.peoplexs.com/Peoplexs22/eFormportal/eForm.cfm?CandidateUpdateID=\"&'PXS Kopieret'!M1028&\"&CandidateUpdateCode=\"&'PXS Kopieret'!N1028&\"&Locale=en&CustomFormID=11612\",\"Docs\"),\"\")","v":""},{"$f":"'PXS Kopieret'!A1028","v":0},{"$f":"'PXS Kopieret'!B1028","v":0},{"$f":"'PXS Kopieret'!C1028","v":0},{"$f":"'PXS Kopieret'!D1028","v":0},{"$f":"IF($A1028<>\"PhD Student\",'PXS Kopieret'!E1028,\"\")","v":0},{"$f":"IF($A1028=\"PhD Student\",'PXS Kopieret'!F1028,\"\")","v":""},{"$f":"'PXS Kopieret'!G1028","v":0},{"$f":"'PXS Kopieret'!H1028","v":0},{"$f":"IF($A1028=\"PhD Student\",'PXS Kopieret'!I1028,\"\")","v":""},{"$f":"'PXS Kopieret'!J1028","v":0},{"$f":"'PXS Kopieret'!K1028","v":0},{"$f":"'PXS Kopieret'!L1028","v":0}]
["",{"$f":"IF('PXS Kopieret'!N1029<>\"\",HYPERLINK(\"https://ssl1.peoplexs.com/Peoplexs22/eFormportal/eForm.cfm?CandidateUpdateID=\"&'PXS Kopieret'!M1029&\"&CandidateUpdateCode=\"&'PXS Kopieret'!N1029&\"&Locale=en&CustomFormID=11612\",\"Docs\"),\"\")","v":""},{"$f":"'PXS Kopieret'!A1029","v":0},{"$f":"'PXS Kopieret'!B1029","v":0},{"$f":"'PXS Kopieret'!C1029","v":0},{"$f":"'PXS Kopieret'!D1029","v":0},{"$f":"IF($A1029<>\"PhD Student\",'PXS Kopieret'!E1029,\"\")","v":0},{"$f":"IF($A1029=\"PhD Student\",'PXS Kopieret'!F1029,\"\")","v":""},{"$f":"'PXS Kopieret'!G1029","v":0},{"$f":"'PXS Kopieret'!H1029","v":0},{"$f":"IF($A1029=\"PhD Student\",'PXS Kopieret'!I1029,\"\")","v":""},{"$f":"'PXS Kopieret'!J1029","v":0},{"$f":"'PXS Kopieret'!K1029","v":0},{"$f":"'PXS Kopieret'!L1029","v":0}]
["",{"$f":"IF('PXS Kopieret'!N1030<>\"\",HYPERLINK(\"https://ssl1.peoplexs.com/Peoplexs22/eFormportal/eForm.cfm?CandidateUpdateID=\"&'PXS Kopieret'!M1030&\"&CandidateUpdateCode=\"&'PXS Kopieret'!N1030&\"&Locale=en&CustomFormID=11612\",\"Docs\"),\"\")","v":""},{"$f":"'PXS Kopieret'!A1030","v":0},{"$f":"'PXS Kopieret'!B1030","v":0},{"$f":"'PXS Kopieret'!C1030","v":0},{"$f":"'PXS Kopieret'!D1030","v":0},{"$f":"IF($A1030<>\"PhD Student\",'PXS Kopieret'!E1030,\"\")","v":0},{"$f":"IF($A1030=\"PhD Student\",'PXS Kopieret'!F1030,\"\")","v":""},{"$f":"'PXS Kopieret'!G1030","v":0},{"$f":"'PXS Kopieret'!H1030","v":0},{"$f":"IF($A1030=\"PhD Student\",'PXS Kopieret'!I1030,\"\")","v":""},{"$f":"'PXS Kopieret'!J1030","v":0},{"$f":"'PXS Kopieret'!K1030","v":0},{"$f":"'PXS Kopieret'!L1030","v":0}]
["",{"$f":"IF('PXS Kopieret'!N1031<>\"\",HYPERLINK(\"https://ssl1.peoplexs.com/Peoplexs22/eFormportal/eForm.cfm?CandidateUpdateID=\"&'PXS Kopieret'!M1031&\"&CandidateUpdateCode=\"&'PXS Kopieret'!N1031&\"&Locale=en&CustomFormID=11612\",\"Docs\"),\"\")","v":""},{"$f":"'PXS Kopieret'!A1031","v":0},{"$f":"'PXS Kopieret'!B1031","v":0},{"$f":"'PXS Kopieret'!C1031","v":0},{"$f":"'PXS Kopieret'!D1031","v":0},{"$f":"IF($A1031<>\"PhD Student\",'PXS Kopieret'!E1031,\"\")","v":0},{"$f":"IF($A1031=\"PhD Student\",'PXS Kopieret'!F1031,\"\")","v":""},{"$f":"'PXS Kopieret'!G1031","v":0},{"$f":"'PXS Kopieret'!H1031","v":0},{"$f":"IF($A1031=\"PhD Student\",'PXS Kopieret'!I1031,\"\")","v":""},{"$f":"'PXS Kopieret'!J1031","v":0},{"$f":"'PXS Kopieret'!K1031","v":0},{"$f":"'PXS Kopieret'!L1031","v":0}]
["",{"$f":"IF('PXS Kopieret'!N1032<>\"\",HYPERLINK(\"https://ssl1.peoplexs.com/Peoplexs22/eFormportal/eForm.cfm?CandidateUpdateID=\"&'PXS Kopieret'!M1032&\"&CandidateUpdateCode=\"&'PXS Kopieret'!N1032&\"&Locale=en&CustomFormID=11612\",\"Docs\"),\"\")","v":""},{"$f":"'PXS Kopieret'!A1032","v":0},{"$f":"'PXS Kopieret'!B1032","v":0},{"$f":"'PXS Kopieret'!C1032","v":0},{"$f":"'PXS Kopieret'!D1032","v":0},{"$f":"IF($A1032<>\"PhD Student\",'PXS Kopieret'!E1032,\"\")","v":0},{"$f":"IF($A1032=\"PhD Student\",'PXS Kopieret'!F1032,\"\")","v":""},{"$f":"'PXS Kopieret'!G1032","v":0},{"$f":"'PXS Kopieret'!H1032","v":0},{"$f":"IF($A1032=\"PhD Student\",'PXS Kopieret'!I1032,\"\")","v":""},{"$f":"'PXS Kopieret'!J1032","v":0},{"$f":"'PXS Kopieret'!K1032","v":0},{"$f":"'PXS Kopieret'!L1032","v":0}]
["",{"$f":"IF('PXS Kopieret'!N1033<>\"\",HYPERLINK(\"https://ssl1.peoplexs.com/Peoplexs22/eFormportal/eForm.cfm?CandidateUpdateID=\"&'PXS Kopieret'!M1033&\"&CandidateUpdateCode=\"&'PXS Kopieret'!N1033&\"&Locale=en&CustomFormID=11612\",\"Docs\"),\"\")","v":""},{"$f":"'PXS Kopieret'!A1033","v":0},{"$f":"'PXS Kopieret'!B1033","v":0},{"$f":"'PXS Kopieret'!C1033","v":0},{"$f":"'PXS Kopieret'!D1033","v":0},{"$f":"IF($A1033<>\"PhD Student\",'PXS Kopieret'!E1033,\"\")","v":0},{"$f":"IF($A1033=\"PhD Student\",'PXS Kopieret'!F1033,\"\")","v":""},{"$f":"'PXS Kopieret'!G1033","v":0},{"$f":"'PXS Kopieret'!H1033","v":0},{"$f":"IF($A1033=\"PhD Student\",'PXS Kopieret'!I1033,\"\")","v":""},{"$f":"'PXS Kopieret'!J1033","v":0},{"$f":"'PXS Kopieret'!K1033","v":0},{"$f":"'PXS Kopieret'!L1033","v":0}]
["",{"$f":"IF('PXS Kopieret'!N1034<>\"\",HYPERLINK(\"https://ssl1.peoplexs.com/Peoplexs22/eFormportal/eForm.cfm?CandidateUpdateID=\"&'PXS Kopieret'!M1034&\"&CandidateUpdateCode=\"&'PXS Kopieret'!N1034&\"&Locale=en&CustomFormID=11612\",\"Docs\"),\"\")","v":""},{"$f":"'PXS Kopieret'!A1034","v":0},{"$f":"'PXS Kopieret'!B1034","v":0},{"$f":"'PXS Kopieret'!C1034","v":0},{"$f":"'PXS Kopieret'!D1034","v":0},{"$f":"IF($A1034<>\"PhD Student\",'PXS Kopieret'!E1034,\"\")","v":0},{"$f":"IF($A1034=\"PhD Student\",'PXS Kopieret'!F1034,\"\")","v":""},{"$f":"'PXS Kopieret'!G1034","v":0},{"$f":"'PXS Kopieret'!H1034","v":0},{"$f":"IF($A1034=\"PhD Student\",'PXS Kopieret'!I1034,\"\")","v":""},{"$f":"'PXS Kopieret'!J1034","v":0},{"$f":"'PXS Kopieret'!K1034","v":0},{"$f":"'PXS Kopieret'!L1034","v":0}]
["",{"$f":"IF('PXS Kopieret'!N1035<>\"\",HYPERLINK(\"https://ssl1.peoplexs.com/Peoplexs22/eFormportal/eForm.cfm?CandidateUpdateID=\"&'PXS Kopieret'!M1035&\"&CandidateUpdateCode=\"&'PXS Kopieret'!N1035&\"&Locale=en&CustomFormID=11612\",\"Docs\"),\"\")","v":""},{"$f":"'PXS Kopieret'!A1035","v":0},{"$f":"'PXS Kopieret'!B1035","v":0},{"$f":"'PXS Kopieret'!C1035","v":0},{"$f":"'PXS Kopieret'!D1035","v":0},{"$f":"IF($A1035<>\"PhD Student\",'PXS Kopieret'!E1035,\"\")","v":0},{"$f":"IF($A1035=\"PhD Student\",'PXS Kopieret'!F1035,\"\")","v":""},{"$f":"'PXS Kopieret'!G1035","v":0},{"$f":"'PXS Kopieret'!H1035","v":0},{"$f":"IF($A1035=\"PhD Student\",'PXS Kopieret'!I1035,\"\")","v":""},{"$f":"'PXS Kopieret'!J1035","v":0},{"$f":"'PXS Kopieret'!K1035","v":0},{"$f":"'PXS Kopieret'!L1035","v":0}]
["",{"$f":"IF('PXS Kopieret'!N1036<>\"\",HYPERLINK(\"https://ssl1.peoplexs.com/Peoplexs22/eFormportal/eForm.cfm?CandidateUpdateID=\"&'PXS Kopieret'!M1036&\"&CandidateUpdateCode=\"&'PXS Kopieret'!N1036&\"&Locale=en&CustomFormID=11612\",\"Docs\"),\"\")","v":""},{"$f":"'PXS Kopieret'!A1036","v":0},{"$f":"'PXS Kopieret'!B1036","v":0},{"$f":"'PXS Kopieret'!C1036","v":0},{"$f":"'PXS Kopieret'!D1036","v":0},{"$f":"IF($A1036<>\"PhD Student\",'PXS Kopieret'!E1036,\"\")","v":0},{"$f":"IF($A1036=\"PhD Student\",'PXS Kopieret'!F1036,\"\")","v":""},{"$f":"'PXS Kopieret'!G1036","v":0},{"$f":"'PXS Kopieret'!H1036","v":0},{"$f":"IF($A1036=\"PhD Student\",'PXS Kopieret'!I1036,\"\")","v":""},{"$f":"'PXS Kopieret'!J1036","v":0},{"$f":"'PXS Kopieret'!K1036","v":0},{"$f":"'PXS Kopieret'!L1036","v":0}]
["",{"$f":"IF('PXS Kopieret'!N1037<>\"\",HYPERLINK(\"https://ssl1.peoplexs.com/Peoplexs22/eFormportal/eForm.cfm?CandidateUpdateID=\"&'PXS Kopieret'!M1037&\"&CandidateUpdateCode=\"&'PXS Kopieret'!N1037&\"&Locale=en&CustomFormID=11612\",\"Docs\"),\"\")","v":""},{"$f":"'PXS Kopieret'!A1037","v":0},{"$f":"'PXS Kopieret'!B1037","v":0},{"$f":"'PXS Kopieret'!C1037","v":0},{"$f":"'PXS Kopieret'!D1037","v":0},{"$f":"IF($A1037<>\"PhD Student\",'PXS Kopieret'!E1037,\"\")","v":0},{"$f":"IF($A1037=\"PhD Student\",'PXS Kopieret'!F1037,\"\")","v":""},{"$f":"'PXS Kopieret'!G1037","v":0},{"$f":"'PXS Kopieret'!H1037","v":0},{"$f":"IF($A1037=\"PhD Student\",'PXS Kopieret'!I1037,\"\")","v":""},{"$f":"'PXS Kopieret'!J1037","v":0},{"$f":"'PXS Kopieret'!K1037","v":0},{"$f":"'PXS Kopieret'!L1037","v":0}]
["",{"$f":"IF('PXS Kopieret'!N1038<>\"\",HYPERLINK(\"https://ssl1.peoplexs.com/Peoplexs22/eFormportal/eForm.cfm?CandidateUpdateID=\"&'PXS Kopieret'!M1038&\"&CandidateUpdateCode=\"&'PXS Kopieret'!N1038&\"&Locale=en&CustomFormID=11612\",\"Docs\"),\"\")","v":""},{"$f":"'PXS Kopieret'!A1038","v":0},{"$f":"'PXS Kopieret'!B1038","v":0},{"$f":"'PXS Kopieret'!C1038","v":0},{"$f":"'PXS Kopieret'!D1038","v":0},{"$f":"IF($A1038<>\"PhD Student\",'PXS Kopieret'!E1038,\"\")","v":0},{"$f":"IF($A1038=\"PhD Student\",'PXS Kopieret'!F1038,\"\")","v":""},{"$f":"'PXS Kopieret'!G1038","v":0},{"$f":"'PXS Kopieret'!H1038","v":0},{"$f":"IF($A1038=\"PhD Student\",'PXS Kopieret'!I1038,\"\")","v":""},{"$f":"'PXS Kopieret'!J1038","v":0},{"$f":"'PXS Kopieret'!K1038","v":0},{"$f":"'PXS Kopieret'!L1038","v":0}]
["",{"$f":"IF('PXS Kopieret'!N1039<>\"\",HYPERLINK(\"https://ssl1.peoplexs.com/Peoplexs22/eFormportal/eForm.cfm?CandidateUpdateID=\"&'PXS Kopieret'!M1039&\"&CandidateUpdateCode=\"&'PXS Kopieret'!N1039&\"&Locale=en&CustomFormID=11612\",\"Docs\"),\"\")","v":""},{"$f":"'PXS Kopieret'!A1039","v":0},{"$f":"'PXS Kopieret'!B1039","v":0},{"$f":"'PXS Kopieret'!C1039","v":0},{"$f":"'PXS Kopieret'!D1039","v":0},{"$f":"IF($A1039<>\"PhD Student\",'PXS Kopieret'!E1039,\"\")","v":0},{"$f":"IF($A1039=\"PhD Student\",'PXS Kopieret'!F1039,\"\")","v":""},{"$f":"'PXS Kopieret'!G1039","v":0},{"$f":"'PXS Kopieret'!H1039","v":0},{"$f":"IF($A1039=\"PhD Student\",'PXS Kopieret'!I1039,\"\")","v":""},{"$f":"'PXS Kopieret'!J1039","v":0},{"$f":"'PXS Kopieret'!K1039","v":0},{"$f":"'PXS Kopieret'!L1039","v":0}]
["",{"$f":"IF('PXS Kopieret'!N1040<>\"\",HYPERLINK(\"https://ssl1.peoplexs.com/Peoplexs22/eFormportal/eForm.cfm?CandidateUpdateID=\"&'PXS Kopieret'!M1040&\"&CandidateUpdateCode=\"&'PXS Kopieret'!N1040&\"&Locale=en&CustomFormID=11612\",\"Docs\"),\"\")","v":""},{"$f":"'PXS Kopieret'!A1040","v":0},{"$f":"'PXS Kopieret'!B1040","v":0},{"$f":"'PXS Kopieret'!C1040","v":0},{"$f":"'PXS Kopieret'!D1040","v":0},{"$f":"IF($A1040<>\"PhD Student\",'PXS Kopieret'!E1040,\"\")","v":0},{"$f":"IF($A1040=\"PhD Student\",'PXS Kopieret'!F1040,\"\")","v":""},{"$f":"'PXS Kopieret'!G1040","v":0},{"$f":"'PXS Kopieret'!H1040","v":0},{"$f":"IF($A1040=\"PhD Student\",'PXS Kopieret'!I1040,\"\")","v":""},{"$f":"'PXS Kopieret'!J1040","v":0},{"$f":"'PXS Kopieret'!K1040","v":0},{"$f":"'PXS Kopieret'!L1040","v":0}]
["",{"$f":"IF('PXS Kopieret'!N1041<>\"\",HYPERLINK(\"https://ssl1.peoplexs.com/Peoplexs22/eFormportal/eForm.cfm?CandidateUpdateID=\"&'PXS Kopieret'!M1041&\"&CandidateUpdateCode=\"&'PXS Kopieret'!N1041&\"&Locale=en&CustomFormID=11612\",\"Docs\"),\"\")","v":""},{"$f":"'PXS Kopieret'!A1041","v":0},{"$f":"'PXS Kopieret'!B1041","v":0},{"$f":"'PXS Kopieret'!C1041","v":0},{"$f":"'PXS Kopieret'!D1041","v":0},{"$f":"IF($A1041<>\"PhD Student\",'PXS Kopieret'!E1041,\"\")","v":0},{"$f":"IF($A1041=\"PhD Student\",'PXS Kopieret'!F1041,\"\")","v":""},{"$f":"'PXS Kopieret'!G1041","v":0},{"$f":"'PXS Kopieret'!H1041","v":0},{"$f":"IF($A1041=\"PhD Student\",'PXS Kopieret'!I1041,\"\")","v":""},{"$f":"'PXS Kopieret'!J1041","v":0},{"$f":"'PXS Kopieret'!K1041","v":0},{"$f":"'PXS Kopieret'!L1041","v":0}]
["",{"$f":"IF('PXS Kopieret'!N1042<>\"\",HYPERLINK(\"https://ssl1.peoplexs.com/Peoplexs22/eFormportal/eForm.cfm?CandidateUpdateID=\"&'PXS Kopieret'!M1042&\"&CandidateUpdateCode=\"&'PXS Kopieret'!N1042&\"&Locale=en&CustomFormID=11612\",\"Docs\"),\"\")","v":""},{"$f":"'PXS Kopieret'!A1042","v":0},{"$f":"'PXS Kopieret'!B1042","v":0},{"$f":"'PXS Kopieret'!C1042","v":0},{"$f":"'PXS Kopieret'!D1042","v":0},{"$f":"IF($A1042<>\"PhD Student\",'PXS Kopieret'!E1042,\"\")","v":0},{"$f":"IF($A1042=\"PhD Student\",'PXS Kopieret'!F1042,\"\")","v":""},{"$f":"'PXS Kopieret'!G1042","v":0},{"$f":"'PXS Kopieret'!H1042","v":0},{"$f":"IF($A1042=\"PhD Student\",'PXS Kopieret'!I1042,\"\")","v":""},{"$f":"'PXS Kopieret'!J1042","v":0},{"$f":"'PXS Kopieret'!K1042","v":0},{"$f":"'PXS Kopieret'!L1042","v":0}]
["",{"$f":"IF('PXS Kopieret'!N1043<>\"\",HYPERLINK(\"https://ssl1.peoplexs.com/Peoplexs22/eFormportal/eForm.cfm?CandidateUpdateID=\"&'PXS Kopieret'!M1043&\"&CandidateUpdateCode=\"&'PXS Kopieret'!N1043&\"&Locale=en&CustomFormID=11612\",\"Docs\"),\"\")","v":""},{"$f":"'PXS Kopieret'!A1043","v":0},{"$f":"'PXS Kopieret'!B1043","v":0},{"$f":"'PXS Kopieret'!C1043","v":0},{"$f":"'PXS Kopieret'!D1043","v":0},{"$f":"IF($A1043<>\"PhD Student\",'PXS Kopieret'!E1043,\"\")","v":0},{"$f":"IF($A1043=\"PhD Student\",'PXS Kopieret'!F1043,\"\")","v":""},{"$f":"'PXS Kopieret'!G1043","v":0},{"$f":"'PXS Kopieret'!H1043","v":0},{"$f":"IF($A1043=\"PhD Student\",'PXS Kopieret'!I1043,\"\")","v":""},{"$f":"'PXS Kopieret'!J1043","v":0},{"$f":"'PXS Kopieret'!K1043","v":0},{"$f":"'PXS Kopieret'!L1043","v":0}]
["",{"$f":"IF('PXS Kopieret'!N1044<>\"\",HYPERLINK(\"https://ssl1.peoplexs.com/Peoplexs22/eFormportal/eForm.cfm?CandidateUpdateID=\"&'PXS Kopieret'!M1044&\"&CandidateUpdateCode=\"&'PXS Kopieret'!N1044&\"&Locale=en&CustomFormID=11612\",\"Docs\"),\"\")","v":""},{"$f":"'PXS Kopieret'!A1044","v":0},{"$f":"'PXS Kopieret'!B1044","v":0},{"$f":"'PXS Kopieret'!C1044","v":0},{"$f":"'PXS Kopieret'!D1044","v":0},{"$f":"IF($A1044<>\"PhD Student\",'PXS Kopieret'!E1044,\"\")","v":0},{"$f":"IF($A1044=\"PhD Student\",'PXS Kopieret'!F1044,\"\")","v":""},{"$f":"'PXS Kopieret'!G1044","v":0},{"$f":"'PXS Kopieret'!H1044","v":0},{"$f":"IF($A1044=\"PhD Student\",'PXS Kopieret'!I1044,\"\")","v":""},{"$f":"'PXS Kopieret'!J1044","v":0},{"$f":"'PXS Kopieret'!K1044","v":0},{"$f":"'PXS Kopieret'!L1044","v":0}]
["",{"$f":"IF('PXS Kopieret'!N1045<>\"\",HYPERLINK(\"https://ssl1.peoplexs.com/Peoplexs22/eFormportal/eForm.cfm?CandidateUpdateID=\"&'PXS Kopieret'!M1045&\"&CandidateUpdateCode=\"&'PXS Kopieret'!N1045&\"&Locale=en&CustomFormID=11612\",\"Docs\"),\"\")","v":""},{"$f":"'PXS Kopieret'!A1045","v":0},{"$f":"'PXS Kopieret'!B1045","v":0},{"$f":"'PXS Kopieret'!C1045","v":0},{"$f":"'PXS Kopieret'!D1045","v":0},{"$f":"IF($A1045<>\"PhD Student\",'PXS Kopieret'!E1045,\"\")","v":0},{"$f":"IF($A1045=\"PhD Student\",'PXS Kopieret'!F1045,\"\")","v":""},{"$f":"'PXS Kopieret'!G1045","v":0},{"$f":"'PXS Kopieret'!H1045","v":0},{"$f":"IF($A1045=\"PhD Student\",'PXS Kopieret'!I1045,\"\")","v":""},{"$f":"'PXS Kopieret'!J1045","v":0},{"$f":"'PXS Kopieret'!K1045","v":0},{"$f":"'PXS Kopieret'!L1045","v":0}]
["",{"$f":"IF('PXS Kopieret'!N1046<>\"\",HYPERLINK(\"https://ssl1.peoplexs.com/Peoplexs22/eFormportal/eForm.cfm?CandidateUpdateID=\"&'PXS Kopieret'!M1046&\"&CandidateUpdateCode=\"&'PXS Kopieret'!N1046&\"&Locale=en&CustomFormID=11612\",\"Docs\"),\"\")","v":""},{"$f":"'PXS Kopieret'!A1046","v":0},{"$f":"'PXS Kopieret'!B1046","v":0},{"$f":"'PXS Kopieret'!C1046","v":0},{"$f":"'PXS Kopieret'!D1046","v":0},{"$f":"IF($A1046<>\"PhD Student\",'PXS Kopieret'!E1046,\"\")","v":0},{"$f":"IF($A1046=\"PhD Student\",'PXS Kopieret'!F1046,\"\")","v":""},{"$f":"'PXS Kopieret'!G1046","v":0},{"$f":"'PXS Kopieret'!H1046","v":0},{"$f":"IF($A1046=\"PhD Student\",'PXS Kopieret'!I1046,\"\")","v":""},{"$f":"'PXS Kopieret'!J1046","v":0},{"$f":"'PXS Kopieret'!K1046","v":0},{"$f":"'PXS Kopieret'!L1046","v":0}]
["",{"$f":"IF('PXS Kopieret'!N1047<>\"\",HYPERLINK(\"https://ssl1.peoplexs.com/Peoplexs22/eFormportal/eForm.cfm?CandidateUpdateID=\"&'PXS Kopieret'!M1047&\"&CandidateUpdateCode=\"&'PXS Kopieret'!N1047&\"&Locale=en&CustomFormID=11612\",\"Docs\"),\"\")","v":""},{"$f":"'PXS Kopieret'!A1047","v":0},{"$f":"'PXS Kopieret'!B1047","v":0},{"$f":"'PXS Kopieret'!C1047","v":0},{"$f":"'PXS Kopieret'!D1047","v":0},{"$f":"IF($A1047<>\"PhD Student\",'PXS Kopieret'!E1047,\"\")","v":0},{"$f":"IF($A1047=\"PhD Student\",'PXS Kopieret'!F1047,\"\")","v":""},{"$f":"'PXS Kopieret'!G1047","v":0},{"$f":"'PXS Kopieret'!H1047","v":0},{"$f":"IF($A1047=\"PhD Student\",'PXS Kopieret'!I1047,\"\")","v":""},{"$f":"'PXS Kopieret'!J1047","v":0},{"$f":"'PXS Kopieret'!K1047","v":0},{"$f":"'PXS Kopieret'!L1047","v":0}]
["",{"$f":"IF('PXS Kopieret'!N1048<>\"\",HYPERLINK(\"https://ssl1.peoplexs.com/Peoplexs22/eFormportal/eForm.cfm?CandidateUpdateID=\"&'PXS Kopieret'!M1048&\"&CandidateUpdateCode=\"&'PXS Kopieret'!N1048&\"&Locale=en&CustomFormID=11612\",\"Docs\"),\"\")","v":""},{"$f":"'PXS Kopieret'!A1048","v":0},{"$f":"'PXS Kopieret'!B1048","v":0},{"$f":"'PXS Kopieret'!C1048","v":0},{"$f":"'PXS Kopieret'!D1048","v":0},{"$f":"IF($A1048<>\"PhD Student\",'PXS Kopieret'!E1048,\"\")","v":0},{"$f":"IF($A1048=\"PhD Student\",'PXS Kopieret'!F1048,\"\")","v":""},{"$f":"'PXS Kopieret'!G1048","v":0},{"$f":"'PXS Kopieret'!H1048","v":0},{"$f":"IF($A1048=\"PhD Student\",'PXS Kopieret'!I1048,\"\")","v":""},{"$f":"'PXS Kopieret'!J1048","v":0},{"$f":"'PXS Kopieret'!K1048","v":0},{"$f":"'PXS Kopieret'!L1048","v":0}]
["",{"$f":"IF('PXS Kopieret'!N1049<>\"\",HYPERLINK(\"https://ssl1.peoplexs.com/Peoplexs22/eFormportal/eForm.cfm?CandidateUpdateID=\"&'PXS Kopieret'!M1049&\"&CandidateUpdateCode=\"&'PXS Kopieret'!N1049&\"&Locale=en&CustomFormID=11612\",\"Docs\"),\"\")","v":""},{"$f":"'PXS Kopieret'!A1049","v":0},{"$f":"'PXS Kopieret'!B1049","v":0},{"$f":"'PXS Kopieret'!C1049","v":0},{"$f":"'PXS Kopieret'!D1049","v":0},{"$f":"IF($A1049<>\"PhD Student\",'PXS Kopieret'!E1049,\"\")","v":0},{"$f":"IF($A1049=\"PhD Student\",'PXS Kopieret'!F1049,\"\")","v":""},{"$f":"'PXS Kopieret'!G1049","v":0},{"$f":"'PXS Kopieret'!H1049","v":0},{"$f":"IF($A1049=\"PhD Student\",'PXS Kopieret'!I1049,\"\")","v":""},{"$f":"'PXS Kopieret'!J1049","v":0},{"$f":"'PXS Kopieret'!K1049","v":0},{"$f":"'PXS Kopieret'!L1049","v":0}]
["",{"$f":"IF('PXS Kopieret'!N1050<>\"\",HYPERLINK(\"https://ssl1.peoplexs.com/Peoplexs22/eFormportal/eForm.cfm?CandidateUpdateID=\"&'PXS Kopieret'!M1050&\"&CandidateUpdateCode=\"&'PXS Kopieret'!N1050&\"&Locale=en&CustomFormID=11612\",\"Docs\"),\"\")","v":""},{"$f":"'PXS Kopieret'!A1050","v":0},{"$f":"'PXS Kopieret'!B1050","v":0},{"$f":"'PXS Kopieret'!C1050","v":0},{"$f":"'PXS Kopieret'!D1050","v":0},{"$f":"IF($A1050<>\"PhD Student\",'PXS Kopieret'!E1050,\"\")","v":0},{"$f":"IF($A1050=\"PhD Student\",'PXS Kopieret'!F1050,\"\")","v":""},{"$f":"'PXS Kopieret'!G1050","v":0},{"$f":"'PXS Kopieret'!H1050","v":0},{"$f":"IF($A1050=\"PhD Student\",'PXS Kopieret'!I1050,\"\")","v":""},{"$f":"'PXS Kopieret'!J1050","v":0},{"$f":"'PXS Kopieret'!K1050","v":0},{"$f":"'PXS Kopieret'!L1050","v":0}]
["",{"$f":"IF('PXS Kopieret'!N1051<>\"\",HYPERLINK(\"https://ssl1.peoplexs.com/Peoplexs22/eFormportal/eForm.cfm?CandidateUpdateID=\"&'PXS Kopieret'!M1051&\"&CandidateUpdateCode=\"&'PXS Kopieret'!N1051&\"&Locale=en&CustomFormID=11612\",\"Docs\"),\"\")","v":""},{"$f":"'PXS Kopieret'!A1051","v":0},{"$f":"'PXS Kopieret'!B1051","v":0},{"$f":"'PXS Kopieret'!C1051","v":0},{"$f":"'PXS Kopieret'!D1051","v":0},{"$f":"IF($A1051<>\"PhD Student\",'PXS Kopieret'!E1051,\"\")","v":0},{"$f":"IF($A1051=\"PhD Student\",'PXS Kopieret'!F1051,\"\")","v":""},{"$f":"'PXS Kopieret'!G1051","v":0},{"$f":"'PXS Kopieret'!H1051","v":0},{"$f":"IF($A1051=\"PhD Student\",'PXS Kopieret'!I1051,\"\")","v":""},{"$f":"'PXS Kopieret'!J1051","v":0},{"$f":"'PXS Kopieret'!K1051","v":0},{"$f":"'PXS Kopieret'!L1051","v":0}]
["",{"$f":"IF('PXS Kopieret'!N1052<>\"\",HYPERLINK(\"https://ssl1.peoplexs.com/Peoplexs22/eFormportal/eForm.cfm?CandidateUpdateID=\"&'PXS Kopieret'!M1052&\"&CandidateUpdateCode=\"&'PXS Kopieret'!N1052&\"&Locale=en&CustomFormID=11612\",\"Docs\"),\"\")","v":""},{"$f":"'PXS Kopieret'!A1052","v":0},{"$f":"'PXS Kopieret'!B1052","v":0},{"$f":"'PXS Kopieret'!C1052","v":0},{"$f":"'PXS Kopieret'!D1052","v":0},{"$f":"IF($A1052<>\"PhD Student\",'PXS Kopieret'!E1052,\"\")","v":0},{"$f":"IF($A1052=\"PhD Student\",'PXS Kopieret'!F1052,\"\")","v":""},{"$f":"'PXS Kopieret'!G1052","v":0},{"$f":"'PXS Kopieret'!H1052","v":0},{"$f":"IF($A1052=\"PhD Student\",'PXS Kopieret'!I1052,\"\")","v":""},{"$f":"'PXS Kopieret'!J1052","v":0},{"$f":"'PXS Kopieret'!K1052","v":0},{"$f":"'PXS Kopieret'!L1052","v":0}]
["",{"$f":"IF('PXS Kopieret'!N1053<>\"\",HYPERLINK(\"https://ssl1.peoplexs.com/Peoplexs22/eFormportal/eForm.cfm?CandidateUpdateID=\"&'PXS Kopieret'!M1053&\"&CandidateUpdateCode=\"&'PXS Kopieret'!N1053&\"&Locale=en&CustomFormID=11612\",\"Docs\"),\"\")","v":""},{"$f":"'PXS Kopieret'!A1053","v":0},{"$f":"'PXS Kopieret'!B1053","v":0},{"$f":"'PXS Kopieret'!C1053","v":0},{"$f":"'PXS Kopieret'!D1053","v":0},{"$f":"IF($A1053<>\"PhD Student\",'PXS Kopieret'!E1053,\"\")","v":0},{"$f":"IF($A1053=\"PhD Student\",'PXS Kopieret'!F1053,\"\")","v":""},{"$f":"'PXS Kopieret'!G1053","v":0},{"$f":"'PXS Kopieret'!H1053","v":0},{"$f":"IF($A1053=\"PhD Student\",'PXS Kopieret'!I1053,\"\")","v":""},{"$f":"'PXS Kopieret'!J1053","v":0},{"$f":"'PXS Kopieret'!K1053","v":0},{"$f":"'PXS Kopieret'!L1053","v":0}]
["",{"$f":"IF('PXS Kopieret'!N1054<>\"\",HYPERLINK(\"https://ssl1.peoplexs.com/Peoplexs22/eFormportal/eForm.cfm?CandidateUpdateID=\"&'PXS Kopieret'!M1054&\"&CandidateUpdateCode=\"&'PXS Kopieret'!N1054&\"&Locale=en&CustomFormID=11612\",\"Docs\"),\"\")","v":""},{"$f":"'PXS Kopieret'!A1054","v":0},{"$f":"'PXS Kopieret'!B1054","v":0},{"$f":"'PXS Kopieret'!C1054","v":0},{"$f":"'PXS Kopieret'!D1054","v":0},{"$f":"IF($A1054<>\"PhD Student\",'PXS Kopieret'!E1054,\"\")","v":0},{"$f":"IF($A1054=\"PhD Student\",'PXS Kopieret'!F1054,\"\")","v":""},{"$f":"'PXS Kopieret'!G1054","v":0},{"$f":"'PXS Kopieret'!H1054","v":0},{"$f":"IF($A1054=\"PhD Student\",'PXS Kopieret'!I1054,\"\")","v":""},{"$f":"'PXS Kopieret'!J1054","v":0},{"$f":"'PXS Kopieret'!K1054","v":0},{"$f":"'PXS Kopieret'!L1054","v":0}]
["",{"$f":"IF('PXS Kopieret'!N1055<>\"\",HYPERLINK(\"https://ssl1.peoplexs.com/Peoplexs22/eFormportal/eForm.cfm?CandidateUpdateID=\"&'PXS Kopieret'!M1055&\"&CandidateUpdateCode=\"&'PXS Kopieret'!N1055&\"&Locale=en&CustomFormID=11612\",\"Docs\"),\"\")","v":""},{"$f":"'PXS Kopieret'!A1055","v":0},{"$f":"'PXS Kopieret'!B1055","v":0},{"$f":"'PXS Kopieret'!C1055","v":0},{"$f":"'PXS Kopieret'!D1055","v":0},{"$f":"IF($A1055<>\"PhD Student\",'PXS Kopieret'!E1055,\"\")","v":0},{"$f":"IF($A1055=\"PhD Student\",'PXS Kopieret'!F1055,\"\")","v":""},{"$f":"'PXS Kopieret'!G1055","v":0},{"$f":"'PXS Kopieret'!H1055","v":0},{"$f":"IF($A1055=\"PhD Student\",'PXS Kopieret'!I1055,\"\")","v":""},{"$f":"'PXS Kopieret'!J1055","v":0},{"$f":"'PXS Kopieret'!K1055","v":0},{"$f":"'PXS Kopieret'!L1055","v":0}]
["",{"$f":"IF('PXS Kopieret'!N1056<>\"\",HYPERLINK(\"https://ssl1.peoplexs.com/Peoplexs22/eFormportal/eForm.cfm?CandidateUpdateID=\"&'PXS Kopieret'!M1056&\"&CandidateUpdateCode=\"&'PXS Kopieret'!N1056&\"&Locale=en&CustomFormID=11612\",\"Docs\"),\"\")","v":""},{"$f":"'PXS Kopieret'!A1056","v":0},{"$f":"'PXS Kopieret'!B1056","v":0},{"$f":"'PXS Kopieret'!C1056","v":0},{"$f":"'PXS Kopieret'!D1056","v":0},{"$f":"IF($A1056<>\"PhD Student\",'PXS Kopieret'!E1056,\"\")","v":0},{"$f":"IF($A1056=\"PhD Student\",'PXS Kopieret'!F1056,\"\")","v":""},{"$f":"'PXS Kopieret'!G1056","v":0},{"$f":"'PXS Kopieret'!H1056","v":0},{"$f":"IF($A1056=\"PhD Student\",'PXS Kopieret'!I1056,\"\")","v":""},{"$f":"'PXS Kopieret'!J1056","v":0},{"$f":"'PXS Kopieret'!K1056","v":0},{"$f":"'PXS Kopieret'!L1056","v":0}]
["",{"$f":"IF('PXS Kopieret'!N1057<>\"\",HYPERLINK(\"https://ssl1.peoplexs.com/Peoplexs22/eFormportal/eForm.cfm?CandidateUpdateID=\"&'PXS Kopieret'!M1057&\"&CandidateUpdateCode=\"&'PXS Kopieret'!N1057&\"&Locale=en&CustomFormID=11612\",\"Docs\"),\"\")","v":""},{"$f":"'PXS Kopieret'!A1057","v":0},{"$f":"'PXS Kopieret'!B1057","v":0},{"$f":"'PXS Kopieret'!C1057","v":0},{"$f":"'PXS Kopieret'!D1057","v":0},{"$f":"IF($A1057<>\"PhD Student\",'PXS Kopieret'!E1057,\"\")","v":0},{"$f":"IF($A1057=\"PhD Student\",'PXS Kopieret'!F1057,\"\")","v":""},{"$f":"'PXS Kopieret'!G1057","v":0},{"$f":"'PXS Kopieret'!H1057","v":0},{"$f":"IF($A1057=\"PhD Student\",'PXS Kopieret'!I1057,\"\")","v":""},{"$f":"'PXS Kopieret'!J1057","v":0},{"$f":"'PXS Kopieret'!K1057","v":0},{"$f":"'PXS Kopieret'!L1057","v":0}]
["",{"$f":"IF('PXS Kopieret'!N1058<>\"\",HYPERLINK(\"https://ssl1.peoplexs.com/Peoplexs22/eFormportal/eForm.cfm?CandidateUpdateID=\"&'PXS Kopieret'!M1058&\"&CandidateUpdateCode=\"&'PXS Kopieret'!N1058&\"&Locale=en&CustomFormID=11612\",\"Docs\"),\"\")","v":""},{"$f":"'PXS Kopieret'!A1058","v":0},{"$f":"'PXS Kopieret'!B1058","v":0},{"$f":"'PXS Kopieret'!C1058","v":0},{"$f":"'PXS Kopieret'!D1058","v":0},{"$f":"IF($A1058<>\"PhD Student\",'PXS Kopieret'!E1058,\"\")","v":0},{"$f":"IF($A1058=\"PhD Student\",'PXS Kopieret'!F1058,\"\")","v":""},{"$f":"'PXS Kopieret'!G1058","v":0},{"$f":"'PXS Kopieret'!H1058","v":0},{"$f":"IF($A1058=\"PhD Student\",'PXS Kopieret'!I1058,\"\")","v":""},{"$f":"'PXS Kopieret'!J1058","v":0},{"$f":"'PXS Kopieret'!K1058","v":0},{"$f":"'PXS Kopieret'!L1058","v":0}]
["",{"$f":"IF('PXS Kopieret'!N1059<>\"\",HYPERLINK(\"https://ssl1.peoplexs.com/Peoplexs22/eFormportal/eForm.cfm?CandidateUpdateID=\"&'PXS Kopieret'!M1059&\"&CandidateUpdateCode=\"&'PXS Kopieret'!N1059&\"&Locale=en&CustomFormID=11612\",\"Docs\"),\"\")","v":""},{"$f":"'PXS Kopieret'!A1059","v":0},{"$f":"'PXS Kopieret'!B1059","v":0},{"$f":"'PXS Kopieret'!C1059","v":0},{"$f":"'PXS Kopieret'!D1059","v":0},{"$f":"IF($A1059<>\"PhD Student\",'PXS Kopieret'!E1059,\"\")","v":0},{"$f":"IF($A1059=\"PhD Student\",'PXS Kopieret'!F1059,\"\")","v":""},{"$f":"'PXS Kopieret'!G1059","v":0},{"$f":"'PXS Kopieret'!H1059","v":0},{"$f":"IF($A1059=\"PhD Student\",'PXS Kopieret'!I1059,\"\")","v":""},{"$f":"'PXS Kopieret'!J1059","v":0},{"$f":"'PXS Kopieret'!K1059","v":0},{"$f":"'PXS Kopieret'!L1059","v":0}]
["",{"$f":"IF('PXS Kopieret'!N1060<>\"\",HYPERLINK(\"https://ssl1.peoplexs.com/Peoplexs22/eFormportal/eForm.cfm?CandidateUpdateID=\"&'PXS Kopieret'!M1060&\"&CandidateUpdateCode=\"&'PXS Kopieret'!N1060&\"&Locale=en&CustomFormID=11612\",\"Docs\"),\"\")","v":""},{"$f":"'PXS Kopieret'!A1060","v":0},{"$f":"'PXS Kopieret'!B1060","v":0},{"$f":"'PXS Kopieret'!C1060","v":0},{"$f":"'PXS Kopieret'!D1060","v":0},{"$f":"IF($A1060<>\"PhD Student\",'PXS Kopieret'!E1060,\"\")","v":0},{"$f":"IF($A1060=\"PhD Student\",'PXS Kopieret'!F1060,\"\")","v":""},{"$f":"'PXS Kopieret'!G1060","v":0},{"$f":"'PXS Kopieret'!H1060","v":0},{"$f":"IF($A1060=\"PhD Student\",'PXS Kopieret'!I1060,\"\")","v":""},{"$f":"'PXS Kopieret'!J1060","v":0},{"$f":"'PXS Kopieret'!K1060","v":0},{"$f":"'PXS Kopieret'!L1060","v":0}]
["",{"$f":"IF('PXS Kopieret'!N1061<>\"\",HYPERLINK(\"https://ssl1.peoplexs.com/Peoplexs22/eFormportal/eForm.cfm?CandidateUpdateID=\"&'PXS Kopieret'!M1061&\"&CandidateUpdateCode=\"&'PXS Kopieret'!N1061&\"&Locale=en&CustomFormID=11612\",\"Docs\"),\"\")","v":""},{"$f":"'PXS Kopieret'!A1061","v":0},{"$f":"'PXS Kopieret'!B1061","v":0},{"$f":"'PXS Kopieret'!C1061","v":0},{"$f":"'PXS Kopieret'!D1061","v":0},{"$f":"IF($A1061<>\"PhD Student\",'PXS Kopieret'!E1061,\"\")","v":0},{"$f":"IF($A1061=\"PhD Student\",'PXS Kopieret'!F1061,\"\")","v":""},{"$f":"'PXS Kopieret'!G1061","v":0},{"$f":"'PXS Kopieret'!H1061","v":0},{"$f":"IF($A1061=\"PhD Student\",'PXS Kopieret'!I1061,\"\")","v":""},{"$f":"'PXS Kopieret'!J1061","v":0},{"$f":"'PXS Kopieret'!K1061","v":0},{"$f":"'PXS Kopieret'!L1061","v":0}]
["",{"$f":"IF('PXS Kopieret'!N1062<>\"\",HYPERLINK(\"https://ssl1.peoplexs.com/Peoplexs22/eFormportal/eForm.cfm?CandidateUpdateID=\"&'PXS Kopieret'!M1062&\"&CandidateUpdateCode=\"&'PXS Kopieret'!N1062&\"&Locale=en&CustomFormID=11612\",\"Docs\"),\"\")","v":""},{"$f":"'PXS Kopieret'!A1062","v":0},{"$f":"'PXS Kopieret'!B1062","v":0},{"$f":"'PXS Kopieret'!C1062","v":0},{"$f":"'PXS Kopieret'!D1062","v":0},{"$f":"IF($A1062<>\"PhD Student\",'PXS Kopieret'!E1062,\"\")","v":0},{"$f":"IF($A1062=\"PhD Student\",'PXS Kopieret'!F1062,\"\")","v":""},{"$f":"'PXS Kopieret'!G1062","v":0},{"$f":"'PXS Kopieret'!H1062","v":0},{"$f":"IF($A1062=\"PhD Student\",'PXS Kopieret'!I1062,\"\")","v":""},{"$f":"'PXS Kopieret'!J1062","v":0},{"$f":"'PXS Kopieret'!K1062","v":0},{"$f":"'PXS Kopieret'!L1062","v":0}]
["",{"$f":"IF('PXS Kopieret'!N1063<>\"\",HYPERLINK(\"https://ssl1.peoplexs.com/Peoplexs22/eFormportal/eForm.cfm?CandidateUpdateID=\"&'PXS Kopieret'!M1063&\"&CandidateUpdateCode=\"&'PXS Kopieret'!N1063&\"&Locale=en&CustomFormID=11612\",\"Docs\"),\"\")","v":""},{"$f":"'PXS Kopieret'!A1063","v":0},{"$f":"'PXS Kopieret'!B1063","v":0},{"$f":"'PXS Kopieret'!C1063","v":0},{"$f":"'PXS Kopieret'!D1063","v":0},{"$f":"IF($A1063<>\"PhD Student\",'PXS Kopieret'!E1063,\"\")","v":0},{"$f":"IF($A1063=\"PhD Student\",'PXS Kopieret'!F1063,\"\")","v":""},{"$f":"'PXS Kopieret'!G1063","v":0},{"$f":"'PXS Kopieret'!H1063","v":0},{"$f":"IF($A1063=\"PhD Student\",'PXS Kopieret'!I1063,\"\")","v":""},{"$f":"'PXS Kopieret'!J1063","v":0},{"$f":"'PXS Kopieret'!K1063","v":0},{"$f":"'PXS Kopieret'!L1063","v":0}]
["",{"$f":"IF('PXS Kopieret'!N1064<>\"\",HYPERLINK(\"https://ssl1.peoplexs.com/Peoplexs22/eFormportal/eForm.cfm?CandidateUpdateID=\"&'PXS Kopieret'!M1064&\"&CandidateUpdateCode=\"&'PXS Kopieret'!N1064&\"&Locale=en&CustomFormID=11612\",\"Docs\"),\"\")","v":""},{"$f":"'PXS Kopieret'!A1064","v":0},{"$f":"'PXS Kopieret'!B1064","v":0},{"$f":"'PXS Kopieret'!C1064","v":0},{"$f":"'PXS Kopieret'!D1064","v":0},{"$f":"IF($A1064<>\"PhD Student\",'PXS Kopieret'!E1064,\"\")","v":0},{"$f":"IF($A1064=\"PhD Student\",'PXS Kopieret'!F1064,\"\")","v":""},{"$f":"'PXS Kopieret'!G1064","v":0},{"$f":"'PXS Kopieret'!H1064","v":0},{"$f":"IF($A1064=\"PhD Student\",'PXS Kopieret'!I1064,\"\")","v":""},{"$f":"'PXS Kopieret'!J1064","v":0},{"$f":"'PXS Kopieret'!K1064","v":0},{"$f":"'PXS Kopieret'!L1064","v":0}]
["",{"$f":"IF('PXS Kopieret'!N1065<>\"\",HYPERLINK(\"https://ssl1.peoplexs.com/Peoplexs22/eFormportal/eForm.cfm?CandidateUpdateID=\"&'PXS Kopieret'!M1065&\"&CandidateUpdateCode=\"&'PXS Kopieret'!N1065&\"&Locale=en&CustomFormID=11612\",\"Docs\"),\"\")","v":""},{"$f":"'PXS Kopieret'!A1065","v":0},{"$f":"'PXS Kopieret'!B1065","v":0},{"$f":"'PXS Kopieret'!C1065","v":0},{"$f":"'PXS Kopieret'!D1065","v":0},{"$f":"IF($A1065<>\"PhD Student\",'PXS Kopieret'!E1065,\"\")","v":0},{"$f":"IF($A1065=\"PhD Student\",'PXS Kopieret'!F1065,\"\")","v":""},{"$f":"'PXS Kopieret'!G1065","v":0},{"$f":"'PXS Kopieret'!H1065","v":0},{"$f":"IF($A1065=\"PhD Student\",'PXS Kopieret'!I1065,\"\")","v":""},{"$f":"'PXS Kopieret'!J1065","v":0},{"$f":"'PXS Kopieret'!K1065","v":0},{"$f":"'PXS Kopieret'!L1065","v":0}]
["",{"$f":"IF('PXS Kopieret'!N1066<>\"\",HYPERLINK(\"https://ssl1.peoplexs.com/Peoplexs22/eFormportal/eForm.cfm?CandidateUpdateID=\"&'PXS Kopieret'!M1066&\"&CandidateUpdateCode=\"&'PXS Kopieret'!N1066&\"&Locale=en&CustomFormID=11612\",\"Docs\"),\"\")","v":""},{"$f":"'PXS Kopieret'!A1066","v":0},{"$f":"'PXS Kopieret'!B1066","v":0},{"$f":"'PXS Kopieret'!C1066","v":0},{"$f":"'PXS Kopieret'!D1066","v":0},{"$f":"IF($A1066<>\"PhD Student\",'PXS Kopieret'!E1066,\"\")","v":0},{"$f":"IF($A1066=\"PhD Student\",'PXS Kopieret'!F1066,\"\")","v":""},{"$f":"'PXS Kopieret'!G1066","v":0},{"$f":"'PXS Kopieret'!H1066","v":0},{"$f":"IF($A1066=\"PhD Student\",'PXS Kopieret'!I1066,\"\")","v":""},{"$f":"'PXS Kopieret'!J1066","v":0},{"$f":"'PXS Kopieret'!K1066","v":0},{"$f":"'PXS Kopieret'!L1066","v":0}]
["",{"$f":"IF('PXS Kopieret'!N1067<>\"\",HYPERLINK(\"https://ssl1.peoplexs.com/Peoplexs22/eFormportal/eForm.cfm?CandidateUpdateID=\"&'PXS Kopieret'!M1067&\"&CandidateUpdateCode=\"&'PXS Kopieret'!N1067&\"&Locale=en&CustomFormID=11612\",\"Docs\"),\"\")","v":""},{"$f":"'PXS Kopieret'!A1067","v":0},{"$f":"'PXS Kopieret'!B1067","v":0},{"$f":"'PXS Kopieret'!C1067","v":0},{"$f":"'PXS Kopieret'!D1067","v":0},{"$f":"IF($A1067<>\"PhD Student\",'PXS Kopieret'!E1067,\"\")","v":0},{"$f":"IF($A1067=\"PhD Student\",'PXS Kopieret'!F1067,\"\")","v":""},{"$f":"'PXS Kopieret'!G1067","v":0},{"$f":"'PXS Kopieret'!H1067","v":0},{"$f":"IF($A1067=\"PhD Student\",'PXS Kopieret'!I1067,\"\")","v":""},{"$f":"'PXS Kopieret'!J1067","v":0},{"$f":"'PXS Kopieret'!K1067","v":0},{"$f":"'PXS Kopieret'!L1067","v":0}]
["",{"$f":"IF('PXS Kopieret'!N1068<>\"\",HYPERLINK(\"https://ssl1.peoplexs.com/Peoplexs22/eFormportal/eForm.cfm?CandidateUpdateID=\"&'PXS Kopieret'!M1068&\"&CandidateUpdateCode=\"&'PXS Kopieret'!N1068&\"&Locale=en&CustomFormID=11612\",\"Docs\"),\"\")","v":""},{"$f":"'PXS Kopieret'!A1068","v":0},{"$f":"'PXS Kopieret'!B1068","v":0},{"$f":"'PXS Kopieret'!C1068","v":0},{"$f":"'PXS Kopieret'!D1068","v":0},{"$f":"IF($A1068<>\"PhD Student\",'PXS Kopieret'!E1068,\"\")","v":0},{"$f":"IF($A1068=\"PhD Student\",'PXS Kopieret'!F1068,\"\")","v":""},{"$f":"'PXS Kopieret'!G1068","v":0},{"$f":"'PXS Kopieret'!H1068","v":0},{"$f":"IF($A1068=\"PhD Student\",'PXS Kopieret'!I1068,\"\")","v":""},{"$f":"'PXS Kopieret'!J1068","v":0},{"$f":"'PXS Kopieret'!K1068","v":0},{"$f":"'PXS Kopieret'!L1068","v":0}]
["",{"$f":"IF('PXS Kopieret'!N1069<>\"\",HYPERLINK(\"https://ssl1.peoplexs.com/Peoplexs22/eFormportal/eForm.cfm?CandidateUpdateID=\"&'PXS Kopieret'!M1069&\"&CandidateUpdateCode=\"&'PXS Kopieret'!N1069&\"&Locale=en&CustomFormID=11612\",\"Docs\"),\"\")","v":""},{"$f":"'PXS Kopieret'!A1069","v":0},{"$f":"'PXS Kopieret'!B1069","v":0},{"$f":"'PXS Kopieret'!C1069","v":0},{"$f":"'PXS Kopieret'!D1069","v":0},{"$f":"IF($A1069<>\"PhD Student\",'PXS Kopieret'!E1069,\"\")","v":0},{"$f":"IF($A1069=\"PhD Student\",'PXS Kopieret'!F1069,\"\")","v":""},{"$f":"'PXS Kopieret'!G1069","v":0},{"$f":"'PXS Kopieret'!H1069","v":0},{"$f":"IF($A1069=\"PhD Student\",'PXS Kopieret'!I1069,\"\")","v":""},{"$f":"'PXS Kopieret'!J1069","v":0},{"$f":"'PXS Kopieret'!K1069","v":0},{"$f":"'PXS Kopieret'!L1069","v":0}]
["",{"$f":"IF('PXS Kopieret'!N1070<>\"\",HYPERLINK(\"https://ssl1.peoplexs.com/Peoplexs22/eFormportal/eForm.cfm?CandidateUpdateID=\"&'PXS Kopieret'!M1070&\"&CandidateUpdateCode=\"&'PXS Kopieret'!N1070&\"&Locale=en&CustomFormID=11612\",\"Docs\"),\"\")","v":""},{"$f":"'PXS Kopieret'!A1070","v":0},{"$f":"'PXS Kopieret'!B1070","v":0},{"$f":"'PXS Kopieret'!C1070","v":0},{"$f":"'PXS Kopieret'!D1070","v":0},{"$f":"IF($A1070<>\"PhD Student\",'PXS Kopieret'!E1070,\"\")","v":0},{"$f":"IF($A1070=\"PhD Student\",'PXS Kopieret'!F1070,\"\")","v":""},{"$f":"'PXS Kopieret'!G1070","v":0},{"$f":"'PXS Kopieret'!H1070","v":0},{"$f":"IF($A1070=\"PhD Student\",'PXS Kopieret'!I1070,\"\")","v":""},{"$f":"'PXS Kopieret'!J1070","v":0},{"$f":"'PXS Kopieret'!K1070","v":0},{"$f":"'PXS Kopieret'!L1070","v":0}]
["",{"$f":"IF('PXS Kopieret'!N1071<>\"\",HYPERLINK(\"https://ssl1.peoplexs.com/Peoplexs22/eFormportal/eForm.cfm?CandidateUpdateID=\"&'PXS Kopieret'!M1071&\"&CandidateUpdateCode=\"&'PXS Kopieret'!N1071&\"&Locale=en&CustomFormID=11612\",\"Docs\"),\"\")","v":""},{"$f":"'PXS Kopieret'!A1071","v":0},{"$f":"'PXS Kopieret'!B1071","v":0},{"$f":"'PXS Kopieret'!C1071","v":0},{"$f":"'PXS Kopieret'!D1071","v":0},{"$f":"IF($A1071<>\"PhD Student\",'PXS Kopieret'!E1071,\"\")","v":0},{"$f":"IF($A1071=\"PhD Student\",'PXS Kopieret'!F1071,\"\")","v":""},{"$f":"'PXS Kopieret'!G1071","v":0},{"$f":"'PXS Kopieret'!H1071","v":0},{"$f":"IF($A1071=\"PhD Student\",'PXS Kopieret'!I1071,\"\")","v":""},{"$f":"'PXS Kopieret'!J1071","v":0},{"$f":"'PXS Kopieret'!K1071","v":0},{"$f":"'PXS Kopieret'!L1071","v":0}]
["",{"$f":"IF('PXS Kopieret'!N1072<>\"\",HYPERLINK(\"https://ssl1.peoplexs.com/Peoplexs22/eFormportal/eForm.cfm?CandidateUpdateID=\"&'PXS Kopieret'!M1072&\"&CandidateUpdateCode=\"&'PXS Kopieret'!N1072&\"&Locale=en&CustomFormID=11612\",\"Docs\"),\"\")","v":""},{"$f":"'PXS Kopieret'!A1072","v":0},{"$f":"'PXS Kopieret'!B1072","v":0},{"$f":"'PXS Kopieret'!C1072","v":0},{"$f":"'PXS Kopieret'!D1072","v":0},{"$f":"IF($A1072<>\"PhD Student\",'PXS Kopieret'!E1072,\"\")","v":0},{"$f":"IF($A1072=\"PhD Student\",'PXS Kopieret'!F1072,\"\")","v":""},{"$f":"'PXS Kopieret'!G1072","v":0},{"$f":"'PXS Kopieret'!H1072","v":0},{"$f":"IF($A1072=\"PhD Student\",'PXS Kopieret'!I1072,\"\")","v":""},{"$f":"'PXS Kopieret'!J1072","v":0},{"$f":"'PXS Kopieret'!K1072","v":0},{"$f":"'PXS Kopieret'!L1072","v":0}]
["",{"$f":"IF('PXS Kopieret'!N1073<>\"\",HYPERLINK(\"https://ssl1.peoplexs.com/Peoplexs22/eFormportal/eForm.cfm?CandidateUpdateID=\"&'PXS Kopieret'!M1073&\"&CandidateUpdateCode=\"&'PXS Kopieret'!N1073&\"&Locale=en&CustomFormID=11612\",\"Docs\"),\"\")","v":""},{"$f":"'PXS Kopieret'!A1073","v":0},{"$f":"'PXS Kopieret'!B1073","v":0},{"$f":"'PXS Kopieret'!C1073","v":0},{"$f":"'PXS Kopieret'!D1073","v":0},{"$f":"IF($A1073<>\"PhD Student\",'PXS Kopieret'!E1073,\"\")","v":0},{"$f":"IF($A1073=\"PhD Student\",'PXS Kopieret'!F1073,\"\")","v":""},{"$f":"'PXS Kopieret'!G1073","v":0},{"$f":"'PXS Kopieret'!H1073","v":0},{"$f":"IF($A1073=\"PhD Student\",'PXS Kopieret'!I1073,\"\")","v":""},{"$f":"'PXS Kopieret'!J1073","v":0},{"$f":"'PXS Kopieret'!K1073","v":0},{"$f":"'PXS Kopieret'!L1073","v":0}]
["",{"$f":"IF('PXS Kopieret'!N1074<>\"\",HYPERLINK(\"https://ssl1.peoplexs.com/Peoplexs22/eFormportal/eForm.cfm?CandidateUpdateID=\"&'PXS Kopieret'!M1074&\"&CandidateUpdateCode=\"&'PXS Kopieret'!N1074&\"&Locale=en&CustomFormID=11612\",\"Docs\"),\"\")","v":""},{"$f":"'PXS Kopieret'!A1074","v":0},{"$f":"'PXS Kopieret'!B1074","v":0},{"$f":"'PXS Kopieret'!C1074","v":0},{"$f":"'PXS Kopieret'!D1074","v":0},{"$f":"IF($A1074<>\"PhD Student\",'PXS Kopieret'!E1074,\"\")","v":0},{"$f":"IF($A1074=\"PhD Student\",'PXS Kopieret'!F1074,\"\")","v":""},{"$f":"'PXS Kopieret'!G1074","v":0},{"$f":"'PXS Kopieret'!H1074","v":0},{"$f":"IF($A1074=\"PhD Student\",'PXS Kopieret'!I1074,\"\")","v":""},{"$f":"'PXS Kopieret'!J1074","v":0},{"$f":"'PXS Kopieret'!K1074","v":0},{"$f":"'PXS Kopieret'!L1074","v":0}]
["",{"$f":"IF('PXS Kopieret'!N1075<>\"\",HYPERLINK(\"https://ssl1.peoplexs.com/Peoplexs22/eFormportal/eForm.cfm?CandidateUpdateID=\"&'PXS Kopieret'!M1075&\"&CandidateUpdateCode=\"&'PXS Kopieret'!N1075&\"&Locale=en&CustomFormID=11612\",\"Docs\"),\"\")","v":""},{"$f":"'PXS Kopieret'!A1075","v":0},{"$f":"'PXS Kopieret'!B1075","v":0},{"$f":"'PXS Kopieret'!C1075","v":0},{"$f":"'PXS Kopieret'!D1075","v":0},{"$f":"IF($A1075<>\"PhD Student\",'PXS Kopieret'!E1075,\"\")","v":0},{"$f":"IF($A1075=\"PhD Student\",'PXS Kopieret'!F1075,\"\")","v":""},{"$f":"'PXS Kopieret'!G1075","v":0},{"$f":"'PXS Kopieret'!H1075","v":0},{"$f":"IF($A1075=\"PhD Student\",'PXS Kopieret'!I1075,\"\")","v":""},{"$f":"'PXS Kopieret'!J1075","v":0},{"$f":"'PXS Kopieret'!K1075","v":0},{"$f":"'PXS Kopieret'!L1075","v":0}]
["",{"$f":"IF('PXS Kopieret'!N1076<>\"\",HYPERLINK(\"https://ssl1.peoplexs.com/Peoplexs22/eFormportal/eForm.cfm?CandidateUpdateID=\"&'PXS Kopieret'!M1076&\"&CandidateUpdateCode=\"&'PXS Kopieret'!N1076&\"&Locale=en&CustomFormID=11612\",\"Docs\"),\"\")","v":""},{"$f":"'PXS Kopieret'!A1076","v":0},{"$f":"'PXS Kopieret'!B1076","v":0},{"$f":"'PXS Kopieret'!C1076","v":0},{"$f":"'PXS Kopieret'!D1076","v":0},{"$f":"IF($A1076<>\"PhD Student\",'PXS Kopieret'!E1076,\"\")","v":0},{"$f":"IF($A1076=\"PhD Student\",'PXS Kopieret'!F1076,\"\")","v":""},{"$f":"'PXS Kopieret'!G1076","v":0},{"$f":"'PXS Kopieret'!H1076","v":0},{"$f":"IF($A1076=\"PhD Student\",'PXS Kopieret'!I1076,\"\")","v":""},{"$f":"'PXS Kopieret'!J1076","v":0},{"$f":"'PXS Kopieret'!K1076","v":0},{"$f":"'PXS Kopieret'!L1076","v":0}]
["",{"$f":"IF('PXS Kopieret'!N1077<>\"\",HYPERLINK(\"https://ssl1.peoplexs.com/Peoplexs22/eFormportal/eForm.cfm?CandidateUpdateID=\"&'PXS Kopieret'!M1077&\"&CandidateUpdateCode=\"&'PXS Kopieret'!N1077&\"&Locale=en&CustomFormID=11612\",\"Docs\"),\"\")","v":""},{"$f":"'PXS Kopieret'!A1077","v":0},{"$f":"'PXS Kopieret'!B1077","v":0},{"$f":"'PXS Kopieret'!C1077","v":0},{"$f":"'PXS Kopieret'!D1077","v":0},{"$f":"IF($A1077<>\"PhD Student\",'PXS Kopieret'!E1077,\"\")","v":0},{"$f":"IF($A1077=\"PhD Student\",'PXS Kopieret'!F1077,\"\")","v":""},{"$f":"'PXS Kopieret'!G1077","v":0},{"$f":"'PXS Kopieret'!H1077","v":0},{"$f":"IF($A1077=\"PhD Student\",'PXS Kopieret'!I1077,\"\")","v":""},{"$f":"'PXS Kopieret'!J1077","v":0},{"$f":"'PXS Kopieret'!K1077","v":0},{"$f":"'PXS Kopieret'!L1077","v":0}]
["",{"$f":"IF('PXS Kopieret'!N1078<>\"\",HYPERLINK(\"https://ssl1.peoplexs.com/Peoplexs22/eFormportal/eForm.cfm?CandidateUpdateID=\"&'PXS Kopieret'!M1078&\"&CandidateUpdateCode=\"&'PXS Kopieret'!N1078&\"&Locale=en&CustomFormID=11612\",\"Docs\"),\"\")","v":""},{"$f":"'PXS Kopieret'!A1078","v":0},{"$f":"'PXS Kopieret'!B1078","v":0},{"$f":"'PXS Kopieret'!C1078","v":0},{"$f":"'PXS Kopieret'!D1078","v":0},{"$f":"IF($A1078<>\"PhD Student\",'PXS Kopieret'!E1078,\"\")","v":0},{"$f":"IF($A1078=\"PhD Student\",'PXS Kopieret'!F1078,\"\")","v":""},{"$f":"'PXS Kopieret'!G1078","v":0},{"$f":"'PXS Kopieret'!H1078","v":0},{"$f":"IF($A1078=\"PhD Student\",'PXS Kopieret'!I1078,\"\")","v":""},{"$f":"'PXS Kopieret'!J1078","v":0},{"$f":"'PXS Kopieret'!K1078","v":0},{"$f":"'PXS Kopieret'!L1078","v":0}]
["",{"$f":"IF('PXS Kopieret'!N1079<>\"\",HYPERLINK(\"https://ssl1.peoplexs.com/Peoplexs22/eFormportal/eForm.cfm?CandidateUpdateID=\"&'PXS Kopieret'!M1079&\"&CandidateUpdateCode=\"&'PXS Kopieret'!N1079&\"&Locale=en&CustomFormID=11612\",\"Docs\"),\"\")","v":""},{"$f":"'PXS Kopieret'!A1079","v":0},{"$f":"'PXS Kopieret'!B1079","v":0},{"$f":"'PXS Kopieret'!C1079","v":0},{"$f":"'PXS Kopieret'!D1079","v":0},{"$f":"IF($A1079<>\"PhD Student\",'PXS Kopieret'!E1079,\"\")","v":0},{"$f":"IF($A1079=\"PhD Student\",'PXS Kopieret'!F1079,\"\")","v":""},{"$f":"'PXS Kopieret'!G1079","v":0},{"$f":"'PXS Kopieret'!H1079","v":0},{"$f":"IF($A1079=\"PhD Student\",'PXS Kopieret'!I1079,\"\")","v":""},{"$f":"'PXS Kopieret'!J1079","v":0},{"$f":"'PXS Kopieret'!K1079","v":0},{"$f":"'PXS Kopieret'!L1079","v":0}]
["",{"$f":"IF('PXS Kopieret'!N1080<>\"\",HYPERLINK(\"https://ssl1.peoplexs.com/Peoplexs22/eFormportal/eForm.cfm?CandidateUpdateID=\"&'PXS Kopieret'!M1080&\"&CandidateUpdateCode=\"&'PXS Kopieret'!N1080&\"&Locale=en&CustomFormID=11612\",\"Docs\"),\"\")","v":""},{"$f":"'PXS Kopieret'!A1080","v":0},{"$f":"'PXS Kopieret'!B1080","v":0},{"$f":"'PXS Kopieret'!C1080","v":0},{"$f":"'PXS Kopieret'!D1080","v":0},{"$f":"IF($A1080<>\"PhD Student\",'PXS Kopieret'!E1080,\"\")","v":0},{"$f":"IF($A1080=\"PhD Student\",'PXS Kopieret'!F1080,\"\")","v":""},{"$f":"'PXS Kopieret'!G1080","v":0},{"$f":"'PXS Kopieret'!H1080","v":0},{"$f":"IF($A1080=\"PhD Student\",'PXS Kopieret'!I1080,\"\")","v":""},{"$f":"'PXS Kopieret'!J1080","v":0},{"$f":"'PXS Kopieret'!K1080","v":0},{"$f":"'PXS Kopieret'!L1080","v":0}]
["",{"$f":"IF('PXS Kopieret'!N1081<>\"\",HYPERLINK(\"https://ssl1.peoplexs.com/Peoplexs22/eFormportal/eForm.cfm?CandidateUpdateID=\"&'PXS Kopieret'!M1081&\"&CandidateUpdateCode=\"&'PXS Kopieret'!N1081&\"&Locale=en&CustomFormID=11612\",\"Docs\"),\"\")","v":""},{"$f":"'PXS Kopieret'!A1081","v":0},{"$f":"'PXS Kopieret'!B1081","v":0},{"$f":"'PXS Kopieret'!C1081","v":0},{"$f":"'PXS Kopieret'!D1081","v":0},{"$f":"IF($A1081<>\"PhD Student\",'PXS Kopieret'!E1081,\"\")","v":0},{"$f":"IF($A1081=\"PhD Student\",'PXS Kopieret'!F1081,\"\")","v":""},{"$f":"'PXS Kopieret'!G1081","v":0},{"$f":"'PXS Kopieret'!H1081","v":0},{"$f":"IF($A1081=\"PhD Student\",'PXS Kopieret'!I1081,\"\")","v":""},{"$f":"'PXS Kopieret'!J1081","v":0},{"$f":"'PXS Kopieret'!K1081","v":0},{"$f":"'PXS Kopieret'!L1081","v":0}]
["",{"$f":"IF('PXS Kopieret'!N1082<>\"\",HYPERLINK(\"https://ssl1.peoplexs.com/Peoplexs22/eFormportal/eForm.cfm?CandidateUpdateID=\"&'PXS Kopieret'!M1082&\"&CandidateUpdateCode=\"&'PXS Kopieret'!N1082&\"&Locale=en&CustomFormID=11612\",\"Docs\"),\"\")","v":""},{"$f":"'PXS Kopieret'!A1082","v":0},{"$f":"'PXS Kopieret'!B1082","v":0},{"$f":"'PXS Kopieret'!C1082","v":0},{"$f":"'PXS Kopieret'!D1082","v":0},{"$f":"IF($A1082<>\"PhD Student\",'PXS Kopieret'!E1082,\"\")","v":0},{"$f":"IF($A1082=\"PhD Student\",'PXS Kopieret'!F1082,\"\")","v":""},{"$f":"'PXS Kopieret'!G1082","v":0},{"$f":"'PXS Kopieret'!H1082","v":0},{"$f":"IF($A1082=\"PhD Student\",'PXS Kopieret'!I1082,\"\")","v":""},{"$f":"'PXS Kopieret'!J1082","v":0},{"$f":"'PXS Kopieret'!K1082","v":0},{"$f":"'PXS Kopieret'!L1082","v":0}]
["",{"$f":"IF('PXS Kopieret'!N1083<>\"\",HYPERLINK(\"https://ssl1.peoplexs.com/Peoplexs22/eFormportal/eForm.cfm?CandidateUpdateID=\"&'PXS Kopieret'!M1083&\"&CandidateUpdateCode=\"&'PXS Kopieret'!N1083&\"&Locale=en&CustomFormID=11612\",\"Docs\"),\"\")","v":""},{"$f":"'PXS Kopieret'!A1083","v":0},{"$f":"'PXS Kopieret'!B1083","v":0},{"$f":"'PXS Kopieret'!C1083","v":0},{"$f":"'PXS Kopieret'!D1083","v":0},{"$f":"IF($A1083<>\"PhD Student\",'PXS Kopieret'!E1083,\"\")","v":0},{"$f":"IF($A1083=\"PhD Student\",'PXS Kopieret'!F1083,\"\")","v":""},{"$f":"'PXS Kopieret'!G1083","v":0},{"$f":"'PXS Kopieret'!H1083","v":0},{"$f":"IF($A1083=\"PhD Student\",'PXS Kopieret'!I1083,\"\")","v":""},{"$f":"'PXS Kopieret'!J1083","v":0},{"$f":"'PXS Kopieret'!K1083","v":0},{"$f":"'PXS Kopieret'!L1083","v":0}]
["",{"$f":"IF('PXS Kopieret'!N1084<>\"\",HYPERLINK(\"https://ssl1.peoplexs.com/Peoplexs22/eFormportal/eForm.cfm?CandidateUpdateID=\"&'PXS Kopieret'!M1084&\"&CandidateUpdateCode=\"&'PXS Kopieret'!N1084&\"&Locale=en&CustomFormID=11612\",\"Docs\"),\"\")","v":""},{"$f":"'PXS Kopieret'!A1084","v":0},{"$f":"'PXS Kopieret'!B1084","v":0},{"$f":"'PXS Kopieret'!C1084","v":0},{"$f":"'PXS Kopieret'!D1084","v":0},{"$f":"IF($A1084<>\"PhD Student\",'PXS Kopieret'!E1084,\"\")","v":0},{"$f":"IF($A1084=\"PhD Student\",'PXS Kopieret'!F1084,\"\")","v":""},{"$f":"'PXS Kopieret'!G1084","v":0},{"$f":"'PXS Kopieret'!H1084","v":0},{"$f":"IF($A1084=\"PhD Student\",'PXS Kopieret'!I1084,\"\")","v":""},{"$f":"'PXS Kopieret'!J1084","v":0},{"$f":"'PXS Kopieret'!K1084","v":0},{"$f":"'PXS Kopieret'!L1084","v":0}]
["",{"$f":"IF('PXS Kopieret'!N1085<>\"\",HYPERLINK(\"https://ssl1.peoplexs.com/Peoplexs22/eFormportal/eForm.cfm?CandidateUpdateID=\"&'PXS Kopieret'!M1085&\"&CandidateUpdateCode=\"&'PXS Kopieret'!N1085&\"&Locale=en&CustomFormID=11612\",\"Docs\"),\"\")","v":""},{"$f":"'PXS Kopieret'!A1085","v":0},{"$f":"'PXS Kopieret'!B1085","v":0},{"$f":"'PXS Kopieret'!C1085","v":0},{"$f":"'PXS Kopieret'!D1085","v":0},{"$f":"IF($A1085<>\"PhD Student\",'PXS Kopieret'!E1085,\"\")","v":0},{"$f":"IF($A1085=\"PhD Student\",'PXS Kopieret'!F1085,\"\")","v":""},{"$f":"'PXS Kopieret'!G1085","v":0},{"$f":"'PXS Kopieret'!H1085","v":0},{"$f":"IF($A1085=\"PhD Student\",'PXS Kopieret'!I1085,\"\")","v":""},{"$f":"'PXS Kopieret'!J1085","v":0},{"$f":"'PXS Kopieret'!K1085","v":0},{"$f":"'PXS Kopieret'!L1085","v":0}]
["",{"$f":"IF('PXS Kopieret'!N1086<>\"\",HYPERLINK(\"https://ssl1.peoplexs.com/Peoplexs22/eFormportal/eForm.cfm?CandidateUpdateID=\"&'PXS Kopieret'!M1086&\"&CandidateUpdateCode=\"&'PXS Kopieret'!N1086&\"&Locale=en&CustomFormID=11612\",\"Docs\"),\"\")","v":""},{"$f":"'PXS Kopieret'!A1086","v":0},{"$f":"'PXS Kopieret'!B1086","v":0},{"$f":"'PXS Kopieret'!C1086","v":0},{"$f":"'PXS Kopieret'!D1086","v":0},{"$f":"IF($A1086<>\"PhD Student\",'PXS Kopieret'!E1086,\"\")","v":0},{"$f":"IF($A1086=\"PhD Student\",'PXS Kopieret'!F1086,\"\")","v":""},{"$f":"'PXS Kopieret'!G1086","v":0},{"$f":"'PXS Kopieret'!H1086","v":0},{"$f":"IF($A1086=\"PhD Student\",'PXS Kopieret'!I1086,\"\")","v":""},{"$f":"'PXS Kopieret'!J1086","v":0},{"$f":"'PXS Kopieret'!K1086","v":0},{"$f":"'PXS Kopieret'!L1086","v":0}]
["",{"$f":"IF('PXS Kopieret'!N1087<>\"\",HYPERLINK(\"https://ssl1.peoplexs.com/Peoplexs22/eFormportal/eForm.cfm?CandidateUpdateID=\"&'PXS Kopieret'!M1087&\"&CandidateUpdateCode=\"&'PXS Kopieret'!N1087&\"&Locale=en&CustomFormID=11612\",\"Docs\"),\"\")","v":""},{"$f":"'PXS Kopieret'!A1087","v":0},{"$f":"'PXS Kopieret'!B1087","v":0},{"$f":"'PXS Kopieret'!C1087","v":0},{"$f":"'PXS Kopieret'!D1087","v":0},{"$f":"IF($A1087<>\"PhD Student\",'PXS Kopieret'!E1087,\"\")","v":0},{"$f":"IF($A1087=\"PhD Student\",'PXS Kopieret'!F1087,\"\")","v":""},{"$f":"'PXS Kopieret'!G1087","v":0},{"$f":"'PXS Kopieret'!H1087","v":0},{"$f":"IF($A1087=\"PhD Student\",'PXS Kopieret'!I1087,\"\")","v":""},{"$f":"'PXS Kopieret'!J1087","v":0},{"$f":"'PXS Kopieret'!K1087","v":0},{"$f":"'PXS Kopieret'!L1087","v":0}]
["",{"$f":"IF('PXS Kopieret'!N1088<>\"\",HYPERLINK(\"https://ssl1.peoplexs.com/Peoplexs22/eFormportal/eForm.cfm?CandidateUpdateID=\"&'PXS Kopieret'!M1088&\"&CandidateUpdateCode=\"&'PXS Kopieret'!N1088&\"&Locale=en&CustomFormID=11612\",\"Docs\"),\"\")","v":""},{"$f":"'PXS Kopieret'!A1088","v":0},{"$f":"'PXS Kopieret'!B1088","v":0},{"$f":"'PXS Kopieret'!C1088","v":0},{"$f":"'PXS Kopieret'!D1088","v":0},{"$f":"IF($A1088<>\"PhD Student\",'PXS Kopieret'!E1088,\"\")","v":0},{"$f":"IF($A1088=\"PhD Student\",'PXS Kopieret'!F1088,\"\")","v":""},{"$f":"'PXS Kopieret'!G1088","v":0},{"$f":"'PXS Kopieret'!H1088","v":0},{"$f":"IF($A1088=\"PhD Student\",'PXS Kopieret'!I1088,\"\")","v":""},{"$f":"'PXS Kopieret'!J1088","v":0},{"$f":"'PXS Kopieret'!K1088","v":0},{"$f":"'PXS Kopieret'!L1088","v":0}]
["",{"$f":"IF('PXS Kopieret'!N1089<>\"\",HYPERLINK(\"https://ssl1.peoplexs.com/Peoplexs22/eFormportal/eForm.cfm?CandidateUpdateID=\"&'PXS Kopieret'!M1089&\"&CandidateUpdateCode=\"&'PXS Kopieret'!N1089&\"&Locale=en&CustomFormID=11612\",\"Docs\"),\"\")","v":""},{"$f":"'PXS Kopieret'!A1089","v":0},{"$f":"'PXS Kopieret'!B1089","v":0},{"$f":"'PXS Kopieret'!C1089","v":0},{"$f":"'PXS Kopieret'!D1089","v":0},{"$f":"IF($A1089<>\"PhD Student\",'PXS Kopieret'!E1089,\"\")","v":0},{"$f":"IF($A1089=\"PhD Student\",'PXS Kopieret'!F1089,\"\")","v":""},{"$f":"'PXS Kopieret'!G1089","v":0},{"$f":"'PXS Kopieret'!H1089","v":0},{"$f":"IF($A1089=\"PhD Student\",'PXS Kopieret'!I1089,\"\")","v":""},{"$f":"'PXS Kopieret'!J1089","v":0},{"$f":"'PXS Kopieret'!K1089","v":0},{"$f":"'PXS Kopieret'!L1089","v":0}]
["",{"$f":"IF('PXS Kopieret'!N1090<>\"\",HYPERLINK(\"https://ssl1.peoplexs.com/Peoplexs22/eFormportal/eForm.cfm?CandidateUpdateID=\"&'PXS Kopieret'!M1090&\"&CandidateUpdateCode=\"&'PXS Kopieret'!N1090&\"&Locale=en&CustomFormID=11612\",\"Docs\"),\"\")","v":""},{"$f":"'PXS Kopieret'!A1090","v":0},{"$f":"'PXS Kopieret'!B1090","v":0},{"$f":"'PXS Kopieret'!C1090","v":0},{"$f":"'PXS Kopieret'!D1090","v":0},{"$f":"IF($A1090<>\"PhD Student\",'PXS Kopieret'!E1090,\"\")","v":0},{"$f":"IF($A1090=\"PhD Student\",'PXS Kopieret'!F1090,\"\")","v":""},{"$f":"'PXS Kopieret'!G1090","v":0},{"$f":"'PXS Kopieret'!H1090","v":0},{"$f":"IF($A1090=\"PhD Student\",'PXS Kopieret'!I1090,\"\")","v":""},{"$f":"'PXS Kopieret'!J1090","v":0},{"$f":"'PXS Kopieret'!K1090","v":0},{"$f":"'PXS Kopieret'!L1090","v":0}]
[{"$f":"IF(LEFT(C1091,2)=\"RY\", \"Research Year Student\", IF(C1091=0,\"\",\"PhD Student\"))","v":""},{"$f":"IF('PXS Kopieret'!N1091<>\"\",HYPERLINK(\"https://ssl1.peoplexs.com/Peoplexs22/eFormportal/eForm.cfm?CandidateUpdateID=\"&'PXS Kopieret'!M1091&\"&CandidateUpdateCode=\"&'PXS Kopieret'!N1091&\"&Locale=en&CustomFormID=11612\",\"Docs\"),\"\")","v":""},{"$f":"'PXS Kopieret'!A1091","v":0},{"$f":"'PXS Kopieret'!B1091","v":0},{"$f":"'PXS Kopieret'!C1091","v":0},{"$f":"'PXS Kopieret'!D1091","v":0},{"$f":"IF($A1091<>\"PhD Student\",'PXS Kopieret'!E1091,\"\")","v":0},{"$f":"IF($A1091=\"PhD Student\",'PXS Kopieret'!F1091,\"\")","v":""},{"$f":"'PXS Kopieret'!G1091","v":0},{"$f":"'PXS Kopieret'!H1091","v":0},{"$f":"IF($A1091=\"PhD Student\",'PXS Kopieret'!I1091,\"\")","v":""},{"$f":"'PXS Kopieret'!J1091","v":0},{"$f":"'PXS Kopieret'!K1091","v":0},{"$f":"'PXS Kopieret'!L1091","v":0}]
["",{"$f":"IF('PXS Kopieret'!N1092<>\"\",HYPERLINK(\"https://ssl1.peoplexs.com/Peoplexs22/eFormportal/eForm.cfm?CandidateUpdateID=\"&'PXS Kopieret'!M1092&\"&CandidateUpdateCode=\"&'PXS Kopieret'!N1092&\"&Locale=en&CustomFormID=11612\",\"Docs\"),\"\")","v":""},{"$f":"'PXS Kopieret'!A1092","v":0},{"$f":"'PXS Kopieret'!B1092","v":0},{"$f":"'PXS Kopieret'!C1092","v":0},{"$f":"'PXS Kopieret'!D1092","v":0},{"$f":"IF($A1092<>\"PhD Student\",'PXS Kopieret'!E1092,\"\")","v":0},{"$f":"IF($A1092=\"PhD Student\",'PXS Kopieret'!F1092,\"\")","v":""},{"$f":"'PXS Kopieret'!G1092","v":0},{"$f":"'PXS Kopieret'!H1092","v":0},{"$f":"IF($A1092=\"PhD Student\",'PXS Kopieret'!I1092,\"\")","v":""},{"$f":"'PXS Kopieret'!J1092","v":0},{"$f":"'PXS Kopieret'!K1092","v":0},{"$f":"'PXS Kopieret'!L1092","v":0}]
["",{"$f":"IF('PXS Kopieret'!N1093<>\"\",HYPERLINK(\"https://ssl1.peoplexs.com/Peoplexs22/eFormportal/eForm.cfm?CandidateUpdateID=\"&'PXS Kopieret'!M1093&\"&CandidateUpdateCode=\"&'PXS Kopieret'!N1093&\"&Locale=en&CustomFormID=11612\",\"Docs\"),\"\")","v":""},{"$f":"'PXS Kopieret'!A1093","v":0},{"$f":"'PXS Kopieret'!B1093","v":0},{"$f":"'PXS Kopieret'!C1093","v":0},{"$f":"'PXS Kopieret'!D1093","v":0},{"$f":"IF($A1093<>\"PhD Student\",'PXS Kopieret'!E1093,\"\")","v":0},{"$f":"IF($A1093=\"PhD Student\",'PXS Kopieret'!F1093,\"\")","v":""},{"$f":"'PXS Kopieret'!G1093","v":0},{"$f":"'PXS Kopieret'!H1093","v":0},{"$f":"IF($A1093=\"PhD Student\",'PXS Kopieret'!I1093,\"\")","v":""},{"$f":"'PXS Kopieret'!J1093","v":0},{"$f":"'PXS Kopieret'!K1093","v":0},{"$f":"'PXS Kopieret'!L1093","v":0}]
["",{"$f":"IF('PXS Kopieret'!N1094<>\"\",HYPERLINK(\"https://ssl1.peoplexs.com/Peoplexs22/eFormportal/eForm.cfm?CandidateUpdateID=\"&'PXS Kopieret'!M1094&\"&CandidateUpdateCode=\"&'PXS Kopieret'!N1094&\"&Locale=en&CustomFormID=11612\",\"Docs\"),\"\")","v":""},{"$f":"'PXS Kopieret'!A1094","v":0},{"$f":"'PXS Kopieret'!B1094","v":0},{"$f":"'PXS Kopieret'!C1094","v":0},{"$f":"'PXS Kopieret'!D1094","v":0},{"$f":"IF($A1094<>\"PhD Student\",'PXS Kopieret'!E1094,\"\")","v":0},{"$f":"IF($A1094=\"PhD Student\",'PXS Kopieret'!F1094,\"\")","v":""},{"$f":"'PXS Kopieret'!G1094","v":0},{"$f":"'PXS Kopieret'!H1094","v":0},{"$f":"IF($A1094=\"PhD Student\",'PXS Kopieret'!I1094,\"\")","v":""},{"$f":"'PXS Kopieret'!J1094","v":0},{"$f":"'PXS Kopieret'!K1094","v":0},{"$f":"'PXS Kopieret'!L1094","v":0}]
["",{"$f":"IF('PXS Kopieret'!N1095<>\"\",HYPERLINK(\"https://ssl1.peoplexs.com/Peoplexs22/eFormportal/eForm.cfm?CandidateUpdateID=\"&'PXS Kopieret'!M1095&\"&CandidateUpdateCode=\"&'PXS Kopieret'!N1095&\"&Locale=en&CustomFormID=11612\",\"Docs\"),\"\")","v":""},{"$f":"'PXS Kopieret'!A1095","v":0},{"$f":"'PXS Kopieret'!B1095","v":0},{"$f":"'PXS Kopieret'!C1095","v":0},{"$f":"'PXS Kopieret'!D1095","v":0},{"$f":"IF($A1095<>\"PhD Student\",'PXS Kopieret'!E1095,\"\")","v":0},{"$f":"IF($A1095=\"PhD Student\",'PXS Kopieret'!F1095,\"\")","v":""},{"$f":"'PXS Kopieret'!G1095","v":0},{"$f":"'PXS Kopieret'!H1095","v":0},{"$f":"IF($A1095=\"PhD Student\",'PXS Kopieret'!I1095,\"\")","v":""},{"$f":"'PXS Kopieret'!J1095","v":0},{"$f":"'PXS Kopieret'!K1095","v":0},{"$f":"'PXS Kopieret'!L1095","v":0}]
["",{"$f":"IF('PXS Kopieret'!N1096<>\"\",HYPERLINK(\"https://ssl1.peoplexs.com/Peoplexs22/eFormportal/eForm.cfm?CandidateUpdateID=\"&'PXS Kopieret'!M1096&\"&CandidateUpdateCode=\"&'PXS Kopieret'!N1096&\"&Locale=en&CustomFormID=11612\",\"Docs\"),\"\")","v":""},{"$f":"'PXS Kopieret'!A1096","v":0},{"$f":"'PXS Kopieret'!B1096","v":0},{"$f":"'PXS Kopieret'!C1096","v":0},{"$f":"'PXS Kopieret'!D1096","v":0},{"$f":"IF($A1096<>\"PhD Student\",'PXS Kopieret'!E1096,\"\")","v":0},{"$f":"IF($A1096=\"PhD Student\",'PXS Kopieret'!F1096,\"\")","v":""},{"$f":"'PXS Kopieret'!G1096","v":0},{"$f":"'PXS Kopieret'!H1096","v":0},{"$f":"IF($A1096=\"PhD Student\",'PXS Kopieret'!I1096,\"\")","v":""},{"$f":"'PXS Kopieret'!J1096","v":0},{"$f":"'PXS Kopieret'!K1096","v":0},{"$f":"'PXS Kopieret'!L1096","v":0}]
["",{"$f":"IF('PXS Kopieret'!N1097<>\"\",HYPERLINK(\"https://ssl1.peoplexs.com/Peoplexs22/eFormportal/eForm.cfm?CandidateUpdateID=\"&'PXS Kopieret'!M1097&\"&CandidateUpdateCode=\"&'PXS Kopieret'!N1097&\"&Locale=en&CustomFormID=11612\",\"Docs\"),\"\")","v":""},{"$f":"'PXS Kopieret'!A1097","v":0},{"$f":"'PXS Kopieret'!B1097","v":0},{"$f":"'PXS Kopieret'!C1097","v":0},{"$f":"'PXS Kopieret'!D1097","v":0},{"$f":"IF($A1097<>\"PhD Student\",'PXS Kopieret'!E1097,\"\")","v":0},{"$f":"IF($A1097=\"PhD Student\",'PXS Kopieret'!F1097,\"\")","v":""},{"$f":"'PXS Kopieret'!G1097","v":0},{"$f":"'PXS Kopieret'!H1097","v":0},{"$f":"IF($A1097=\"PhD Student\",'PXS Kopieret'!I1097,\"\")","v":""},{"$f":"'PXS Kopieret'!J1097","v":0},{"$f":"'PXS Kopieret'!K1097","v":0},{"$f":"'PXS Kopieret'!L1097","v":0}]
["",{"$f":"IF('PXS Kopieret'!N1098<>\"\",HYPERLINK(\"https://ssl1.peoplexs.com/Peoplexs22/eFormportal/eForm.cfm?CandidateUpdateID=\"&'PXS Kopieret'!M1098&\"&CandidateUpdateCode=\"&'PXS Kopieret'!N1098&\"&Locale=en&CustomFormID=11612\",\"Docs\"),\"\")","v":""},{"$f":"'PXS Kopieret'!A1098","v":0},{"$f":"'PXS Kopieret'!B1098","v":0},{"$f":"'PXS Kopieret'!C1098","v":0},{"$f":"'PXS Kopieret'!D1098","v":0},{"$f":"IF($A1098<>\"PhD Student\",'PXS Kopieret'!E1098,\"\")","v":0},{"$f":"IF($A1098=\"PhD Student\",'PXS Kopieret'!F1098,\"\")","v":""},{"$f":"'PXS Kopieret'!G1098","v":0},{"$f":"'PXS Kopieret'!H1098","v":0},{"$f":"IF($A1098=\"PhD Student\",'PXS Kopieret'!I1098,\"\")","v":""},{"$f":"'PXS Kopieret'!J1098","v":0},{"$f":"'PXS Kopieret'!K1098","v":0},{"$f":"'PXS Kopieret'!L1098","v":0}]
["",{"$f":"IF('PXS Kopieret'!N1099<>\"\",HYPERLINK(\"https://ssl1.peoplexs.com/Peoplexs22/eFormportal/eForm.cfm?CandidateUpdateID=\"&'PXS Kopieret'!M1099&\"&CandidateUpdateCode=\"&'PXS Kopieret'!N1099&\"&Locale=en&CustomFormID=11612\",\"Docs\"),\"\")","v":""},{"$f":"'PXS Kopieret'!A1099","v":0},{"$f":"'PXS Kopieret'!B1099","v":0},{"$f":"'PXS Kopieret'!C1099","v":0},{"$f":"'PXS Kopieret'!D1099","v":0},{"$f":"IF($A1099<>\"PhD Student\",'PXS Kopieret'!E1099,\"\")","v":0},{"$f":"IF($A1099=\"PhD Student\",'PXS Kopieret'!F1099,\"\")","v":""},{"$f":"'PXS Kopieret'!G1099","v":0},{"$f":"'PXS Kopieret'!H1099","v":0},{"$f":"IF($A1099=\"PhD Student\",'PXS Kopieret'!I1099,\"\")","v":""},{"$f":"'PXS Kopieret'!J1099","v":0},{"$f":"'PXS Kopieret'!K1099","v":0},{"$f":"'PXS Kopieret'!L1099","v":0}]
["",{"$f":"IF('PXS Kopieret'!N1100<>\"\",HYPERLINK(\"https://ssl1.peoplexs.com/Peoplexs22/eFormportal/eForm.cfm?CandidateUpdateID=\"&'PXS Kopieret'!M1100&\"&CandidateUpdateCode=\"&'PXS Kopieret'!N1100&\"&Locale=en&CustomFormID=11612\",\"Docs\"),\"\")","v":""},{"$f":"'PXS Kopieret'!A1100","v":0},{"$f":"'PXS Kopieret'!B1100","v":0},{"$f":"'PXS Kopieret'!C1100","v":0},{"$f":"'PXS Kopieret'!D1100","v":0},{"$f":"IF($A1100<>\"PhD Student\",'PXS Kopieret'!E1100,\"\")","v":0},{"$f":"IF($A1100=\"PhD Student\",'PXS Kopieret'!F1100,\"\")","v":""},{"$f":"'PXS Kopieret'!G1100","v":0},{"$f":"'PXS Kopieret'!H1100","v":0},{"$f":"IF($A1100=\"PhD Student\",'PXS Kopieret'!I1100,\"\")","v":""},{"$f":"'PXS Kopieret'!J1100","v":0},{"$f":"'PXS Kopieret'!K1100","v":0},{"$f":"'PXS Kopieret'!L1100","v":0}]
["",{"$f":"IF('PXS Kopieret'!N1101<>\"\",HYPERLINK(\"https://ssl1.peoplexs.com/Peoplexs22/eFormportal/eForm.cfm?CandidateUpdateID=\"&'PXS Kopieret'!M1101&\"&CandidateUpdateCode=\"&'PXS Kopieret'!N1101&\"&Locale=en&CustomFormID=11612\",\"Docs\"),\"\")","v":""},{"$f":"'PXS Kopieret'!A1101","v":0},{"$f":"'PXS Kopieret'!B1101","v":0},{"$f":"'PXS Kopieret'!C1101","v":0},{"$f":"'PXS Kopieret'!D1101","v":0},{"$f":"IF($A1101<>\"PhD Student\",'PXS Kopieret'!E1101,\"\")","v":0},{"$f":"IF($A1101=\"PhD Student\",'PXS Kopieret'!F1101,\"\")","v":""},{"$f":"'PXS Kopieret'!G1101","v":0},{"$f":"'PXS Kopieret'!H1101","v":0},{"$f":"IF($A1101=\"PhD Student\",'PXS Kopieret'!I1101,\"\")","v":""},{"$f":"'PXS Kopieret'!J1101","v":0},{"$f":"'PXS Kopieret'!K1101","v":0},{"$f":"'PXS Kopieret'!L1101","v":0}]
["",{"$f":"IF('PXS Kopieret'!N1102<>\"\",HYPERLINK(\"https://ssl1.peoplexs.com/Peoplexs22/eFormportal/eForm.cfm?CandidateUpdateID=\"&'PXS Kopieret'!M1102&\"&CandidateUpdateCode=\"&'PXS Kopieret'!N1102&\"&Locale=en&CustomFormID=11612\",\"Docs\"),\"\")","v":""},{"$f":"'PXS Kopieret'!A1102","v":0},{"$f":"'PXS Kopieret'!B1102","v":0},{"$f":"'PXS Kopieret'!C1102","v":0},{"$f":"'PXS Kopieret'!D1102","v":0},{"$f":"IF($A1102<>\"PhD Student\",'PXS Kopieret'!E1102,\"\")","v":0},{"$f":"IF($A1102=\"PhD Student\",'PXS Kopieret'!F1102,\"\")","v":""},{"$f":"'PXS Kopieret'!G1102","v":0},{"$f":"'PXS Kopieret'!H1102","v":0},{"$f":"IF($A1102=\"PhD Student\",'PXS Kopieret'!I1102,\"\")","v":""},{"$f":"'PXS Kopieret'!J1102","v":0},{"$f":"'PXS Kopieret'!K1102","v":0},{"$f":"'PXS Kopieret'!L1102","v":0}]
["",{"$f":"IF('PXS Kopieret'!N1103<>\"\",HYPERLINK(\"https://ssl1.peoplexs.com/Peoplexs22/eFormportal/eForm.cfm?CandidateUpdateID=\"&'PXS Kopieret'!M1103&\"&CandidateUpdateCode=\"&'PXS Kopieret'!N1103&\"&Locale=en&CustomFormID=11612\",\"Docs\"),\"\")","v":""},{"$f":"'PXS Kopieret'!A1103","v":0},{"$f":"'PXS Kopieret'!B1103","v":0},{"$f":"'PXS Kopieret'!C1103","v":0},{"$f":"'PXS Kopieret'!D1103","v":0},{"$f":"IF($A1103<>\"PhD Student\",'PXS Kopieret'!E1103,\"\")","v":0},{"$f":"IF($A1103=\"PhD Student\",'PXS Kopieret'!F1103,\"\")","v":""},{"$f":"'PXS Kopieret'!G1103","v":0},{"$f":"'PXS Kopieret'!H1103","v":0},{"$f":"IF($A1103=\"PhD Student\",'PXS Kopieret'!I1103,\"\")","v":""},{"$f":"'PXS Kopieret'!J1103","v":0},{"$f":"'PXS Kopieret'!K1103","v":0},{"$f":"'PXS Kopieret'!L1103","v":0}]
["",{"$f":"IF('PXS Kopieret'!N1104<>\"\",HYPERLINK(\"https://ssl1.peoplexs.com/Peoplexs22/eFormportal/eForm.cfm?CandidateUpdateID=\"&'PXS Kopieret'!M1104&\"&CandidateUpdateCode=\"&'PXS Kopieret'!N1104&\"&Locale=en&CustomFormID=11612\",\"Docs\"),\"\")","v":""},{"$f":"'PXS Kopieret'!A1104","v":0},{"$f":"'PXS Kopieret'!B1104","v":0},{"$f":"'PXS Kopieret'!C1104","v":0},{"$f":"'PXS Kopieret'!D1104","v":0},{"$f":"IF($A1104<>\"PhD Student\",'PXS Kopieret'!E1104,\"\")","v":0},{"$f":"IF($A1104=\"PhD Student\",'PXS Kopieret'!F1104,\"\")","v":""},{"$f":"'PXS Kopieret'!G1104","v":0},{"$f":"'PXS Kopieret'!H1104","v":0},{"$f":"IF($A1104=\"PhD Student\",'PXS Kopieret'!I1104,\"\")","v":""},{"$f":"'PXS Kopieret'!J1104","v":0},{"$f":"'PXS Kopieret'!K1104","v":0},{"$f":"'PXS Kopieret'!L1104","v":0}]
["",{"$f":"IF('PXS Kopieret'!N1105<>\"\",HYPERLINK(\"https://ssl1.peoplexs.com/Peoplexs22/eFormportal/eForm.cfm?CandidateUpdateID=\"&'PXS Kopieret'!M1105&\"&CandidateUpdateCode=\"&'PXS Kopieret'!N1105&\"&Locale=en&CustomFormID=11612\",\"Docs\"),\"\")","v":""},{"$f":"'PXS Kopieret'!A1105","v":0},{"$f":"'PXS Kopieret'!B1105","v":0},{"$f":"'PXS Kopieret'!C1105","v":0},{"$f":"'PXS Kopieret'!D1105","v":0},{"$f":"IF($A1105<>\"PhD Student\",'PXS Kopieret'!E1105,\"\")","v":0},{"$f":"IF($A1105=\"PhD Student\",'PXS Kopieret'!F1105,\"\")","v":""},{"$f":"'PXS Kopieret'!G1105","v":0},{"$f":"'PXS Kopieret'!H1105","v":0},{"$f":"IF($A1105=\"PhD Student\",'PXS Kopieret'!I1105,\"\")","v":""},{"$f":"'PXS Kopieret'!J1105","v":0},{"$f":"'PXS Kopieret'!K1105","v":0},{"$f":"'PXS Kopieret'!L1105","v":0}]
["",{"$f":"IF('PXS Kopieret'!N1106<>\"\",HYPERLINK(\"https://ssl1.peoplexs.com/Peoplexs22/eFormportal/eForm.cfm?CandidateUpdateID=\"&'PXS Kopieret'!M1106&\"&CandidateUpdateCode=\"&'PXS Kopieret'!N1106&\"&Locale=en&CustomFormID=11612\",\"Docs\"),\"\")","v":""},{"$f":"'PXS Kopieret'!A1106","v":0},{"$f":"'PXS Kopieret'!B1106","v":0},{"$f":"'PXS Kopieret'!C1106","v":0},{"$f":"'PXS Kopieret'!D1106","v":0},{"$f":"IF($A1106<>\"PhD Student\",'PXS Kopieret'!E1106,\"\")","v":0},{"$f":"IF($A1106=\"PhD Student\",'PXS Kopieret'!F1106,\"\")","v":""},{"$f":"'PXS Kopieret'!G1106","v":0},{"$f":"'PXS Kopieret'!H1106","v":0},{"$f":"IF($A1106=\"PhD Student\",'PXS Kopieret'!I1106,\"\")","v":""},{"$f":"'PXS Kopieret'!J1106","v":0},{"$f":"'PXS Kopieret'!K1106","v":0},{"$f":"'PXS Kopieret'!L1106","v":0}]
["",{"$f":"IF('PXS Kopieret'!N1107<>\"\",HYPERLINK(\"https://ssl1.peoplexs.com/Peoplexs22/eFormportal/eForm.cfm?CandidateUpdateID=\"&'PXS Kopieret'!M1107&\"&CandidateUpdateCode=\"&'PXS Kopieret'!N1107&\"&Locale=en&CustomFormID=11612\",\"Docs\"),\"\")","v":""},{"$f":"'PXS Kopieret'!A1107","v":0},{"$f":"'PXS Kopieret'!B1107","v":0},{"$f":"'PXS Kopieret'!C1107","v":0},{"$f":"'PXS Kopieret'!D1107","v":0},{"$f":"IF($A1107<>\"PhD Student\",'PXS Kopieret'!E1107,\"\")","v":0},{"$f":"IF($A1107=\"PhD Student\",'PXS Kopieret'!F1107,\"\")","v":""},{"$f":"'PXS Kopieret'!G1107","v":0},{"$f":"'PXS Kopieret'!H1107","v":0},{"$f":"IF($A1107=\"PhD Student\",'PXS Kopieret'!I1107,\"\")","v":""},{"$f":"'PXS Kopieret'!J1107","v":0},{"$f":"'PXS Kopieret'!K1107","v":0},{"$f":"'PXS Kopieret'!L1107","v":0}]
["",{"$f":"IF('PXS Kopieret'!N1108<>\"\",HYPERLINK(\"https://ssl1.peoplexs.com/Peoplexs22/eFormportal/eForm.cfm?CandidateUpdateID=\"&'PXS Kopieret'!M1108&\"&CandidateUpdateCode=\"&'PXS Kopieret'!N1108&\"&Locale=en&CustomFormID=11612\",\"Docs\"),\"\")","v":""},{"$f":"'PXS Kopieret'!A1108","v":0},{"$f":"'PXS Kopieret'!B1108","v":0},{"$f":"'PXS Kopieret'!C1108","v":0},{"$f":"'PXS Kopieret'!D1108","v":0},{"$f":"IF($A1108<>\"PhD Student\",'PXS Kopieret'!E1108,\"\")","v":0},{"$f":"IF($A1108=\"PhD Student\",'PXS Kopieret'!F1108,\"\")","v":""},{"$f":"'PXS Kopieret'!G1108","v":0},{"$f":"'PXS Kopieret'!H1108","v":0},{"$f":"IF($A1108=\"PhD Student\",'PXS Kopieret'!I1108,\"\")","v":""},{"$f":"'PXS Kopieret'!J1108","v":0},{"$f":"'PXS Kopieret'!K1108","v":0},{"$f":"'PXS Kopieret'!L1108","v":0}]
["",{"$f":"IF('PXS Kopieret'!N1109<>\"\",HYPERLINK(\"https://ssl1.peoplexs.com/Peoplexs22/eFormportal/eForm.cfm?CandidateUpdateID=\"&'PXS Kopieret'!M1109&\"&CandidateUpdateCode=\"&'PXS Kopieret'!N1109&\"&Locale=en&CustomFormID=11612\",\"Docs\"),\"\")","v":""},{"$f":"'PXS Kopieret'!A1109","v":0},{"$f":"'PXS Kopieret'!B1109","v":0},{"$f":"'PXS Kopieret'!C1109","v":0},{"$f":"'PXS Kopieret'!D1109","v":0},{"$f":"IF($A1109<>\"PhD Student\",'PXS Kopieret'!E1109,\"\")","v":0},{"$f":"IF($A1109=\"PhD Student\",'PXS Kopieret'!F1109,\"\")","v":""},{"$f":"'PXS Kopieret'!G1109","v":0},{"$f":"'PXS Kopieret'!H1109","v":0},{"$f":"IF($A1109=\"PhD Student\",'PXS Kopieret'!I1109,\"\")","v":""},{"$f":"'PXS Kopieret'!J1109","v":0},{"$f":"'PXS Kopieret'!K1109","v":0},{"$f":"'PXS Kopieret'!L1109","v":0}]
["",{"$f":"IF('PXS Kopieret'!N1110<>\"\",HYPERLINK(\"https://ssl1.peoplexs.com/Peoplexs22/eFormportal/eForm.cfm?CandidateUpdateID=\"&'PXS Kopieret'!M1110&\"&CandidateUpdateCode=\"&'PXS Kopieret'!N1110&\"&Locale=en&CustomFormID=11612\",\"Docs\"),\"\")","v":""},{"$f":"'PXS Kopieret'!A1110","v":0},{"$f":"'PXS Kopieret'!B1110","v":0},{"$f":"'PXS Kopieret'!C1110","v":0},{"$f":"'PXS Kopieret'!D1110","v":0},{"$f":"IF($A1110<>\"PhD Student\",'PXS Kopieret'!E1110,\"\")","v":0},{"$f":"IF($A1110=\"PhD Student\",'PXS Kopieret'!F1110,\"\")","v":""},{"$f":"'PXS Kopieret'!G1110","v":0},{"$f":"'PXS Kopieret'!H1110","v":0},{"$f":"IF($A1110=\"PhD Student\",'PXS Kopieret'!I1110,\"\")","v":""},{"$f":"'PXS Kopieret'!J1110","v":0},{"$f":"'PXS Kopieret'!K1110","v":0},{"$f":"'PXS Kopieret'!L1110","v":0}]
["",{"$f":"IF('PXS Kopieret'!N1111<>\"\",HYPERLINK(\"https://ssl1.peoplexs.com/Peoplexs22/eFormportal/eForm.cfm?CandidateUpdateID=\"&'PXS Kopieret'!M1111&\"&CandidateUpdateCode=\"&'PXS Kopieret'!N1111&\"&Locale=en&CustomFormID=11612\",\"Docs\"),\"\")","v":""},{"$f":"'PXS Kopieret'!A1111","v":0},{"$f":"'PXS Kopieret'!B1111","v":0},{"$f":"'PXS Kopieret'!C1111","v":0},{"$f":"'PXS Kopieret'!D1111","v":0},{"$f":"IF($A1111<>\"PhD Student\",'PXS Kopieret'!E1111,\"\")","v":0},{"$f":"IF($A1111=\"PhD Student\",'PXS Kopieret'!F1111,\"\")","v":""},{"$f":"'PXS Kopieret'!G1111","v":0},{"$f":"'PXS Kopieret'!H1111","v":0},{"$f":"IF($A1111=\"PhD Student\",'PXS Kopieret'!I1111,\"\")","v":""},{"$f":"'PXS Kopieret'!J1111","v":0},{"$f":"'PXS Kopieret'!K1111","v":0},{"$f":"'PXS Kopieret'!L1111","v":0}]
["",{"$f":"IF('PXS Kopieret'!N1112<>\"\",HYPERLINK(\"https://ssl1.peoplexs.com/Peoplexs22/eFormportal/eForm.cfm?CandidateUpdateID=\"&'PXS Kopieret'!M1112&\"&CandidateUpdateCode=\"&'PXS Kopieret'!N1112&\"&Locale=en&CustomFormID=11612\",\"Docs\"),\"\")","v":""},{"$f":"'PXS Kopieret'!A1112","v":0},{"$f":"'PXS Kopieret'!B1112","v":0},{"$f":"'PXS Kopieret'!C1112","v":0},{"$f":"'PXS Kopieret'!D1112","v":0},{"$f":"IF($A1112<>\"PhD Student\",'PXS Kopieret'!E1112,\"\")","v":0},{"$f":"IF($A1112=\"PhD Student\",'PXS Kopieret'!F1112,\"\")","v":""},{"$f":"'PXS Kopieret'!G1112","v":0},{"$f":"'PXS Kopieret'!H1112","v":0},{"$f":"IF($A1112=\"PhD Student\",'PXS Kopieret'!I1112,\"\")","v":""},{"$f":"'PXS Kopieret'!J1112","v":0},{"$f":"'PXS Kopieret'!K1112","v":0},{"$f":"'PXS Kopieret'!L1112","v":0}]
["",{"$f":"IF('PXS Kopieret'!N1113<>\"\",HYPERLINK(\"https://ssl1.peoplexs.com/Peoplexs22/eFormportal/eForm.cfm?CandidateUpdateID=\"&'PXS Kopieret'!M1113&\"&CandidateUpdateCode=\"&'PXS Kopieret'!N1113&\"&Locale=en&CustomFormID=11612\",\"Docs\"),\"\")","v":""},{"$f":"'PXS Kopieret'!A1113","v":0},{"$f":"'PXS Kopieret'!B1113","v":0},{"$f":"'PXS Kopieret'!C1113","v":0},{"$f":"'PXS Kopieret'!D1113","v":0},{"$f":"IF($A1113<>\"PhD Student\",'PXS Kopieret'!E1113,\"\")","v":0},{"$f":"IF($A1113=\"PhD Student\",'PXS Kopieret'!F1113,\"\")","v":""},{"$f":"'PXS Kopieret'!G1113","v":0},{"$f":"'PXS Kopieret'!H1113","v":0},{"$f":"IF($A1113=\"PhD Student\",'PXS Kopieret'!I1113,\"\")","v":""},{"$f":"'PXS Kopieret'!J1113","v":0},{"$f":"'PXS Kopieret'!K1113","v":0},{"$f":"'PXS Kopieret'!L1113","v":0}]
["",{"$f":"IF('PXS Kopieret'!N1114<>\"\",HYPERLINK(\"https://ssl1.peoplexs.com/Peoplexs22/eFormportal/eForm.cfm?CandidateUpdateID=\"&'PXS Kopieret'!M1114&\"&CandidateUpdateCode=\"&'PXS Kopieret'!N1114&\"&Locale=en&CustomFormID=11612\",\"Docs\"),\"\")","v":""},{"$f":"'PXS Kopieret'!A1114","v":0},{"$f":"'PXS Kopieret'!B1114","v":0},{"$f":"'PXS Kopieret'!C1114","v":0},{"$f":"'PXS Kopieret'!D1114","v":0},{"$f":"IF($A1114<>\"PhD Student\",'PXS Kopieret'!E1114,\"\")","v":0},{"$f":"IF($A1114=\"PhD Student\",'PXS Kopieret'!F1114,\"\")","v":""},{"$f":"'PXS Kopieret'!G1114","v":0},{"$f":"'PXS Kopieret'!H1114","v":0},{"$f":"IF($A1114=\"PhD Student\",'PXS Kopieret'!I1114,\"\")","v":""},{"$f":"'PXS Kopieret'!J1114","v":0},{"$f":"'PXS Kopieret'!K1114","v":0},{"$f":"'PXS Kopieret'!L1114","v":0}]
["",{"$f":"IF('PXS Kopieret'!N1115<>\"\",HYPERLINK(\"https://ssl1.peoplexs.com/Peoplexs22/eFormportal/eForm.cfm?CandidateUpdateID=\"&'PXS Kopieret'!M1115&\"&CandidateUpdateCode=\"&'PXS Kopieret'!N1115&\"&Locale=en&CustomFormID=11612\",\"Docs\"),\"\")","v":""},{"$f":"'PXS Kopieret'!A1115","v":0},{"$f":"'PXS Kopieret'!B1115","v":0},{"$f":"'PXS Kopieret'!C1115","v":0},{"$f":"'PXS Kopieret'!D1115","v":0},{"$f":"IF($A1115<>\"PhD Student\",'PXS Kopieret'!E1115,\"\")","v":0},{"$f":"IF($A1115=\"PhD Student\",'PXS Kopieret'!F1115,\"\")","v":""},{"$f":"'PXS Kopieret'!G1115","v":0},{"$f":"'PXS Kopieret'!H1115","v":0},{"$f":"IF($A1115=\"PhD Student\",'PXS Kopieret'!I1115,\"\")","v":""},{"$f":"'PXS Kopieret'!J1115","v":0},{"$f":"'PXS Kopieret'!K1115","v":0},{"$f":"'PXS Kopieret'!L1115","v":0}]
["",{"$f":"IF('PXS Kopieret'!N1116<>\"\",HYPERLINK(\"https://ssl1.peoplexs.com/Peoplexs22/eFormportal/eForm.cfm?CandidateUpdateID=\"&'PXS Kopieret'!M1116&\"&CandidateUpdateCode=\"&'PXS Kopieret'!N1116&\"&Locale=en&CustomFormID=11612\",\"Docs\"),\"\")","v":""},{"$f":"'PXS Kopieret'!A1116","v":0},{"$f":"'PXS Kopieret'!B1116","v":0},{"$f":"'PXS Kopieret'!C1116","v":0},{"$f":"'PXS Kopieret'!D1116","v":0},{"$f":"IF($A1116<>\"PhD Student\",'PXS Kopieret'!E1116,\"\")","v":0},{"$f":"IF($A1116=\"PhD Student\",'PXS Kopieret'!F1116,\"\")","v":""},{"$f":"'PXS Kopieret'!G1116","v":0},{"$f":"'PXS Kopieret'!H1116","v":0},{"$f":"IF($A1116=\"PhD Student\",'PXS Kopieret'!I1116,\"\")","v":""},{"$f":"'PXS Kopieret'!J1116","v":0},{"$f":"'PXS Kopieret'!K1116","v":0},{"$f":"'PXS Kopieret'!L1116","v":0}]
["",{"$f":"IF('PXS Kopieret'!N1117<>\"\",HYPERLINK(\"https://ssl1.peoplexs.com/Peoplexs22/eFormportal/eForm.cfm?CandidateUpdateID=\"&'PXS Kopieret'!M1117&\"&CandidateUpdateCode=\"&'PXS Kopieret'!N1117&\"&Locale=en&CustomFormID=11612\",\"Docs\"),\"\")","v":""},{"$f":"'PXS Kopieret'!A1117","v":0},{"$f":"'PXS Kopieret'!B1117","v":0},{"$f":"'PXS Kopieret'!C1117","v":0},{"$f":"'PXS Kopieret'!D1117","v":0},{"$f":"IF($A1117<>\"PhD Student\",'PXS Kopieret'!E1117,\"\")","v":0},{"$f":"IF($A1117=\"PhD Student\",'PXS Kopieret'!F1117,\"\")","v":""},{"$f":"'PXS Kopieret'!G1117","v":0},{"$f":"'PXS Kopieret'!H1117","v":0},{"$f":"IF($A1117=\"PhD Student\",'PXS Kopieret'!I1117,\"\")","v":""},{"$f":"'PXS Kopieret'!J1117","v":0},{"$f":"'PXS Kopieret'!K1117","v":0},{"$f":"'PXS Kopieret'!L1117","v":0}]
["",{"$f":"IF('PXS Kopieret'!N1118<>\"\",HYPERLINK(\"https://ssl1.peoplexs.com/Peoplexs22/eFormportal/eForm.cfm?CandidateUpdateID=\"&'PXS Kopieret'!M1118&\"&CandidateUpdateCode=\"&'PXS Kopieret'!N1118&\"&Locale=en&CustomFormID=11612\",\"Docs\"),\"\")","v":""},{"$f":"'PXS Kopieret'!A1118","v":0},{"$f":"'PXS Kopieret'!B1118","v":0},{"$f":"'PXS Kopieret'!C1118","v":0},{"$f":"'PXS Kopieret'!D1118","v":0},{"$f":"IF($A1118<>\"PhD Student\",'PXS Kopieret'!E1118,\"\")","v":0},{"$f":"IF($A1118=\"PhD Student\",'PXS Kopieret'!F1118,\"\")","v":""},{"$f":"'PXS Kopieret'!G1118","v":0},{"$f":"'PXS Kopieret'!H1118","v":0},{"$f":"IF($A1118=\"PhD Student\",'PXS Kopieret'!I1118,\"\")","v":""},{"$f":"'PXS Kopieret'!J1118","v":0},{"$f":"'PXS Kopieret'!K1118","v":0},{"$f":"'PXS Kopieret'!L1118","v":0}]
["",{"$f":"IF('PXS Kopieret'!N1119<>\"\",HYPERLINK(\"https://ssl1.peoplexs.com/Peoplexs22/eFormportal/eForm.cfm?CandidateUpdateID=\"&'PXS Kopieret'!M1119&\"&CandidateUpdateCode=\"&'PXS Kopieret'!N1119&\"&Locale=en&CustomFormID=11612\",\"Docs\"),\"\")","v":""},{"$f":"'PXS Kopieret'!A1119","v":0},{"$f":"'PXS Kopieret'!B1119","v":0},{"$f":"'PXS Kopieret'!C1119","v":0},{"$f":"'PXS Kopieret'!D1119","v":0},{"$f":"IF($A1119<>\"PhD Student\",'PXS Kopieret'!E1119,\"\")","v":0},{"$f":"IF($A1119=\"PhD Student\",'PXS Kopieret'!F1119,\"\")","v":""},{"$f":"'PXS Kopieret'!G1119","v":0},{"$f":"'PXS Kopieret'!H1119","v":0},{"$f":"IF($A1119=\"PhD Student\",'PXS Kopieret'!I1119,\"\")","v":""},{"$f":"'PXS Kopieret'!J1119","v":0},{"$f":"'PXS Kopieret'!K1119","v":0},{"$f":"'PXS Kopieret'!L1119","v":0}]
["",{"$f":"IF('PXS Kopieret'!N1120<>\"\",HYPERLINK(\"https://ssl1.peoplexs.com/Peoplexs22/eFormportal/eForm.cfm?CandidateUpdateID=\"&'PXS Kopieret'!M1120&\"&CandidateUpdateCode=\"&'PXS Kopieret'!N1120&\"&Locale=en&CustomFormID=11612\",\"Docs\"),\"\")","v":""},{"$f":"'PXS Kopieret'!A1120","v":0},{"$f":"'PXS Kopieret'!B1120","v":0},{"$f":"'PXS Kopieret'!C1120","v":0},{"$f":"'PXS Kopieret'!D1120","v":0},{"$f":"IF($A1120<>\"PhD Student\",'PXS Kopieret'!E1120,\"\")","v":0},{"$f":"IF($A1120=\"PhD Student\",'PXS Kopieret'!F1120,\"\")","v":""},{"$f":"'PXS Kopieret'!G1120","v":0},{"$f":"'PXS Kopieret'!H1120","v":0},{"$f":"IF($A1120=\"PhD Student\",'PXS Kopieret'!I1120,\"\")","v":""},{"$f":"'PXS Kopieret'!J1120","v":0},{"$f":"'PXS Kopieret'!K1120","v":0},{"$f":"'PXS Kopieret'!L1120","v":0}]
["",{"$f":"IF('PXS Kopieret'!N1121<>\"\",HYPERLINK(\"https://ssl1.peoplexs.com/Peoplexs22/eFormportal/eForm.cfm?CandidateUpdateID=\"&'PXS Kopieret'!M1121&\"&CandidateUpdateCode=\"&'PXS Kopieret'!N1121&\"&Locale=en&CustomFormID=11612\",\"Docs\"),\"\")","v":""},{"$f":"'PXS Kopieret'!A1121","v":0},{"$f":"'PXS Kopieret'!B1121","v":0},{"$f":"'PXS Kopieret'!C1121","v":0},{"$f":"'PXS Kopieret'!D1121","v":0},{"$f":"IF($A1121<>\"PhD Student\",'PXS Kopieret'!E1121,\"\")","v":0},{"$f":"IF($A1121=\"PhD Student\",'PXS Kopieret'!F1121,\"\")","v":""},{"$f":"'PXS Kopieret'!G1121","v":0},{"$f":"'PXS Kopieret'!H1121","v":0},{"$f":"IF($A1121=\"PhD Student\",'PXS Kopieret'!I1121,\"\")","v":""},{"$f":"'PXS Kopieret'!J1121","v":0},{"$f":"'PXS Kopieret'!K1121","v":0},{"$f":"'PXS Kopieret'!L1121","v":0}]
["",{"$f":"IF('PXS Kopieret'!N1122<>\"\",HYPERLINK(\"https://ssl1.peoplexs.com/Peoplexs22/eFormportal/eForm.cfm?CandidateUpdateID=\"&'PXS Kopieret'!M1122&\"&CandidateUpdateCode=\"&'PXS Kopieret'!N1122&\"&Locale=en&CustomFormID=11612\",\"Docs\"),\"\")","v":""},{"$f":"'PXS Kopieret'!A1122","v":0},{"$f":"'PXS Kopieret'!B1122","v":0},{"$f":"'PXS Kopieret'!C1122","v":0},{"$f":"'PXS Kopieret'!D1122","v":0},{"$f":"IF($A1122<>\"PhD Student\",'PXS Kopieret'!E1122,\"\")","v":0},{"$f":"IF($A1122=\"PhD Student\",'PXS Kopieret'!F1122,\"\")","v":""},{"$f":"'PXS Kopieret'!G1122","v":0},{"$f":"'PXS Kopieret'!H1122","v":0},{"$f":"IF($A1122=\"PhD Student\",'PXS Kopieret'!I1122,\"\")","v":""},{"$f":"'PXS Kopieret'!J1122","v":0},{"$f":"'PXS Kopieret'!K1122","v":0},{"$f":"'PXS Kopieret'!L1122","v":0}]
["",{"$f":"IF('PXS Kopieret'!N1123<>\"\",HYPERLINK(\"https://ssl1.peoplexs.com/Peoplexs22/eFormportal/eForm.cfm?CandidateUpdateID=\"&'PXS Kopieret'!M1123&\"&CandidateUpdateCode=\"&'PXS Kopieret'!N1123&\"&Locale=en&CustomFormID=11612\",\"Docs\"),\"\")","v":""},{"$f":"'PXS Kopieret'!A1123","v":0},{"$f":"'PXS Kopieret'!B1123","v":0},{"$f":"'PXS Kopieret'!C1123","v":0},{"$f":"'PXS Kopieret'!D1123","v":0},{"$f":"IF($A1123<>\"PhD Student\",'PXS Kopieret'!E1123,\"\")","v":0},{"$f":"IF($A1123=\"PhD Student\",'PXS Kopieret'!F1123,\"\")","v":""},{"$f":"'PXS Kopieret'!G1123","v":0},{"$f":"'PXS Kopieret'!H1123","v":0},{"$f":"IF($A1123=\"PhD Student\",'PXS Kopieret'!I1123,\"\")","v":""},{"$f":"'PXS Kopieret'!J1123","v":0},{"$f":"'PXS Kopieret'!K1123","v":0},{"$f":"'PXS Kopieret'!L1123","v":0}]
["",{"$f":"IF('PXS Kopieret'!N1124<>\"\",HYPERLINK(\"https://ssl1.peoplexs.com/Peoplexs22/eFormportal/eForm.cfm?CandidateUpdateID=\"&'PXS Kopieret'!M1124&\"&CandidateUpdateCode=\"&'PXS Kopieret'!N1124&\"&Locale=en&CustomFormID=11612\",\"Docs\"),\"\")","v":""},{"$f":"'PXS Kopieret'!A1124","v":0},{"$f":"'PXS Kopieret'!B1124","v":0},{"$f":"'PXS Kopieret'!C1124","v":0},{"$f":"'PXS Kopieret'!D1124","v":0},{"$f":"IF($A1124<>\"PhD Student\",'PXS Kopieret'!E1124,\"\")","v":0},{"$f":"IF($A1124=\"PhD Student\",'PXS Kopieret'!F1124,\"\")","v":""},{"$f":"'PXS Kopieret'!G1124","v":0},{"$f":"'PXS Kopieret'!H1124","v":0},{"$f":"IF($A1124=\"PhD Student\",'PXS Kopieret'!I1124,\"\")","v":""},{"$f":"'PXS Kopieret'!J1124","v":0},{"$f":"'PXS Kopieret'!K1124","v":0},{"$f":"'PXS Kopieret'!L1124","v":0}]
["",{"$f":"IF('PXS Kopieret'!N1125<>\"\",HYPERLINK(\"https://ssl1.peoplexs.com/Peoplexs22/eFormportal/eForm.cfm?CandidateUpdateID=\"&'PXS Kopieret'!M1125&\"&CandidateUpdateCode=\"&'PXS Kopieret'!N1125&\"&Locale=en&CustomFormID=11612\",\"Docs\"),\"\")","v":""},{"$f":"'PXS Kopieret'!A1125","v":0},{"$f":"'PXS Kopieret'!B1125","v":0},{"$f":"'PXS Kopieret'!C1125","v":0},{"$f":"'PXS Kopieret'!D1125","v":0},{"$f":"IF($A1125<>\"PhD Student\",'PXS Kopieret'!E1125,\"\")","v":0},{"$f":"IF($A1125=\"PhD Student\",'PXS Kopieret'!F1125,\"\")","v":""},{"$f":"'PXS Kopieret'!G1125","v":0},{"$f":"'PXS Kopieret'!H1125","v":0},{"$f":"IF($A1125=\"PhD Student\",'PXS Kopieret'!I1125,\"\")","v":""},{"$f":"'PXS Kopieret'!J1125","v":0},{"$f":"'PXS Kopieret'!K1125","v":0},{"$f":"'PXS Kopieret'!L1125","v":0}]
["",{"$f":"IF('PXS Kopieret'!N1126<>\"\",HYPERLINK(\"https://ssl1.peoplexs.com/Peoplexs22/eFormportal/eForm.cfm?CandidateUpdateID=\"&'PXS Kopieret'!M1126&\"&CandidateUpdateCode=\"&'PXS Kopieret'!N1126&\"&Locale=en&CustomFormID=11612\",\"Docs\"),\"\")","v":""},{"$f":"'PXS Kopieret'!A1126","v":0},{"$f":"'PXS Kopieret'!B1126","v":0},{"$f":"'PXS Kopieret'!C1126","v":0},{"$f":"'PXS Kopieret'!D1126","v":0},{"$f":"IF($A1126<>\"PhD Student\",'PXS Kopieret'!E1126,\"\")","v":0},{"$f":"IF($A1126=\"PhD Student\",'PXS Kopieret'!F1126,\"\")","v":""},{"$f":"'PXS Kopieret'!G1126","v":0},{"$f":"'PXS Kopieret'!H1126","v":0},{"$f":"IF($A1126=\"PhD Student\",'PXS Kopieret'!I1126,\"\")","v":""},{"$f":"'PXS Kopieret'!J1126","v":0},{"$f":"'PXS Kopieret'!K1126","v":0},{"$f":"'PXS Kopieret'!L1126","v":0}]
["",{"$f":"IF('PXS Kopieret'!N1127<>\"\",HYPERLINK(\"https://ssl1.peoplexs.com/Peoplexs22/eFormportal/eForm.cfm?CandidateUpdateID=\"&'PXS Kopieret'!M1127&\"&CandidateUpdateCode=\"&'PXS Kopieret'!N1127&\"&Locale=en&CustomFormID=11612\",\"Docs\"),\"\")","v":""},{"$f":"'PXS Kopieret'!A1127","v":0},{"$f":"'PXS Kopieret'!B1127","v":0},{"$f":"'PXS Kopieret'!C1127","v":0},{"$f":"'PXS Kopieret'!D1127","v":0},{"$f":"IF($A1127<>\"PhD Student\",'PXS Kopieret'!E1127,\"\")","v":0},{"$f":"IF($A1127=\"PhD Student\",'PXS Kopieret'!F1127,\"\")","v":""},{"$f":"'PXS Kopieret'!G1127","v":0},{"$f":"'PXS Kopieret'!H1127","v":0},{"$f":"IF($A1127=\"PhD Student\",'PXS Kopieret'!I1127,\"\")","v":""},{"$f":"'PXS Kopieret'!J1127","v":0},{"$f":"'PXS Kopieret'!K1127","v":0},{"$f":"'PXS Kopieret'!L1127","v":0}]
["",{"$f":"IF('PXS Kopieret'!N1128<>\"\",HYPERLINK(\"https://ssl1.peoplexs.com/Peoplexs22/eFormportal/eForm.cfm?CandidateUpdateID=\"&'PXS Kopieret'!M1128&\"&CandidateUpdateCode=\"&'PXS Kopieret'!N1128&\"&Locale=en&CustomFormID=11612\",\"Docs\"),\"\")","v":""},{"$f":"'PXS Kopieret'!A1128","v":0},{"$f":"'PXS Kopieret'!B1128","v":0},{"$f":"'PXS Kopieret'!C1128","v":0},{"$f":"'PXS Kopieret'!D1128","v":0},{"$f":"IF($A1128<>\"PhD Student\",'PXS Kopieret'!E1128,\"\")","v":0},{"$f":"IF($A1128=\"PhD Student\",'PXS Kopieret'!F1128,\"\")","v":""},{"$f":"'PXS Kopieret'!G1128","v":0},{"$f":"'PXS Kopieret'!H1128","v":0},{"$f":"IF($A1128=\"PhD Student\",'PXS Kopieret'!I1128,\"\")","v":""},{"$f":"'PXS Kopieret'!J1128","v":0},{"$f":"'PXS Kopieret'!K1128","v":0},{"$f":"'PXS Kopieret'!L1128","v":0}]
["",{"$f":"IF('PXS Kopieret'!N1129<>\"\",HYPERLINK(\"https://ssl1.peoplexs.com/Peoplexs22/eFormportal/eForm.cfm?CandidateUpdateID=\"&'PXS Kopieret'!M1129&\"&CandidateUpdateCode=\"&'PXS Kopieret'!N1129&\"&Locale=en&CustomFormID=11612\",\"Docs\"),\"\")","v":""},{"$f":"'PXS Kopieret'!A1129","v":0},{"$f":"'PXS Kopieret'!B1129","v":0},{"$f":"'PXS Kopieret'!C1129","v":0},{"$f":"'PXS Kopieret'!D1129","v":0},{"$f":"IF($A1129<>\"PhD Student\",'PXS Kopieret'!E1129,\"\")","v":0},{"$f":"IF($A1129=\"PhD Student\",'PXS Kopieret'!F1129,\"\")","v":""},{"$f":"'PXS Kopieret'!G1129","v":0},{"$f":"'PXS Kopieret'!H1129","v":0},{"$f":"IF($A1129=\"PhD Student\",'PXS Kopieret'!I1129,\"\")","v":""},{"$f":"'PXS Kopieret'!J1129","v":0},{"$f":"'PXS Kopieret'!K1129","v":0},{"$f":"'PXS Kopieret'!L1129","v":0}]
["",{"$f":"IF('PXS Kopieret'!N1130<>\"\",HYPERLINK(\"https://ssl1.peoplexs.com/Peoplexs22/eFormportal/eForm.cfm?CandidateUpdateID=\"&'PXS Kopieret'!M1130&\"&CandidateUpdateCode=\"&'PXS Kopieret'!N1130&\"&Locale=en&CustomFormID=11612\",\"Docs\"),\"\")","v":""},{"$f":"'PXS Kopieret'!A1130","v":0},{"$f":"'PXS Kopieret'!B1130","v":0},{"$f":"'PXS Kopieret'!C1130","v":0},{"$f":"'PXS Kopieret'!D1130","v":0},{"$f":"IF($A1130<>\"PhD Student\",'PXS Kopieret'!E1130,\"\")","v":0},{"$f":"IF($A1130=\"PhD Student\",'PXS Kopieret'!F1130,\"\")","v":""},{"$f":"'PXS Kopieret'!G1130","v":0},{"$f":"'PXS Kopieret'!H1130","v":0},{"$f":"IF($A1130=\"PhD Student\",'PXS Kopieret'!I1130,\"\")","v":""},{"$f":"'PXS Kopieret'!J1130","v":0},{"$f":"'PXS Kopieret'!K1130","v":0},{"$f":"'PXS Kopieret'!L1130","v":0}]
["",{"$f":"IF('PXS Kopieret'!N1131<>\"\",HYPERLINK(\"https://ssl1.peoplexs.com/Peoplexs22/eFormportal/eForm.cfm?CandidateUpdateID=\"&'PXS Kopieret'!M1131&\"&CandidateUpdateCode=\"&'PXS Kopieret'!N1131&\"&Locale=en&CustomFormID=11612\",\"Docs\"),\"\")","v":""},{"$f":"'PXS Kopieret'!A1131","v":0},{"$f":"'PXS Kopieret'!B1131","v":0},{"$f":"'PXS Kopieret'!C1131","v":0},{"$f":"'PXS Kopieret'!D1131","v":0},{"$f":"IF($A1131<>\"PhD Student\",'PXS Kopieret'!E1131,\"\")","v":0},{"$f":"IF($A1131=\"PhD Student\",'PXS Kopieret'!F1131,\"\")","v":""},{"$f":"'PXS Kopieret'!G1131","v":0},{"$f":"'PXS Kopieret'!H1131","v":0},{"$f":"IF($A1131=\"PhD Student\",'PXS Kopieret'!I1131,\"\")","v":""},{"$f":"'PXS Kopieret'!J1131","v":0},{"$f":"'PXS Kopieret'!K1131","v":0},{"$f":"'PXS Kopieret'!L1131","v":0}]
["",{"$f":"IF('PXS Kopieret'!N1132<>\"\",HYPERLINK(\"https://ssl1.peoplexs.com/Peoplexs22/eFormportal/eForm.cfm?CandidateUpdateID=\"&'PXS Kopieret'!M1132&\"&CandidateUpdateCode=\"&'PXS Kopieret'!N1132&\"&Locale=en&CustomFormID=11612\",\"Docs\"),\"\")","v":""},{"$f":"'PXS Kopieret'!A1132","v":0},{"$f":"'PXS Kopieret'!B1132","v":0},{"$f":"'PXS Kopieret'!C1132","v":0},{"$f":"'PXS Kopieret'!D1132","v":0},{"$f":"IF($A1132<>\"PhD Student\",'PXS Kopieret'!E1132,\"\")","v":0},{"$f":"IF($A1132=\"PhD Student\",'PXS Kopieret'!F1132,\"\")","v":""},{"$f":"'PXS Kopieret'!G1132","v":0},{"$f":"'PXS Kopieret'!H1132","v":0},{"$f":"IF($A1132=\"PhD Student\",'PXS Kopieret'!I1132,\"\")","v":""},{"$f":"'PXS Kopieret'!J1132","v":0},{"$f":"'PXS Kopieret'!K1132","v":0},{"$f":"'PXS Kopieret'!L1132","v":0}]
["",{"$f":"IF('PXS Kopieret'!N1133<>\"\",HYPERLINK(\"https://ssl1.peoplexs.com/Peoplexs22/eFormportal/eForm.cfm?CandidateUpdateID=\"&'PXS Kopieret'!M1133&\"&CandidateUpdateCode=\"&'PXS Kopieret'!N1133&\"&Locale=en&CustomFormID=11612\",\"Docs\"),\"\")","v":""},{"$f":"'PXS Kopieret'!A1133","v":0},{"$f":"'PXS Kopieret'!B1133","v":0},{"$f":"'PXS Kopieret'!C1133","v":0},{"$f":"'PXS Kopieret'!D1133","v":0},{"$f":"IF($A1133<>\"PhD Student\",'PXS Kopieret'!E1133,\"\")","v":0},{"$f":"IF($A1133=\"PhD Student\",'PXS Kopieret'!F1133,\"\")","v":""},{"$f":"'PXS Kopieret'!G1133","v":0},{"$f":"'PXS Kopieret'!H1133","v":0},{"$f":"IF($A1133=\"PhD Student\",'PXS Kopieret'!I1133,\"\")","v":""},{"$f":"'PXS Kopieret'!J1133","v":0},{"$f":"'PXS Kopieret'!K1133","v":0},{"$f":"'PXS Kopieret'!L1133","v":0}]
["",{"$f":"IF('PXS Kopieret'!N1134<>\"\",HYPERLINK(\"https://ssl1.peoplexs.com/Peoplexs22/eFormportal/eForm.cfm?CandidateUpdateID=\"&'PXS Kopieret'!M1134&\"&CandidateUpdateCode=\"&'PXS Kopieret'!N1134&\"&Locale=en&CustomFormID=11612\",\"Docs\"),\"\")","v":""},{"$f":"'PXS Kopieret'!A1134","v":0},{"$f":"'PXS Kopieret'!B1134","v":0},{"$f":"'PXS Kopieret'!C1134","v":0},{"$f":"'PXS Kopieret'!D1134","v":0},{"$f":"IF($A1134<>\"PhD Student\",'PXS Kopieret'!E1134,\"\")","v":0},{"$f":"IF($A1134=\"PhD Student\",'PXS Kopieret'!F1134,\"\")","v":""},{"$f":"'PXS Kopieret'!G1134","v":0},{"$f":"'PXS Kopieret'!H1134","v":0},{"$f":"IF($A1134=\"PhD Student\",'PXS Kopieret'!I1134,\"\")","v":""},{"$f":"'PXS Kopieret'!J1134","v":0},{"$f":"'PXS Kopieret'!K1134","v":0},{"$f":"'PXS Kopieret'!L1134","v":0}]
["",{"$f":"IF('PXS Kopieret'!N1135<>\"\",HYPERLINK(\"https://ssl1.peoplexs.com/Peoplexs22/eFormportal/eForm.cfm?CandidateUpdateID=\"&'PXS Kopieret'!M1135&\"&CandidateUpdateCode=\"&'PXS Kopieret'!N1135&\"&Locale=en&CustomFormID=11612\",\"Docs\"),\"\")","v":""},{"$f":"'PXS Kopieret'!A1135","v":0},{"$f":"'PXS Kopieret'!B1135","v":0},{"$f":"'PXS Kopieret'!C1135","v":0},{"$f":"'PXS Kopieret'!D1135","v":0},{"$f":"IF($A1135<>\"PhD Student\",'PXS Kopieret'!E1135,\"\")","v":0},{"$f":"IF($A1135=\"PhD Student\",'PXS Kopieret'!F1135,\"\")","v":""},{"$f":"'PXS Kopieret'!G1135","v":0},{"$f":"'PXS Kopieret'!H1135","v":0},{"$f":"IF($A1135=\"PhD Student\",'PXS Kopieret'!I1135,\"\")","v":""},{"$f":"'PXS Kopieret'!J1135","v":0},{"$f":"'PXS Kopieret'!K1135","v":0},{"$f":"'PXS Kopieret'!L1135","v":0}]
["",{"$f":"IF('PXS Kopieret'!N1136<>\"\",HYPERLINK(\"https://ssl1.peoplexs.com/Peoplexs22/eFormportal/eForm.cfm?CandidateUpdateID=\"&'PXS Kopieret'!M1136&\"&CandidateUpdateCode=\"&'PXS Kopieret'!N1136&\"&Locale=en&CustomFormID=11612\",\"Docs\"),\"\")","v":""},{"$f":"'PXS Kopieret'!A1136","v":0},{"$f":"'PXS Kopieret'!B1136","v":0},{"$f":"'PXS Kopieret'!C1136","v":0},{"$f":"'PXS Kopieret'!D1136","v":0},{"$f":"IF($A1136<>\"PhD Student\",'PXS Kopieret'!E1136,\"\")","v":0},{"$f":"IF($A1136=\"PhD Student\",'PXS Kopieret'!F1136,\"\")","v":""},{"$f":"'PXS Kopieret'!G1136","v":0},{"$f":"'PXS Kopieret'!H1136","v":0},{"$f":"IF($A1136=\"PhD Student\",'PXS Kopieret'!I1136,\"\")","v":""},{"$f":"'PXS Kopieret'!J1136","v":0},{"$f":"'PXS Kopieret'!K1136","v":0},{"$f":"'PXS Kopieret'!L1136","v":0}]
["",{"$f":"IF('PXS Kopieret'!N1137<>\"\",HYPERLINK(\"https://ssl1.peoplexs.com/Peoplexs22/eFormportal/eForm.cfm?CandidateUpdateID=\"&'PXS Kopieret'!M1137&\"&CandidateUpdateCode=\"&'PXS Kopieret'!N1137&\"&Locale=en&CustomFormID=11612\",\"Docs\"),\"\")","v":""},{"$f":"'PXS Kopieret'!A1137","v":0},{"$f":"'PXS Kopieret'!B1137","v":0},{"$f":"'PXS Kopieret'!C1137","v":0},{"$f":"'PXS Kopieret'!D1137","v":0},{"$f":"IF($A1137<>\"PhD Student\",'PXS Kopieret'!E1137,\"\")","v":0},{"$f":"IF($A1137=\"PhD Student\",'PXS Kopieret'!F1137,\"\")","v":""},{"$f":"'PXS Kopieret'!G1137","v":0},{"$f":"'PXS Kopieret'!H1137","v":0},{"$f":"IF($A1137=\"PhD Student\",'PXS Kopieret'!I1137,\"\")","v":""},{"$f":"'PXS Kopieret'!J1137","v":0},{"$f":"'PXS Kopieret'!K1137","v":0},{"$f":"'PXS Kopieret'!L1137","v":0}]
["",{"$f":"IF('PXS Kopieret'!N1138<>\"\",HYPERLINK(\"https://ssl1.peoplexs.com/Peoplexs22/eFormportal/eForm.cfm?CandidateUpdateID=\"&'PXS Kopieret'!M1138&\"&CandidateUpdateCode=\"&'PXS Kopieret'!N1138&\"&Locale=en&CustomFormID=11612\",\"Docs\"),\"\")","v":""},{"$f":"'PXS Kopieret'!A1138","v":0},{"$f":"'PXS Kopieret'!B1138","v":0},{"$f":"'PXS Kopieret'!C1138","v":0},{"$f":"'PXS Kopieret'!D1138","v":0},{"$f":"IF($A1138<>\"PhD Student\",'PXS Kopieret'!E1138,\"\")","v":0},{"$f":"IF($A1138=\"PhD Student\",'PXS Kopieret'!F1138,\"\")","v":""},{"$f":"'PXS Kopieret'!G1138","v":0},{"$f":"'PXS Kopieret'!H1138","v":0},{"$f":"IF($A1138=\"PhD Student\",'PXS Kopieret'!I1138,\"\")","v":""},{"$f":"'PXS Kopieret'!J1138","v":0},{"$f":"'PXS Kopieret'!K1138","v":0},{"$f":"'PXS Kopieret'!L1138","v":0}]
["",{"$f":"IF('PXS Kopieret'!N1139<>\"\",HYPERLINK(\"https://ssl1.peoplexs.com/Peoplexs22/eFormportal/eForm.cfm?CandidateUpdateID=\"&'PXS Kopieret'!M1139&\"&CandidateUpdateCode=\"&'PXS Kopieret'!N1139&\"&Locale=en&CustomFormID=11612\",\"Docs\"),\"\")","v":""},{"$f":"'PXS Kopieret'!A1139","v":0},{"$f":"'PXS Kopieret'!B1139","v":0},{"$f":"'PXS Kopieret'!C1139","v":0},{"$f":"'PXS Kopieret'!D1139","v":0},{"$f":"IF($A1139<>\"PhD Student\",'PXS Kopieret'!E1139,\"\")","v":0},{"$f":"IF($A1139=\"PhD Student\",'PXS Kopieret'!F1139,\"\")","v":""},{"$f":"'PXS Kopieret'!G1139","v":0},{"$f":"'PXS Kopieret'!H1139","v":0},{"$f":"IF($A1139=\"PhD Student\",'PXS Kopieret'!I1139,\"\")","v":""},{"$f":"'PXS Kopieret'!J1139","v":0},{"$f":"'PXS Kopieret'!K1139","v":0},{"$f":"'PXS Kopieret'!L1139","v":0}]
["",{"$f":"IF('PXS Kopieret'!N1140<>\"\",HYPERLINK(\"https://ssl1.peoplexs.com/Peoplexs22/eFormportal/eForm.cfm?CandidateUpdateID=\"&'PXS Kopieret'!M1140&\"&CandidateUpdateCode=\"&'PXS Kopieret'!N1140&\"&Locale=en&CustomFormID=11612\",\"Docs\"),\"\")","v":""},{"$f":"'PXS Kopieret'!A1140","v":0},{"$f":"'PXS Kopieret'!B1140","v":0},{"$f":"'PXS Kopieret'!C1140","v":0},{"$f":"'PXS Kopieret'!D1140","v":0},{"$f":"IF($A1140<>\"PhD Student\",'PXS Kopieret'!E1140,\"\")","v":0},{"$f":"IF($A1140=\"PhD Student\",'PXS Kopieret'!F1140,\"\")","v":""},{"$f":"'PXS Kopieret'!G1140","v":0},{"$f":"'PXS Kopieret'!H1140","v":0},{"$f":"IF($A1140=\"PhD Student\",'PXS Kopieret'!I1140,\"\")","v":""},{"$f":"'PXS Kopieret'!J1140","v":0},{"$f":"'PXS Kopieret'!K1140","v":0},{"$f":"'PXS Kopieret'!L1140","v":0}]
["",{"$f":"IF('PXS Kopieret'!N1141<>\"\",HYPERLINK(\"https://ssl1.peoplexs.com/Peoplexs22/eFormportal/eForm.cfm?CandidateUpdateID=\"&'PXS Kopieret'!M1141&\"&CandidateUpdateCode=\"&'PXS Kopieret'!N1141&\"&Locale=en&CustomFormID=11612\",\"Docs\"),\"\")","v":""},{"$f":"'PXS Kopieret'!A1141","v":0},{"$f":"'PXS Kopieret'!B1141","v":0},{"$f":"'PXS Kopieret'!C1141","v":0},{"$f":"'PXS Kopieret'!D1141","v":0},{"$f":"IF($A1141<>\"PhD Student\",'PXS Kopieret'!E1141,\"\")","v":0},{"$f":"IF($A1141=\"PhD Student\",'PXS Kopieret'!F1141,\"\")","v":""},{"$f":"'PXS Kopieret'!G1141","v":0},{"$f":"'PXS Kopieret'!H1141","v":0},{"$f":"IF($A1141=\"PhD Student\",'PXS Kopieret'!I1141,\"\")","v":""},{"$f":"'PXS Kopieret'!J1141","v":0},{"$f":"'PXS Kopieret'!K1141","v":0},{"$f":"'PXS Kopieret'!L1141","v":0}]
["",{"$f":"IF('PXS Kopieret'!N1142<>\"\",HYPERLINK(\"https://ssl1.peoplexs.com/Peoplexs22/eFormportal/eForm.cfm?CandidateUpdateID=\"&'PXS Kopieret'!M1142&\"&CandidateUpdateCode=\"&'PXS Kopieret'!N1142&\"&Locale=en&CustomFormID=11612\",\"Docs\"),\"\")","v":""},{"$f":"'PXS Kopieret'!A1142","v":0},{"$f":"'PXS Kopieret'!B1142","v":0},{"$f":"'PXS Kopieret'!C1142","v":0},{"$f":"'PXS Kopieret'!D1142","v":0},{"$f":"IF($A1142<>\"PhD Student\",'PXS Kopieret'!E1142,\"\")","v":0},{"$f":"IF($A1142=\"PhD Student\",'PXS Kopieret'!F1142,\"\")","v":""},{"$f":"'PXS Kopieret'!G1142","v":0},{"$f":"'PXS Kopieret'!H1142","v":0},{"$f":"IF($A1142=\"PhD Student\",'PXS Kopieret'!I1142,\"\")","v":""},{"$f":"'PXS Kopieret'!J1142","v":0},{"$f":"'PXS Kopieret'!K1142","v":0},{"$f":"'PXS Kopieret'!L1142","v":0}]
["",{"$f":"IF('PXS Kopieret'!N1143<>\"\",HYPERLINK(\"https://ssl1.peoplexs.com/Peoplexs22/eFormportal/eForm.cfm?CandidateUpdateID=\"&'PXS Kopieret'!M1143&\"&CandidateUpdateCode=\"&'PXS Kopieret'!N1143&\"&Locale=en&CustomFormID=11612\",\"Docs\"),\"\")","v":""},{"$f":"'PXS Kopieret'!A1143","v":0},{"$f":"'PXS Kopieret'!B1143","v":0},{"$f":"'PXS Kopieret'!C1143","v":0},{"$f":"'PXS Kopieret'!D1143","v":0},{"$f":"IF($A1143<>\"PhD Student\",'PXS Kopieret'!E1143,\"\")","v":0},{"$f":"IF($A1143=\"PhD Student\",'PXS Kopieret'!F1143,\"\")","v":""},{"$f":"'PXS Kopieret'!G1143","v":0},{"$f":"'PXS Kopieret'!H1143","v":0},{"$f":"IF($A1143=\"PhD Student\",'PXS Kopieret'!I1143,\"\")","v":""},{"$f":"'PXS Kopieret'!J1143","v":0},{"$f":"'PXS Kopieret'!K1143","v":0},{"$f":"'PXS Kopieret'!L1143","v":0}]
["",{"$f":"IF('PXS Kopieret'!N1144<>\"\",HYPERLINK(\"https://ssl1.peoplexs.com/Peoplexs22/eFormportal/eForm.cfm?CandidateUpdateID=\"&'PXS Kopieret'!M1144&\"&CandidateUpdateCode=\"&'PXS Kopieret'!N1144&\"&Locale=en&CustomFormID=11612\",\"Docs\"),\"\")","v":""},{"$f":"'PXS Kopieret'!A1144","v":0},{"$f":"'PXS Kopieret'!B1144","v":0},{"$f":"'PXS Kopieret'!C1144","v":0},{"$f":"'PXS Kopieret'!D1144","v":0},{"$f":"IF($A1144<>\"PhD Student\",'PXS Kopieret'!E1144,\"\")","v":0},{"$f":"IF($A1144=\"PhD Student\",'PXS Kopieret'!F1144,\"\")","v":""},{"$f":"'PXS Kopieret'!G1144","v":0},{"$f":"'PXS Kopieret'!H1144","v":0},{"$f":"IF($A1144=\"PhD Student\",'PXS Kopieret'!I1144,\"\")","v":""},{"$f":"'PXS Kopieret'!J1144","v":0},{"$f":"'PXS Kopieret'!K1144","v":0},{"$f":"'PXS Kopieret'!L1144","v":0}]
["",{"$f":"IF('PXS Kopieret'!N1145<>\"\",HYPERLINK(\"https://ssl1.peoplexs.com/Peoplexs22/eFormportal/eForm.cfm?CandidateUpdateID=\"&'PXS Kopieret'!M1145&\"&CandidateUpdateCode=\"&'PXS Kopieret'!N1145&\"&Locale=en&CustomFormID=11612\",\"Docs\"),\"\")","v":""},{"$f":"'PXS Kopieret'!A1145","v":0},{"$f":"'PXS Kopieret'!B1145","v":0},{"$f":"'PXS Kopieret'!C1145","v":0},{"$f":"'PXS Kopieret'!D1145","v":0},{"$f":"IF($A1145<>\"PhD Student\",'PXS Kopieret'!E1145,\"\")","v":0},{"$f":"IF($A1145=\"PhD Student\",'PXS Kopieret'!F1145,\"\")","v":""},{"$f":"'PXS Kopieret'!G1145","v":0},{"$f":"'PXS Kopieret'!H1145","v":0},{"$f":"IF($A1145=\"PhD Student\",'PXS Kopieret'!I1145,\"\")","v":""},{"$f":"'PXS Kopieret'!J1145","v":0},{"$f":"'PXS Kopieret'!K1145","v":0},{"$f":"'PXS Kopieret'!L1145","v":0}]
["",{"$f":"IF('PXS Kopieret'!N1146<>\"\",HYPERLINK(\"https://ssl1.peoplexs.com/Peoplexs22/eFormportal/eForm.cfm?CandidateUpdateID=\"&'PXS Kopieret'!M1146&\"&CandidateUpdateCode=\"&'PXS Kopieret'!N1146&\"&Locale=en&CustomFormID=11612\",\"Docs\"),\"\")","v":""},{"$f":"'PXS Kopieret'!A1146","v":0},{"$f":"'PXS Kopieret'!B1146","v":0},{"$f":"'PXS Kopieret'!C1146","v":0},{"$f":"'PXS Kopieret'!D1146","v":0},{"$f":"IF($A1146<>\"PhD Student\",'PXS Kopieret'!E1146,\"\")","v":0},{"$f":"IF($A1146=\"PhD Student\",'PXS Kopieret'!F1146,\"\")","v":""},{"$f":"'PXS Kopieret'!G1146","v":0},{"$f":"'PXS Kopieret'!H1146","v":0},{"$f":"IF($A1146=\"PhD Student\",'PXS Kopieret'!I1146,\"\")","v":""},{"$f":"'PXS Kopieret'!J1146","v":0},{"$f":"'PXS Kopieret'!K1146","v":0},{"$f":"'PXS Kopieret'!L1146","v":0}]
["",{"$f":"IF('PXS Kopieret'!N1147<>\"\",HYPERLINK(\"https://ssl1.peoplexs.com/Peoplexs22/eFormportal/eForm.cfm?CandidateUpdateID=\"&'PXS Kopieret'!M1147&\"&CandidateUpdateCode=\"&'PXS Kopieret'!N1147&\"&Locale=en&CustomFormID=11612\",\"Docs\"),\"\")","v":""},{"$f":"'PXS Kopieret'!A1147","v":0},{"$f":"'PXS Kopieret'!B1147","v":0},{"$f":"'PXS Kopieret'!C1147","v":0},{"$f":"'PXS Kopieret'!D1147","v":0},{"$f":"IF($A1147<>\"PhD Student\",'PXS Kopieret'!E1147,\"\")","v":0},{"$f":"IF($A1147=\"PhD Student\",'PXS Kopieret'!F1147,\"\")","v":""},{"$f":"'PXS Kopieret'!G1147","v":0},{"$f":"'PXS Kopieret'!H1147","v":0},{"$f":"IF($A1147=\"PhD Student\",'PXS Kopieret'!I1147,\"\")","v":""},{"$f":"'PXS Kopieret'!J1147","v":0},{"$f":"'PXS Kopieret'!K1147","v":0},{"$f":"'PXS Kopieret'!L1147","v":0}]
["",{"$f":"IF('PXS Kopieret'!N1148<>\"\",HYPERLINK(\"https://ssl1.peoplexs.com/Peoplexs22/eFormportal/eForm.cfm?CandidateUpdateID=\"&'PXS Kopieret'!M1148&\"&CandidateUpdateCode=\"&'PXS Kopieret'!N1148&\"&Locale=en&CustomFormID=11612\",\"Docs\"),\"\")","v":""},{"$f":"'PXS Kopieret'!A1148","v":0},{"$f":"'PXS Kopieret'!B1148","v":0},{"$f":"'PXS Kopieret'!C1148","v":0},{"$f":"'PXS Kopieret'!D1148","v":0},{"$f":"IF($A1148<>\"PhD Student\",'PXS Kopieret'!E1148,\"\")","v":0},{"$f":"IF($A1148=\"PhD Student\",'PXS Kopieret'!F1148,\"\")","v":""},{"$f":"'PXS Kopieret'!G1148","v":0},{"$f":"'PXS Kopieret'!H1148","v":0},{"$f":"IF($A1148=\"PhD Student\",'PXS Kopieret'!I1148,\"\")","v":""},{"$f":"'PXS Kopieret'!J1148","v":0},{"$f":"'PXS Kopieret'!K1148","v":0},{"$f":"'PXS Kopieret'!L1148","v":0}]
["",{"$f":"IF('PXS Kopieret'!N1149<>\"\",HYPERLINK(\"https://ssl1.peoplexs.com/Peoplexs22/eFormportal/eForm.cfm?CandidateUpdateID=\"&'PXS Kopieret'!M1149&\"&CandidateUpdateCode=\"&'PXS Kopieret'!N1149&\"&Locale=en&CustomFormID=11612\",\"Docs\"),\"\")","v":""},{"$f":"'PXS Kopieret'!A1149","v":0},{"$f":"'PXS Kopieret'!B1149","v":0},{"$f":"'PXS Kopieret'!C1149","v":0},{"$f":"'PXS Kopieret'!D1149","v":0},{"$f":"IF($A1149<>\"PhD Student\",'PXS Kopieret'!E1149,\"\")","v":0},{"$f":"IF($A1149=\"PhD Student\",'PXS Kopieret'!F1149,\"\")","v":""},{"$f":"'PXS Kopieret'!G1149","v":0},{"$f":"'PXS Kopieret'!H1149","v":0},{"$f":"IF($A1149=\"PhD Student\",'PXS Kopieret'!I1149,\"\")","v":""},{"$f":"'PXS Kopieret'!J1149","v":0},{"$f":"'PXS Kopieret'!K1149","v":0},{"$f":"'PXS Kopieret'!L1149","v":0}]
["",{"$f":"IF('PXS Kopieret'!N1150<>\"\",HYPERLINK(\"https://ssl1.peoplexs.com/Peoplexs22/eFormportal/eForm.cfm?CandidateUpdateID=\"&'PXS Kopieret'!M1150&\"&CandidateUpdateCode=\"&'PXS Kopieret'!N1150&\"&Locale=en&CustomFormID=11612\",\"Docs\"),\"\")","v":""},{"$f":"'PXS Kopieret'!A1150","v":0},{"$f":"'PXS Kopieret'!B1150","v":0},{"$f":"'PXS Kopieret'!C1150","v":0},{"$f":"'PXS Kopieret'!D1150","v":0},{"$f":"IF($A1150<>\"PhD Student\",'PXS Kopieret'!E1150,\"\")","v":0},{"$f":"IF($A1150=\"PhD Student\",'PXS Kopieret'!F1150,\"\")","v":""},{"$f":"'PXS Kopieret'!G1150","v":0},{"$f":"'PXS Kopieret'!H1150","v":0},{"$f":"IF($A1150=\"PhD Student\",'PXS Kopieret'!I1150,\"\")","v":""},{"$f":"'PXS Kopieret'!J1150","v":0},{"$f":"'PXS Kopieret'!K1150","v":0},{"$f":"'PXS Kopieret'!L1150","v":0}]
["",{"$f":"IF('PXS Kopieret'!N1151<>\"\",HYPERLINK(\"https://ssl1.peoplexs.com/Peoplexs22/eFormportal/eForm.cfm?CandidateUpdateID=\"&'PXS Kopieret'!M1151&\"&CandidateUpdateCode=\"&'PXS Kopieret'!N1151&\"&Locale=en&CustomFormID=11612\",\"Docs\"),\"\")","v":""},{"$f":"'PXS Kopieret'!A1151","v":0},{"$f":"'PXS Kopieret'!B1151","v":0},{"$f":"'PXS Kopieret'!C1151","v":0},{"$f":"'PXS Kopieret'!D1151","v":0},{"$f":"IF($A1151<>\"PhD Student\",'PXS Kopieret'!E1151,\"\")","v":0},{"$f":"IF($A1151=\"PhD Student\",'PXS Kopieret'!F1151,\"\")","v":""},{"$f":"'PXS Kopieret'!G1151","v":0},{"$f":"'PXS Kopieret'!H1151","v":0},{"$f":"IF($A1151=\"PhD Student\",'PXS Kopieret'!I1151,\"\")","v":""},{"$f":"'PXS Kopieret'!J1151","v":0},{"$f":"'PXS Kopieret'!K1151","v":0},{"$f":"'PXS Kopieret'!L1151","v":0}]
["",{"$f":"IF('PXS Kopieret'!N1152<>\"\",HYPERLINK(\"https://ssl1.peoplexs.com/Peoplexs22/eFormportal/eForm.cfm?CandidateUpdateID=\"&'PXS Kopieret'!M1152&\"&CandidateUpdateCode=\"&'PXS Kopieret'!N1152&\"&Locale=en&CustomFormID=11612\",\"Docs\"),\"\")","v":""},{"$f":"'PXS Kopieret'!A1152","v":0},{"$f":"'PXS Kopieret'!B1152","v":0},{"$f":"'PXS Kopieret'!C1152","v":0},{"$f":"'PXS Kopieret'!D1152","v":0},{"$f":"IF($A1152<>\"PhD Student\",'PXS Kopieret'!E1152,\"\")","v":0},{"$f":"IF($A1152=\"PhD Student\",'PXS Kopieret'!F1152,\"\")","v":""},{"$f":"'PXS Kopieret'!G1152","v":0},{"$f":"'PXS Kopieret'!H1152","v":0},{"$f":"IF($A1152=\"PhD Student\",'PXS Kopieret'!I1152,\"\")","v":""},{"$f":"'PXS Kopieret'!J1152","v":0},{"$f":"'PXS Kopieret'!K1152","v":0},{"$f":"'PXS Kopieret'!L1152","v":0}]
["",{"$f":"IF('PXS Kopieret'!N1153<>\"\",HYPERLINK(\"https://ssl1.peoplexs.com/Peoplexs22/eFormportal/eForm.cfm?CandidateUpdateID=\"&'PXS Kopieret'!M1153&\"&CandidateUpdateCode=\"&'PXS Kopieret'!N1153&\"&Locale=en&CustomFormID=11612\",\"Docs\"),\"\")","v":""},{"$f":"'PXS Kopieret'!A1153","v":0},{"$f":"'PXS Kopieret'!B1153","v":0},{"$f":"'PXS Kopieret'!C1153","v":0},{"$f":"'PXS Kopieret'!D1153","v":0},{"$f":"IF($A1153<>\"PhD Student\",'PXS Kopieret'!E1153,\"\")","v":0},{"$f":"IF($A1153=\"PhD Student\",'PXS Kopieret'!F1153,\"\")","v":""},{"$f":"'PXS Kopieret'!G1153","v":0},{"$f":"'PXS Kopieret'!H1153","v":0},{"$f":"IF($A1153=\"PhD Student\",'PXS Kopieret'!I1153,\"\")","v":""},{"$f":"'PXS Kopieret'!J1153","v":0},{"$f":"'PXS Kopieret'!K1153","v":0},{"$f":"'PXS Kopieret'!L1153","v":0}]
["",{"$f":"IF('PXS Kopieret'!N1154<>\"\",HYPERLINK(\"https://ssl1.peoplexs.com/Peoplexs22/eFormportal/eForm.cfm?CandidateUpdateID=\"&'PXS Kopieret'!M1154&\"&CandidateUpdateCode=\"&'PXS Kopieret'!N1154&\"&Locale=en&CustomFormID=11612\",\"Docs\"),\"\")","v":""},{"$f":"'PXS Kopieret'!A1154","v":0},{"$f":"'PXS Kopieret'!B1154","v":0},{"$f":"'PXS Kopieret'!C1154","v":0},{"$f":"'PXS Kopieret'!D1154","v":0},{"$f":"IF($A1154<>\"PhD Student\",'PXS Kopieret'!E1154,\"\")","v":0},{"$f":"IF($A1154=\"PhD Student\",'PXS Kopieret'!F1154,\"\")","v":""},{"$f":"'PXS Kopieret'!G1154","v":0},{"$f":"'PXS Kopieret'!H1154","v":0},{"$f":"IF($A1154=\"PhD Student\",'PXS Kopieret'!I1154,\"\")","v":""},{"$f":"'PXS Kopieret'!J1154","v":0},{"$f":"'PXS Kopieret'!K1154","v":0},{"$f":"'PXS Kopieret'!L1154","v":0}]
[{"$f":"IF(LEFT(C1155,2)=\"RY\", \"Research Year Student\", IF(C1155=0,\"\",\"PhD Student\"))","v":""},{"$f":"IF('PXS Kopieret'!N1155<>\"\",HYPERLINK(\"https://ssl1.peoplexs.com/Peoplexs22/eFormportal/eForm.cfm?CandidateUpdateID=\"&'PXS Kopieret'!M1155&\"&CandidateUpdateCode=\"&'PXS Kopieret'!N1155&\"&Locale=en&CustomFormID=11612\",\"Docs\"),\"\")","v":""},{"$f":"'PXS Kopieret'!A1155","v":0},{"$f":"'PXS Kopieret'!B1155","v":0},{"$f":"'PXS Kopieret'!C1155","v":0},{"$f":"'PXS Kopieret'!D1155","v":0},{"$f":"IF($A1155<>\"PhD Student\",'PXS Kopieret'!E1155,\"\")","v":0},{"$f":"IF($A1155=\"PhD Student\",'PXS Kopieret'!F1155,\"\")","v":""},{"$f":"'PXS Kopieret'!G1155","v":0},{"$f":"'PXS Kopieret'!H1155","v":0},{"$f":"IF($A1155=\"PhD Student\",'PXS Kopieret'!I1155,\"\")","v":""},{"$f":"'PXS Kopieret'!J1155","v":0},{"$f":"'PXS Kopieret'!K1155","v":0},{"$f":"'PXS Kopieret'!L1155","v":0}]
["",{"$f":"IF('PXS Kopieret'!N1156<>\"\",HYPERLINK(\"https://ssl1.peoplexs.com/Peoplexs22/eFormportal/eForm.cfm?CandidateUpdateID=\"&'PXS Kopieret'!M1156&\"&CandidateUpdateCode=\"&'PXS Kopieret'!N1156&\"&Locale=en&CustomFormID=11612\",\"Docs\"),\"\")","v":""},{"$f":"'PXS Kopieret'!A1156","v":0},{"$f":"'PXS Kopieret'!B1156","v":0},{"$f":"'PXS Kopieret'!C1156","v":0},{"$f":"'PXS Kopieret'!D1156","v":0},{"$f":"IF($A1156<>\"PhD Student\",'PXS Kopieret'!E1156,\"\")","v":0},{"$f":"IF($A1156=\"PhD Student\",'PXS Kopieret'!F1156,\"\")","v":""},{"$f":"'PXS Kopieret'!G1156","v":0},{"$f":"'PXS Kopieret'!H1156","v":0},{"$f":"IF($A1156=\"PhD Student\",'PXS Kopieret'!I1156,\"\")","v":""},{"$f":"'PXS Kopieret'!J1156","v":0},{"$f":"'PXS Kopieret'!K1156","v":0},{"$f":"'PXS Kopieret'!L1156","v":0}]
["",{"$f":"IF('PXS Kopieret'!N1157<>\"\",HYPERLINK(\"https://ssl1.peoplexs.com/Peoplexs22/eFormportal/eForm.cfm?CandidateUpdateID=\"&'PXS Kopieret'!M1157&\"&CandidateUpdateCode=\"&'PXS Kopieret'!N1157&\"&Locale=en&CustomFormID=11612\",\"Docs\"),\"\")","v":""},{"$f":"'PXS Kopieret'!A1157","v":0},{"$f":"'PXS Kopieret'!B1157","v":0},{"$f":"'PXS Kopieret'!C1157","v":0},{"$f":"'PXS Kopieret'!D1157","v":0},{"$f":"IF($A1157<>\"PhD Student\",'PXS Kopieret'!E1157,\"\")","v":0},{"$f":"IF($A1157=\"PhD Student\",'PXS Kopieret'!F1157,\"\")","v":""},{"$f":"'PXS Kopieret'!G1157","v":0},{"$f":"'PXS Kopieret'!H1157","v":0},{"$f":"IF($A1157=\"PhD Student\",'PXS Kopieret'!I1157,\"\")","v":""},{"$f":"'PXS Kopieret'!J1157","v":0},{"$f":"'PXS Kopieret'!K1157","v":0},{"$f":"'PXS Kopieret'!L1157","v":0}]
["",{"$f":"IF('PXS Kopieret'!N1158<>\"\",HYPERLINK(\"https://ssl1.peoplexs.com/Peoplexs22/eFormportal/eForm.cfm?CandidateUpdateID=\"&'PXS Kopieret'!M1158&\"&CandidateUpdateCode=\"&'PXS Kopieret'!N1158&\"&Locale=en&CustomFormID=11612\",\"Docs\"),\"\")","v":""},{"$f":"'PXS Kopieret'!A1158","v":0},{"$f":"'PXS Kopieret'!B1158","v":0},{"$f":"'PXS Kopieret'!C1158","v":0},{"$f":"'PXS Kopieret'!D1158","v":0},{"$f":"IF($A1158<>\"PhD Student\",'PXS Kopieret'!E1158,\"\")","v":0},{"$f":"IF($A1158=\"PhD Student\",'PXS Kopieret'!F1158,\"\")","v":""},{"$f":"'PXS Kopieret'!G1158","v":0},{"$f":"'PXS Kopieret'!H1158","v":0},{"$f":"IF($A1158=\"PhD Student\",'PXS Kopieret'!I1158,\"\")","v":""},{"$f":"'PXS Kopieret'!J1158","v":0},{"$f":"'PXS Kopieret'!K1158","v":0},{"$f":"'PXS Kopieret'!L1158","v":0}]
["",{"$f":"IF('PXS Kopieret'!N1159<>\"\",HYPERLINK(\"https://ssl1.peoplexs.com/Peoplexs22/eFormportal/eForm.cfm?CandidateUpdateID=\"&'PXS Kopieret'!M1159&\"&CandidateUpdateCode=\"&'PXS Kopieret'!N1159&\"&Locale=en&CustomFormID=11612\",\"Docs\"),\"\")","v":""},{"$f":"'PXS Kopieret'!A1159","v":0},{"$f":"'PXS Kopieret'!B1159","v":0},{"$f":"'PXS Kopieret'!C1159","v":0},{"$f":"'PXS Kopieret'!D1159","v":0},{"$f":"IF($A1159<>\"PhD Student\",'PXS Kopieret'!E1159,\"\")","v":0},{"$f":"IF($A1159=\"PhD Student\",'PXS Kopieret'!F1159,\"\")","v":""},{"$f":"'PXS Kopieret'!G1159","v":0},{"$f":"'PXS Kopieret'!H1159","v":0},{"$f":"IF($A1159=\"PhD Student\",'PXS Kopieret'!I1159,\"\")","v":""},{"$f":"'PXS Kopieret'!J1159","v":0},{"$f":"'PXS Kopieret'!K1159","v":0},{"$f":"'PXS Kopieret'!L1159","v":0}]
["",{"$f":"IF('PXS Kopieret'!N1160<>\"\",HYPERLINK(\"https://ssl1.peoplexs.com/Peoplexs22/eFormportal/eForm.cfm?CandidateUpdateID=\"&'PXS Kopieret'!M1160&\"&CandidateUpdateCode=\"&'PXS Kopieret'!N1160&\"&Locale=en&CustomFormID=11612\",\"Docs\"),\"\")","v":""},{"$f":"'PXS Kopieret'!A1160","v":0},{"$f":"'PXS Kopieret'!B1160","v":0},{"$f":"'PXS Kopieret'!C1160","v":0},{"$f":"'PXS Kopieret'!D1160","v":0},{"$f":"IF($A1160<>\"PhD Student\",'PXS Kopieret'!E1160,\"\")","v":0},{"$f":"IF($A1160=\"PhD Student\",'PXS Kopieret'!F1160,\"\")","v":""},{"$f":"'PXS Kopieret'!G1160","v":0},{"$f":"'PXS Kopieret'!H1160","v":0},{"$f":"IF($A1160=\"PhD Student\",'PXS Kopieret'!I1160,\"\")","v":""},{"$f":"'PXS Kopieret'!J1160","v":0},{"$f":"'PXS Kopieret'!K1160","v":0},{"$f":"'PXS Kopieret'!L1160","v":0}]
["",{"$f":"IF('PXS Kopieret'!N1161<>\"\",HYPERLINK(\"https://ssl1.peoplexs.com/Peoplexs22/eFormportal/eForm.cfm?CandidateUpdateID=\"&'PXS Kopieret'!M1161&\"&CandidateUpdateCode=\"&'PXS Kopieret'!N1161&\"&Locale=en&CustomFormID=11612\",\"Docs\"),\"\")","v":""},{"$f":"'PXS Kopieret'!A1161","v":0},{"$f":"'PXS Kopieret'!B1161","v":0},{"$f":"'PXS Kopieret'!C1161","v":0},{"$f":"'PXS Kopieret'!D1161","v":0},{"$f":"IF($A1161<>\"PhD Student\",'PXS Kopieret'!E1161,\"\")","v":0},{"$f":"IF($A1161=\"PhD Student\",'PXS Kopieret'!F1161,\"\")","v":""},{"$f":"'PXS Kopieret'!G1161","v":0},{"$f":"'PXS Kopieret'!H1161","v":0},{"$f":"IF($A1161=\"PhD Student\",'PXS Kopieret'!I1161,\"\")","v":""},{"$f":"'PXS Kopieret'!J1161","v":0},{"$f":"'PXS Kopieret'!K1161","v":0},{"$f":"'PXS Kopieret'!L1161","v":0}]
["",{"$f":"IF('PXS Kopieret'!N1162<>\"\",HYPERLINK(\"https://ssl1.peoplexs.com/Peoplexs22/eFormportal/eForm.cfm?CandidateUpdateID=\"&'PXS Kopieret'!M1162&\"&CandidateUpdateCode=\"&'PXS Kopieret'!N1162&\"&Locale=en&CustomFormID=11612\",\"Docs\"),\"\")","v":""},{"$f":"'PXS Kopieret'!A1162","v":0},{"$f":"'PXS Kopieret'!B1162","v":0},{"$f":"'PXS Kopieret'!C1162","v":0},{"$f":"'PXS Kopieret'!D1162","v":0},{"$f":"IF($A1162<>\"PhD Student\",'PXS Kopieret'!E1162,\"\")","v":0},{"$f":"IF($A1162=\"PhD Student\",'PXS Kopieret'!F1162,\"\")","v":""},{"$f":"'PXS Kopieret'!G1162","v":0},{"$f":"'PXS Kopieret'!H1162","v":0},{"$f":"IF($A1162=\"PhD Student\",'PXS Kopieret'!I1162,\"\")","v":""},{"$f":"'PXS Kopieret'!J1162","v":0},{"$f":"'PXS Kopieret'!K1162","v":0},{"$f":"'PXS Kopieret'!L1162","v":0}]
["",{"$f":"IF('PXS Kopieret'!N1163<>\"\",HYPERLINK(\"https://ssl1.peoplexs.com/Peoplexs22/eFormportal/eForm.cfm?CandidateUpdateID=\"&'PXS Kopieret'!M1163&\"&CandidateUpdateCode=\"&'PXS Kopieret'!N1163&\"&Locale=en&CustomFormID=11612\",\"Docs\"),\"\")","v":""},{"$f":"'PXS Kopieret'!A1163","v":0},{"$f":"'PXS Kopieret'!B1163","v":0},{"$f":"'PXS Kopieret'!C1163","v":0},{"$f":"'PXS Kopieret'!D1163","v":0},{"$f":"IF($A1163<>\"PhD Student\",'PXS Kopieret'!E1163,\"\")","v":0},{"$f":"IF($A1163=\"PhD Student\",'PXS Kopieret'!F1163,\"\")","v":""},{"$f":"'PXS Kopieret'!G1163","v":0},{"$f":"'PXS Kopieret'!H1163","v":0},{"$f":"IF($A1163=\"PhD Student\",'PXS Kopieret'!I1163,\"\")","v":""},{"$f":"'PXS Kopieret'!J1163","v":0},{"$f":"'PXS Kopieret'!K1163","v":0},{"$f":"'PXS Kopieret'!L1163","v":0}]
["",{"$f":"IF('PXS Kopieret'!N1164<>\"\",HYPERLINK(\"https://ssl1.peoplexs.com/Peoplexs22/eFormportal/eForm.cfm?CandidateUpdateID=\"&'PXS Kopieret'!M1164&\"&CandidateUpdateCode=\"&'PXS Kopieret'!N1164&\"&Locale=en&CustomFormID=11612\",\"Docs\"),\"\")","v":""},{"$f":"'PXS Kopieret'!A1164","v":0},{"$f":"'PXS Kopieret'!B1164","v":0},{"$f":"'PXS Kopieret'!C1164","v":0},{"$f":"'PXS Kopieret'!D1164","v":0},{"$f":"IF($A1164<>\"PhD Student\",'PXS Kopieret'!E1164,\"\")","v":0},{"$f":"IF($A1164=\"PhD Student\",'PXS Kopieret'!F1164,\"\")","v":""},{"$f":"'PXS Kopieret'!G1164","v":0},{"$f":"'PXS Kopieret'!H1164","v":0},{"$f":"IF($A1164=\"PhD Student\",'PXS Kopieret'!I1164,\"\")","v":""},{"$f":"'PXS Kopieret'!J1164","v":0},{"$f":"'PXS Kopieret'!K1164","v":0},{"$f":"'PXS Kopieret'!L1164","v":0}]
["",{"$f":"IF('PXS Kopieret'!N1165<>\"\",HYPERLINK(\"https://ssl1.peoplexs.com/Peoplexs22/eFormportal/eForm.cfm?CandidateUpdateID=\"&'PXS Kopieret'!M1165&\"&CandidateUpdateCode=\"&'PXS Kopieret'!N1165&\"&Locale=en&CustomFormID=11612\",\"Docs\"),\"\")","v":""},{"$f":"'PXS Kopieret'!A1165","v":0},{"$f":"'PXS Kopieret'!B1165","v":0},{"$f":"'PXS Kopieret'!C1165","v":0},{"$f":"'PXS Kopieret'!D1165","v":0},{"$f":"IF($A1165<>\"PhD Student\",'PXS Kopieret'!E1165,\"\")","v":0},{"$f":"IF($A1165=\"PhD Student\",'PXS Kopieret'!F1165,\"\")","v":""},{"$f":"'PXS Kopieret'!G1165","v":0},{"$f":"'PXS Kopieret'!H1165","v":0},{"$f":"IF($A1165=\"PhD Student\",'PXS Kopieret'!I1165,\"\")","v":""},{"$f":"'PXS Kopieret'!J1165","v":0},{"$f":"'PXS Kopieret'!K1165","v":0},{"$f":"'PXS Kopieret'!L1165","v":0}]
["",{"$f":"IF('PXS Kopieret'!N1166<>\"\",HYPERLINK(\"https://ssl1.peoplexs.com/Peoplexs22/eFormportal/eForm.cfm?CandidateUpdateID=\"&'PXS Kopieret'!M1166&\"&CandidateUpdateCode=\"&'PXS Kopieret'!N1166&\"&Locale=en&CustomFormID=11612\",\"Docs\"),\"\")","v":""},{"$f":"'PXS Kopieret'!A1166","v":0},{"$f":"'PXS Kopieret'!B1166","v":0},{"$f":"'PXS Kopieret'!C1166","v":0},{"$f":"'PXS Kopieret'!D1166","v":0},{"$f":"IF($A1166<>\"PhD Student\",'PXS Kopieret'!E1166,\"\")","v":0},{"$f":"IF($A1166=\"PhD Student\",'PXS Kopieret'!F1166,\"\")","v":""},{"$f":"'PXS Kopieret'!G1166","v":0},{"$f":"'PXS Kopieret'!H1166","v":0},{"$f":"IF($A1166=\"PhD Student\",'PXS Kopieret'!I1166,\"\")","v":""},{"$f":"'PXS Kopieret'!J1166","v":0},{"$f":"'PXS Kopieret'!K1166","v":0},{"$f":"'PXS Kopieret'!L1166","v":0}]
["",{"$f":"IF('PXS Kopieret'!N1167<>\"\",HYPERLINK(\"https://ssl1.peoplexs.com/Peoplexs22/eFormportal/eForm.cfm?CandidateUpdateID=\"&'PXS Kopieret'!M1167&\"&CandidateUpdateCode=\"&'PXS Kopieret'!N1167&\"&Locale=en&CustomFormID=11612\",\"Docs\"),\"\")","v":""},{"$f":"'PXS Kopieret'!A1167","v":0},{"$f":"'PXS Kopieret'!B1167","v":0},{"$f":"'PXS Kopieret'!C1167","v":0},{"$f":"'PXS Kopieret'!D1167","v":0},{"$f":"IF($A1167<>\"PhD Student\",'PXS Kopieret'!E1167,\"\")","v":0},{"$f":"IF($A1167=\"PhD Student\",'PXS Kopieret'!F1167,\"\")","v":""},{"$f":"'PXS Kopieret'!G1167","v":0},{"$f":"'PXS Kopieret'!H1167","v":0},{"$f":"IF($A1167=\"PhD Student\",'PXS Kopieret'!I1167,\"\")","v":""},{"$f":"'PXS Kopieret'!J1167","v":0},{"$f":"'PXS Kopieret'!K1167","v":0},{"$f":"'PXS Kopieret'!L1167","v":0}]
["",{"$f":"IF('PXS Kopieret'!N1168<>\"\",HYPERLINK(\"https://ssl1.peoplexs.com/Peoplexs22/eFormportal/eForm.cfm?CandidateUpdateID=\"&'PXS Kopieret'!M1168&\"&CandidateUpdateCode=\"&'PXS Kopieret'!N1168&\"&Locale=en&CustomFormID=11612\",\"Docs\"),\"\")","v":""},{"$f":"'PXS Kopieret'!A1168","v":0},{"$f":"'PXS Kopieret'!B1168","v":0},{"$f":"'PXS Kopieret'!C1168","v":0},{"$f":"'PXS Kopieret'!D1168","v":0},{"$f":"IF($A1168<>\"PhD Student\",'PXS Kopieret'!E1168,\"\")","v":0},{"$f":"IF($A1168=\"PhD Student\",'PXS Kopieret'!F1168,\"\")","v":""},{"$f":"'PXS Kopieret'!G1168","v":0},{"$f":"'PXS Kopieret'!H1168","v":0},{"$f":"IF($A1168=\"PhD Student\",'PXS Kopieret'!I1168,\"\")","v":""},{"$f":"'PXS Kopieret'!J1168","v":0},{"$f":"'PXS Kopieret'!K1168","v":0},{"$f":"'PXS Kopieret'!L1168","v":0}]
["",{"$f":"IF('PXS Kopieret'!N1169<>\"\",HYPERLINK(\"https://ssl1.peoplexs.com/Peoplexs22/eFormportal/eForm.cfm?CandidateUpdateID=\"&'PXS Kopieret'!M1169&\"&CandidateUpdateCode=\"&'PXS Kopieret'!N1169&\"&Locale=en&CustomFormID=11612\",\"Docs\"),\"\")","v":""},{"$f":"'PXS Kopieret'!A1169","v":0},{"$f":"'PXS Kopieret'!B1169","v":0},{"$f":"'PXS Kopieret'!C1169","v":0},{"$f":"'PXS Kopieret'!D1169","v":0},{"$f":"IF($A1169<>\"PhD Student\",'PXS Kopieret'!E1169,\"\")","v":0},{"$f":"IF($A1169=\"PhD Student\",'PXS Kopieret'!F1169,\"\")","v":""},{"$f":"'PXS Kopieret'!G1169","v":0},{"$f":"'PXS Kopieret'!H1169","v":0},{"$f":"IF($A1169=\"PhD Student\",'PXS Kopieret'!I1169,\"\")","v":""},{"$f":"'PXS Kopieret'!J1169","v":0},{"$f":"'PXS Kopieret'!K1169","v":0},{"$f":"'PXS Kopieret'!L1169","v":0}]
["",{"$f":"IF('PXS Kopieret'!N1170<>\"\",HYPERLINK(\"https://ssl1.peoplexs.com/Peoplexs22/eFormportal/eForm.cfm?CandidateUpdateID=\"&'PXS Kopieret'!M1170&\"&CandidateUpdateCode=\"&'PXS Kopieret'!N1170&\"&Locale=en&CustomFormID=11612\",\"Docs\"),\"\")","v":""},{"$f":"'PXS Kopieret'!A1170","v":0},{"$f":"'PXS Kopieret'!B1170","v":0},{"$f":"'PXS Kopieret'!C1170","v":0},{"$f":"'PXS Kopieret'!D1170","v":0},{"$f":"IF($A1170<>\"PhD Student\",'PXS Kopieret'!E1170,\"\")","v":0},{"$f":"IF($A1170=\"PhD Student\",'PXS Kopieret'!F1170,\"\")","v":""},{"$f":"'PXS Kopieret'!G1170","v":0},{"$f":"'PXS Kopieret'!H1170","v":0},{"$f":"IF($A1170=\"PhD Student\",'PXS Kopieret'!I1170,\"\")","v":""},{"$f":"'PXS Kopieret'!J1170","v":0},{"$f":"'PXS Kopieret'!K1170","v":0},{"$f":"'PXS Kopieret'!L1170","v":0}]
["",{"$f":"IF('PXS Kopieret'!N1171<>\"\",HYPERLINK(\"https://ssl1.peoplexs.com/Peoplexs22/eFormportal/eForm.cfm?CandidateUpdateID=\"&'PXS Kopieret'!M1171&\"&CandidateUpdateCode=\"&'PXS Kopieret'!N1171&\"&Locale=en&CustomFormID=11612\",\"Docs\"),\"\")","v":""},{"$f":"'PXS Kopieret'!A1171","v":0},{"$f":"'PXS Kopieret'!B1171","v":0},{"$f":"'PXS Kopieret'!C1171","v":0},{"$f":"'PXS Kopieret'!D1171","v":0},{"$f":"IF($A1171<>\"PhD Student\",'PXS Kopieret'!E1171,\"\")","v":0},{"$f":"IF($A1171=\"PhD Student\",'PXS Kopieret'!F1171,\"\")","v":""},{"$f":"'PXS Kopieret'!G1171","v":0},{"$f":"'PXS Kopieret'!H1171","v":0},{"$f":"IF($A1171=\"PhD Student\",'PXS Kopieret'!I1171,\"\")","v":""},{"$f":"'PXS Kopieret'!J1171","v":0},{"$f":"'PXS Kopieret'!K1171","v":0},{"$f":"'PXS Kopieret'!L1171","v":0}]
["",{"$f":"IF('PXS Kopieret'!N1172<>\"\",HYPERLINK(\"https://ssl1.peoplexs.com/Peoplexs22/eFormportal/eForm.cfm?CandidateUpdateID=\"&'PXS Kopieret'!M1172&\"&CandidateUpdateCode=\"&'PXS Kopieret'!N1172&\"&Locale=en&CustomFormID=11612\",\"Docs\"),\"\")","v":""},{"$f":"'PXS Kopieret'!A1172","v":0},{"$f":"'PXS Kopieret'!B1172","v":0},{"$f":"'PXS Kopieret'!C1172","v":0},{"$f":"'PXS Kopieret'!D1172","v":0},{"$f":"IF($A1172<>\"PhD Student\",'PXS Kopieret'!E1172,\"\")","v":0},{"$f":"IF($A1172=\"PhD Student\",'PXS Kopieret'!F1172,\"\")","v":""},{"$f":"'PXS Kopieret'!G1172","v":0},{"$f":"'PXS Kopieret'!H1172","v":0},{"$f":"IF($A1172=\"PhD Student\",'PXS Kopieret'!I1172,\"\")","v":""},{"$f":"'PXS Kopieret'!J1172","v":0},{"$f":"'PXS Kopieret'!K1172","v":0},{"$f":"'PXS Kopieret'!L1172","v":0}]
["",{"$f":"IF('PXS Kopieret'!N1173<>\"\",HYPERLINK(\"https://ssl1.peoplexs.com/Peoplexs22/eFormportal/eForm.cfm?CandidateUpdateID=\"&'PXS Kopieret'!M1173&\"&CandidateUpdateCode=\"&'PXS Kopieret'!N1173&\"&Locale=en&CustomFormID=11612\",\"Docs\"),\"\")","v":""},{"$f":"'PXS Kopieret'!A1173","v":0},{"$f":"'PXS Kopieret'!B1173","v":0},{"$f":"'PXS Kopieret'!C1173","v":0},{"$f":"'PXS Kopieret'!D1173","v":0},{"$f":"IF($A1173<>\"PhD Student\",'PXS Kopieret'!E1173,\"\")","v":0},{"$f":"IF($A1173=\"PhD Student\",'PXS Kopieret'!F1173,\"\")","v":""},{"$f":"'PXS Kopieret'!G1173","v":0},{"$f":"'PXS Kopieret'!H1173","v":0},{"$f":"IF($A1173=\"PhD Student\",'PXS Kopieret'!I1173,\"\")","v":""},{"$f":"'PXS Kopieret'!J1173","v":0},{"$f":"'PXS Kopieret'!K1173","v":0},{"$f":"'PXS Kopieret'!L1173","v":0}]
["",{"$f":"IF('PXS Kopieret'!N1174<>\"\",HYPERLINK(\"https://ssl1.peoplexs.com/Peoplexs22/eFormportal/eForm.cfm?CandidateUpdateID=\"&'PXS Kopieret'!M1174&\"&CandidateUpdateCode=\"&'PXS Kopieret'!N1174&\"&Locale=en&CustomFormID=11612\",\"Docs\"),\"\")","v":""},{"$f":"'PXS Kopieret'!A1174","v":0},{"$f":"'PXS Kopieret'!B1174","v":0},{"$f":"'PXS Kopieret'!C1174","v":0},{"$f":"'PXS Kopieret'!D1174","v":0},{"$f":"IF($A1174<>\"PhD Student\",'PXS Kopieret'!E1174,\"\")","v":0},{"$f":"IF($A1174=\"PhD Student\",'PXS Kopieret'!F1174,\"\")","v":""},{"$f":"'PXS Kopieret'!G1174","v":0},{"$f":"'PXS Kopieret'!H1174","v":0},{"$f":"IF($A1174=\"PhD Student\",'PXS Kopieret'!I1174,\"\")","v":""},{"$f":"'PXS Kopieret'!J1174","v":0},{"$f":"'PXS Kopieret'!K1174","v":0},{"$f":"'PXS Kopieret'!L1174","v":0}]
["",{"$f":"IF('PXS Kopieret'!N1175<>\"\",HYPERLINK(\"https://ssl1.peoplexs.com/Peoplexs22/eFormportal/eForm.cfm?CandidateUpdateID=\"&'PXS Kopieret'!M1175&\"&CandidateUpdateCode=\"&'PXS Kopieret'!N1175&\"&Locale=en&CustomFormID=11612\",\"Docs\"),\"\")","v":""},{"$f":"'PXS Kopieret'!A1175","v":0},{"$f":"'PXS Kopieret'!B1175","v":0},{"$f":"'PXS Kopieret'!C1175","v":0},{"$f":"'PXS Kopieret'!D1175","v":0},{"$f":"IF($A1175<>\"PhD Student\",'PXS Kopieret'!E1175,\"\")","v":0},{"$f":"IF($A1175=\"PhD Student\",'PXS Kopieret'!F1175,\"\")","v":""},{"$f":"'PXS Kopieret'!G1175","v":0},{"$f":"'PXS Kopieret'!H1175","v":0},{"$f":"IF($A1175=\"PhD Student\",'PXS Kopieret'!I1175,\"\")","v":""},{"$f":"'PXS Kopieret'!J1175","v":0},{"$f":"'PXS Kopieret'!K1175","v":0},{"$f":"'PXS Kopieret'!L1175","v":0}]
["",{"$f":"IF('PXS Kopieret'!N1176<>\"\",HYPERLINK(\"https://ssl1.peoplexs.com/Peoplexs22/eFormportal/eForm.cfm?CandidateUpdateID=\"&'PXS Kopieret'!M1176&\"&CandidateUpdateCode=\"&'PXS Kopieret'!N1176&\"&Locale=en&CustomFormID=11612\",\"Docs\"),\"\")","v":""},{"$f":"'PXS Kopieret'!A1176","v":0},{"$f":"'PXS Kopieret'!B1176","v":0},{"$f":"'PXS Kopieret'!C1176","v":0},{"$f":"'PXS Kopieret'!D1176","v":0},{"$f":"IF($A1176<>\"PhD Student\",'PXS Kopieret'!E1176,\"\")","v":0},{"$f":"IF($A1176=\"PhD Student\",'PXS Kopieret'!F1176,\"\")","v":""},{"$f":"'PXS Kopieret'!G1176","v":0},{"$f":"'PXS Kopieret'!H1176","v":0},{"$f":"IF($A1176=\"PhD Student\",'PXS Kopieret'!I1176,\"\")","v":""},{"$f":"'PXS Kopieret'!J1176","v":0},{"$f":"'PXS Kopieret'!K1176","v":0},{"$f":"'PXS Kopieret'!L1176","v":0}]
["",{"$f":"IF('PXS Kopieret'!N1177<>\"\",HYPERLINK(\"https://ssl1.peoplexs.com/Peoplexs22/eFormportal/eForm.cfm?CandidateUpdateID=\"&'PXS Kopieret'!M1177&\"&CandidateUpdateCode=\"&'PXS Kopieret'!N1177&\"&Locale=en&CustomFormID=11612\",\"Docs\"),\"\")","v":""},{"$f":"'PXS Kopieret'!A1177","v":0},{"$f":"'PXS Kopieret'!B1177","v":0},{"$f":"'PXS Kopieret'!C1177","v":0},{"$f":"'PXS Kopieret'!D1177","v":0},{"$f":"IF($A1177<>\"PhD Student\",'PXS Kopieret'!E1177,\"\")","v":0},{"$f":"IF($A1177=\"PhD Student\",'PXS Kopieret'!F1177,\"\")","v":""},{"$f":"'PXS Kopieret'!G1177","v":0},{"$f":"'PXS Kopieret'!H1177","v":0},{"$f":"IF($A1177=\"PhD Student\",'PXS Kopieret'!I1177,\"\")","v":""},{"$f":"'PXS Kopieret'!J1177","v":0},{"$f":"'PXS Kopieret'!K1177","v":0},{"$f":"'PXS Kopieret'!L1177","v":0}]
["",{"$f":"IF('PXS Kopieret'!N1178<>\"\",HYPERLINK(\"https://ssl1.peoplexs.com/Peoplexs22/eFormportal/eForm.cfm?CandidateUpdateID=\"&'PXS Kopieret'!M1178&\"&CandidateUpdateCode=\"&'PXS Kopieret'!N1178&\"&Locale=en&CustomFormID=11612\",\"Docs\"),\"\")","v":""},{"$f":"'PXS Kopieret'!A1178","v":0},{"$f":"'PXS Kopieret'!B1178","v":0},{"$f":"'PXS Kopieret'!C1178","v":0},{"$f":"'PXS Kopieret'!D1178","v":0},{"$f":"IF($A1178<>\"PhD Student\",'PXS Kopieret'!E1178,\"\")","v":0},{"$f":"IF($A1178=\"PhD Student\",'PXS Kopieret'!F1178,\"\")","v":""},{"$f":"'PXS Kopieret'!G1178","v":0},{"$f":"'PXS Kopieret'!H1178","v":0},{"$f":"IF($A1178=\"PhD Student\",'PXS Kopieret'!I1178,\"\")","v":""},{"$f":"'PXS Kopieret'!J1178","v":0},{"$f":"'PXS Kopieret'!K1178","v":0},{"$f":"'PXS Kopieret'!L1178","v":0}]
["",{"$f":"IF('PXS Kopieret'!N1179<>\"\",HYPERLINK(\"https://ssl1.peoplexs.com/Peoplexs22/eFormportal/eForm.cfm?CandidateUpdateID=\"&'PXS Kopieret'!M1179&\"&CandidateUpdateCode=\"&'PXS Kopieret'!N1179&\"&Locale=en&CustomFormID=11612\",\"Docs\"),\"\")","v":""},{"$f":"'PXS Kopieret'!A1179","v":0},{"$f":"'PXS Kopieret'!B1179","v":0},{"$f":"'PXS Kopieret'!C1179","v":0},{"$f":"'PXS Kopieret'!D1179","v":0},{"$f":"IF($A1179<>\"PhD Student\",'PXS Kopieret'!E1179,\"\")","v":0},{"$f":"IF($A1179=\"PhD Student\",'PXS Kopieret'!F1179,\"\")","v":""},{"$f":"'PXS Kopieret'!G1179","v":0},{"$f":"'PXS Kopieret'!H1179","v":0},{"$f":"IF($A1179=\"PhD Student\",'PXS Kopieret'!I1179,\"\")","v":""},{"$f":"'PXS Kopieret'!J1179","v":0},{"$f":"'PXS Kopieret'!K1179","v":0},{"$f":"'PXS Kopieret'!L1179","v":0}]
["",{"$f":"IF('PXS Kopieret'!N1180<>\"\",HYPERLINK(\"https://ssl1.peoplexs.com/Peoplexs22/eFormportal/eForm.cfm?CandidateUpdateID=\"&'PXS Kopieret'!M1180&\"&CandidateUpdateCode=\"&'PXS Kopieret'!N1180&\"&Locale=en&CustomFormID=11612\",\"Docs\"),\"\")","v":""},{"$f":"'PXS Kopieret'!A1180","v":0},{"$f":"'PXS Kopieret'!B1180","v":0},{"$f":"'PXS Kopieret'!C1180","v":0},{"$f":"'PXS Kopieret'!D1180","v":0},{"$f":"IF($A1180<>\"PhD Student\",'PXS Kopieret'!E1180,\"\")","v":0},{"$f":"IF($A1180=\"PhD Student\",'PXS Kopieret'!F1180,\"\")","v":""},{"$f":"'PXS Kopieret'!G1180","v":0},{"$f":"'PXS Kopieret'!H1180","v":0},{"$f":"IF($A1180=\"PhD Student\",'PXS Kopieret'!I1180,\"\")","v":""},{"$f":"'PXS Kopieret'!J1180","v":0},{"$f":"'PXS Kopieret'!K1180","v":0},{"$f":"'PXS Kopieret'!L1180","v":0}]
["",{"$f":"IF('PXS Kopieret'!N1181<>\"\",HYPERLINK(\"https://ssl1.peoplexs.com/Peoplexs22/eFormportal/eForm.cfm?CandidateUpdateID=\"&'PXS Kopieret'!M1181&\"&CandidateUpdateCode=\"&'PXS Kopieret'!N1181&\"&Locale=en&CustomFormID=11612\",\"Docs\"),\"\")","v":""},{"$f":"'PXS Kopieret'!A1181","v":0},{"$f":"'PXS Kopieret'!B1181","v":0},{"$f":"'PXS Kopieret'!C1181","v":0},{"$f":"'PXS Kopieret'!D1181","v":0},{"$f":"IF($A1181<>\"PhD Student\",'PXS Kopieret'!E1181,\"\")","v":0},{"$f":"IF($A1181=\"PhD Student\",'PXS Kopieret'!F1181,\"\")","v":""},{"$f":"'PXS Kopieret'!G1181","v":0},{"$f":"'PXS Kopieret'!H1181","v":0},{"$f":"IF($A1181=\"PhD Student\",'PXS Kopieret'!I1181,\"\")","v":""},{"$f":"'PXS Kopieret'!J1181","v":0},{"$f":"'PXS Kopieret'!K1181","v":0},{"$f":"'PXS Kopieret'!L1181","v":0}]
["",{"$f":"IF('PXS Kopieret'!N1182<>\"\",HYPERLINK(\"https://ssl1.peoplexs.com/Peoplexs22/eFormportal/eForm.cfm?CandidateUpdateID=\"&'PXS Kopieret'!M1182&\"&CandidateUpdateCode=\"&'PXS Kopieret'!N1182&\"&Locale=en&CustomFormID=11612\",\"Docs\"),\"\")","v":""},{"$f":"'PXS Kopieret'!A1182","v":0},{"$f":"'PXS Kopieret'!B1182","v":0},{"$f":"'PXS Kopieret'!C1182","v":0},{"$f":"'PXS Kopieret'!D1182","v":0},{"$f":"IF($A1182<>\"PhD Student\",'PXS Kopieret'!E1182,\"\")","v":0},{"$f":"IF($A1182=\"PhD Student\",'PXS Kopieret'!F1182,\"\")","v":""},{"$f":"'PXS Kopieret'!G1182","v":0},{"$f":"'PXS Kopieret'!H1182","v":0},{"$f":"IF($A1182=\"PhD Student\",'PXS Kopieret'!I1182,\"\")","v":""},{"$f":"'PXS Kopieret'!J1182","v":0},{"$f":"'PXS Kopieret'!K1182","v":0},{"$f":"'PXS Kopieret'!L1182","v":0}]
["",{"$f":"IF('PXS Kopieret'!N1183<>\"\",HYPERLINK(\"https://ssl1.peoplexs.com/Peoplexs22/eFormportal/eForm.cfm?CandidateUpdateID=\"&'PXS Kopieret'!M1183&\"&CandidateUpdateCode=\"&'PXS Kopieret'!N1183&\"&Locale=en&CustomFormID=11612\",\"Docs\"),\"\")","v":""},{"$f":"'PXS Kopieret'!A1183","v":0},{"$f":"'PXS Kopieret'!B1183","v":0},{"$f":"'PXS Kopieret'!C1183","v":0},{"$f":"'PXS Kopieret'!D1183","v":0},{"$f":"IF($A1183<>\"PhD Student\",'PXS Kopieret'!E1183,\"\")","v":0},{"$f":"IF($A1183=\"PhD Student\",'PXS Kopieret'!F1183,\"\")","v":""},{"$f":"'PXS Kopieret'!G1183","v":0},{"$f":"'PXS Kopieret'!H1183","v":0},{"$f":"IF($A1183=\"PhD Student\",'PXS Kopieret'!I1183,\"\")","v":""},{"$f":"'PXS Kopieret'!J1183","v":0},{"$f":"'PXS Kopieret'!K1183","v":0},{"$f":"'PXS Kopieret'!L1183","v":0}]
["",{"$f":"IF('PXS Kopieret'!N1184<>\"\",HYPERLINK(\"https://ssl1.peoplexs.com/Peoplexs22/eFormportal/eForm.cfm?CandidateUpdateID=\"&'PXS Kopieret'!M1184&\"&CandidateUpdateCode=\"&'PXS Kopieret'!N1184&\"&Locale=en&CustomFormID=11612\",\"Docs\"),\"\")","v":""},{"$f":"'PXS Kopieret'!A1184","v":0},{"$f":"'PXS Kopieret'!B1184","v":0},{"$f":"'PXS Kopieret'!C1184","v":0},{"$f":"'PXS Kopieret'!D1184","v":0},{"$f":"IF($A1184<>\"PhD Student\",'PXS Kopieret'!E1184,\"\")","v":0},{"$f":"IF($A1184=\"PhD Student\",'PXS Kopieret'!F1184,\"\")","v":""},{"$f":"'PXS Kopieret'!G1184","v":0},{"$f":"'PXS Kopieret'!H1184","v":0},{"$f":"IF($A1184=\"PhD Student\",'PXS Kopieret'!I1184,\"\")","v":""},{"$f":"'PXS Kopieret'!J1184","v":0},{"$f":"'PXS Kopieret'!K1184","v":0},{"$f":"'PXS Kopieret'!L1184","v":0}]
["",{"$f":"IF('PXS Kopieret'!N1185<>\"\",HYPERLINK(\"https://ssl1.peoplexs.com/Peoplexs22/eFormportal/eForm.cfm?CandidateUpdateID=\"&'PXS Kopieret'!M1185&\"&CandidateUpdateCode=\"&'PXS Kopieret'!N1185&\"&Locale=en&CustomFormID=11612\",\"Docs\"),\"\")","v":""},{"$f":"'PXS Kopieret'!A1185","v":0},{"$f":"'PXS Kopieret'!B1185","v":0},{"$f":"'PXS Kopieret'!C1185","v":0},{"$f":"'PXS Kopieret'!D1185","v":0},{"$f":"IF($A1185<>\"PhD Student\",'PXS Kopieret'!E1185,\"\")","v":0},{"$f":"IF($A1185=\"PhD Student\",'PXS Kopieret'!F1185,\"\")","v":""},{"$f":"'PXS Kopieret'!G1185","v":0},{"$f":"'PXS Kopieret'!H1185","v":0},{"$f":"IF($A1185=\"PhD Student\",'PXS Kopieret'!I1185,\"\")","v":""},{"$f":"'PXS Kopieret'!J1185","v":0},{"$f":"'PXS Kopieret'!K1185","v":0},{"$f":"'PXS Kopieret'!L1185","v":0}]
["",{"$f":"IF('PXS Kopieret'!N1186<>\"\",HYPERLINK(\"https://ssl1.peoplexs.com/Peoplexs22/eFormportal/eForm.cfm?CandidateUpdateID=\"&'PXS Kopieret'!M1186&\"&CandidateUpdateCode=\"&'PXS Kopieret'!N1186&\"&Locale=en&CustomFormID=11612\",\"Docs\"),\"\")","v":""},{"$f":"'PXS Kopieret'!A1186","v":0},{"$f":"'PXS Kopieret'!B1186","v":0},{"$f":"'PXS Kopieret'!C1186","v":0},{"$f":"'PXS Kopieret'!D1186","v":0},{"$f":"IF($A1186<>\"PhD Student\",'PXS Kopieret'!E1186,\"\")","v":0},{"$f":"IF($A1186=\"PhD Student\",'PXS Kopieret'!F1186,\"\")","v":""},{"$f":"'PXS Kopieret'!G1186","v":0},{"$f":"'PXS Kopieret'!H1186","v":0},{"$f":"IF($A1186=\"PhD Student\",'PXS Kopieret'!I1186,\"\")","v":""},{"$f":"'PXS Kopieret'!J1186","v":0},{"$f":"'PXS Kopieret'!K1186","v":0},{"$f":"'PXS Kopieret'!L1186","v":0}]
["",{"$f":"IF('PXS Kopieret'!N1187<>\"\",HYPERLINK(\"https://ssl1.peoplexs.com/Peoplexs22/eFormportal/eForm.cfm?CandidateUpdateID=\"&'PXS Kopieret'!M1187&\"&CandidateUpdateCode=\"&'PXS Kopieret'!N1187&\"&Locale=en&CustomFormID=11612\",\"Docs\"),\"\")","v":""},{"$f":"'PXS Kopieret'!A1187","v":0},{"$f":"'PXS Kopieret'!B1187","v":0},{"$f":"'PXS Kopieret'!C1187","v":0},{"$f":"'PXS Kopieret'!D1187","v":0},{"$f":"IF($A1187<>\"PhD Student\",'PXS Kopieret'!E1187,\"\")","v":0},{"$f":"IF($A1187=\"PhD Student\",'PXS Kopieret'!F1187,\"\")","v":""},{"$f":"'PXS Kopieret'!G1187","v":0},{"$f":"'PXS Kopieret'!H1187","v":0},{"$f":"IF($A1187=\"PhD Student\",'PXS Kopieret'!I1187,\"\")","v":""},{"$f":"'PXS Kopieret'!J1187","v":0},{"$f":"'PXS Kopieret'!K1187","v":0},{"$f":"'PXS Kopieret'!L1187","v":0}]
["",{"$f":"IF('PXS Kopieret'!N1188<>\"\",HYPERLINK(\"https://ssl1.peoplexs.com/Peoplexs22/eFormportal/eForm.cfm?CandidateUpdateID=\"&'PXS Kopieret'!M1188&\"&CandidateUpdateCode=\"&'PXS Kopieret'!N1188&\"&Locale=en&CustomFormID=11612\",\"Docs\"),\"\")","v":""},{"$f":"'PXS Kopieret'!A1188","v":0},{"$f":"'PXS Kopieret'!B1188","v":0},{"$f":"'PXS Kopieret'!C1188","v":0},{"$f":"'PXS Kopieret'!D1188","v":0},{"$f":"IF($A1188<>\"PhD Student\",'PXS Kopieret'!E1188,\"\")","v":0},{"$f":"IF($A1188=\"PhD Student\",'PXS Kopieret'!F1188,\"\")","v":""},{"$f":"'PXS Kopieret'!G1188","v":0},{"$f":"'PXS Kopieret'!H1188","v":0},{"$f":"IF($A1188=\"PhD Student\",'PXS Kopieret'!I1188,\"\")","v":""},{"$f":"'PXS Kopieret'!J1188","v":0},{"$f":"'PXS Kopieret'!K1188","v":0},{"$f":"'PXS Kopieret'!L1188","v":0}]
["",{"$f":"IF('PXS Kopieret'!N1189<>\"\",HYPERLINK(\"https://ssl1.peoplexs.com/Peoplexs22/eFormportal/eForm.cfm?CandidateUpdateID=\"&'PXS Kopieret'!M1189&\"&CandidateUpdateCode=\"&'PXS Kopieret'!N1189&\"&Locale=en&CustomFormID=11612\",\"Docs\"),\"\")","v":""},{"$f":"'PXS Kopieret'!A1189","v":0},{"$f":"'PXS Kopieret'!B1189","v":0},{"$f":"'PXS Kopieret'!C1189","v":0},{"$f":"'PXS Kopieret'!D1189","v":0},{"$f":"IF($A1189<>\"PhD Student\",'PXS Kopieret'!E1189,\"\")","v":0},{"$f":"IF($A1189=\"PhD Student\",'PXS Kopieret'!F1189,\"\")","v":""},{"$f":"'PXS Kopieret'!G1189","v":0},{"$f":"'PXS Kopieret'!H1189","v":0},{"$f":"IF($A1189=\"PhD Student\",'PXS Kopieret'!I1189,\"\")","v":""},{"$f":"'PXS Kopieret'!J1189","v":0},{"$f":"'PXS Kopieret'!K1189","v":0},{"$f":"'PXS Kopieret'!L1189","v":0}]
["",{"$f":"IF('PXS Kopieret'!N1190<>\"\",HYPERLINK(\"https://ssl1.peoplexs.com/Peoplexs22/eFormportal/eForm.cfm?CandidateUpdateID=\"&'PXS Kopieret'!M1190&\"&CandidateUpdateCode=\"&'PXS Kopieret'!N1190&\"&Locale=en&CustomFormID=11612\",\"Docs\"),\"\")","v":""},{"$f":"'PXS Kopieret'!A1190","v":0},{"$f":"'PXS Kopieret'!B1190","v":0},{"$f":"'PXS Kopieret'!C1190","v":0},{"$f":"'PXS Kopieret'!D1190","v":0},{"$f":"IF($A1190<>\"PhD Student\",'PXS Kopieret'!E1190,\"\")","v":0},{"$f":"IF($A1190=\"PhD Student\",'PXS Kopieret'!F1190,\"\")","v":""},{"$f":"'PXS Kopieret'!G1190","v":0},{"$f":"'PXS Kopieret'!H1190","v":0},{"$f":"IF($A1190=\"PhD Student\",'PXS Kopieret'!I1190,\"\")","v":""},{"$f":"'PXS Kopieret'!J1190","v":0},{"$f":"'PXS Kopieret'!K1190","v":0},{"$f":"'PXS Kopieret'!L1190","v":0}]
["",{"$f":"IF('PXS Kopieret'!N1191<>\"\",HYPERLINK(\"https://ssl1.peoplexs.com/Peoplexs22/eFormportal/eForm.cfm?CandidateUpdateID=\"&'PXS Kopieret'!M1191&\"&CandidateUpdateCode=\"&'PXS Kopieret'!N1191&\"&Locale=en&CustomFormID=11612\",\"Docs\"),\"\")","v":""},{"$f":"'PXS Kopieret'!A1191","v":0},{"$f":"'PXS Kopieret'!B1191","v":0},{"$f":"'PXS Kopieret'!C1191","v":0},{"$f":"'PXS Kopieret'!D1191","v":0},{"$f":"IF($A1191<>\"PhD Student\",'PXS Kopieret'!E1191,\"\")","v":0},{"$f":"IF($A1191=\"PhD Student\",'PXS Kopieret'!F1191,\"\")","v":""},{"$f":"'PXS Kopieret'!G1191","v":0},{"$f":"'PXS Kopieret'!H1191","v":0},{"$f":"IF($A1191=\"PhD Student\",'PXS Kopieret'!I1191,\"\")","v":""},{"$f":"'PXS Kopieret'!J1191","v":0},{"$f":"'PXS Kopieret'!K1191","v":0},{"$f":"'PXS Kopieret'!L1191","v":0}]
["",{"$f":"IF('PXS Kopieret'!N1192<>\"\",HYPERLINK(\"https://ssl1.peoplexs.com/Peoplexs22/eFormportal/eForm.cfm?CandidateUpdateID=\"&'PXS Kopieret'!M1192&\"&CandidateUpdateCode=\"&'PXS Kopieret'!N1192&\"&Locale=en&CustomFormID=11612\",\"Docs\"),\"\")","v":""},{"$f":"'PXS Kopieret'!A1192","v":0},{"$f":"'PXS Kopieret'!B1192","v":0},{"$f":"'PXS Kopieret'!C1192","v":0},{"$f":"'PXS Kopieret'!D1192","v":0},{"$f":"IF($A1192<>\"PhD Student\",'PXS Kopieret'!E1192,\"\")","v":0},{"$f":"IF($A1192=\"PhD Student\",'PXS Kopieret'!F1192,\"\")","v":""},{"$f":"'PXS Kopieret'!G1192","v":0},{"$f":"'PXS Kopieret'!H1192","v":0},{"$f":"IF($A1192=\"PhD Student\",'PXS Kopieret'!I1192,\"\")","v":""},{"$f":"'PXS Kopieret'!J1192","v":0},{"$f":"'PXS Kopieret'!K1192","v":0},{"$f":"'PXS Kopieret'!L1192","v":0}]
["",{"$f":"IF('PXS Kopieret'!N1193<>\"\",HYPERLINK(\"https://ssl1.peoplexs.com/Peoplexs22/eFormportal/eForm.cfm?CandidateUpdateID=\"&'PXS Kopieret'!M1193&\"&CandidateUpdateCode=\"&'PXS Kopieret'!N1193&\"&Locale=en&CustomFormID=11612\",\"Docs\"),\"\")","v":""},{"$f":"'PXS Kopieret'!A1193","v":0},{"$f":"'PXS Kopieret'!B1193","v":0},{"$f":"'PXS Kopieret'!C1193","v":0},{"$f":"'PXS Kopieret'!D1193","v":0},{"$f":"IF($A1193<>\"PhD Student\",'PXS Kopieret'!E1193,\"\")","v":0},{"$f":"IF($A1193=\"PhD Student\",'PXS Kopieret'!F1193,\"\")","v":""},{"$f":"'PXS Kopieret'!G1193","v":0},{"$f":"'PXS Kopieret'!H1193","v":0},{"$f":"IF($A1193=\"PhD Student\",'PXS Kopieret'!I1193,\"\")","v":""},{"$f":"'PXS Kopieret'!J1193","v":0},{"$f":"'PXS Kopieret'!K1193","v":0},{"$f":"'PXS Kopieret'!L1193","v":0}]
["",{"$f":"IF('PXS Kopieret'!N1194<>\"\",HYPERLINK(\"https://ssl1.peoplexs.com/Peoplexs22/eFormportal/eForm.cfm?CandidateUpdateID=\"&'PXS Kopieret'!M1194&\"&CandidateUpdateCode=\"&'PXS Kopieret'!N1194&\"&Locale=en&CustomFormID=11612\",\"Docs\"),\"\")","v":""},{"$f":"'PXS Kopieret'!A1194","v":0},{"$f":"'PXS Kopieret'!B1194","v":0},{"$f":"'PXS Kopieret'!C1194","v":0},{"$f":"'PXS Kopieret'!D1194","v":0},{"$f":"IF($A1194<>\"PhD Student\",'PXS Kopieret'!E1194,\"\")","v":0},{"$f":"IF($A1194=\"PhD Student\",'PXS Kopieret'!F1194,\"\")","v":""},{"$f":"'PXS Kopieret'!G1194","v":0},{"$f":"'PXS Kopieret'!H1194","v":0},{"$f":"IF($A1194=\"PhD Student\",'PXS Kopieret'!I1194,\"\")","v":""},{"$f":"'PXS Kopieret'!J1194","v":0},{"$f":"'PXS Kopieret'!K1194","v":0},{"$f":"'PXS Kopieret'!L1194","v":0}]
["",{"$f":"IF('PXS Kopieret'!N1195<>\"\",HYPERLINK(\"https://ssl1.peoplexs.com/Peoplexs22/eFormportal/eForm.cfm?CandidateUpdateID=\"&'PXS Kopieret'!M1195&\"&CandidateUpdateCode=\"&'PXS Kopieret'!N1195&\"&Locale=en&CustomFormID=11612\",\"Docs\"),\"\")","v":""},{"$f":"'PXS Kopieret'!A1195","v":0},{"$f":"'PXS Kopieret'!B1195","v":0},{"$f":"'PXS Kopieret'!C1195","v":0},{"$f":"'PXS Kopieret'!D1195","v":0},{"$f":"IF($A1195<>\"PhD Student\",'PXS Kopieret'!E1195,\"\")","v":0},{"$f":"IF($A1195=\"PhD Student\",'PXS Kopieret'!F1195,\"\")","v":""},{"$f":"'PXS Kopieret'!G1195","v":0},{"$f":"'PXS Kopieret'!H1195","v":0},{"$f":"IF($A1195=\"PhD Student\",'PXS Kopieret'!I1195,\"\")","v":""},{"$f":"'PXS Kopieret'!J1195","v":0},{"$f":"'PXS Kopieret'!K1195","v":0},{"$f":"'PXS Kopieret'!L1195","v":0}]
["",{"$f":"IF('PXS Kopieret'!N1196<>\"\",HYPERLINK(\"https://ssl1.peoplexs.com/Peoplexs22/eFormportal/eForm.cfm?CandidateUpdateID=\"&'PXS Kopieret'!M1196&\"&CandidateUpdateCode=\"&'PXS Kopieret'!N1196&\"&Locale=en&CustomFormID=11612\",\"Docs\"),\"\")","v":""},{"$f":"'PXS Kopieret'!A1196","v":0},{"$f":"'PXS Kopieret'!B1196","v":0},{"$f":"'PXS Kopieret'!C1196","v":0},{"$f":"'PXS Kopieret'!D1196","v":0},{"$f":"IF($A1196<>\"PhD Student\",'PXS Kopieret'!E1196,\"\")","v":0},{"$f":"IF($A1196=\"PhD Student\",'PXS Kopieret'!F1196,\"\")","v":""},{"$f":"'PXS Kopieret'!G1196","v":0},{"$f":"'PXS Kopieret'!H1196","v":0},{"$f":"IF($A1196=\"PhD Student\",'PXS Kopieret'!I1196,\"\")","v":""},{"$f":"'PXS Kopieret'!J1196","v":0},{"$f":"'PXS Kopieret'!K1196","v":0},{"$f":"'PXS Kopieret'!L1196","v":0}]
["",{"$f":"IF('PXS Kopieret'!N1197<>\"\",HYPERLINK(\"https://ssl1.peoplexs.com/Peoplexs22/eFormportal/eForm.cfm?CandidateUpdateID=\"&'PXS Kopieret'!M1197&\"&CandidateUpdateCode=\"&'PXS Kopieret'!N1197&\"&Locale=en&CustomFormID=11612\",\"Docs\"),\"\")","v":""},{"$f":"'PXS Kopieret'!A1197","v":0},{"$f":"'PXS Kopieret'!B1197","v":0},{"$f":"'PXS Kopieret'!C1197","v":0},{"$f":"'PXS Kopieret'!D1197","v":0},{"$f":"IF($A1197<>\"PhD Student\",'PXS Kopieret'!E1197,\"\")","v":0},{"$f":"IF($A1197=\"PhD Student\",'PXS Kopieret'!F1197,\"\")","v":""},{"$f":"'PXS Kopieret'!G1197","v":0},{"$f":"'PXS Kopieret'!H1197","v":0},{"$f":"IF($A1197=\"PhD Student\",'PXS Kopieret'!I1197,\"\")","v":""},{"$f":"'PXS Kopieret'!J1197","v":0},{"$f":"'PXS Kopieret'!K1197","v":0},{"$f":"'PXS Kopieret'!L1197","v":0}]
["",{"$f":"IF('PXS Kopieret'!N1198<>\"\",HYPERLINK(\"https://ssl1.peoplexs.com/Peoplexs22/eFormportal/eForm.cfm?CandidateUpdateID=\"&'PXS Kopieret'!M1198&\"&CandidateUpdateCode=\"&'PXS Kopieret'!N1198&\"&Locale=en&CustomFormID=11612\",\"Docs\"),\"\")","v":""},{"$f":"'PXS Kopieret'!A1198","v":0},{"$f":"'PXS Kopieret'!B1198","v":0},{"$f":"'PXS Kopieret'!C1198","v":0},{"$f":"'PXS Kopieret'!D1198","v":0},{"$f":"IF($A1198<>\"PhD Student\",'PXS Kopieret'!E1198,\"\")","v":0},{"$f":"IF($A1198=\"PhD Student\",'PXS Kopieret'!F1198,\"\")","v":""},{"$f":"'PXS Kopieret'!G1198","v":0},{"$f":"'PXS Kopieret'!H1198","v":0},{"$f":"IF($A1198=\"PhD Student\",'PXS Kopieret'!I1198,\"\")","v":""},{"$f":"'PXS Kopieret'!J1198","v":0},{"$f":"'PXS Kopieret'!K1198","v":0},{"$f":"'PXS Kopieret'!L1198","v":0}]
["",{"$f":"IF('PXS Kopieret'!N1199<>\"\",HYPERLINK(\"https://ssl1.peoplexs.com/Peoplexs22/eFormportal/eForm.cfm?CandidateUpdateID=\"&'PXS Kopieret'!M1199&\"&CandidateUpdateCode=\"&'PXS Kopieret'!N1199&\"&Locale=en&CustomFormID=11612\",\"Docs\"),\"\")","v":""},{"$f":"'PXS Kopieret'!A1199","v":0},{"$f":"'PXS Kopieret'!B1199","v":0},{"$f":"'PXS Kopieret'!C1199","v":0},{"$f":"'PXS Kopieret'!D1199","v":0},{"$f":"IF($A1199<>\"PhD Student\",'PXS Kopieret'!E1199,\"\")","v":0},{"$f":"IF($A1199=\"PhD Student\",'PXS Kopieret'!F1199,\"\")","v":""},{"$f":"'PXS Kopieret'!G1199","v":0},{"$f":"'PXS Kopieret'!H1199","v":0},{"$f":"IF($A1199=\"PhD Student\",'PXS Kopieret'!I1199,\"\")","v":""},{"$f":"'PXS Kopieret'!J1199","v":0},{"$f":"'PXS Kopieret'!K1199","v":0},{"$f":"'PXS Kopieret'!L1199","v":0}]

{"sheet":"PXS Kopieret","index":1,"n_rows":2,"n_cols":14,"rows_kept":2}
["Vacancy","First name","Last name","Main supervisor prg","Preferred length","Edu level prg","Applying for","AA1 for candidate","AA2 for candidate","AA for candidate","Last workflow status","Funding suggestion prg","Candidate ID","UpdateCode"]
["INDSÆT PXS-DATA HER"]